Workbook

Sheet List of MB genes 
A1: Gene | B1: Frequency in MB1 | C1: Frequency in MB2 | D1: Total | F1: 1 hr | J1: 2 hrs | N1: 4 hrs | R1: 8 hrs
A2: AKR1A1 | B2: 1 | D2: =SUM('List of MB genes '!B2:C2) -> 1 | F2: Path-2 | G2: Path-3 | H2: Path-5 | J2: Path-2 | K2: Path-3 | L2: Path-5 | N2: Path-2 | O2: Path-3 | P2: Path-5 | R2: Path-2 | S2: Path-3 | T2: Path-5
A3: AP1S1 | C3: 1 | D3: =SUM('List of MB genes '!B3:C3) -> 1 | F3: AKR1A1 | G3: ATP6V1B1 | H3: KIAA0319 | J3: SCG2 | K3: MYO10 | L3: ARPC5L | N3: TNFRSF1A | O3: CLDN15 | P3: BNIP1 | R3: ENOSF1 | S3: CRISPLD2 | T3: TRHR
A4: ARHGAP6 | C4: 1 | D4: =SUM('List of MB genes '!B4:C4) -> 1 | F4: FOXF1 | G4: EVI2B | J4: ARPC1A | K4: GNAI3 | L4: GPSM3 | N4: C10orf10 | O4: FKBP3 | P4: NDUFS3 | R4: CDC14B | S4: DUSP1 | T4: CCDC87
A5: ARHGEF10 | C5: 1 | D5: =SUM('List of MB genes '!B5:C5) -> 1 | F5: IRAK1 | G5: KLHL3 | J5: GLS2 | K5: UBP1 | L5: BGN | N5: FZD7 | O5: ZNF274 | P5: TCF7L1 | R5: VRK2 | S5: ITIH5 | T5: HOMER1
A6: ARL8B | C6: 1 | D6: =SUM('List of MB genes '!B6:C6) -> 1 | F6: HTR2C | G6: TCERG1 | J6: SNRPB | K6: KCNAB1 | L6: DDX50 | N6: YWHAH | O6: CTSH | P6: ELAVL2 | R6: LMO2 | S6: MYL3
A7: ARPC1A | C7: 1 | D7: =SUM('List of MB genes '!B7:C7) -> 1 | F7: DDX25 | G7: LEPROTL1 | J7: NR2F1 | K7: PSMA5 | L7: SLC25A12 | N7: POLDIP2 | O7: CBX5 | P7: MYT1L | R7: ARL8B
A8: ARPC5L | B8: 1 | D8: =SUM('List of MB genes '!B8:C8) -> 1 | F8: KRT14 | G8: LANCL1 | J8: VPS13A | K8: MRPS7 | L8: ARHGAP6 | N8: TOR1A | O8: RGS10 | P8: PEF1 | R8: SLC35E3
A9: ASNS | C9: 1 | D9: =SUM('List of MB genes '!B9:C9) -> 1 | F9: SCARA3 | G9: WFDC1 | J9: ATP2B2 | K9: TUBG1 | L9: ARHGEF10 | N9: IRF1 | O9: PARP12 | P9: SCRN1 | R9: HSPB3
A10: ATG5 | C10: 1 | D10: =SUM('List of MB genes '!B10:C10) -> 1 | F10: SPARC | J10: STOML2 | K10: AP1S1 | L10: COLEC12 | N10: PRKCDBP | O10: GNG5 | P10: CASP6 | R10: CCDC92
A11: ATP2B2 | C11: 1 | D11: =SUM('List of MB genes '!B11:C11) -> 1 | F11: NEK7 | J11: SOCS1 | K11: EPM2AIP1 | L11: SLC39A8 | N11: IFNA21 | O11: HOOK1 | P11: CLCA4 | R11: YWHAB
A12: ATP6V1B1 | B12: 1 | D12: =SUM('List of MB genes '!B12:C12) -> 1 | F12: DNAI1 | K12: NXN | L12: ATP8B2 | N12: IGFBP6 | O12: HPCAL1 | P12: TNFRSF1A | R12: NKTR
A13: ATP8B2 | C13: 1 | D13: =SUM('List of MB genes '!B13:C13) -> 1 | F13: ATG5 | K13: MAPK9 | L13: STX12 | N13: FGFR3 | O13: SEC14L2 | P13: PRDM2 | R13: IDS
A14: AUTS2 | C14: 1 | D14: =SUM('List of MB genes '!B14:C14) -> 1 | K14: SPHK1 | L14: TBXA2R | N14: LUM | P14: RIN2 | R14: DLG2
A15: BGN | C15: 1 | D15: =SUM('List of MB genes '!B15:C15) -> 1 | K15: TAF7 | L15: ZDHHC13 | P15: CAMSAP1 | R15: GNAO1
A16: BNIP1 | B16: 1 | D16: =SUM('List of MB genes '!B16:C16) -> 1 | K16: NAT10 | L16: CNDP2 | P16: EDF1 | R16: TSPAN5
A17: C10orf10 | C17: 1 | D17: =SUM('List of MB genes '!B17:C17) -> 1 | K17: LIG4 | L17: MITF | P17: TSSC4 | R17: CLCN4
A18: CAMSAP1 | C18: 1 | D18: =SUM('List of MB genes '!B18:C18) -> 1 | P18: TXN2 | R18: MAGEH1
A19: CASP6 | B19: 1 | D19: =SUM('List of MB genes '!B19:C19) -> 1 | P19: WDR18 | R19: SLPI
A20: CBX5 | C20: 1 | D20: =SUM('List of MB genes '!B20:C20) -> 1 | P20: ZNF337 | R20: SPATS2
A21: CCDC87 | B21: 1 | D21: =SUM('List of MB genes '!B21:C21) -> 1 | P21: MAPKAP1 | R21: RASA2
A22: CCDC92 | B22: 1 | D22: =SUM('List of MB genes '!B22:C22) -> 1 | P22: LTBR | R22: USP10
A23: CDC14B | B23: 1 | D23: =SUM('List of MB genes '!B23:C23) -> 1 | P23: GRIN2A
A24: CLCA4 | C24: 1 | D24: =SUM('List of MB genes '!B24:C24) -> 1 | P24: PCDHB3
A25: CLCN4 | B25: 1 | D25: =SUM('List of MB genes '!B25:C25) -> 1 | P25: TNFRSF14
A26: CLDN15 | B26: 1 | D26: =SUM('List of MB genes '!B26:C26) -> 1 | P26: WWC1
A27: CNDP2 | B27: 1 | D27: =SUM('List of MB genes '!B27:C27) -> 1 | P27: MAPK4
A28: COLEC12 | C28: 1 | D28: =SUM('List of MB genes '!B28:C28) -> 1 | P28: ASNS
A29: CRISPLD2 | C29: 1 | D29: =SUM('List of MB genes '!B29:C29) -> 1 | P29: AUTS2
A30: CTSH | B30: 1 | D30: =SUM('List of MB genes '!B30:C30) -> 1 | P30: SYNGR4
A31: DDX25 | C31: 1 | D31: =SUM('List of MB genes '!B31:C31) -> 1 | P31: DEC1
A32: DDX50 | C32: 1 | D32: =SUM('List of MB genes '!B32:C32) -> 1
A33: DEC1 | B33: 1 | D33: =SUM('List of MB genes '!B33:C33) -> 1
A34: DLG2 | B34: 1 | D34: =SUM('List of MB genes '!B34:C34) -> 1
A35: DNAI1 | B35: 1 | D35: =SUM('List of MB genes '!B35:C35) -> 1
A36: DUSP1 | B36: 1 | D36: =SUM('List of MB genes '!B36:C36) -> 1
A37: EDF1 | C37: 1 | D37: =SUM('List of MB genes '!B37:C37) -> 1
A38: ELAVL2 | C38: 1 | D38: =SUM('List of MB genes '!B38:C38) -> 1
A39: ENOSF1 | B39: 1 | D39: =SUM('List of MB genes '!B39:C39) -> 1
A40: EPM2AIP1 | C40: 1 | D40: =SUM('List of MB genes '!B40:C40) -> 1
A41: EVI2B | B41: 1 | D41: =SUM('List of MB genes '!B41:C41) -> 1
A42: FGFR3 | C42: 1 | D42: =SUM('List of MB genes '!B42:C42) -> 1
A43: FKBP3 | C43: 1 | D43: =SUM('List of MB genes '!B43:C43) -> 1
A44: FOXF1 | C44: 1 | D44: =SUM('List of MB genes '!B44:C44) -> 1
A45: FZD7 | C45: 1 | D45: =SUM('List of MB genes '!B45:C45) -> 1
A46: GLS2 | C46: 1 | D46: =SUM('List of MB genes '!B46:C46) -> 1
A47: GNAI3 | C47: 1 | D47: =SUM('List of MB genes '!B47:C47) -> 1
A48: GNAO1 | C48: 1 | D48: =SUM('List of MB genes '!B48:C48) -> 1
A49: GNG5 | C49: 1 | D49: =SUM('List of MB genes '!B49:C49) -> 1
A50: GPSM3 | C50: 1 | D50: =SUM('List of MB genes '!B50:C50) -> 1
A51: GRIN2A | B51: 1 | D51: =SUM('List of MB genes '!B51:C51) -> 1
A52: HOMER1 | C52: 1 | D52: =SUM('List of MB genes '!B52:C52) -> 1
A53: HOOK1 | C53: 1 | D53: =SUM('List of MB genes '!B53:C53) -> 1
A54: HPCAL1 | C54: 1 | D54: =SUM('List of MB genes '!B54:C54) -> 1
A55: HSPB3 | C55: 1 | D55: =SUM('List of MB genes '!B55:C55) -> 1
A56: HTR2C | B56: 1 | D56: =SUM('List of MB genes '!B56:C56) -> 1
A57: IDS | C57: 1 | D57: =SUM('List of MB genes '!B57:C57) -> 1
A58: IFNA21 | C58: 1 | D58: =SUM('List of MB genes '!B58:C58) -> 1
A59: IGFBP6 | C59: 1 | D59: =SUM('List of MB genes '!B59:C59) -> 1
A60: IRAK1 | C60: 1 | D60: =SUM('List of MB genes '!B60:C60) -> 1
A61: IRF1 | B61: 1 | D61: =SUM('List of MB genes '!B61:C61) -> 1
A62: ITIH5 | C62: 1 | D62: =SUM('List of MB genes '!B62:C62) -> 1
A63: KCNAB1 | B63: 1 | D63: =SUM('List of MB genes '!B63:C63) -> 1
A64: KIAA0319 | B64: 1 | D64: =SUM('List of MB genes '!B64:C64) -> 1
A65: KLHL3 | C65: 1 | D65: =SUM('List of MB genes '!B65:C65) -> 1
A66: KRT14 | C66: 1 | D66: =SUM('List of MB genes '!B66:C66) -> 1
A67: LANCL1 | C67: 1 | D67: =SUM('List of MB genes '!B67:C67) -> 1
A68: LEPROTL1 | B68: 1 | D68: =SUM('List of MB genes '!B68:C68) -> 1
A69: LIG4 | C69: 1 | D69: =SUM('List of MB genes '!B69:C69) -> 1
A70: LMO2 | C70: 1 | D70: =SUM('List of MB genes '!B70:C70) -> 1
A71: LTBR | C71: 1 | D71: =SUM('List of MB genes '!B71:C71) -> 1
A72: LUM | C72: 1 | D72: =SUM('List of MB genes '!B72:C72) -> 1
A73: MAGEH1 | C73: 1 | D73: =SUM('List of MB genes '!B73:C73) -> 1
A74: MAPK4 | B74: 1 | D74: =SUM('List of MB genes '!B74:C74) -> 1
A75: MAPK9 | B75: 1 | D75: =SUM('List of MB genes '!B75:C75) -> 1
A76: MAPKAP1 | B76: 1 | D76: =SUM('List of MB genes '!B76:C76) -> 1
A77: MITF | C77: 1 | D77: =SUM('List of MB genes '!B77:C77) -> 1
A78: MRPS7 | B78: 1 | D78: =SUM('List of MB genes '!B78:C78) -> 1
A79: MYL3 | C79: 1 | D79: =SUM('List of MB genes '!B79:C79) -> 1
A80: MYO10 | B80: 1 | D80: =SUM('List of MB genes '!B80:C80) -> 1
A81: MYT1L | C81: 1 | D81: =SUM('List of MB genes '!B81:C81) -> 1
A82: NAT10 | C82: 1 | D82: =SUM('List of MB genes '!B82:C82) -> 1
A83: NDUFS3 | C83: 1 | D83: =SUM('List of MB genes '!B83:C83) -> 1
A84: NEK7 | C84: 1 | D84: =SUM('List of MB genes '!B84:C84) -> 1
A85: NKTR | C85: 1 | D85: =SUM('List of MB genes '!B85:C85) -> 1
A86: NR2F1 | C86: 1 | D86: =SUM('List of MB genes '!B86:C86) -> 1
A87: NXN | C87: 1 | D87: =SUM('List of MB genes '!B87:C87) -> 1
A88: PARP12 | B88: 1 | D88: =SUM('List of MB genes '!B88:C88) -> 1
A89: PCDHB3 | C89: 1 | D89: =SUM('List of MB genes '!B89:C89) -> 1
A90: PEF1 | C90: 1 | D90: =SUM('List of MB genes '!B90:C90) -> 1
A91: POLDIP2 | C91: 1 | D91: =SUM('List of MB genes '!B91:C91) -> 1
A92: PRDM2 | B92: 1 | D92: =SUM('List of MB genes '!B92:C92) -> 1
A93: PRKCDBP | B93: 1 | D93: =SUM('List of MB genes '!B93:C93) -> 1
A94: PSMA5 | C94: 1 | D94: =SUM('List of MB genes '!B94:C94) -> 1
A95: RASA2 | C95: 1 | D95: =SUM('List of MB genes '!B95:C95) -> 1
A96: RGS10 | C96: 1 | D96: =SUM('List of MB genes '!B96:C96) -> 1
A97: RIN2 | C97: 1 | D97: =SUM('List of MB genes '!B97:C97) -> 1
A98: SCARA3 | C98: 1 | D98: =SUM('List of MB genes '!B98:C98) -> 1
A99: SCG2 | B99: 1 | D99: =SUM('List of MB genes '!B99:C99) -> 1
A100: SCRN1 | C100: 1 | D100: =SUM('List of MB genes '!B100:C100) -> 1
...

Sheet 1 Hr
A1: Path-2 | B1: Path-3 | C1: Path-5 | E1: MB1
A2: 219 | B2: 505 | C2: 3306 | E2: MB2
A3: 2317 | B3: 2098
A4: 3142 | B4: 3362
A5: 2955 | B5: 6200
A6: 1660 | B6: 3468
A7: 3394 | B7: 3430
A8: 5436 | B8: 6835
A9: 5932
A10: 4118
A11: 1760
A12: 473

Sheet 2 Hrs
A1: Path-2 | B1: Path-3 | C1: Path-5 | E1: MB1
A2: 5445 | B2: 4009 | C2: 424 | E2: MB2
A3: 421 | B3: 2548 | C3: 2645
A4: 2526 | B4: 6670 | C4: 1610
A5: 5868 | B5: 3229 | C5: 1665
A6: 4250 | B6: 4986 | C6: 5702
A7: 6785 | B7: 3923 | C7: 383
A8: 493 | B8: 6609 | C8: 386
A9: 6045 | B9: 304 | C9: 13521
A10: 5892 | B10: 2053 | C10: 5764
B11: 4322 | C11: 517
B12: 3672 | C12: 6055
B13: 5943 | C13: 6191
B14: 6136 | C14: 6933
B15: 4049 | C15: 1284
B16: 3493 | C16: 3807

Sheet 4 Hr
A1: Path-2 | B1: Path-3 | C1: Path-5 | E1: MB1
A2: 6407 | B2: 1241 | C2: 641 | E2: MB2
A3: 682 | B3: 2270 | C3: 4104
A4: 2375 | B4: 7011 | C4: 6206
A5: 6901 | B5: 1515 | C5: 1978
A6: 4805 | B6: 885 | C6: 4032
A7: 6449 | B7: 5197 | C7: 4596
A8: 3146 | B8: 4473 | C8: 5468
A9: 4922 | B9: 2561 | C9: 858
A10: 3000 | B10: 2869 | C10: 1229
A11: 3028 | B11: 2902 | C11: 6407
A12: 2254 | B12: 5489 | C12: 4907
A13: 3585 | C13: 5235
C14: 832
C15: 1911
C16: 6587
C17: 6624
C18: 6813
C19: 7032
C20: 3673
C21: 3583
C22: 2670
C23: 4514
C24: 6405
C25: 6862
... C30: 1671

Sheet 8 Hr
A1: Path-2 | B1: Path-3 | C1: Path-5 | E1: MB1
A2: 2019 | B2: 1424 | C2: 6500 | E2: MB2
A3: 1032 | B3: 1856 | C3: 909
A4: 6792 | B4: 3191 | C4: 2866
A5: 3515 | B5: 4001
A6: 412
A7: 5751
A8: 2940
A9: 912
A10: 6899
A11: 4170
A12: 2985
A13: 1737
A14: 2550
A15: 6578
A16: 1234
A17: 3622
... A21: 6720
