Workbook

Sheet 8092 Genes
A1: Gene | B1: Frequency in MB1 | C1: Frequency in MB2 | D1: Total | F1: 1 hr | J1: 2 hrs | N1: 4 hrs | R1: 8 hrs | V1: 12 hrs | Z1: 16 hrs | AD1: 20 hrs | AH1: 24 hrs | AL1: 36hrs | AP1: 48hrs
A2: ATP1A1 | B2: 1 | C2: 1 | D2: ='8092 Genes'!B2+'8092 Genes'!C2 -> 2 | F2: Path-2 | G2: Path-3 | H2: Path-5 | J2: Path-2 | K2: Path-3 | L2: Path-5 | N2: Path-2 | O2: Path-3 | P2: Path-5 | R2: Path-2 | S2: Path-3 | T2: Path-5 | V2: Path-2 | W2: Path-3 | X2: Path-5 | Z2: Path-2 | AA2: Path-3 | AB2: Path-5 | AD2: Path-2 | AE2: Path-3 | AF2: Path-5 | AH2: Path-2 | AI2: Path-3 | AJ2: Path-5 | AL2: Path-2 | AM2: Path-3 | AN2: Path-5 | AP2: Path-2 | AQ2: Path-3 | AR2: Path-5
A3: CCDC81 | C3: 1 | D3: ='8092 Genes'!C3+'8092 Genes'!C3 -> 2 | F3: NHLH1 | G3: SATB2 | H3: NA | J3: ATP6V1H | K3: STAMBPL1 | L3: JAM2 | N3: RABEPK | O3: SNCA | P3: HERC5 | R3: ELOVL4 | S3: DIRAS2 | T3: ASAH1 | V3: CNIH3 | W3: NCALD | X3: NUDT2 | Z3: IFITM3 | AA3: YEATS4 | AB3: COL1A1 | AD3: CDC42EP4 | AE3: MPPED2 | AF3: AP1S1 | AH3: EIF5A2 | AI3: KCNC2 | AJ3: LRRC49 | AL3: FAM107A | AM3: ILK | AN3: WEE1 | AP3: DUSP4 | AQ3: AACS | AR3: GNA13
A4: CDS1 | C4: 2 | D4: ='8092 Genes'!B4+'8092 Genes'!C4 -> 2 | G4: MYRIP | J4: CDC42EP1 | K4: GTF2IRD1 | L4: RPL22 | N4: PFAS | O4: FLOT1 | P4: DCLRE1C | R4: ATP6V1D | S4: CAMK2N1 | T4: BBS4 | V4: CDKN2C | W4: MAOB | X4: DHX29 | Z4: ENO1 | AA4: CSNK1G3 | AB4: CHRNA10 | AD4: HTR2A | AE4: EGR3 | AF4: USP11 | AH4: RAPGEF6 | AI4: GSN | AJ4: CA2 | AL4: RUSC1 | AM4: HOMER3 | AN4: STMN2 | AP4: ALDH1B1 | AQ4: CREB3L2 | AR4: ARF5
A5: CHD1 | B5: 1 | C5: 1 | D5: ='8092 Genes'!B5+'8092 Genes'!C5 -> 2 | G5: IQCC | J5: USP3 | K5: SLC6A12 | N5: ABCC5 | O5: INPP5D | P5: AFF1 | R5: DIRAS2 | S5: TOLLIP | T5: CCNC | V5: PLAGL2 | W5: CTSC | X5: ZHX3 | Z5: IFI16 | AA5: HDGF | AB5: SLPI | AD5: GNG12 | AE5: FHL2 | AF5: ETV5 | AH5: DDIT4 | AI5: ANKZF1 | AJ5: ATP1A1 | AL5: FSTL3 | AM5: SIX5 | AN5: CCDC81 | AP5: RIMS1 | AQ5: MCHR1 | AR5: SEPHS2
A6: DIRAS2 | B6: 1 | C6: 1 | D6: ='8092 Genes'!B6+'8092 Genes'!C6 -> 2 | G6: BRPF1 | J6: MAP2K6 | K6: TMEM40 | N6: STX8 | O6: SETDB1 | P6: ARMC7 | R6: HOOK1 | S6: GYG2 | T6: CEBPG | V6: AUP1 | W6: KYNU | X6: SEC61G | Z6: KCNJ9 | AA6: NDUFAF1 | AB6: GRAMD1C | AD6: NDUFB3 | AE6: RTN3 | AF6: NMT2 | AH6: NNT | AI6: RANBP10 | AJ6: ATP2B2 | AL6: PDPN | AM6: NOVA1 | AN6: GAS7 | AP6: MAP4K4 | AQ6: DEPDC5 | AR6: TNFRSF1B
A7: EIF5A2 | B7: 2 | D7: ='8092 Genes'!B7+'8092 Genes'!C7 -> 2 | J7: PEX1 | K7: CHRM2 | N7: RMND5B | O7: CASP7 | P7: CSPG5 | R7: EIF5A2 | S7: SSX2IP | T7: CHD1 | V7: CDK2AP2 | W7: PRPF8 | X7: DVL2 | Z7: MLC1 | AA7: PTS | AB7: CNOT8 | AD7: MCCC1 | AE7: RHOT1 | AF7: VPS13A | AH7: GABRD | AI7: DDOST | AJ7: CAMLG | AL7: GABARAPL1 | AM7: ASB13 | AN7: JAM2 | AP7: RSU1 | AQ7: NKG7 | AR7: RTN1
A8: EMP3 | C8: 2 | D8: ='8092 Genes'!B8+'8092 Genes'!C8 -> 2 | J8: APPBP2 | K8: PPCS | N8: CXorf56 | O8: RTN4 | P8: EPAS1 | R8: AZIN1 | S8: FZD3 | T8: EML3 | V8: UBTD1 | W8: MAF | X8: FNBP1 | Z8: PLEKHB1 | AA8: MVD | AB8: KCNK10 | AD8: PDHX | AE8: TM9SF2 | AF8: CHD1 | AH8: NCALD | AI8: GPR35 | AJ8: EXOSC4 | AL8: RRAGA | AM8: DENR | AN8: PPP1R13L | AP8: SAP30BP | AQ8: TNFRSF11A | AR8: MAP2K4
A9: ENO1 | C9: 2 | D9: ='8092 Genes'!B9+'8092 Genes'!C9 -> 2 | J9: KCNAB2 | K9: NUPL2 | N9: TBCE | O9: CAMK4 | P9: HTR1E | R9: PGK1 | S9: ITM2B | T9: FABP3 | V9: BIN3 | W9: C16orf45 | X9: SLC9A6 | AA9: VPS35 | AD9: CXXC4 | AE9: UQCRC2 | AF9: COMMD9 | AH9: PPP1R12A | AI9: C17orf53 | AJ9: EFHD1 | AL9: GPRASP1 | AM9: PLA1A | AN9: VGLL3 | AP9: NAPA | AQ9: RNF44 | AR9: LCP1
A10: EPAS1 | C10: 2 | D10: ='8092 Genes'!B10+'8092 Genes'!C10 -> 2 | J10: GEMIN4 | K10: TM9SF4 | N10: ASH2L | O10: SOX12 | P10: CD93 | R10: SRRM2 | S10: HMBOX1 | T10: FBXL2 | V10: MAP2K2 | W10: GSTP1 | X10: PRKCZ | AA10: FOXL2 | AD10: NEO1 | AE10: ETV1 | AF10: RNF123 | AH10: DNAJB4 | AI10: ECHDC3 | AJ10: SUCLA2 | AL10: LZTR1 | AM10: ATRN | AP10: ACD | AQ10: BRSK2 | AR10: TRIM9
A11: FA2H | B11: 1 | C11: 1 | D11: ='8092 Genes'!B11+'8092 Genes'!C11 -> 2 | J11: KLHL18 | K11: MRPL9 | N11: ABCA1 | O11: UBE2D2 | P11: CNN3 | R11: ADCY1 | S11: MTFR1 | T11: GABRG2 | V11: PPP2R1A | W11: BHMT2 | X11: DYNLRB1 | AA11: PTCRA | AD11: ACAA2 | AE11: TAF10 | AF11: SESN1 | AH11: ZBTB11 | AI11: CDS1 | AJ11: SLA | AL11: TAOK2 | AM11: SFTPB | AP11: CDK5 | AQ11: VRK1 | AR11: RARRES3
A12: FZD3 | C12: 2 | D12: ='8092 Genes'!B12+'8092 Genes'!C12 -> 2 | J12: IFT81 | K12: C14orf166 | N12: EMP3 | O12: RNPEPL1 | P12: POLDIP3 | R12: PAX6 | S12: NME5 | T12: GCLC | V12: LIM2 | W12: SERTAD3 | X12: NRCAM | AA12: MAP4K1 | AD12: RGS20 | AE12: HS2ST1 | AF12: PDZD2 | AH12: ZMYND11 | AI12: ENO1 | AJ12: SLC35A1 | AL12: TRRAP | AM12: TM4SF4 | AQ12: SLC12A7 | AR12: EMP3
A13: IFT81 | B13: 1 | C13: 1 | D13: ='8092 Genes'!B13+'8092 Genes'!C13 -> 2 | J13: ROM1 | K13: CCDC47 | N13: PHYHIP | O13: STXBP1 | P13: DAZAP1 | S13: PDLIM5 | T13: HMGN2 | W13: POLR3D | X13: GDAP1 | AA13: MRPL40 | AD13: APLP1 | AE13: CDS1 | AH13: MTUS1 | AI13: MANBA | AJ13: BRD9 | AL13: ZDHHC14 | AM13: ZNF234 | AQ13: C12orf43 | AR13: MST1R
A14: JAM2 | B14: 1 | C14: 1 | D14: ='8092 Genes'!B14+'8092 Genes'!C14 -> 2 | J14: SPAG5 | K14: RNF4 | N14: RGS10 | O14: ADRA2C | P14: PDE4B | S14: TUBB6 | T14: IMPACT | W14: VKORC1 | X14: MDN1 | AA14: PCCA | AD14: MORF4L2 | AE14: RANBP10 | AH14: FA2H | AI14: ZNF330 | AJ14: FRS3 | AL14: SLC3A2 | AM14: ATP1A1 | AQ14: IFT81 | AR14: PRELP
A15: LIM2 | C15: 2 | D15: ='8092 Genes'!B15+'8092 Genes'!C15 -> 2 | J15: TMEM39A | N15: SEMA4F | O15: NFYC | P15: CD46 | S15: MFAP4 | T15: MTNR1A | W15: ATF1 | X15: DAAM2 | AD15: NOL4 | AE15: PKN2 | AH15: METAP2 | AI15: PAEP | AJ15: SYN1 | AL15: HIF1A | AM15: FKBP3 | AQ15: CDH8 | AR15: POLR2G
A16: NCALD | B16: 1 | C16: 1 | D16: ='8092 Genes'!B16+'8092 Genes'!C16 -> 2 | J16: ABHD5 | N16: CDR1 | O16: ITGAX | P16: FTL | S16: EBP | T16: NBEA | W16: DPY19L4 | X16: CDH22 | AD16: TRAFD1 | AE16: KLKB1 | AH16: DAD1 | AI16: LTBP3 | AJ16: FAHD2A | AL16: KCNJ16 | AM16: GDAP1L1 | AQ16: CTBP2 | AR16: SP110
A17: NNT | B17: 1 | C17: 1 | D17: ='8092 Genes'!B17+'8092 Genes'!C17 -> 2 | J17: CUL4A | O17: PACSIN3 | P17: PSME1 | S17: WDR77 | T17: PIK3C2B | W17: NELL2 | X17: CNNM3 | AD17: TMEM140 | AE17: ELF1 | AH17: CYBA | AI17: WFS1 | AJ17: CHIC2 | AL17: HR | AM17: BLCAP | AR17: TMED1
A18: PRKCZ | B18: 1 | C18: 1 | D18: ='8092 Genes'!B18+'8092 Genes'!C18 -> 2 | J18: SPTLC2 | O18: CMAS | P18: TAZ | S18: DAG1 | T18: PRKAG1 | X18: WNT7B | AE18: MAX | AH18: ZNF358 | AI18: PCP4 | AJ18: DNTTIP2 | AL18: PTGS2 | AM18: GABRB3 | AR18: STAT5A
A19: RANBP10 | B19: 1 | C19: 1 | D19: ='8092 Genes'!B19+'8092 Genes'!C19 -> 2 | O19: SSBP3 | P19: SLC25A23 | S19: RHBDF1 | T19: PRKCZ | X19: SNTB2 | AE19: ENAH | AH19: GNG13 | AI19: NXF1 | AJ19: PPIB | AM19: CRLF1
A20: RTN4 | C20: 2 | D20: ='8092 Genes'!B20+'8092 Genes'!C20 -> 2 | P20: DPF1 | T20: PTK2 | X20: SKI | AE20: ARFIP2 | AH20: MRPL24 | AI20: FPGS | AJ20: TRIM45 | AM20: EPAS1
A21: WEE1 | B21: 1 | C21: 1 | D21: ='8092 Genes'!B21+'8092 Genes'!C21 -> 2 | P21: MFSD7 | T21: PVR | AE21: CAST | AI21: RTN4 | AJ21: POLR3C | AM21: FDX1
A22: AACS | B22: 1 | D22: ='8092 Genes'!B22+'8092 Genes'!C22 -> 1 | P22: PSMC3IP | T22: REEP1 | AE22: RUFY2 | AI22: WDR6 | AJ22: ABCB9 | AM22: FZD3
A23: ACD | C23: 1 | D23: ='8092 Genes'!B23+'8092 Genes'!C23 -> 1 | P23: GABRB1 | T23: SAMM50 | AI23: TGFB1I1 | AJ23: IMPA1 | AM23: KCNJ3
A24: ALDH1B1 | C24: 1 | D24: ='8092 Genes'!B24+'8092 Genes'!C24 -> 1 | T24: SCG2 | AI24: TNFSF18 | AJ24: APOBEC3G | AM24: NNT
A25: ARF5 | C25: 1 | D25: ='8092 Genes'!B25+'8092 Genes'!C25 -> 1 | T25: SLC2A4RG | AI25: CPA2 | AJ25: GNAI2 | AM25: DMXL2
A26: BRSK2 | C26: 1 | D26: ='8092 Genes'!B26+'8092 Genes'!C26 -> 1 | T26: STAM | AI26: LRRK1 | AJ26: ATP6V1B1 | AM26: TRIM21
A27: C12orf43 | C27: 1 | D27: ='8092 Genes'!B27+'8092 Genes'!C27 -> 1 | T27: TOMM20 | AJ27: GUCY1B3 | AM27: FAH
A28: CDH8 | C28: 1 | D28: ='8092 Genes'!B28+'8092 Genes'!C28 -> 1 | T28: TPMT | AJ28: STEAP1 | AM28: HDAC9
A29: CDK5 | C29: 1 | D29: ='8092 Genes'!B29+'8092 Genes'!C29 -> 1 | T29: USP39 | AM29: RPL41
A30: CREB3L2 | C30: 1 | D30: ='8092 Genes'!B30+'8092 Genes'!C30 -> 1 | T30: WEE1 | AM30: RPL5
A31: CTBP2 | C31: 1 | D31: ='8092 Genes'!B31+'8092 Genes'!C31 -> 1 | T31: ZBTB17 | AM31: NMU
A32: DEPDC5 | C32: 1 | D32: ='8092 Genes'!B32+'8092 Genes'!C32 -> 1 | T32: ZNF195 | AM32: UBE2N
A33: DUSP4 | B33: 1 | D33: ='8092 Genes'!B33+'8092 Genes'!C33 -> 1 | AM33: FAIM2
A34: GNA13 | B34: 1 | D34: ='8092 Genes'!B34+'8092 Genes'!C34 -> 1 | AM34: IL1RL2
A35: LCP1 | C35: 1 | D35: ='8092 Genes'!B35+'8092 Genes'!C35 -> 1 | AM35: LIM2
A36: MAP2K4 | C36: 1 | D36: ='8092 Genes'!B36+'8092 Genes'!C36 -> 1 | AM36: MRPL35
A37: MAP4K4 | C37: 1 | D37: ='8092 Genes'!B37+'8092 Genes'!C37 -> 1 | AM37: PCMT1
A38: MCHR1 | C38: 1 | D38: ='8092 Genes'!B38+'8092 Genes'!C38 -> 1 | AM38: RPN1
A39: MST1R | C39: 1 | D39: ='8092 Genes'!B39+'8092 Genes'!C39 -> 1 | AM39: TFG
A40: NAPA | B40: 1 | D40: ='8092 Genes'!B40+'8092 Genes'!C40 -> 1 | AM40: FBXL12
...

Sheet 1 hour
A1: Path-2 | B1: Path-3 | C1: Path-5 | D1: MB1
A2: 4672 | B2: 6135 | C2: NA | D2: MB2
B3: 4525
B4: 3508
B5: 734

Sheet 2 hour
A1: Path-2 | B1: Path-3 | C1: Path-5 | D1: MB1
A2: 575 | B2: 6818 | C2: 3592 | D2: MB2
A3: 1164 | B3: 3039 | C3: 6009
A4: 7652 | B4: 6559
A5: 4085 | B5: 7247
A6: 5169 | B6: 1326
A7: 388 | B7: 5451
A8: 3616 | B8: 4855
A9: 2762 | B9: 7208
A10: 3758 | B10: 4383
A11: 3376 | B11: 788
A12: 5985 | B12: 1004
A13: 6720 | B13: 5967
A14: 7245
A15: 54
A16: 1701
A17: 6758

Sheet 4 hour
A1: Path-2 | B1: Path-3 | C1: Path-5 | D1: MB1
A2: 5719 | B2: 6646 | C2: 3139 | D2: MB2
A3: 5185 | B3: 2550 | C3: 1819
A4: 34 | B4: 3484 | C4: 183
A5: 6879 | B5: 6285 | C5: 464
A6: 5929 | B6: 965 | C6: 1641
A7: 1726 | B7: 6075 | C7: 2272
A8: 7006 | B8: 926 | C8: 3302
A9: 504 | B9: 6698 | C9: 1146
A10: 15 | B10: 7560 | C10: 1444
A11: 2245 | B11: 5978 | C11: 5394
A12: 5240 | B12: 6880 | C12: 1801
A13: 5872 | B13: 174 | C13: 5114
A14: 6231 | B14: 4668 | C14: 1121
A15: 1226 | B15: 3555 | C15: 2621
B16: 4988 | C16: 5638
B17: 1431 | C17: 6989
B18: 6785 | C18: 6466
C19: 2030
C20: 4250
C21: 5637
C22: 2670

Sheet 8 hour
A1: Path-2 | B1: Path-3 | C1: Path-5 | D1: MB1
A2: 2229 | B2: 1929 | C2: 1050 | D2: MB2
A3: 572 | B3: 925 | C3: 5542
A4: 1929 | B4: 7317 | C4: 6152
A5: 3204 | B5: 3062 | C5: 2449
A6: 2209 | B6: 6804 | C6: 5556
A7: 609 | B7: 2644 | C7: 2674
A8: 5197 | B8: 3574 | C8: 6152
A9: 6779 | B9: 3178 | C9: 2386
A10: 146 | B10: 4434 | C10: 7781
A11: 5044 | B11: 4704 | C11: 1249
B12: 5147 | C12: 1301
B13: 7517 | C13: 4556
B14: 4241 | C14: 3190
B15: 2124 | C15: 7869
B16: 7777 | C16: 488
B17: 1791 | C17: 3190
B18: 5890 | C18: 2744
C19: 7656
C20: 5695
C21: 3464
C22: 642
C23: 5673
C24: 3464
C25: 4448
C26: 5831
C27: 5263
C28: 6493
C29: 7352
C30: 5831
... C39: 7948

Sheet 12 hour
A1: Path-2 | B1: Path-3 | C1: Path-5 | D1: MB1
A2: 1438 | B2: 4558 | C2: 4837 | D2: MB2
A3: 1222 | B3: 4078 | C3: 1915
A4: 5315 | B4: 1685 | C4: 7916
A5: 569 | B5: 3819 | C5: 6211
A6: 1200 | B6: 5588 | C6: 2095
A7: 7591 | B7: 4041 | C7: 2567
A8: 690 | B8: 794 | C8: 6588
A9: 4083 | B9: 3026 | C9: 5556
A10: 5487 | B10: 683 | C10: 2105
A11: 3918 | B11: 6279 | C11: 4793
B12: 5417 | C12: 2748
B13: 7713 | C13: 4201
B14: 517 | C14: 1787
B15: 2042 | C15: 1189
B16: 4632 | C16: 1447
C17: 7803
C18: 6661
C19: 6381

Sheet 16 hour
A1: Path-2 | B1: Path-3 | C1: Path-5
A2: 3356 | B2: 7842 | C2: 1484
A3: 2253 | B3: 1637 | C3: 1330
A4: 3343 | B4: 3126 | C4: 6608
A5: 3650 | B5: 4602 | C5: 2969
A6: 4283 | B6: 5682 | C6: 1454
A7: 5335 | B7: 4465 | C7: 3652
B8: 7724
B9: 2594
B10: 5654
B11: 4099
B12: 4376
B13: 5061

Sheet 20 hour
A1: Path-2 | B1: Path-3 | C1: Path-5 | D1: MB1 | G1: ACAA2 | AD1: 20 hrs
A2: 1167 | B2: 4350 | C2: 339 | D2: MB2 | G2: AP1S1
A3: 3304 | B3: 2177 | C3: 7643 | G3: APLP1
A4: 2860 | B4: 2528 | C4: 2335 | G4: ARFIP2
A5: 4605 | B5: 6074 | C5: 4710 | G5: CAST
A6: 4172 | B6: 5905 | C6: 7720 | G6: CDC42EP4
A7: 5135 | B7: 7206 | C7: 1301 | G7: CDS1
A8: 1728 | B8: 7635 | C8: 1511 | G8: CHD1
A9: 4634 | B9: 2332 | C9: 5946 | G9: COMMD9
A10: 66 | B10: 6950 | C10: 6280 | G10: CXXC4
A11: 5881 | B11: 3257 | C11: 5151 | G11: EGR3
A12: 365 | B12: 1229 | G12: ELF1
A13: 4330 | B13: 5750 | G13: ENAH
A14: 4721 | B14: 5292 | G14: ETV1
A15: 7371 | B15: 3781 | G15: ETV5
A16: 7234 | B16: 2217 | G16: FHL2
B17: 4152 | G17: GNG12
B18: 2250 | G18: HS2ST1
B19: 412 | G19: HTR2A
B20: 972 | G20: KLKB1
B21: 6678 | G21: MAX
G22: MCCC1
G23: MORF4L2
G24: MPPED2
G25: NDUFB3
G26: NEO1
G27: NMT2
G28: NOL4
G29: PDHX
G30: PDZD2
G31: PKN2
G32: RANBP10
G33: RGS20
... G45: VPS13A

Sheet 24 hour
A1: Path-2 | B1: Path-3 | C1: Path-5 | D1: MB1
A2: 2209 | B2: 3621 | C2: 3988 | D2: MB2
A3: 5761 | B3: 3011 | C3: 865
A4: 1842 | B4: 317 | C4: 545
A5: 4714 | B5: 5750 | C5: 555
A6: 1842 | B6: 1844 | C6: 929
A7: 2673 | B7: 2942 | C7: 2354
A8: 4558 | B8: 797 | C8: 2158
A9: 5473 | B9: 2132 | C9: 6886
A10: 1976 | B10: 1229 | C10: 6385
A11: 7867 | B11: 2253 | C11: 6509
A12: 7926 | B12: 4074 | C12: 730
A13: 1642 | B13: 7993 | C13: 2608
A14: 2383 | B14: 4993 | C14: 6914
... A20: 4368 | B20: 6075 | C20: 7415
B21: 7768 | C21: 5416
B22: 7104 | C22: 30
B23: 7293 | C23: 3462
B24: 1545 | C24: 375
B25: 3997 | C25: 2845
C26: 569
C27: 3462
C28: 3058
C29: 6837

Sheet 36 Hour
A1: Path-2 | B1: Path-3 | C1: Path-5 | D1: MB1 | F1: ABCB9
A2: 2400 | B2: 3458 | C2: 7781 | D2: MB2 | F2: ANKZF1
A3: 6082 | B3: 3203 | C3: 6857 | F3: APOBEC3G
A4: 2617 | B4: 6379 | C4: 1014 | F4: ASB13
A5: 5149 | B5: 4735 | C5: 2719 | F5: ATP1A1
A6: 2659 | B6: 490 | C6: 3592 | F6: ATP2B2
A7: 6054 | B7: 1882 | C7: 5476 | F7: ATP6V1B1
A8: 2956 | B8: 5299 | C8: 7704 | F8: ATRN
A9: 4032 | B9: 4735 | F9: BLCAP
A10: 6968 | B10: 588 | F10: BRD9
A11: 7455 | B11: 6306 | F11: C17orf53
A12: 7891 | B12: 7200 | F12: C21orf91
A13: 6536 | B13: 7968 | F13: CA2
A14: 3158 | B14: 545 | F14: CAMLG
A15: 3643 | B15: 2538 | F15: CCDC81
A16: 3248 | B16: 2749 | F16: CDS1
A17: 5670 | B17: 695 | F17: CHIC2
B18: 2672 | F18: CPA2
B19: 1591 | F19: CRLF1
B20: 2272 | F20: CYBA
B21: 2487 | F21: DAD1
B22: 2644 | F22: DDIT4
B23: 3645 | F23: DDOST
B24: 4714 | F24: DENR
B25: 1962 | F25: DMXL2
B26: 7399 | F26: DNAJB4
B27: 2394 | F27: DNTTIP2
B28: 3123 | F28: ECHDC3
B29: 6020 | F29: EFHD1
... B53: 4637 | F53: GPR35
F54: GPRASP1
F55: GSN
F56: GUCY1B3
F57: HDAC9
F58: HIF1A
F59: HOMER3
F60: HR
F61: IL1RL2
F62: ILK
F63: IMPA1
...

Sheet 48 hour
A1: 48hrs | D1: MB1
A2: Path-2 | B2: Path-3 | C2: Path-5 | D2: MB2
A3: 2089 | B3: 6 | C3: 2841
A4: 252 | B4: 1575 | C4: 405
A5: 5911 | B5: 4178 | C5: 6245
A6: 4102 | B6: 1884 | C6: 7284
A7: 6071 | B7: 4686 | C7: 6072
A8: 6124 | B8: 7277 | C8: 4084
A9: 4544 | B9: 5971 | C9: 3864
A10: 74 | B10: 736 | C10: 7422
A11: 1202 | B11: 7728 | C11: 5769
B12: 6399 | C12: 2245
B13: 7833 | C13: 4418
B14: 3376 | C14: 5531
B15: 1195 | C15: 5409
B16: 1662 | C16: 6712
C17: 7216
C18: 6829

Sheet List of MB genes 
A1: Gene | B1: Frequency in MB1 | C1: Frequency in MB2 | D1: Total | F1: 1 hr | J1: 2 hrs | N1: 4 hrs | R1: 8 hrs
A2: AKR1A1 | B2: 1 | D2: =SUM('List of MB genes '!B2:C2) -> 1 | F2: Path-2 | G2: Path-3 | H2: Path-5 | J2: Path-2 | K2: Path-3 | L2: Path-5 | N2: Path-2 | O2: Path-3 | P2: Path-5 | R2: Path-2 | S2: Path-3 | T2: Path-5
A3: AP1S1 | C3: 1 | D3: =SUM('List of MB genes '!B3:C3) -> 1 | F3: AKR1A1 | G3: ATP6V1B1 | H3: KIAA0319 | J3: SCG2 | K3: MYO10 | L3: ARPC5L | N3: TNFRSF1A | O3: CLDN15 | P3: BNIP1 | R3: ENOSF1 | S3: CRISPLD2 | T3: TRHR
A4: ARHGAP6 | C4: 1 | D4: =SUM('List of MB genes '!B4:C4) -> 1 | F4: FOXF1 | G4: EVI2B | J4: ARPC1A | K4: GNAI3 | L4: GPSM3 | N4: C10orf10 | O4: FKBP3 | P4: NDUFS3 | R4: CDC14B | S4: DUSP1 | T4: CCDC87
A5: ARHGEF10 | C5: 1 | D5: =SUM('List of MB genes '!B5:C5) -> 1 | F5: IRAK1 | G5: KLHL3 | J5: GLS2 | K5: UBP1 | L5: BGN | N5: FZD7 | O5: ZNF274 | P5: TCF7L1 | R5: VRK2 | S5: ITIH5 | T5: HOMER1
A6: ARL8B | C6: 1 | D6: =SUM('List of MB genes '!B6:C6) -> 1 | F6: HTR2C | G6: TCERG1 | J6: SNRPB | K6: KCNAB1 | L6: DDX50 | N6: YWHAH | O6: CTSH | P6: ELAVL2 | R6: LMO2 | S6: MYL3
A7: ARPC1A | C7: 1 | D7: =SUM('List of MB genes '!B7:C7) -> 1 | F7: DDX25 | G7: LEPROTL1 | J7: NR2F1 | K7: PSMA5 | L7: SLC25A12 | N7: POLDIP2 | O7: CBX5 | P7: MYT1L | R7: ARL8B
A8: ARPC5L | B8: 1 | D8: =SUM('List of MB genes '!B8:C8) -> 1 | F8: KRT14 | G8: LANCL1 | J8: VPS13A | K8: MRPS7 | L8: ARHGAP6 | N8: TOR1A | O8: RGS10 | P8: PEF1 | R8: SLC35E3
A9: ASNS | C9: 1 | D9: =SUM('List of MB genes '!B9:C9) -> 1 | F9: SCARA3 | G9: WFDC1 | J9: ATP2B2 | K9: TUBG1 | L9: ARHGEF10 | N9: IRF1 | O9: PARP12 | P9: SCRN1 | R9: HSPB3
A10: ATG5 | C10: 1 | D10: =SUM('List of MB genes '!B10:C10) -> 1 | F10: SPARC | J10: STOML2 | K10: AP1S1 | L10: COLEC12 | N10: PRKCDBP | O10: GNG5 | P10: CASP6 | R10: CCDC92
A11: ATP2B2 | C11: 1 | D11: =SUM('List of MB genes '!B11:C11) -> 1 | F11: NEK7 | J11: SOCS1 | K11: EPM2AIP1 | L11: SLC39A8 | N11: IFNA21 | O11: HOOK1 | P11: CLCA4 | R11: YWHAB
A12: ATP6V1B1 | B12: 1 | D12: =SUM('List of MB genes '!B12:C12) -> 1 | F12: DNAI1 | K12: NXN | L12: ATP8B2 | N12: IGFBP6 | O12: HPCAL1 | P12: TNFRSF1A | R12: NKTR
A13: ATP8B2 | C13: 1 | D13: =SUM('List of MB genes '!B13:C13) -> 1 | F13: ATG5 | K13: MAPK9 | L13: STX12 | N13: FGFR3 | O13: SEC14L2 | P13: PRDM2 | R13: IDS
A14: AUTS2 | C14: 1 | D14: =SUM('List of MB genes '!B14:C14) -> 1 | K14: SPHK1 | L14: TBXA2R | N14: LUM | P14: RIN2 | R14: DLG2
A15: BGN | C15: 1 | D15: =SUM('List of MB genes '!B15:C15) -> 1 | K15: TAF7 | L15: ZDHHC13 | P15: CAMSAP1 | R15: GNAO1
A16: BNIP1 | B16: 1 | D16: =SUM('List of MB genes '!B16:C16) -> 1 | K16: NAT10 | L16: CNDP2 | P16: EDF1 | R16: TSPAN5
A17: C10orf10 | C17: 1 | D17: =SUM('List of MB genes '!B17:C17) -> 1 | K17: LIG4 | L17: MITF | P17: TSSC4 | R17: CLCN4
A18: CAMSAP1 | C18: 1 | D18: =SUM('List of MB genes '!B18:C18) -> 1 | P18: TXN2 | R18: MAGEH1
A19: CASP6 | B19: 1 | D19: =SUM('List of MB genes '!B19:C19) -> 1 | P19: WDR18 | R19: SLPI
A20: CBX5 | C20: 1 | D20: =SUM('List of MB genes '!B20:C20) -> 1 | P20: ZNF337 | R20: SPATS2
A21: CCDC87 | B21: 1 | D21: =SUM('List of MB genes '!B21:C21) -> 1 | P21: MAPKAP1 | R21: RASA2
A22: CCDC92 | B22: 1 | D22: =SUM('List of MB genes '!B22:C22) -> 1 | P22: LTBR | R22: USP10
A23: CDC14B | B23: 1 | D23: =SUM('List of MB genes '!B23:C23) -> 1 | P23: GRIN2A
A24: CLCA4 | C24: 1 | D24: =SUM('List of MB genes '!B24:C24) -> 1 | P24: PCDHB3
A25: CLCN4 | B25: 1 | D25: =SUM('List of MB genes '!B25:C25) -> 1 | P25: TNFRSF14
A26: CLDN15 | B26: 1 | D26: =SUM('List of MB genes '!B26:C26) -> 1 | P26: WWC1
A27: CNDP2 | B27: 1 | D27: =SUM('List of MB genes '!B27:C27) -> 1 | P27: MAPK4
A28: COLEC12 | C28: 1 | D28: =SUM('List of MB genes '!B28:C28) -> 1 | P28: ASNS
A29: CRISPLD2 | C29: 1 | D29: =SUM('List of MB genes '!B29:C29) -> 1 | P29: AUTS2
A30: CTSH | B30: 1 | D30: =SUM('List of MB genes '!B30:C30) -> 1 | P30: SYNGR4
A31: DDX25 | C31: 1 | D31: =SUM('List of MB genes '!B31:C31) -> 1 | P31: DEC1
A32: DDX50 | C32: 1 | D32: =SUM('List of MB genes '!B32:C32) -> 1
A33: DEC1 | B33: 1 | D33: =SUM('List of MB genes '!B33:C33) -> 1
A34: DLG2 | B34: 1 | D34: =SUM('List of MB genes '!B34:C34) -> 1
A35: DNAI1 | B35: 1 | D35: =SUM('List of MB genes '!B35:C35) -> 1
A36: DUSP1 | B36: 1 | D36: =SUM('List of MB genes '!B36:C36) -> 1
A37: EDF1 | C37: 1 | D37: =SUM('List of MB genes '!B37:C37) -> 1
A38: ELAVL2 | C38: 1 | D38: =SUM('List of MB genes '!B38:C38) -> 1
A39: ENOSF1 | B39: 1 | D39: =SUM('List of MB genes '!B39:C39) -> 1
A40: EPM2AIP1 | C40: 1 | D40: =SUM('List of MB genes '!B40:C40) -> 1
...

Sheet 1 Hr
A1: Path-2 | B1: Path-3 | C1: Path-5 | E1: MB1
A2: 219 | B2: 505 | C2: 3306 | E2: MB2
A3: 2317 | B3: 2098
A4: 3142 | B4: 3362
A5: 2955 | B5: 6200
A6: 1660 | B6: 3468
A7: 3394 | B7: 3430
A8: 5436 | B8: 6835
A9: 5932
A10: 4118
A11: 1760
A12: 473

Sheet 2 Hrs
A1: Path-2 | B1: Path-3 | C1: Path-5 | E1: MB1
A2: 5445 | B2: 4009 | C2: 424 | E2: MB2
A3: 421 | B3: 2548 | C3: 2645
A4: 2526 | B4: 6670 | C4: 1610
A5: 5868 | B5: 3229 | C5: 1665
A6: 4250 | B6: 4986 | C6: 5702
A7: 6785 | B7: 3923 | C7: 383
A8: 493 | B8: 6609 | C8: 386
A9: 6045 | B9: 304 | C9: 13521
A10: 5892 | B10: 2053 | C10: 5764
B11: 4322 | C11: 517
B12: 3672 | C12: 6055
B13: 5943 | C13: 6191
B14: 6136 | C14: 6933
B15: 4049 | C15: 1284
B16: 3493 | C16: 3807

Sheet 4 Hr
A1: Path-2 | B1: Path-3 | C1: Path-5 | E1: MB1
A2: 6407 | B2: 1241 | C2: 641 | E2: MB2
A3: 682 | B3: 2270 | C3: 4104
A4: 2375 | B4: 7011 | C4: 6206
A5: 6901 | B5: 1515 | C5: 1978
A6: 4805 | B6: 885 | C6: 4032
A7: 6449 | B7: 5197 | C7: 4596
A8: 3146 | B8: 4473 | C8: 5468
A9: 4922 | B9: 2561 | C9: 858
A10: 3000 | B10: 2869 | C10: 1229
A11: 3028 | B11: 2902 | C11: 6407
A12: 2254 | B12: 5489 | C12: 4907
A13: 3585 | C13: 5235
C14: 832
C15: 1911
C16: 6587
C17: 6624
C18: 6813
C19: 7032
C20: 3673
C21: 3583
C22: 2670
C23: 4514
C24: 6405
C25: 6862
... C30: 1671

Sheet 8 Hr
A1: Path-2 | B1: Path-3 | C1: Path-5 | E1: MB1
A2: 2019 | B2: 1424 | C2: 6500 | E2: MB2
A3: 1032 | B3: 1856 | C3: 909
A4: 6792 | B4: 3191 | C4: 2866
A5: 3515 | B5: 4001
A6: 412
A7: 5751
A8: 2940
A9: 912
A10: 6899
A11: 4170
A12: 2985
A13: 1737
A14: 2550
A15: 6578
A16: 1234
A17: 3622
... A21: 6720
