Workbook

Sheet Sheet1
A1: Gene Name | B1: MB degree (No BK) | C1: MB degree (BK: KEGG) | D1: Match? | E1: MB degrees difference
A2: ADAM10 | B2: 7 | C2: 7 | D2: =IF(Sheet1!B2=Sheet1!C2,TRUE()) -> 1 | E2: =Sheet1!B2-Sheet1!C2 -> 0
A3: APAF1 | B3: 8 | C3: 6 | D3: =IF(Sheet1!B3=Sheet1!C3,TRUE()) -> 0 | E3: =Sheet1!B3-Sheet1!C3 -> 2
A4: APBB1 | B4: 7 | C4: 5 | D4: =IF(Sheet1!B4=Sheet1!C4,TRUE()) -> 0 | E4: =Sheet1!B4-Sheet1!C4 -> 2
A5: APOE | B5: 6 | C5: 7 | D5: =IF(Sheet1!B5=Sheet1!C5,TRUE()) -> 0 | E5: =Sheet1!B5-Sheet1!C5 -> -1
A6: APP | B6: 6 | C6: 6 | D6: =IF(Sheet1!B6=Sheet1!C6,TRUE()) -> 1 | E6: =Sheet1!B6-Sheet1!C6 -> 0
A7: ATF6 | B7: 8 | C7: 8 | D7: =IF(Sheet1!B7=Sheet1!C7,TRUE()) -> 1 | E7: =Sheet1!B7-Sheet1!C7 -> 0
A8: ATP2A1 | B8: 6 | C8: 8 | D8: =IF(Sheet1!B8=Sheet1!C8,TRUE()) -> 0 | E8: =Sheet1!B8-Sheet1!C8 -> -2
A9: ATP2A2 | B9: 6 | C9: 5 | D9: =IF(Sheet1!B9=Sheet1!C9,TRUE()) -> 0 | E9: =Sheet1!B9-Sheet1!C9 -> 1
A10: ATP2A3 | B10: 7 | C10: 6 | D10: =IF(Sheet1!B10=Sheet1!C10,TRUE()) -> 0 | E10: =Sheet1!B10-Sheet1!C10 -> 1
A11: BACE1 | B11: 5 | C11: 6 | D11: =IF(Sheet1!B11=Sheet1!C11,TRUE()) -> 0 | E11: =Sheet1!B11-Sheet1!C11 -> -1
A12: BACE2 | B12: 6 | C12: 6 | D12: =IF(Sheet1!B12=Sheet1!C12,TRUE()) -> 1 | E12: =Sheet1!B12-Sheet1!C12 -> 0
A13: BAD | B13: 10 | C13: 10 | D13: =IF(Sheet1!B13=Sheet1!C13,TRUE()) -> 1 | E13: =Sheet1!B13-Sheet1!C13 -> 0
... A19: CALM1 | B19: 8 | C19: 6 | D19: =IF(Sheet1!B19=Sheet1!C19,TRUE()) -> 0 | E19: =Sheet1!B19-Sheet1!C19 -> 2
A20: CALML3 | B20: 8 | C20: -- | D20: =IF(Sheet1!B20=Sheet1!C20,TRUE()) -> 0 | E20: =Sheet1!B20-Sheet1!C20 -> #VALUE!
A21: CALML4 | B21: 7 | C21: 8 | D21: =IF(Sheet1!B21=Sheet1!C21,TRUE()) -> 0 | E21: =Sheet1!B21-Sheet1!C21 -> -1
A22: CALML5 | B22: 9 | C22: 10 | D22: =IF(Sheet1!B22=Sheet1!C22,TRUE()) -> 0 | E22: =Sheet1!B22-Sheet1!C22 -> -1
A23: CAPN1 | B23: -- | C23: 8 | D23: =IF(Sheet1!B23=Sheet1!C23,TRUE()) -> 0 | E23: =Sheet1!B23-Sheet1!C23 -> #VALUE!
A24: CAPN2 | B24: 6 | C24: 5 | D24: =IF(Sheet1!B24=Sheet1!C24,TRUE()) -> 0 | E24: =Sheet1!B24-Sheet1!C24 -> 1
A25: CASP3 | B25: 8 | C25: 9 | D25: =IF(Sheet1!B25=Sheet1!C25,TRUE()) -> 0 | E25: =Sheet1!B25-Sheet1!C25 -> -1
A26: CASP7 | B26: 9 | C26: 7 | D26: =IF(Sheet1!B26=Sheet1!C26,TRUE()) -> 0 | E26: =Sheet1!B26-Sheet1!C26 -> 2
A27: CASP8 | B27: 8 | C27: 10 | D27: =IF(Sheet1!B27=Sheet1!C27,TRUE()) -> 0 | E27: =Sheet1!B27-Sheet1!C27 -> -2
A28: CASP9 | B28: 5 | C28: 9 | D28: =IF(Sheet1!B28=Sheet1!C28,TRUE()) -> 0 | E28: =Sheet1!B28-Sheet1!C28 -> -4
A29: CDK5 | B29: 7 | C29: 6 | D29: =IF(Sheet1!B29=Sheet1!C29,TRUE()) -> 0 | E29: =Sheet1!B29-Sheet1!C29 -> 1
A30: CDK5R1 | B30: 7 | C30: 6 | D30: =IF(Sheet1!B30=Sheet1!C30,TRUE()) -> 0 | E30: =Sheet1!B30-Sheet1!C30 -> 1
A31: COX4I1 | B31: 6 | C31: 7 | D31: =IF(Sheet1!B31=Sheet1!C31,TRUE()) -> 0 | E31: =Sheet1!B31-Sheet1!C31 -> -1
A32: COX5A | B32: 5 | C32: 7 | D32: =IF(Sheet1!B32=Sheet1!C32,TRUE()) -> 0 | E32: =Sheet1!B32-Sheet1!C32 -> -2
A33: COX5B | B33: 7 | C33: 8 | D33: =IF(Sheet1!B33=Sheet1!C33,TRUE()) -> 0 | E33: =Sheet1!B33-Sheet1!C33 -> -1
A34: COX6A2 | B34: 8 | C34: 10 | D34: =IF(Sheet1!B34=Sheet1!C34,TRUE()) -> 0 | E34: =Sheet1!B34-Sheet1!C34 -> -2
A35: COX6B1 | B35: 7 | C35: 7 | D35: =IF(Sheet1!B35=Sheet1!C35,TRUE()) -> 1 | E35: =Sheet1!B35-Sheet1!C35 -> 0
... A43: ERN1 | B43: 6 | C43: 10 | D43: =IF(Sheet1!B43=Sheet1!C43,TRUE()) -> 0 | E43: =Sheet1!B43-Sheet1!C43 -> -4
A44: FADD | B44: 8 | C44: NC | D44: =IF(Sheet1!B44=Sheet1!C44,TRUE()) -> 0 | E44: =Sheet1!B44-Sheet1!C44 -> #VALUE!
A45: GNAQ | B45: 5 | C45: 8 | D45: =IF(Sheet1!B45=Sheet1!C45,TRUE()) -> 0 | E45: =Sheet1!B45-Sheet1!C45 -> -3
A46: GNAQ | B46: 5 | C46: 8 | D46: =IF(Sheet1!B46=Sheet1!C46,TRUE()) -> 0 | E46: =Sheet1!B46-Sheet1!C46 -> -3
A47: GRIN1 | B47: 5 | C47: 6 | D47: =IF(Sheet1!B47=Sheet1!C47,TRUE()) -> 0 | E47: =Sheet1!B47-Sheet1!C47 -> -1
A48: GRIN2A | B48: 4 | C48: 7 | D48: =IF(Sheet1!B48=Sheet1!C48,TRUE()) -> 0 | E48: =Sheet1!B48-Sheet1!C48 -> -3
A49: GRIN2B | B49: 11 | C49: 7 | D49: =IF(Sheet1!B49=Sheet1!C49,TRUE()) -> 0 | E49: =Sheet1!B49-Sheet1!C49 -> 4
A50: GRIN2C | B50: 9 | C50: 9 | D50: =IF(Sheet1!B50=Sheet1!C50,TRUE()) -> 1 | E50: =Sheet1!B50-Sheet1!C50 -> 0
A51: GRIN2D | B51: 7 | C51: 3 | D51: =IF(Sheet1!B51=Sheet1!C51,TRUE()) -> 0 | E51: =Sheet1!B51-Sheet1!C51 -> 4
A52: GSK3B | B52: 7 | C52: 7 | D52: =IF(Sheet1!B52=Sheet1!C52,TRUE()) -> 1 | E52: =Sheet1!B52-Sheet1!C52 -> 0
...
