Workbook

Sheet Sheet1
A1: Gene Name | B1: MB degree (No BK) | C1: MB degree (BK: KEGG) | D1: Match? | E1: MB degrees difference
A2: ADAM10 | B2: 7 | C2: 7 | D2: =IF(Sheet1!B2=Sheet1!C2,TRUE()) -> 1 | E2: =Sheet1!B2-Sheet1!C2 -> 0
A3: APAF1 | B3: 8 | C3: 6 | D3: =IF(Sheet1!B3=Sheet1!C3,TRUE()) -> 0 | E3: =Sheet1!B3-Sheet1!C3 -> 2
A4: APBB1 | B4: 7 | C4: 5 | D4: =IF(Sheet1!B4=Sheet1!C4,TRUE()) -> 0 | E4: =Sheet1!B4-Sheet1!C4 -> 2
A5: APOE | B5: 6 | C5: 7 | D5: =IF(Sheet1!B5=Sheet1!C5,TRUE()) -> 0 | E5: =Sheet1!B5-Sheet1!C5 -> -1
A6: APP | B6: 6 | C6: 6 | D6: =IF(Sheet1!B6=Sheet1!C6,TRUE()) -> 1 | E6: =Sheet1!B6-Sheet1!C6 -> 0
A7: ATF6 | B7: 8 | C7: 8 | D7: =IF(Sheet1!B7=Sheet1!C7,TRUE()) -> 1 | E7: =Sheet1!B7-Sheet1!C7 -> 0
A8: ATP2A1 | B8: 6 | C8: 8 | D8: =IF(Sheet1!B8=Sheet1!C8,TRUE()) -> 0 | E8: =Sheet1!B8-Sheet1!C8 -> -2
A9: ATP2A2 | B9: 6 | C9: 5 | D9: =IF(Sheet1!B9=Sheet1!C9,TRUE()) -> 0 | E9: =Sheet1!B9-Sheet1!C9 -> 1
A10: ATP2A3 | B10: 7 | C10: 6 | D10: =IF(Sheet1!B10=Sheet1!C10,TRUE()) -> 0 | E10: =Sheet1!B10-Sheet1!C10 -> 1
A11: BACE1 | B11: 5 | C11: 6 | D11: =IF(Sheet1!B11=Sheet1!C11,TRUE()) -> 0 | E11: =Sheet1!B11-Sheet1!C11 -> -1
A12: BACE2 | B12: 6 | C12: 6 | D12: =IF(Sheet1!B12=Sheet1!C12,TRUE()) -> 1 | E12: =Sheet1!B12-Sheet1!C12 -> 0
A13: BAD | B13: 10 | C13: 10 | D13: =IF(Sheet1!B13=Sheet1!C13,TRUE()) -> 1 | E13: =Sheet1!B13-Sheet1!C13 -> 0
... A19: CALM1 | B19: 8 | C19: 6 | D19: =IF(Sheet1!B19=Sheet1!C19,TRUE()) -> 0 | E19: =Sheet1!B19-Sheet1!C19 -> 2
A20: CALML3 | B20: 8 | C20: -- | D20: =IF(Sheet1!B20=Sheet1!C20,TRUE()) -> 0 | E20: =Sheet1!B20-Sheet1!C20 -> #VALUE!
A21: CALML4 | B21: 7 | C21: 8 | D21: =IF(Sheet1!B21=Sheet1!C21,TRUE()) -> 0 | E21: =Sheet1!B21-Sheet1!C21 -> -1
A22: CALML5 | B22: 9 | C22: 10 | D22: =IF(Sheet1!B22=Sheet1!C22,TRUE()) -> 0 | E22: =Sheet1!B22-Sheet1!C22 -> -1
A23: CAPN1 | B23: -- | C23: 8 | D23: =IF(Sheet1!B23=Sheet1!C23,TRUE()) -> 0 | E23: =Sheet1!B23-Sheet1!C23 -> #VALUE!
A24: CAPN2 | B24: 6 | C24: 5 | D24: =IF(Sheet1!B24=Sheet1!C24,TRUE()) -> 0 | E24: =Sheet1!B24-Sheet1!C24 -> 1
A25: CASP3 | B25: 8 | C25: 9 | D25: =IF(Sheet1!B25=Sheet1!C25,TRUE()) -> 0 | E25: =Sheet1!B25-Sheet1!C25 -> -1
A26: CASP7 | B26: 9 | C26: 7 | D26: =IF(Sheet1!B26=Sheet1!C26,TRUE()) -> 0 | E26: =Sheet1!B26-Sheet1!C26 -> 2
A27: CASP8 | B27: 8 | C27: 10 | D27: =IF(Sheet1!B27=Sheet1!C27,TRUE()) -> 0 | E27: =Sheet1!B27-Sheet1!C27 -> -2
A28: CASP9 | B28: 5 | C28: 9 | D28: =IF(Sheet1!B28=Sheet1!C28,TRUE()) -> 0 | E28: =Sheet1!B28-Sheet1!C28 -> -4
A29: CDK5 | B29: 7 | C29: 6 | D29: =IF(Sheet1!B29=Sheet1!C29,TRUE()) -> 0 | E29: =Sheet1!B29-Sheet1!C29 -> 1
A30: CDK5R1 | B30: 7 | C30: 6 | D30: =IF(Sheet1!B30=Sheet1!C30,TRUE()) -> 0 | E30: =Sheet1!B30-Sheet1!C30 -> 1
A31: COX4I1 | B31: 6 | C31: 7 | D31: =IF(Sheet1!B31=Sheet1!C31,TRUE()) -> 0 | E31: =Sheet1!B31-Sheet1!C31 -> -1
A32: COX5A | B32: 5 | C32: 7 | D32: =IF(Sheet1!B32=Sheet1!C32,TRUE()) -> 0 | E32: =Sheet1!B32-Sheet1!C32 -> -2
A33: COX5B | B33: 7 | C33: 8 | D33: =IF(Sheet1!B33=Sheet1!C33,TRUE()) -> 0 | E33: =Sheet1!B33-Sheet1!C33 -> -1
A34: COX6A2 | B34: 8 | C34: 10 | D34: =IF(Sheet1!B34=Sheet1!C34,TRUE()) -> 0 | E34: =Sheet1!B34-Sheet1!C34 -> -2
A35: COX6B1 | B35: 7 | C35: 7 | D35: =IF(Sheet1!B35=Sheet1!C35,TRUE()) -> 1 | E35: =Sheet1!B35-Sheet1!C35 -> 0
... A43: ERN1 | B43: 6 | C43: 10 | D43: =IF(Sheet1!B43=Sheet1!C43,TRUE()) -> 0 | E43: =Sheet1!B43-Sheet1!C43 -> -4
A44: FADD | B44: 8 | C44: NC | D44: =IF(Sheet1!B44=Sheet1!C44,TRUE()) -> 0 | E44: =Sheet1!B44-Sheet1!C44 -> #VALUE!
A45: GNAQ | B45: 5 | C45: 8 | D45: =IF(Sheet1!B45=Sheet1!C45,TRUE()) -> 0 | E45: =Sheet1!B45-Sheet1!C45 -> -3
A46: GNAQ | B46: 5 | C46: 8 | D46: =IF(Sheet1!B46=Sheet1!C46,TRUE()) -> 0 | E46: =Sheet1!B46-Sheet1!C46 -> -3
A47: GRIN1 | B47: 5 | C47: 6 | D47: =IF(Sheet1!B47=Sheet1!C47,TRUE()) -> 0 | E47: =Sheet1!B47-Sheet1!C47 -> -1
A48: GRIN2A | B48: 4 | C48: 7 | D48: =IF(Sheet1!B48=Sheet1!C48,TRUE()) -> 0 | E48: =Sheet1!B48-Sheet1!C48 -> -3
A49: GRIN2B | B49: 11 | C49: 7 | D49: =IF(Sheet1!B49=Sheet1!C49,TRUE()) -> 0 | E49: =Sheet1!B49-Sheet1!C49 -> 4
A50: GRIN2C | B50: 9 | C50: 9 | D50: =IF(Sheet1!B50=Sheet1!C50,TRUE()) -> 1 | E50: =Sheet1!B50-Sheet1!C50 -> 0
A51: GRIN2D | B51: 7 | C51: 3 | D51: =IF(Sheet1!B51=Sheet1!C51,TRUE()) -> 0 | E51: =Sheet1!B51-Sheet1!C51 -> 4
A52: GSK3B | B52: 7 | C52: 7 | D52: =IF(Sheet1!B52=Sheet1!C52,TRUE()) -> 1 | E52: =Sheet1!B52-Sheet1!C52 -> 0
A53: IDE | B53: 7 | C53: 6 | D53: =IF(Sheet1!B53=Sheet1!C53,TRUE()) -> 0 | E53: =Sheet1!B53-Sheet1!C53 -> 1
A54: IL1B | B54: 5 | C54: NC | D54: =IF(Sheet1!B54=Sheet1!C54,TRUE()) -> 0 | E54: =Sheet1!B54-Sheet1!C54 -> #VALUE!
A55: LPL | B55: 9 | C55: 6 | D55: =IF(Sheet1!B55=Sheet1!C55,TRUE()) -> 0 | E55: =Sheet1!B55-Sheet1!C55 -> 3
A56: LRP1 | B56: 7 | C56: 9 | D56: =IF(Sheet1!B56=Sheet1!C56,TRUE()) -> 0 | E56: =Sheet1!B56-Sheet1!C56 -> -2
A57: MAPK1 | B57: 5 | C57: 7 | D57: =IF(Sheet1!B57=Sheet1!C57,TRUE()) -> 0 | E57: =Sheet1!B57-Sheet1!C57 -> -2
A58: MAPK3 | B58: 7 | C58: 6 | D58: =IF(Sheet1!B58=Sheet1!C58,TRUE()) -> 0 | E58: =Sheet1!B58-Sheet1!C58 -> 1
A59: MAPT | B59: 5 | C59: 9 | D59: =IF(Sheet1!B59=Sheet1!C59,TRUE()) -> 0 | E59: =Sheet1!B59-Sheet1!C59 -> -4
A60: MME | B60: NC | C60: 9 | D60: =IF(Sheet1!B60=Sheet1!C60,TRUE()) -> 0 | E60: =Sheet1!B60-Sheet1!C60 -> #VALUE!
A61: NCSTN | B61: 8 | C61: 5 | D61: =IF(Sheet1!B61=Sheet1!C61,TRUE()) -> 0 | E61: =Sheet1!B61-Sheet1!C61 -> 3
A62: NDUFA10 | B62: 5 | C62: 9 | D62: =IF(Sheet1!B62=Sheet1!C62,TRUE()) -> 0 | E62: =Sheet1!B62-Sheet1!C62 -> -4
A63: NDUFA13 | B63: 6 | C63: 7 | D63: =IF(Sheet1!B63=Sheet1!C63,TRUE()) -> 0 | E63: =Sheet1!B63-Sheet1!C63 -> -1
A64: NDUFA3 | B64: 8 | C64: 9 | D64: =IF(Sheet1!B64=Sheet1!C64,TRUE()) -> 0 | E64: =Sheet1!B64-Sheet1!C64 -> -1
A65: NDUFA5 | B65: 5 | C65: 4 | D65: =IF(Sheet1!B65=Sheet1!C65,TRUE()) -> 0 | E65: =Sheet1!B65-Sheet1!C65 -> 1
A66: NDUFA7 | B66: 7 | C66: 8 | D66: =IF(Sheet1!B66=Sheet1!C66,TRUE()) -> 0 | E66: =Sheet1!B66-Sheet1!C66 -> -1
A67: NDUFA8 | B67: 6 | C67: 6 | D67: =IF(Sheet1!B67=Sheet1!C67,TRUE()) -> 1 | E67: =Sheet1!B67-Sheet1!C67 -> 0
A68: NDUFA9 | B68: 5 | C68: 6 | D68: =IF(Sheet1!B68=Sheet1!C68,TRUE()) -> 0 | E68: =Sheet1!B68-Sheet1!C68 -> -1
A69: NDUFAB1 | B69: 7 | C69: 6 | D69: =IF(Sheet1!B69=Sheet1!C69,TRUE()) -> 0 | E69: =Sheet1!B69-Sheet1!C69 -> 1
A70: NDUFB1 | B70: 10 | C70: 8 | D70: =IF(Sheet1!B70=Sheet1!C70,TRUE()) -> 0 | E70: =Sheet1!B70-Sheet1!C70 -> 2
A71: NDUFB2 | B71: 7 | C71: 8 | D71: =IF(Sheet1!B71=Sheet1!C71,TRUE()) -> 0 | E71: =Sheet1!B71-Sheet1!C71 -> -1
A72: NDUFB3 | B72: 4 | C72: 6 | D72: =IF(Sheet1!B72=Sheet1!C72,TRUE()) -> 0 | E72: =Sheet1!B72-Sheet1!C72 -> -2
... A99: SDHB | B99: 5 | C99: 7 | D99: =IF(Sheet1!B99=Sheet1!C99,TRUE()) -> 0 | E99: =Sheet1!B99-Sheet1!C99 -> -2
A100: SDHC | B100: NC | C100: 9 | D100: =IF(Sheet1!B100=Sheet1!C100,TRUE()) -> 0 | E100: =Sheet1!B100-Sheet1!C100 -> #VALUE!
A101: SDHD | B101: 6 | C101: 6 | D101: =IF(Sheet1!B101=Sheet1!C101,TRUE()) -> 1 | E101: =Sheet1!B101-Sheet1!C101 -> 0
A102: SNCA | B102: 7 | C102: 4 | D102: =IF(Sheet1!B102=Sheet1!C102,TRUE()) -> 0 | E102: =Sheet1!B102-Sheet1!C102 -> 3
A103: TNF | B103: 6 | C103: 10 | D103: =IF(Sheet1!B103=Sheet1!C103,TRUE()) -> 0 | E103: =Sheet1!B103-Sheet1!C103 -> -4
A104: TNFRSF1A | B104: 6 | C104: 7 | D104: =IF(Sheet1!B104=Sheet1!C104,TRUE()) -> 0 | E104: =Sheet1!B104-Sheet1!C104 -> -1
A105: UQCRB | B105: 9 | C105: 9 | D105: =IF(Sheet1!B105=Sheet1!C105,TRUE()) -> 1 | E105: =Sheet1!B105-Sheet1!C105 -> 0
A106: UQCRC1 | B106: 5 | C106: 5 | D106: =IF(Sheet1!B106=Sheet1!C106,TRUE()) -> 1 | E106: =Sheet1!B106-Sheet1!C106 -> 0
A107: UQCRC2 | B107: 5 | C107: 4 | D107: =IF(Sheet1!B107=Sheet1!C107,TRUE()) -> 0 | E107: =Sheet1!B107-Sheet1!C107 -> 1
A108: UQCRQ | B108: 4 | C108: 5 | D108: =IF(Sheet1!B108=Sheet1!C108,TRUE()) -> 0 | E108: =Sheet1!B108-Sheet1!C108 -> -1
