Workbook

Sheet InSilico1-heterozygous
A1: G1 | B1: G2 | C1: G3 | D1: G4 | E1: G5 | F1: G6 | G1: G7 | H1: G8 | I1: G9 | J1: G10 | K1: G11 | L1: G12 | M1: G13 | N1: G14 | O1: G15 | P1: G16 | Q1: G17 | R1: G18 | S1: G19 | T1: G20 | U1: G21 | V1: G22 | W1: G23 | X1: G24 | Y1: G25 | Z1: G26 | AA1: G27 | AB1: G28 | AC1: G29 | AD1: G30 | AE1: G31 | AF1: G32 | AG1: G33 | AH1: G34 | AI1: G35 | AJ1: G36 | AK1: G37 | AL1: G38 | AM1: G39 | AN1: G40 | AO1: G41 | AP1: G42 | AQ1: G43 | AR1: G44 | AS1: G45 | AT1: G46 | AU1: G47 | AV1: G48 | AW1: G49 | AX1: G50
A2: 0.844 | B2: 0.000862 | C2: 0.825 | D2: 0.535 | E2: 0.871 | F2: 0.877 | G2: 6.77e-06 | H2: 0.00617 | I2: 0.0105 | J2: 0.000581 | K2: 0.193 | L2: 0.137 | M2: 0.992 | N2: 0.115 | O2: 0.161 | P2: 0.00543 | Q2: 0.000995 | R2: 0.00327 | S2: 0.00534 | T2: 0.157 | U2: 0.0063 | V2: 0.484 | W2: 0.975 | X2: 0.00442 | Y2: 0.158 | Z2: 0.631 | AA2: 0.861 | AB2: 0.00659 | AC2: 0.367 | AD2: 0.719 | AE2: 0.998 | AF2: 0.86 | AG2: 0.184 | AH2: 0.000947 | AI2: 0.00724 | AJ2: 0.275 | AK2: 0.444 | AL2: 0.00115 | AM2: 0.000192 | AN2: 0.516 | AO2: 0.00474 | AP2: 0.189 | AQ2: 0.00632 | AR2: 0.997 | AS2: 0.00257 | AT2: 0.00262 | AU2: 0.00016 | AV2: 1.94e-05 | AW2: 0.996 | AX2: 0.0026
A3: 0.422 | B3: 0.000862 | C3: 0.824 | D3: 0.535 | E3: 0.871 | F3: 0.877 | G3: 6.77e-06 | H3: 0.00617 | I3: 0.0105 | J3: 0.000581 | K3: 0.193 | L3: 0.137 | M3: 0.992 | N3: 0.115 | O3: 0.161 | P3: 0.00543 | Q3: 0.000995 | R3: 0.00327 | S3: 0.00534 | T3: 0.157 | U3: 0.0063 | V3: 0.484 | W3: 0.975 | X3: 0.00442 | Y3: 0.158 | Z3: 0.631 | AA3: 0.861 | AB3: 0.00659 | AC3: 0.367 | AD3: 0.719 | AE3: 0.998 | AF3: 0.86 | AG3: 0.184 | AH3: 0.000947 | AI3: 0.00724 | AJ3: 0.275 | AK3: 0.444 | AL3: 0.00115 | AM3: 0.000192 | AN3: 0.516 | AO3: 0.00474 | AP3: 0.189 | AQ3: 0.00632 | AR3: 0.997 | AS3: 0.00257 | AT3: 0.00262 | AU3: 0.00016 | AV3: 1.94e-05 | AW3: 0.996 | AX3: 0.0026
A4: 0.844 | B4: 0.000431 | C4: 0.825 | D4: 0.535 | E4: 0.871 | F4: 0.877 | G4: 6.77e-06 | H4: 0.00617 | I4: 0.0105 | J4: 0.000581 | K4: 0.193 | L4: 0.137 | M4: 0.992 | N4: 0.115 | O4: 0.161 | P4: 0.00543 | Q4: 0.000995 | R4: 0.00327 | S4: 0.00534 | T4: 0.157 | U4: 0.0063 | V4: 0.484 | W4: 0.975 | X4: 0.00442 | Y4: 0.158 | Z4: 0.631 | AA4: 0.861 | AB4: 0.00659 | AC4: 0.367 | AD4: 0.719 | AE4: 0.998 | AF4: 0.86 | AG4: 0.184 | AH4: 0.000947 | AI4: 0.00724 | AJ4: 0.275 | AK4: 0.444 | AL4: 0.00115 | AM4: 0.000192 | AN4: 0.516 | AO4: 0.00474 | AP4: 0.189 | AQ4: 0.00632 | AR4: 0.997 | AS4: 0.00257 | AT4: 0.00262 | AU4: 0.00016 | AV4: 1.94e-05 | AW4: 0.996 | AX4: 0.0026
A5: 0.844 | B5: 0.000862 | C5: 0.412 | D5: 0.535 | E5: 0.871 | F5: 0.877 | G5: 6.77e-06 | H5: 0.00617 | I5: 0.0105 | J5: 0.000581 | K5: 0.193 | L5: 0.137 | M5: 0.992 | N5: 0.115 | O5: 0.161 | P5: 0.00543 | Q5: 0.000995 | R5: 0.00327 | S5: 0.00534 | T5: 0.157 | U5: 0.0063 | V5: 0.484 | W5: 0.975 | X5: 0.00442 | Y5: 0.158 | Z5: 0.631 | AA5: 0.861 | AB5: 0.00659 | AC5: 0.367 | AD5: 0.719 | AE5: 0.998 | AF5: 0.86 | AG5: 0.184 | AH5: 0.000947 | AI5: 0.00725 | AJ5: 0.275 | AK5: 0.444 | AL5: 0.00115 | AM5: 0.000192 | AN5: 0.516 | AO5: 0.00473 | AP5: 0.189 | AQ5: 0.00632 | AR5: 0.997 | AS5: 0.00257 | AT5: 0.00262 | AU5: 0.00016 | AV5: 1.94e-05 | AW5: 0.996 | AX5: 0.0026
A6: 0.886 | B6: 0.000898 | C6: 0.882 | D6: 0.263 | E6: 0.896 | F6: 0.902 | G6: 1.31e-05 | H6: 0.00867 | I6: 0.00922 | J6: 0.00056 | K6: 0.119 | L6: 0.103 | M6: 0.991 | N6: 0.0913 | O6: 0.114 | P6: 0.00787 | Q6: 0.000993 | R6: 0.00639 | S6: 0.00779 | T6: 0.113 | U6: 0.00872 | V6: 0.492 | W6: 0.968 | X6: 0.00546 | Y6: 0.114 | Z6: 0.639 | AA6: 0.895 | AB6: 0.0126 | AC6: 0.359 | AD6: 0.805 | AE6: 0.998 | AF6: 0.896 | AG6: 0.155 | AH6: 0.000984 | AI6: 0.00962 | AJ6: 0.29 | AK6: 0.453 | AL6: 0.00111 | AM6: 0.000129 | AN6: 0.542 | AO6: 0.00751 | AP6: 0.181 | AQ6: 0.00877 | AR6: 0.997 | AS6: 0.00414 | AT6: 0.00242 | AU6: 0.000116 | AV6: 2.39e-05 | AW6: 0.997 | AX6: 0.0024
A7: 0.88 | B7: 0.000893 | C7: 0.874 | D7: 0.527 | E7: 0.446 | F7: 0.9 | G7: 8.77e-06 | H7: 0.00816 | I7: 0.00944 | J7: 0.000563 | K7: 0.13 | L7: 0.108 | M7: 0.993 | N7: 0.0955 | O7: 0.121 | P7: 0.00738 | Q7: 0.000994 | R7: 0.00575 | S7: 0.0073 | T7: 0.12 | U7: 0.00823 | V7: 0.657 | W7: 0.959 | X7: 0.00351 | Y7: 0.12 | Z7: 0.639 | AA7: 0.89 | AB7: 0.0084 | AC7: 0.36 | AD7: 0.791 | AE7: 0.997 | AF7: 0.89 | AG7: 0.222 | AH7: 0.00196 | AI7: 0.00914 | AJ7: 0.215 | AK7: 0.302 | AL7: 0.00112 | AM7: 0.000138 | AN7: 0.498 | AO7: 0.00697 | AP7: 0.122 | AQ7: 0.00827 | AR7: 0.997 | AS7: 0.00382 | AT7: 0.00362 | AU7: 0.000123 | AV7: 3.42e-05 | AW7: 0.995 | AX7: 0.00359
A8: 0.844 | B8: 0.000862 | C8: 0.825 | D8: 0.535 | E8: 0.871 | F8: 0.439 | G8: 6.77e-06 | H8: 0.00617 | I8: 0.0105 | J8: 0.000581 | K8: 0.193 | L8: 0.137 | M8: 0.992 | N8: 0.115 | O8: 0.161 | P8: 0.00544 | Q8: 0.000995 | R8: 0.00327 | S8: 0.00534 | T8: 0.157 | U8: 0.0063 | V8: 0.484 | W8: 0.975 | X8: 0.00442 | Y8: 0.158 | Z8: 0.631 | AA8: 0.861 | AB8: 0.0066 | AC8: 0.367 | AD8: 0.719 | AE8: 0.998 | AF8: 0.86 | AG8: 0.184 | AH8: 0.000947 | AI8: 0.00725 | AJ8: 0.275 | AK8: 0.444 | AL8: 0.00115 | AM8: 0.000192 | AN8: 0.516 | AO8: 0.00474 | AP8: 0.189 | AQ8: 0.00632 | AR8: 0.996 | AS8: 0.00257 | AT8: 0.00262 | AU8: 0.00016 | AV8: 1.94e-05 | AW8: 0.996 | AX8: 0.0026
A9: 0.801 | B9: 0.000827 | C9: 0.746 | D9: 0.545 | E9: 0.848 | F9: 0.853 | G9: 3.55e-06 | H9: 0.00473 | I9: 0.0116 | J9: 0.000603 | K9: 0.282 | L9: 0.169 | M9: 0.992 | N9: 0.13 | O9: 0.21 | P9: 0.00405 | Q9: 0.000997 | R9: 0.00165 | S9: 0.00394 | T9: 0.202 | U9: 0.00492 | V9: 0.466 | W9: 0.978 | X9: 0.00405 | Y9: 0.202 | Z9: 0.623 | AA9: 0.829 | AB9: 0.00347 | AC9: 0.376 | AD9: 0.638 | AE9: 0.998 | AF9: 0.825 | AG9: 0.198 | AH9: 0.00088 | AI9: 0.00588 | AJ9: 0.258 | AK9: 0.442 | AL9: 0.0012 | AM9: 0.000266 | AN9: 0.5 | AO9: 0.00295 | AP9: 0.2 | AQ9: 0.00493 | AR9: 0.997 | AS9: 0.00177 | AT9: 0.00287 | AU9: 0.000205 | AV9: 1.72e-05 | AW9: 0.996 | AX9: 0.00285
A10: 0.821 | B10: 0.000727 | C10: 0.786 | D10: 0.541 | E10: 0.861 | F10: 0.864 | G10: 4.82e-06 | H10: 0.00265 | I10: 0.0111 | J10: 0.000593 | K10: 0.239 | L10: 0.155 | M10: 0.994 | N10: 0.216 | O10: 0.187 | P10: 0.0046 | Q10: 0.000996 | R10: 0.00229 | S10: 0.00449 | T10: 0.181 | U10: 0.00546 | V10: 0.475 | W10: 0.984 | X10: 0.00241 | Y10: 0.182 | Z10: 0.627 | AA10: 0.843 | AB10: 0.00475 | AC10: 0.372 | AD10: 0.674 | AE10: 0.998 | AF10: 0.725 | AG10: 0.293 | AH10: 0.000913 | AI10: 0.00642 | AJ10: 0.382 | AK10: 0.442 | AL10: 0.00118 | AM10: 0.000231 | AN10: 0.444 | AO10: 0.0037 | AP10: 0.195 | AQ10: 0.00548 | AR10: 0.997 | AS10: 0.00208 | AT10: 0.00161 | AU10: 0.000184 | AV10: 1.04e-05 | AW10: 0.996 | AX10: 0.0016
A11: 0.844 | B11: 0.000862 | C11: 0.825 | D11: 0.535 | E11: 0.871 | F11: 0.877 | G11: 6.77e-06 | H11: 0.00617 | I11: 0.00731 | J11: 0.000581 | K11: 0.193 | L11: 0.137 | M11: 0.992 | N11: 0.115 | O11: 0.161 | P11: 0.00543 | Q11: 0.000995 | R11: 0.00327 | S11: 0.00534 | T11: 0.157 | U11: 0.0063 | V11: 0.484 | W11: 0.975 | X11: 0.00442 | Y11: 0.158 | Z11: 0.631 | AA11: 0.861 | AB11: 0.00659 | AC11: 0.367 | AD11: 0.719 | AE11: 0.998 | AF11: 0.86 | AG11: 0.184 | AH11: 0.000947 | AI11: 0.00724 | AJ11: 0.275 | AK11: 0.444 | AL11: 0.00115 | AM11: 0.000192 | AN11: 0.516 | AO11: 0.00474 | AP11: 0.189 | AQ11: 0.00632 | AR11: 0.997 | AS11: 0.00257 | AT11: 0.00262 | AU11: 0.00016 | AV11: 1.94e-05 | AW11: 0.996 | AX11: 0.0026
A12: 0.841 | B12: 0.000859 | C12: 0.822 | D12: 0.536 | E12: 0.869 | F12: 0.875 | G12: 6.83e-06 | H12: 0.00603 | I12: 0.0106 | J12: 0.000292 | K12: 0.191 | L12: 0.139 | M12: 0.99 | N12: 0.117 | O12: 0.164 | P12: 0.0053 | Q12: 0.000996 | R12: 0.0033 | S12: 0.0052 | T12: 0.16 | U12: 0.00617 | V12: 0.483 | W12: 0.975 | X12: 0.00436 | Y12: 0.161 | Z12: 0.773 | AA12: 0.857 | AB12: 0.00666 | AC12: 0.226 | AD12: 0.721 | AE12: 0.998 | AF12: 0.857 | AG12: 0.186 | AH12: 0.000945 | AI12: 0.00711 | AJ12: 0.271 | AK12: 0.442 | AL12: 0.00116 | AM12: 0.000197 | AN12: 0.63 | AO12: 0.00464 | AP12: 0.116 | AQ12: 0.00617 | AR12: 0.997 | AS12: 0.00259 | AT12: 0.00267 | AU12: 0.000166 | AV12: 1.91e-05 | AW12: 0.996 | AX12: 0.00262
A13: 0.896 | B13: 0.000906 | C13: 0.878 | D13: 0.523 | E13: 0.902 | F13: 0.911 | G13: 6.54e-06 | H13: 0.00948 | I13: 0.00888 | J13: 0.000555 | K13: 0.105 | L13: 0.0951 | M13: 0.99 | N13: 0.0838 | O13: 0.104 | P13: 0.00867 | Q13: 0.000992 | R13: 0.0032 | S13: 0.0086 | T13: 0.103 | U13: 0.00951 | V13: 0.489 | W13: 0.966 | X13: 0.00597 | Y13: 0.104 | Z13: 0.642 | AA13: 0.903 | AB13: 0.00633 | AC13: 0.357 | AD13: 0.824 | AE13: 0.998 | AF13: 0.904 | AG13: 0.143 | AH13: 0.000974 | AI13: 0.0104 | AJ13: 0.291 | AK13: 0.459 | AL13: 0.0011 | AM13: 0.000117 | AN13: 0.551 | AO13: 0.00724 | AP13: 0.181 | AQ13: 0.00957 | AR13: 0.997 | AS13: 0.00472 | AT13: 0.0024 | AU13: 0.000106 | AV13: 2.56e-05 | AW13: 0.997 | AX13: 0.00238
... A52: 0.844 | B52: 0.000862 | C52: 0.825 | D52: 0.535 | E52: 0.871 | F52: 0.877 | G52: 6.77e-06 | H52: 0.00617 | I52: 0.0105 | J52: 0.000581 | K52: 0.193 | L52: 0.137 | M52: 0.992 | N52: 0.115 | O52: 0.161 | P52: 0.00543 | Q52: 0.000995 | R52: 0.00327 | S52: 0.00534 | T52: 0.157 | U52: 0.0063 | V52: 0.484 | W52: 0.975 | X52: 0.00442 | Y52: 0.158 | Z52: 0.631 | AA52: 0.861 | AB52: 0.00659 | AC52: 0.367 | AD52: 0.719 | AE52: 0.998 | AF52: 0.86 | AG52: 0.184 | AH52: 0.000947 | AI52: 0.00724 | AJ52: 0.275 | AK52: 0.444 | AL52: 0.00115 | AM52: 0.000192 | AN52: 0.516 | AO52: 0.00474 | AP52: 0.189 | AQ52: 0.00632 | AR52: 0.997 | AS52: 0.00257 | AT52: 0.00262 | AU52: 0.00016 | AV52: 1.94e-05 | AW52: 0.996 | AX52: 0.0013
A53: =AVERAGE(A2:A52) -> 0.83152941 | B53: =AVERAGE(B2:B52) -> 0.00086796078 | C53: =AVERAGE(C2:C52) -> 0.81490196 | D53: =AVERAGE(D2:D52) -> 0.53005882 | E53: =AVERAGE(E2:E52) -> 0.84837255 | F53: =AVERAGE(F2:F52) -> 0.86839216 | G53: =AVERAGE(G2:G52) -> 7.2290196e-06 | H53: =AVERAGE(H2:H52) -> 0.030197647 | ... AX53: =AVERAGE(AX2:AX52) -> 0.0027047059

Sheet Categorized Variables
A1: G1 | B1: G2 | C1: G3 | D1: G4 | E1: G5 | F1: G6 | G1: G7 | H1: G8 | I1: G9 | J1: G10 | K1: G11 | L1: G12 | M1: G13 | N1: G14 | O1: G15 | P1: G16 | Q1: G17 | R1: G18 | S1: G19 | T1: G20 | U1: G21 | V1: G22 | W1: G23 | X1: G24 | Y1: G25 | Z1: G26 | AA1: G27 | AB1: G28 | AC1: G29 | AD1: G30 | AE1: G31 | AF1: G32 | AG1: G33 | AH1: G34 | AI1: G35 | AJ1: G36 | AK1: G37 | AL1: G38 | AM1: G39 | AN1: G40 | AO1: G41 | AP1: G42 | AQ1: G43 | AR1: G44 | AS1: G45 | AT1: G46 | AU1: G47 | AV1: G48 | AW1: G49 | AX1: G50
A2: =IF('InSilico1-heterozygous'!A2>'InSilico1-heterozygous'!$A$53,1,0) -> 1 | B2: =IF('InSilico1-heterozygous'!B2>'InSilico1-heterozygous'!$B$53,1,0) -> 0 | C2: =IF('InSilico1-heterozygous'!C2>'InSilico1-heterozygous'!$C$53,1,0) -> 1 | D2: =IF('InSilico1-heterozygous'!D2>'InSilico1-heterozygous'!$D$53,1,0) -> 1 | E2: =IF('InSilico1-heterozygous'!E2>'InSilico1-heterozygous'!$E$53,1,0) -> 1 | F2: =IF('InSilico1-heterozygous'!F2>'InSilico1-heterozygous'!$F$53,1,0) -> 1 | G2: =IF('InSilico1-heterozygous'!G2>'InSilico1-heterozygous'!$G$53,1,0) -> 0 | H2: =IF('InSilico1-heterozygous'!H2>'InSilico1-heterozygous'!$H$53,1,0) -> 0 | I2: =IF('InSilico1-heterozygous'!I2>'InSilico1-heterozygous'!$I$53,1,0) -> 1 | J2: =IF('InSilico1-heterozygous'!J2>'InSilico1-heterozygous'!$J$53,1,0) -> 0 | K2: =IF('InSilico1-heterozygous'!K2>'InSilico1-heterozygous'!$K$53,1,0) -> 0 | L2: =IF('InSilico1-heterozygous'!L2>'InSilico1-heterozygous'!$L$53,1,0) -> 0 | M2: =IF('InSilico1-heterozygous'!M2>'InSilico1-heterozygous'!$M$53,1,0) -> 1 | N2: =IF('InSilico1-heterozygous'!N2>'InSilico1-heterozygous'!$N$53,1,0) -> 1 | O2: =IF('InSilico1-heterozygous'!O2>'InSilico1-heterozygous'!$O$53,1,0) -> 0 | P2: =IF('InSilico1-heterozygous'!P2>'InSilico1-heterozygous'!$P$53,1,0) -> 0 | Q2: =IF('InSilico1-heterozygous'!Q2>'InSilico1-heterozygous'!$Q$53,1,0) -> 1 | R2: =IF('InSilico1-heterozygous'!R2>'InSilico1-heterozygous'!$R$53,1,0) -> 0 | S2: =IF('InSilico1-heterozygous'!S2>'InSilico1-heterozygous'!$S$53,1,0) -> 0 | T2: =IF('InSilico1-heterozygous'!T2>'InSilico1-heterozygous'!$T$53,1,0) -> 0 | U2: =IF('InSilico1-heterozygous'!U2>'InSilico1-heterozygous'!$U$53,1,0) -> 0 | V2: =IF('InSilico1-heterozygous'!V2>'InSilico1-heterozygous'!$V$53,1,0) -> 1 | W2: =IF('InSilico1-heterozygous'!W2>'InSilico1-heterozygous'!$W$53,1,0) -> 1 | X2: =IF('InSilico1-heterozygous'!X2>'InSilico1-heterozygous'!$X$53,1,0) -> 0 | Y2: =IF('InSilico1-heterozygous'!Y2>'InSilico1-heterozygous'!$Y$53,1,0) -> 0 | Z2: =IF('InSilico1-heterozygous'!Z2>'InSilico1-heterozygous'!$Z$53,1,0) -> 1 | AA2: =IF('InSilico1-heterozygous'!AA2>'InSilico1-heterozygous'!$AA$53,1,0) -> 1 | AB2: =IF('InSilico1-heterozygous'!AB2>'InSilico1-heterozygous'!$AB$53,1,0) -> 0 | AC2: =IF('InSilico1-heterozygous'!AC2>'InSilico1-heterozygous'!$AC$53,1,0) -> 1 | AD2: =IF('InSilico1-heterozygous'!AD2>'InSilico1-heterozygous'!$AD$53,1,0) -> 1 | AE2: =IF('InSilico1-heterozygous'!AE2>'InSilico1-heterozygous'!$AE$53,1,0) -> 1 | AF2: =IF('InSilico1-heterozygous'!AF2>'InSilico1-heterozygous'!$AF$53,1,0) -> 1 | AG2: =IF('InSilico1-heterozygous'!AG2>'InSilico1-heterozygous'!$AG$53,1,0) -> 1 | AH2: =IF('InSilico1-heterozygous'!AH2>'InSilico1-heterozygous'!$AH$53,1,0) -> 0 | AI2: =IF('InSilico1-heterozygous'!AI2>'InSilico1-heterozygous'!$AI$53,1,0) -> 0 | AJ2: =IF('InSilico1-heterozygous'!AJ2>'InSilico1-heterozygous'!$AJ$53,1,0) -> 0 | AK2: =IF('InSilico1-heterozygous'!AK2>'InSilico1-heterozygous'!$AK$53,1,0) -> 1 | AL2: =IF('InSilico1-heterozygous'!AL2>'InSilico1-heterozygous'!$AL$53,1,0) -> 0 | AM2: =IF('InSilico1-heterozygous'!AM2>'InSilico1-heterozygous'!$AM$53,1,0) -> 0 | AN2: =IF('InSilico1-heterozygous'!AN2>'InSilico1-heterozygous'!$AN$53,1,0) -> 1 | AO2: =IF('InSilico1-heterozygous'!AO2>'InSilico1-heterozygous'!$AO$53,1,0) -> 0 | AP2: =IF('InSilico1-heterozygous'!AP2>'InSilico1-heterozygous'!$AP$53,1,0) -> 1 | AQ2: =IF('InSilico1-heterozygous'!AQ2>'InSilico1-heterozygous'!$AQ$53,1,0) -> 0 | AR2: =IF('InSilico1-heterozygous'!AR2>'InSilico1-heterozygous'!$AR$53,1,0) -> 1 | AS2: =IF('InSilico1-heterozygous'!AS2>'InSilico1-heterozygous'!$AS$53,1,0) -> 0 | AT2: =IF('InSilico1-heterozygous'!AT2>'InSilico1-heterozygous'!$AT$53,1,0) -> 0 | AU2: =IF('InSilico1-heterozygous'!AU2>'InSilico1-heterozygous'!$AU$53,1,0) -> 0 | AV2: =IF('InSilico1-heterozygous'!AV2>'InSilico1-heterozygous'!$AV$53,1,0) -> 0 | AW2: =IF('InSilico1-heterozygous'!AW2>'InSilico1-heterozygous'!$AW$53,1,0) -> 1 | AX2: =IF('InSilico1-heterozygous'!AX2>'InSilico1-heterozygous'!$AX$53,1,0) -> 0
A3: =IF('InSilico1-heterozygous'!A3>'InSilico1-heterozygous'!$A$53,1,0) -> 0 | B3: =IF('InSilico1-heterozygous'!B3>'InSilico1-heterozygous'!$B$53,1,0) -> 0 | C3: =IF('InSilico1-heterozygous'!C3>'InSilico1-heterozygous'!$C$53,1,0) -> 1 | D3: =IF('InSilico1-heterozygous'!D3>'InSilico1-heterozygous'!$D$53,1,0) -> 1 | E3: =IF('InSilico1-heterozygous'!E3>'InSilico1-heterozygous'!$E$53,1,0) -> 1 | F3: =IF('InSilico1-heterozygous'!F3>'InSilico1-heterozygous'!$F$53,1,0) -> 1 | G3: =IF('InSilico1-heterozygous'!G3>'InSilico1-heterozygous'!$G$53,1,0) -> 0 | H3: =IF('InSilico1-heterozygous'!H3>'InSilico1-heterozygous'!$H$53,1,0) -> 0 | I3: =IF('InSilico1-heterozygous'!I3>'InSilico1-heterozygous'!$I$53,1,0) -> 1 | J3: =IF('InSilico1-heterozygous'!J3>'InSilico1-heterozygous'!$J$53,1,0) -> 0 | K3: =IF('InSilico1-heterozygous'!K3>'InSilico1-heterozygous'!$K$53,1,0) -> 0 | L3: =IF('InSilico1-heterozygous'!L3>'InSilico1-heterozygous'!$L$53,1,0) -> 0 | M3: =IF('InSilico1-heterozygous'!M3>'InSilico1-heterozygous'!$M$53,1,0) -> 1 | N3: =IF('InSilico1-heterozygous'!N3>'InSilico1-heterozygous'!$N$53,1,0) -> 1 | O3: =IF('InSilico1-heterozygous'!O3>'InSilico1-heterozygous'!$O$53,1,0) -> 0 | P3: =IF('InSilico1-heterozygous'!P3>'InSilico1-heterozygous'!$P$53,1,0) -> 0 | Q3: =IF('InSilico1-heterozygous'!Q3>'InSilico1-heterozygous'!$Q$53,1,0) -> 1 | R3: =IF('InSilico1-heterozygous'!R3>'InSilico1-heterozygous'!$R$53,1,0) -> 0 | S3: =IF('InSilico1-heterozygous'!S3>'InSilico1-heterozygous'!$S$53,1,0) -> 0 | T3: =IF('InSilico1-heterozygous'!T3>'InSilico1-heterozygous'!$T$53,1,0) -> 0 | U3: =IF('InSilico1-heterozygous'!U3>'InSilico1-heterozygous'!$U$53,1,0) -> 0 | V3: =IF('InSilico1-heterozygous'!V3>'InSilico1-heterozygous'!$V$53,1,0) -> 1 | W3: =IF('InSilico1-heterozygous'!W3>'InSilico1-heterozygous'!$W$53,1,0) -> 1 | X3: =IF('InSilico1-heterozygous'!X3>'InSilico1-heterozygous'!$X$53,1,0) -> 0 | Y3: =IF('InSilico1-heterozygous'!Y3>'InSilico1-heterozygous'!$Y$53,1,0) -> 0 | Z3: =IF('InSilico1-heterozygous'!Z3>'InSilico1-heterozygous'!$Z$53,1,0) -> 1 | AA3: =IF('InSilico1-heterozygous'!AA3>'InSilico1-heterozygous'!$AA$53,1,0) -> 1 | AB3: =IF('InSilico1-heterozygous'!AB3>'InSilico1-heterozygous'!$AB$53,1,0) -> 0 | AC3: =IF('InSilico1-heterozygous'!AC3>'InSilico1-heterozygous'!$AC$53,1,0) -> 1 | AD3: =IF('InSilico1-heterozygous'!AD3>'InSilico1-heterozygous'!$AD$53,1,0) -> 1 | AE3: =IF('InSilico1-heterozygous'!AE3>'InSilico1-heterozygous'!$AE$53,1,0) -> 1 | AF3: =IF('InSilico1-heterozygous'!AF3>'InSilico1-heterozygous'!$AF$53,1,0) -> 1 | AG3: =IF('InSilico1-heterozygous'!AG3>'InSilico1-heterozygous'!$AG$53,1,0) -> 1 | AH3: =IF('InSilico1-heterozygous'!AH3>'InSilico1-heterozygous'!$AH$53,1,0) -> 0 | AI3: =IF('InSilico1-heterozygous'!AI3>'InSilico1-heterozygous'!$AI$53,1,0) -> 0 | AJ3: =IF('InSilico1-heterozygous'!AJ3>'InSilico1-heterozygous'!$AJ$53,1,0) -> 0 | AK3: =IF('InSilico1-heterozygous'!AK3>'InSilico1-heterozygous'!$AK$53,1,0) -> 1 | AL3: =IF('InSilico1-heterozygous'!AL3>'InSilico1-heterozygous'!$AL$53,1,0) -> 0 | AM3: =IF('InSilico1-heterozygous'!AM3>'InSilico1-heterozygous'!$AM$53,1,0) -> 0 | AN3: =IF('InSilico1-heterozygous'!AN3>'InSilico1-heterozygous'!$AN$53,1,0) -> 1 | AO3: =IF('InSilico1-heterozygous'!AO3>'InSilico1-heterozygous'!$AO$53,1,0) -> 0 | AP3: =IF('InSilico1-heterozygous'!AP3>'InSilico1-heterozygous'!$AP$53,1,0) -> 1 | AQ3: =IF('InSilico1-heterozygous'!AQ3>'InSilico1-heterozygous'!$AQ$53,1,0) -> 0 | AR3: =IF('InSilico1-heterozygous'!AR3>'InSilico1-heterozygous'!$AR$53,1,0) -> 1 | AS3: =IF('InSilico1-heterozygous'!AS3>'InSilico1-heterozygous'!$AS$53,1,0) -> 0 | AT3: =IF('InSilico1-heterozygous'!AT3>'InSilico1-heterozygous'!$AT$53,1,0) -> 0 | AU3: =IF('InSilico1-heterozygous'!AU3>'InSilico1-heterozygous'!$AU$53,1,0) -> 0 | AV3: =IF('InSilico1-heterozygous'!AV3>'InSilico1-heterozygous'!$AV$53,1,0) -> 0 | AW3: =IF('InSilico1-heterozygous'!AW3>'InSilico1-heterozygous'!$AW$53,1,0) -> 1 | AX3: =IF('InSilico1-heterozygous'!AX3>'InSilico1-heterozygous'!$AX$53,1,0) -> 0
A4: =IF('InSilico1-heterozygous'!A4>'InSilico1-heterozygous'!$A$53,1,0) -> 1 | B4: =IF('InSilico1-heterozygous'!B4>'InSilico1-heterozygous'!$B$53,1,0) -> 0 | C4: =IF('InSilico1-heterozygous'!C4>'InSilico1-heterozygous'!$C$53,1,0) -> 1 | D4: =IF('InSilico1-heterozygous'!D4>'InSilico1-heterozygous'!$D$53,1,0) -> 1 | E4: =IF('InSilico1-heterozygous'!E4>'InSilico1-heterozygous'!$E$53,1,0) -> 1 | F4: =IF('InSilico1-heterozygous'!F4>'InSilico1-heterozygous'!$F$53,1,0) -> 1 | G4: =IF('InSilico1-heterozygous'!G4>'InSilico1-heterozygous'!$G$53,1,0) -> 0 | H4: =IF('InSilico1-heterozygous'!H4>'InSilico1-heterozygous'!$H$53,1,0) -> 0 | I4: =IF('InSilico1-heterozygous'!I4>'InSilico1-heterozygous'!$I$53,1,0) -> 1 | J4: =IF('InSilico1-heterozygous'!J4>'InSilico1-heterozygous'!$J$53,1,0) -> 0 | K4: =IF('InSilico1-heterozygous'!K4>'InSilico1-heterozygous'!$K$53,1,0) -> 0 | L4: =IF('InSilico1-heterozygous'!L4>'InSilico1-heterozygous'!$L$53,1,0) -> 0 | M4: =IF('InSilico1-heterozygous'!M4>'InSilico1-heterozygous'!$M$53,1,0) -> 1 | N4: =IF('InSilico1-heterozygous'!N4>'InSilico1-heterozygous'!$N$53,1,0) -> 1 | O4: =IF('InSilico1-heterozygous'!O4>'InSilico1-heterozygous'!$O$53,1,0) -> 0 | P4: =IF('InSilico1-heterozygous'!P4>'InSilico1-heterozygous'!$P$53,1,0) -> 0 | Q4: =IF('InSilico1-heterozygous'!Q4>'InSilico1-heterozygous'!$Q$53,1,0) -> 1 | R4: =IF('InSilico1-heterozygous'!R4>'InSilico1-heterozygous'!$R$53,1,0) -> 0 | S4: =IF('InSilico1-heterozygous'!S4>'InSilico1-heterozygous'!$S$53,1,0) -> 0 | T4: =IF('InSilico1-heterozygous'!T4>'InSilico1-heterozygous'!$T$53,1,0) -> 0 | U4: =IF('InSilico1-heterozygous'!U4>'InSilico1-heterozygous'!$U$53,1,0) -> 0 | V4: =IF('InSilico1-heterozygous'!V4>'InSilico1-heterozygous'!$V$53,1,0) -> 1 | W4: =IF('InSilico1-heterozygous'!W4>'InSilico1-heterozygous'!$W$53,1,0) -> 1 | X4: =IF('InSilico1-heterozygous'!X4>'InSilico1-heterozygous'!$X$53,1,0) -> 0 | Y4: =IF('InSilico1-heterozygous'!Y4>'InSilico1-heterozygous'!$Y$53,1,0) -> 0 | Z4: =IF('InSilico1-heterozygous'!Z4>'InSilico1-heterozygous'!$Z$53,1,0) -> 1 | AA4: =IF('InSilico1-heterozygous'!AA4>'InSilico1-heterozygous'!$AA$53,1,0) -> 1 | AB4: =IF('InSilico1-heterozygous'!AB4>'InSilico1-heterozygous'!$AB$53,1,0) -> 0 | AC4: =IF('InSilico1-heterozygous'!AC4>'InSilico1-heterozygous'!$AC$53,1,0) -> 1 | AD4: =IF('InSilico1-heterozygous'!AD4>'InSilico1-heterozygous'!$AD$53,1,0) -> 1 | AE4: =IF('InSilico1-heterozygous'!AE4>'InSilico1-heterozygous'!$AE$53,1,0) -> 1 | AF4: =IF('InSilico1-heterozygous'!AF4>'InSilico1-heterozygous'!$AF$53,1,0) -> 1 | AG4: =IF('InSilico1-heterozygous'!AG4>'InSilico1-heterozygous'!$AG$53,1,0) -> 1 | AH4: =IF('InSilico1-heterozygous'!AH4>'InSilico1-heterozygous'!$AH$53,1,0) -> 0 | AI4: =IF('InSilico1-heterozygous'!AI4>'InSilico1-heterozygous'!$AI$53,1,0) -> 0 | AJ4: =IF('InSilico1-heterozygous'!AJ4>'InSilico1-heterozygous'!$AJ$53,1,0) -> 0 | AK4: =IF('InSilico1-heterozygous'!AK4>'InSilico1-heterozygous'!$AK$53,1,0) -> 1 | AL4: =IF('InSilico1-heterozygous'!AL4>'InSilico1-heterozygous'!$AL$53,1,0) -> 0 | AM4: =IF('InSilico1-heterozygous'!AM4>'InSilico1-heterozygous'!$AM$53,1,0) -> 0 | AN4: =IF('InSilico1-heterozygous'!AN4>'InSilico1-heterozygous'!$AN$53,1,0) -> 1 | AO4: =IF('InSilico1-heterozygous'!AO4>'InSilico1-heterozygous'!$AO$53,1,0) -> 0 | AP4: =IF('InSilico1-heterozygous'!AP4>'InSilico1-heterozygous'!$AP$53,1,0) -> 1 | AQ4: =IF('InSilico1-heterozygous'!AQ4>'InSilico1-heterozygous'!$AQ$53,1,0) -> 0 | AR4: =IF('InSilico1-heterozygous'!AR4>'InSilico1-heterozygous'!$AR$53,1,0) -> 1 | AS4: =IF('InSilico1-heterozygous'!AS4>'InSilico1-heterozygous'!$AS$53,1,0) -> 0 | AT4: =IF('InSilico1-heterozygous'!AT4>'InSilico1-heterozygous'!$AT$53,1,0) -> 0 | AU4: =IF('InSilico1-heterozygous'!AU4>'InSilico1-heterozygous'!$AU$53,1,0) -> 0 | AV4: =IF('InSilico1-heterozygous'!AV4>'InSilico1-heterozygous'!$AV$53,1,0) -> 0 | AW4: =IF('InSilico1-heterozygous'!AW4>'InSilico1-heterozygous'!$AW$53,1,0) -> 1 | AX4: =IF('InSilico1-heterozygous'!AX4>'InSilico1-heterozygous'!$AX$53,1,0) -> 0
A5: =IF('InSilico1-heterozygous'!A5>'InSilico1-heterozygous'!$A$53,1,0) -> 1 | B5: =IF('InSilico1-heterozygous'!B5>'InSilico1-heterozygous'!$B$53,1,0) -> 0 | C5: =IF('InSilico1-heterozygous'!C5>'InSilico1-heterozygous'!$C$53,1,0) -> 0 | D5: =IF('InSilico1-heterozygous'!D5>'InSilico1-heterozygous'!$D$53,1,0) -> 1 | E5: =IF('InSilico1-heterozygous'!E5>'InSilico1-heterozygous'!$E$53,1,0) -> 1 | F5: =IF('InSilico1-heterozygous'!F5>'InSilico1-heterozygous'!$F$53,1,0) -> 1 | G5: =IF('InSilico1-heterozygous'!G5>'InSilico1-heterozygous'!$G$53,1,0) -> 0 | H5: =IF('InSilico1-heterozygous'!H5>'InSilico1-heterozygous'!$H$53,1,0) -> 0 | I5: =IF('InSilico1-heterozygous'!I5>'InSilico1-heterozygous'!$I$53,1,0) -> 1 | J5: =IF('InSilico1-heterozygous'!J5>'InSilico1-heterozygous'!$J$53,1,0) -> 0 | K5: =IF('InSilico1-heterozygous'!K5>'InSilico1-heterozygous'!$K$53,1,0) -> 0 | L5: =IF('InSilico1-heterozygous'!L5>'InSilico1-heterozygous'!$L$53,1,0) -> 0 | M5: =IF('InSilico1-heterozygous'!M5>'InSilico1-heterozygous'!$M$53,1,0) -> 1 | N5: =IF('InSilico1-heterozygous'!N5>'InSilico1-heterozygous'!$N$53,1,0) -> 1 | O5: =IF('InSilico1-heterozygous'!O5>'InSilico1-heterozygous'!$O$53,1,0) -> 0 | P5: =IF('InSilico1-heterozygous'!P5>'InSilico1-heterozygous'!$P$53,1,0) -> 0 | Q5: =IF('InSilico1-heterozygous'!Q5>'InSilico1-heterozygous'!$Q$53,1,0) -> 1 | R5: =IF('InSilico1-heterozygous'!R5>'InSilico1-heterozygous'!$R$53,1,0) -> 0 | S5: =IF('InSilico1-heterozygous'!S5>'InSilico1-heterozygous'!$S$53,1,0) -> 0 | T5: =IF('InSilico1-heterozygous'!T5>'InSilico1-heterozygous'!$T$53,1,0) -> 0 | U5: =IF('InSilico1-heterozygous'!U5>'InSilico1-heterozygous'!$U$53,1,0) -> 0 | V5: =IF('InSilico1-heterozygous'!V5>'InSilico1-heterozygous'!$V$53,1,0) -> 1 | W5: =IF('InSilico1-heterozygous'!W5>'InSilico1-heterozygous'!$W$53,1,0) -> 1 | X5: =IF('InSilico1-heterozygous'!X5>'InSilico1-heterozygous'!$X$53,1,0) -> 0 | Y5: =IF('InSilico1-heterozygous'!Y5>'InSilico1-heterozygous'!$Y$53,1,0) -> 0 | Z5: =IF('InSilico1-heterozygous'!Z5>'InSilico1-heterozygous'!$Z$53,1,0) -> 1 | AA5: =IF('InSilico1-heterozygous'!AA5>'InSilico1-heterozygous'!$AA$53,1,0) -> 1 | AB5: =IF('InSilico1-heterozygous'!AB5>'InSilico1-heterozygous'!$AB$53,1,0) -> 0 | AC5: =IF('InSilico1-heterozygous'!AC5>'InSilico1-heterozygous'!$AC$53,1,0) -> 1 | AD5: =IF('InSilico1-heterozygous'!AD5>'InSilico1-heterozygous'!$AD$53,1,0) -> 1 | AE5: =IF('InSilico1-heterozygous'!AE5>'InSilico1-heterozygous'!$AE$53,1,0) -> 1 | AF5: =IF('InSilico1-heterozygous'!AF5>'InSilico1-heterozygous'!$AF$53,1,0) -> 1 | AG5: =IF('InSilico1-heterozygous'!AG5>'InSilico1-heterozygous'!$AG$53,1,0) -> 1 | AH5: =IF('InSilico1-heterozygous'!AH5>'InSilico1-heterozygous'!$AH$53,1,0) -> 0 | AI5: =IF('InSilico1-heterozygous'!AI5>'InSilico1-heterozygous'!$AI$53,1,0) -> 0 | AJ5: =IF('InSilico1-heterozygous'!AJ5>'InSilico1-heterozygous'!$AJ$53,1,0) -> 0 | AK5: =IF('InSilico1-heterozygous'!AK5>'InSilico1-heterozygous'!$AK$53,1,0) -> 1 | AL5: =IF('InSilico1-heterozygous'!AL5>'InSilico1-heterozygous'!$AL$53,1,0) -> 0 | AM5: =IF('InSilico1-heterozygous'!AM5>'InSilico1-heterozygous'!$AM$53,1,0) -> 0 | AN5: =IF('InSilico1-heterozygous'!AN5>'InSilico1-heterozygous'!$AN$53,1,0) -> 1 | AO5: =IF('InSilico1-heterozygous'!AO5>'InSilico1-heterozygous'!$AO$53,1,0) -> 0 | AP5: =IF('InSilico1-heterozygous'!AP5>'InSilico1-heterozygous'!$AP$53,1,0) -> 1 | AQ5: =IF('InSilico1-heterozygous'!AQ5>'InSilico1-heterozygous'!$AQ$53,1,0) -> 0 | AR5: =IF('InSilico1-heterozygous'!AR5>'InSilico1-heterozygous'!$AR$53,1,0) -> 1 | AS5: =IF('InSilico1-heterozygous'!AS5>'InSilico1-heterozygous'!$AS$53,1,0) -> 0 | AT5: =IF('InSilico1-heterozygous'!AT5>'InSilico1-heterozygous'!$AT$53,1,0) -> 0 | AU5: =IF('InSilico1-heterozygous'!AU5>'InSilico1-heterozygous'!$AU$53,1,0) -> 0 | AV5: =IF('InSilico1-heterozygous'!AV5>'InSilico1-heterozygous'!$AV$53,1,0) -> 0 | AW5: =IF('InSilico1-heterozygous'!AW5>'InSilico1-heterozygous'!$AW$53,1,0) -> 1 | AX5: =IF('InSilico1-heterozygous'!AX5>'InSilico1-heterozygous'!$AX$53,1,0) -> 0
A6: =IF('InSilico1-heterozygous'!A6>'InSilico1-heterozygous'!$A$53,1,0) -> 1 | B6: =IF('InSilico1-heterozygous'!B6>'InSilico1-heterozygous'!$B$53,1,0) -> 1 | C6: =IF('InSilico1-heterozygous'!C6>'InSilico1-heterozygous'!$C$53,1,0) -> 1 | D6: =IF('InSilico1-heterozygous'!D6>'InSilico1-heterozygous'!$D$53,1,0) -> 0 | E6: =IF('InSilico1-heterozygous'!E6>'InSilico1-heterozygous'!$E$53,1,0) -> 1 | F6: =IF('InSilico1-heterozygous'!F6>'InSilico1-heterozygous'!$F$53,1,0) -> 1 | G6: =IF('InSilico1-heterozygous'!G6>'InSilico1-heterozygous'!$G$53,1,0) -> 1 | H6: =IF('InSilico1-heterozygous'!H6>'InSilico1-heterozygous'!$H$53,1,0) -> 0 | I6: =IF('InSilico1-heterozygous'!I6>'InSilico1-heterozygous'!$I$53,1,0) -> 0 | J6: =IF('InSilico1-heterozygous'!J6>'InSilico1-heterozygous'!$J$53,1,0) -> 0 | K6: =IF('InSilico1-heterozygous'!K6>'InSilico1-heterozygous'!$K$53,1,0) -> 0 | L6: =IF('InSilico1-heterozygous'!L6>'InSilico1-heterozygous'!$L$53,1,0) -> 0 | M6: =IF('InSilico1-heterozygous'!M6>'InSilico1-heterozygous'!$M$53,1,0) -> 1 | N6: =IF('InSilico1-heterozygous'!N6>'InSilico1-heterozygous'!$N$53,1,0) -> 0 | O6: =IF('InSilico1-heterozygous'!O6>'InSilico1-heterozygous'!$O$53,1,0) -> 0 | P6: =IF('InSilico1-heterozygous'!P6>'InSilico1-heterozygous'!$P$53,1,0) -> 0 | Q6: =IF('InSilico1-heterozygous'!Q6>'InSilico1-heterozygous'!$Q$53,1,0) -> 0 | R6: =IF('InSilico1-heterozygous'!R6>'InSilico1-heterozygous'!$R$53,1,0) -> 1 | S6: =IF('InSilico1-heterozygous'!S6>'InSilico1-heterozygous'!$S$53,1,0) -> 0 | T6: =IF('InSilico1-heterozygous'!T6>'InSilico1-heterozygous'!$T$53,1,0) -> 0 | U6: =IF('InSilico1-heterozygous'!U6>'InSilico1-heterozygous'!$U$53,1,0) -> 0 | V6: =IF('InSilico1-heterozygous'!V6>'InSilico1-heterozygous'!$V$53,1,0) -> 1 | W6: =IF('InSilico1-heterozygous'!W6>'InSilico1-heterozygous'!$W$53,1,0) -> 1 | X6: =IF('InSilico1-heterozygous'!X6>'InSilico1-heterozygous'!$X$53,1,0) -> 0 | Y6: =IF('InSilico1-heterozygous'!Y6>'InSilico1-heterozygous'!$Y$53,1,0) -> 0 | Z6: =IF('InSilico1-heterozygous'!Z6>'InSilico1-heterozygous'!$Z$53,1,0) -> 1 | AA6: =IF('InSilico1-heterozygous'!AA6>'InSilico1-heterozygous'!$AA$53,1,0) -> 1 | AB6: =IF('InSilico1-heterozygous'!AB6>'InSilico1-heterozygous'!$AB$53,1,0) -> 1 | AC6: =IF('InSilico1-heterozygous'!AC6>'InSilico1-heterozygous'!$AC$53,1,0) -> 0 | AD6: =IF('InSilico1-heterozygous'!AD6>'InSilico1-heterozygous'!$AD$53,1,0) -> 1 | AE6: =IF('InSilico1-heterozygous'!AE6>'InSilico1-heterozygous'!$AE$53,1,0) -> 1 | AF6: =IF('InSilico1-heterozygous'!AF6>'InSilico1-heterozygous'!$AF$53,1,0) -> 1 | AG6: =IF('InSilico1-heterozygous'!AG6>'InSilico1-heterozygous'!$AG$53,1,0) -> 0 | AH6: =IF('InSilico1-heterozygous'!AH6>'InSilico1-heterozygous'!$AH$53,1,0) -> 1 | AI6: =IF('InSilico1-heterozygous'!AI6>'InSilico1-heterozygous'!$AI$53,1,0) -> 0 | AJ6: =IF('InSilico1-heterozygous'!AJ6>'InSilico1-heterozygous'!$AJ$53,1,0) -> 1 | AK6: =IF('InSilico1-heterozygous'!AK6>'InSilico1-heterozygous'!$AK$53,1,0) -> 1 | AL6: =IF('InSilico1-heterozygous'!AL6>'InSilico1-heterozygous'!$AL$53,1,0) -> 0 | AM6: =IF('InSilico1-heterozygous'!AM6>'InSilico1-heterozygous'!$AM$53,1,0) -> 0 | AN6: =IF('InSilico1-heterozygous'!AN6>'InSilico1-heterozygous'!$AN$53,1,0) -> 1 | AO6: =IF('InSilico1-heterozygous'!AO6>'InSilico1-heterozygous'!$AO$53,1,0) -> 0 | AP6: =IF('InSilico1-heterozygous'!AP6>'InSilico1-heterozygous'!$AP$53,1,0) -> 0 | AQ6: =IF('InSilico1-heterozygous'!AQ6>'InSilico1-heterozygous'!$AQ$53,1,0) -> 0 | AR6: =IF('InSilico1-heterozygous'!AR6>'InSilico1-heterozygous'!$AR$53,1,0) -> 1 | AS6: =IF('InSilico1-heterozygous'!AS6>'InSilico1-heterozygous'!$AS$53,1,0) -> 1 | AT6: =IF('InSilico1-heterozygous'!AT6>'InSilico1-heterozygous'!$AT$53,1,0) -> 0 | AU6: =IF('InSilico1-heterozygous'!AU6>'InSilico1-heterozygous'!$AU$53,1,0) -> 0 | AV6: =IF('InSilico1-heterozygous'!AV6>'InSilico1-heterozygous'!$AV$53,1,0) -> 0 | AW6: =IF('InSilico1-heterozygous'!AW6>'InSilico1-heterozygous'!$AW$53,1,0) -> 1 | AX6: =IF('InSilico1-heterozygous'!AX6>'InSilico1-heterozygous'!$AX$53,1,0) -> 0
A7: =IF('InSilico1-heterozygous'!A7>'InSilico1-heterozygous'!$A$53,1,0) -> 1 | B7: =IF('InSilico1-heterozygous'!B7>'InSilico1-heterozygous'!$B$53,1,0) -> 1 | C7: =IF('InSilico1-heterozygous'!C7>'InSilico1-heterozygous'!$C$53,1,0) -> 1 | D7: =IF('InSilico1-heterozygous'!D7>'InSilico1-heterozygous'!$D$53,1,0) -> 0 | E7: =IF('InSilico1-heterozygous'!E7>'InSilico1-heterozygous'!$E$53,1,0) -> 0 | F7: =IF('InSilico1-heterozygous'!F7>'InSilico1-heterozygous'!$F$53,1,0) -> 1 | G7: =IF('InSilico1-heterozygous'!G7>'InSilico1-heterozygous'!$G$53,1,0) -> 1 | H7: =IF('InSilico1-heterozygous'!H7>'InSilico1-heterozygous'!$H$53,1,0) -> 0 | I7: =IF('InSilico1-heterozygous'!I7>'InSilico1-heterozygous'!$I$53,1,0) -> 0 | J7: =IF('InSilico1-heterozygous'!J7>'InSilico1-heterozygous'!$J$53,1,0) -> 0 | K7: =IF('InSilico1-heterozygous'!K7>'InSilico1-heterozygous'!$K$53,1,0) -> 0 | L7: =IF('InSilico1-heterozygous'!L7>'InSilico1-heterozygous'!$L$53,1,0) -> 0 | M7: =IF('InSilico1-heterozygous'!M7>'InSilico1-heterozygous'!$M$53,1,0) -> 1 | N7: =IF('InSilico1-heterozygous'!N7>'InSilico1-heterozygous'!$N$53,1,0) -> 0 | O7: =IF('InSilico1-heterozygous'!O7>'InSilico1-heterozygous'!$O$53,1,0) -> 0 | P7: =IF('InSilico1-heterozygous'!P7>'InSilico1-heterozygous'!$P$53,1,0) -> 0 | Q7: =IF('InSilico1-heterozygous'!Q7>'InSilico1-heterozygous'!$Q$53,1,0) -> 0 | R7: =IF('InSilico1-heterozygous'!R7>'InSilico1-heterozygous'!$R$53,1,0) -> 1 | S7: =IF('InSilico1-heterozygous'!S7>'InSilico1-heterozygous'!$S$53,1,0) -> 0 | T7: =IF('InSilico1-heterozygous'!T7>'InSilico1-heterozygous'!$T$53,1,0) -> 0 | U7: =IF('InSilico1-heterozygous'!U7>'InSilico1-heterozygous'!$U$53,1,0) -> 0 | V7: =IF('InSilico1-heterozygous'!V7>'InSilico1-heterozygous'!$V$53,1,0) -> 1 | W7: =IF('InSilico1-heterozygous'!W7>'InSilico1-heterozygous'!$W$53,1,0) -> 1 | X7: =IF('InSilico1-heterozygous'!X7>'InSilico1-heterozygous'!$X$53,1,0) -> 0 | Y7: =IF('InSilico1-heterozygous'!Y7>'InSilico1-heterozygous'!$Y$53,1,0) -> 0 | Z7: =IF('InSilico1-heterozygous'!Z7>'InSilico1-heterozygous'!$Z$53,1,0) -> 1 | AA7: =IF('InSilico1-heterozygous'!AA7>'InSilico1-heterozygous'!$AA$53,1,0) -> 1 | AB7: =IF('InSilico1-heterozygous'!AB7>'InSilico1-heterozygous'!$AB$53,1,0) -> 1 | AC7: =IF('InSilico1-heterozygous'!AC7>'InSilico1-heterozygous'!$AC$53,1,0) -> 0 | AD7: =IF('InSilico1-heterozygous'!AD7>'InSilico1-heterozygous'!$AD$53,1,0) -> 1 | AE7: =IF('InSilico1-heterozygous'!AE7>'InSilico1-heterozygous'!$AE$53,1,0) -> 1 | AF7: =IF('InSilico1-heterozygous'!AF7>'InSilico1-heterozygous'!$AF$53,1,0) -> 1 | AG7: =IF('InSilico1-heterozygous'!AG7>'InSilico1-heterozygous'!$AG$53,1,0) -> 1 | AH7: =IF('InSilico1-heterozygous'!AH7>'InSilico1-heterozygous'!$AH$53,1,0) -> 1 | AI7: =IF('InSilico1-heterozygous'!AI7>'InSilico1-heterozygous'!$AI$53,1,0) -> 0 | AJ7: =IF('InSilico1-heterozygous'!AJ7>'InSilico1-heterozygous'!$AJ$53,1,0) -> 0 | AK7: =IF('InSilico1-heterozygous'!AK7>'InSilico1-heterozygous'!$AK$53,1,0) -> 0 | AL7: =IF('InSilico1-heterozygous'!AL7>'InSilico1-heterozygous'!$AL$53,1,0) -> 0 | AM7: =IF('InSilico1-heterozygous'!AM7>'InSilico1-heterozygous'!$AM$53,1,0) -> 0 | AN7: =IF('InSilico1-heterozygous'!AN7>'InSilico1-heterozygous'!$AN$53,1,0) -> 0 | AO7: =IF('InSilico1-heterozygous'!AO7>'InSilico1-heterozygous'!$AO$53,1,0) -> 0 | AP7: =IF('InSilico1-heterozygous'!AP7>'InSilico1-heterozygous'!$AP$53,1,0) -> 0 | AQ7: =IF('InSilico1-heterozygous'!AQ7>'InSilico1-heterozygous'!$AQ$53,1,0) -> 0 | AR7: =IF('InSilico1-heterozygous'!AR7>'InSilico1-heterozygous'!$AR$53,1,0) -> 1 | AS7: =IF('InSilico1-heterozygous'!AS7>'InSilico1-heterozygous'!$AS$53,1,0) -> 1 | AT7: =IF('InSilico1-heterozygous'!AT7>'InSilico1-heterozygous'!$AT$53,1,0) -> 1 | AU7: =IF('InSilico1-heterozygous'!AU7>'InSilico1-heterozygous'!$AU$53,1,0) -> 0 | AV7: =IF('InSilico1-heterozygous'!AV7>'InSilico1-heterozygous'!$AV$53,1,0) -> 0 | AW7: =IF('InSilico1-heterozygous'!AW7>'InSilico1-heterozygous'!$AW$53,1,0) -> 1 | AX7: =IF('InSilico1-heterozygous'!AX7>'InSilico1-heterozygous'!$AX$53,1,0) -> 1
A8: =IF('InSilico1-heterozygous'!A8>'InSilico1-heterozygous'!$A$53,1,0) -> 1 | B8: =IF('InSilico1-heterozygous'!B8>'InSilico1-heterozygous'!$B$53,1,0) -> 0 | C8: =IF('InSilico1-heterozygous'!C8>'InSilico1-heterozygous'!$C$53,1,0) -> 1 | D8: =IF('InSilico1-heterozygous'!D8>'InSilico1-heterozygous'!$D$53,1,0) -> 1 | E8: =IF('InSilico1-heterozygous'!E8>'InSilico1-heterozygous'!$E$53,1,0) -> 1 | F8: =IF('InSilico1-heterozygous'!F8>'InSilico1-heterozygous'!$F$53,1,0) -> 0 | G8: =IF('InSilico1-heterozygous'!G8>'InSilico1-heterozygous'!$G$53,1,0) -> 0 | H8: =IF('InSilico1-heterozygous'!H8>'InSilico1-heterozygous'!$H$53,1,0) -> 0 | I8: =IF('InSilico1-heterozygous'!I8>'InSilico1-heterozygous'!$I$53,1,0) -> 1 | J8: =IF('InSilico1-heterozygous'!J8>'InSilico1-heterozygous'!$J$53,1,0) -> 0 | K8: =IF('InSilico1-heterozygous'!K8>'InSilico1-heterozygous'!$K$53,1,0) -> 0 | L8: =IF('InSilico1-heterozygous'!L8>'InSilico1-heterozygous'!$L$53,1,0) -> 0 | M8: =IF('InSilico1-heterozygous'!M8>'InSilico1-heterozygous'!$M$53,1,0) -> 1 | N8: =IF('InSilico1-heterozygous'!N8>'InSilico1-heterozygous'!$N$53,1,0) -> 1 | O8: =IF('InSilico1-heterozygous'!O8>'InSilico1-heterozygous'!$O$53,1,0) -> 0 | P8: =IF('InSilico1-heterozygous'!P8>'InSilico1-heterozygous'!$P$53,1,0) -> 0 | Q8: =IF('InSilico1-heterozygous'!Q8>'InSilico1-heterozygous'!$Q$53,1,0) -> 1 | R8: =IF('InSilico1-heterozygous'!R8>'InSilico1-heterozygous'!$R$53,1,0) -> 0 | S8: =IF('InSilico1-heterozygous'!S8>'InSilico1-heterozygous'!$S$53,1,0) -> 0 | T8: =IF('InSilico1-heterozygous'!T8>'InSilico1-heterozygous'!$T$53,1,0) -> 0 | U8: =IF('InSilico1-heterozygous'!U8>'InSilico1-heterozygous'!$U$53,1,0) -> 0 | V8: =IF('InSilico1-heterozygous'!V8>'InSilico1-heterozygous'!$V$53,1,0) -> 1 | W8: =IF('InSilico1-heterozygous'!W8>'InSilico1-heterozygous'!$W$53,1,0) -> 1 | X8: =IF('InSilico1-heterozygous'!X8>'InSilico1-heterozygous'!$X$53,1,0) -> 0 | Y8: =IF('InSilico1-heterozygous'!Y8>'InSilico1-heterozygous'!$Y$53,1,0) -> 0 | Z8: =IF('InSilico1-heterozygous'!Z8>'InSilico1-heterozygous'!$Z$53,1,0) -> 1 | AA8: =IF('InSilico1-heterozygous'!AA8>'InSilico1-heterozygous'!$AA$53,1,0) -> 1 | AB8: =IF('InSilico1-heterozygous'!AB8>'InSilico1-heterozygous'!$AB$53,1,0) -> 0 | AC8: =IF('InSilico1-heterozygous'!AC8>'InSilico1-heterozygous'!$AC$53,1,0) -> 1 | AD8: =IF('InSilico1-heterozygous'!AD8>'InSilico1-heterozygous'!$AD$53,1,0) -> 1 | AE8: =IF('InSilico1-heterozygous'!AE8>'InSilico1-heterozygous'!$AE$53,1,0) -> 1 | AF8: =IF('InSilico1-heterozygous'!AF8>'InSilico1-heterozygous'!$AF$53,1,0) -> 1 | AG8: =IF('InSilico1-heterozygous'!AG8>'InSilico1-heterozygous'!$AG$53,1,0) -> 1 | AH8: =IF('InSilico1-heterozygous'!AH8>'InSilico1-heterozygous'!$AH$53,1,0) -> 0 | AI8: =IF('InSilico1-heterozygous'!AI8>'InSilico1-heterozygous'!$AI$53,1,0) -> 0 | AJ8: =IF('InSilico1-heterozygous'!AJ8>'InSilico1-heterozygous'!$AJ$53,1,0) -> 0 | AK8: =IF('InSilico1-heterozygous'!AK8>'InSilico1-heterozygous'!$AK$53,1,0) -> 1 | AL8: =IF('InSilico1-heterozygous'!AL8>'InSilico1-heterozygous'!$AL$53,1,0) -> 0 | AM8: =IF('InSilico1-heterozygous'!AM8>'InSilico1-heterozygous'!$AM$53,1,0) -> 0 | AN8: =IF('InSilico1-heterozygous'!AN8>'InSilico1-heterozygous'!$AN$53,1,0) -> 1 | AO8: =IF('InSilico1-heterozygous'!AO8>'InSilico1-heterozygous'!$AO$53,1,0) -> 0 | AP8: =IF('InSilico1-heterozygous'!AP8>'InSilico1-heterozygous'!$AP$53,1,0) -> 1 | AQ8: =IF('InSilico1-heterozygous'!AQ8>'InSilico1-heterozygous'!$AQ$53,1,0) -> 0 | AR8: =IF('InSilico1-heterozygous'!AR8>'InSilico1-heterozygous'!$AR$53,1,0) -> 1 | AS8: =IF('InSilico1-heterozygous'!AS8>'InSilico1-heterozygous'!$AS$53,1,0) -> 0 | AT8: =IF('InSilico1-heterozygous'!AT8>'InSilico1-heterozygous'!$AT$53,1,0) -> 0 | AU8: =IF('InSilico1-heterozygous'!AU8>'InSilico1-heterozygous'!$AU$53,1,0) -> 0 | AV8: =IF('InSilico1-heterozygous'!AV8>'InSilico1-heterozygous'!$AV$53,1,0) -> 0 | AW8: =IF('InSilico1-heterozygous'!AW8>'InSilico1-heterozygous'!$AW$53,1,0) -> 1 | AX8: =IF('InSilico1-heterozygous'!AX8>'InSilico1-heterozygous'!$AX$53,1,0) -> 0
A9: =IF('InSilico1-heterozygous'!A9>'InSilico1-heterozygous'!$A$53,1,0) -> 0 | B9: =IF('InSilico1-heterozygous'!B9>'InSilico1-heterozygous'!$B$53,1,0) -> 0 | C9: =IF('InSilico1-heterozygous'!C9>'InSilico1-heterozygous'!$C$53,1,0) -> 0 | D9: =IF('InSilico1-heterozygous'!D9>'InSilico1-heterozygous'!$D$53,1,0) -> 1 | E9: =IF('InSilico1-heterozygous'!E9>'InSilico1-heterozygous'!$E$53,1,0) -> 0 | F9: =IF('InSilico1-heterozygous'!F9>'InSilico1-heterozygous'!$F$53,1,0) -> 0 | G9: =IF('InSilico1-heterozygous'!G9>'InSilico1-heterozygous'!$G$53,1,0) -> 0 | H9: =IF('InSilico1-heterozygous'!H9>'InSilico1-heterozygous'!$H$53,1,0) -> 0 | I9: =IF('InSilico1-heterozygous'!I9>'InSilico1-heterozygous'!$I$53,1,0) -> 1 | J9: =IF('InSilico1-heterozygous'!J9>'InSilico1-heterozygous'!$J$53,1,0) -> 1 | K9: =IF('InSilico1-heterozygous'!K9>'InSilico1-heterozygous'!$K$53,1,0) -> 1 | L9: =IF('InSilico1-heterozygous'!L9>'InSilico1-heterozygous'!$L$53,1,0) -> 1 | M9: =IF('InSilico1-heterozygous'!M9>'InSilico1-heterozygous'!$M$53,1,0) -> 1 | N9: =IF('InSilico1-heterozygous'!N9>'InSilico1-heterozygous'!$N$53,1,0) -> 1 | O9: =IF('InSilico1-heterozygous'!O9>'InSilico1-heterozygous'!$O$53,1,0) -> 1 | P9: =IF('InSilico1-heterozygous'!P9>'InSilico1-heterozygous'!$P$53,1,0) -> 0 | Q9: =IF('InSilico1-heterozygous'!Q9>'InSilico1-heterozygous'!$Q$53,1,0) -> 1 | R9: =IF('InSilico1-heterozygous'!R9>'InSilico1-heterozygous'!$R$53,1,0) -> 0 | S9: =IF('InSilico1-heterozygous'!S9>'InSilico1-heterozygous'!$S$53,1,0) -> 0 | T9: =IF('InSilico1-heterozygous'!T9>'InSilico1-heterozygous'!$T$53,1,0) -> 1 | U9: =IF('InSilico1-heterozygous'!U9>'InSilico1-heterozygous'!$U$53,1,0) -> 0 | V9: =IF('InSilico1-heterozygous'!V9>'InSilico1-heterozygous'!$V$53,1,0) -> 0 | W9: =IF('InSilico1-heterozygous'!W9>'InSilico1-heterozygous'!$W$53,1,0) -> 1 | X9: =IF('InSilico1-heterozygous'!X9>'InSilico1-heterozygous'!$X$53,1,0) -> 0 | Y9: =IF('InSilico1-heterozygous'!Y9>'InSilico1-heterozygous'!$Y$53,1,0) -> 1 | Z9: =IF('InSilico1-heterozygous'!Z9>'InSilico1-heterozygous'!$Z$53,1,0) -> 1 | AA9: =IF('InSilico1-heterozygous'!AA9>'InSilico1-heterozygous'!$AA$53,1,0) -> 0 | AB9: =IF('InSilico1-heterozygous'!AB9>'InSilico1-heterozygous'!$AB$53,1,0) -> 0 | AC9: =IF('InSilico1-heterozygous'!AC9>'InSilico1-heterozygous'!$AC$53,1,0) -> 1 | AD9: =IF('InSilico1-heterozygous'!AD9>'InSilico1-heterozygous'!$AD$53,1,0) -> 0 | AE9: =IF('InSilico1-heterozygous'!AE9>'InSilico1-heterozygous'!$AE$53,1,0) -> 1 | AF9: =IF('InSilico1-heterozygous'!AF9>'InSilico1-heterozygous'!$AF$53,1,0) -> 0 | AG9: =IF('InSilico1-heterozygous'!AG9>'InSilico1-heterozygous'!$AG$53,1,0) -> 1 | AH9: =IF('InSilico1-heterozygous'!AH9>'InSilico1-heterozygous'!$AH$53,1,0) -> 0 | AI9: =IF('InSilico1-heterozygous'!AI9>'InSilico1-heterozygous'!$AI$53,1,0) -> 0 | AJ9: =IF('InSilico1-heterozygous'!AJ9>'InSilico1-heterozygous'!$AJ$53,1,0) -> 0 | AK9: =IF('InSilico1-heterozygous'!AK9>'InSilico1-heterozygous'!$AK$53,1,0) -> 1 | AL9: =IF('InSilico1-heterozygous'!AL9>'InSilico1-heterozygous'!$AL$53,1,0) -> 1 | AM9: =IF('InSilico1-heterozygous'!AM9>'InSilico1-heterozygous'!$AM$53,1,0) -> 1 | AN9: =IF('InSilico1-heterozygous'!AN9>'InSilico1-heterozygous'!$AN$53,1,0) -> 0 | AO9: =IF('InSilico1-heterozygous'!AO9>'InSilico1-heterozygous'!$AO$53,1,0) -> 0 | AP9: =IF('InSilico1-heterozygous'!AP9>'InSilico1-heterozygous'!$AP$53,1,0) -> 1 | AQ9: =IF('InSilico1-heterozygous'!AQ9>'InSilico1-heterozygous'!$AQ$53,1,0) -> 0 | AR9: =IF('InSilico1-heterozygous'!AR9>'InSilico1-heterozygous'!$AR$53,1,0) -> 1 | AS9: =IF('InSilico1-heterozygous'!AS9>'InSilico1-heterozygous'!$AS$53,1,0) -> 0 | AT9: =IF('InSilico1-heterozygous'!AT9>'InSilico1-heterozygous'!$AT$53,1,0) -> 1 | AU9: =IF('InSilico1-heterozygous'!AU9>'InSilico1-heterozygous'!$AU$53,1,0) -> 1 | AV9: =IF('InSilico1-heterozygous'!AV9>'InSilico1-heterozygous'!$AV$53,1,0) -> 0 | AW9: =IF('InSilico1-heterozygous'!AW9>'InSilico1-heterozygous'!$AW$53,1,0) -> 1 | AX9: =IF('InSilico1-heterozygous'!AX9>'InSilico1-heterozygous'!$AX$53,1,0) -> 1
A10: =IF('InSilico1-heterozygous'!A10>'InSilico1-heterozygous'!$A$53,1,0) -> 0 | B10: =IF('InSilico1-heterozygous'!B10>'InSilico1-heterozygous'!$B$53,1,0) -> 0 | C10: =IF('InSilico1-heterozygous'!C10>'InSilico1-heterozygous'!$C$53,1,0) -> 0 | D10: =IF('InSilico1-heterozygous'!D10>'InSilico1-heterozygous'!$D$53,1,0) -> 1 | E10: =IF('InSilico1-heterozygous'!E10>'InSilico1-heterozygous'!$E$53,1,0) -> 1 | F10: =IF('InSilico1-heterozygous'!F10>'InSilico1-heterozygous'!$F$53,1,0) -> 0 | G10: =IF('InSilico1-heterozygous'!G10>'InSilico1-heterozygous'!$G$53,1,0) -> 0 | H10: =IF('InSilico1-heterozygous'!H10>'InSilico1-heterozygous'!$H$53,1,0) -> 0 | I10: =IF('InSilico1-heterozygous'!I10>'InSilico1-heterozygous'!$I$53,1,0) -> 1 | J10: =IF('InSilico1-heterozygous'!J10>'InSilico1-heterozygous'!$J$53,1,0) -> 0 | K10: =IF('InSilico1-heterozygous'!K10>'InSilico1-heterozygous'!$K$53,1,0) -> 1 | L10: =IF('InSilico1-heterozygous'!L10>'InSilico1-heterozygous'!$L$53,1,0) -> 1 | M10: =IF('InSilico1-heterozygous'!M10>'InSilico1-heterozygous'!$M$53,1,0) -> 1 | N10: =IF('InSilico1-heterozygous'!N10>'InSilico1-heterozygous'!$N$53,1,0) -> 1 | O10: =IF('InSilico1-heterozygous'!O10>'InSilico1-heterozygous'!$O$53,1,0) -> 1 | P10: =IF('InSilico1-heterozygous'!P10>'InSilico1-heterozygous'!$P$53,1,0) -> 0 | Q10: =IF('InSilico1-heterozygous'!Q10>'InSilico1-heterozygous'!$Q$53,1,0) -> 1 | R10: =IF('InSilico1-heterozygous'!R10>'InSilico1-heterozygous'!$R$53,1,0) -> 0 | S10: =IF('InSilico1-heterozygous'!S10>'InSilico1-heterozygous'!$S$53,1,0) -> 0 | T10: =IF('InSilico1-heterozygous'!T10>'InSilico1-heterozygous'!$T$53,1,0) -> 1 | U10: =IF('InSilico1-heterozygous'!U10>'InSilico1-heterozygous'!$U$53,1,0) -> 0 | V10: =IF('InSilico1-heterozygous'!V10>'InSilico1-heterozygous'!$V$53,1,0) -> 0 | W10: =IF('InSilico1-heterozygous'!W10>'InSilico1-heterozygous'!$W$53,1,0) -> 1 | X10: =IF('InSilico1-heterozygous'!X10>'InSilico1-heterozygous'!$X$53,1,0) -> 0 | Y10: =IF('InSilico1-heterozygous'!Y10>'InSilico1-heterozygous'!$Y$53,1,0) -> 1 | Z10: =IF('InSilico1-heterozygous'!Z10>'InSilico1-heterozygous'!$Z$53,1,0) -> 1 | AA10: =IF('InSilico1-heterozygous'!AA10>'InSilico1-heterozygous'!$AA$53,1,0) -> 0 | AB10: =IF('InSilico1-heterozygous'!AB10>'InSilico1-heterozygous'!$AB$53,1,0) -> 0 | AC10: =IF('InSilico1-heterozygous'!AC10>'InSilico1-heterozygous'!$AC$53,1,0) -> 1 | AD10: =IF('InSilico1-heterozygous'!AD10>'InSilico1-heterozygous'!$AD$53,1,0) -> 0 | AE10: =IF('InSilico1-heterozygous'!AE10>'InSilico1-heterozygous'!$AE$53,1,0) -> 1 | AF10: =IF('InSilico1-heterozygous'!AF10>'InSilico1-heterozygous'!$AF$53,1,0) -> 0 | AG10: =IF('InSilico1-heterozygous'!AG10>'InSilico1-heterozygous'!$AG$53,1,0) -> 1 | AH10: =IF('InSilico1-heterozygous'!AH10>'InSilico1-heterozygous'!$AH$53,1,0) -> 0 | AI10: =IF('InSilico1-heterozygous'!AI10>'InSilico1-heterozygous'!$AI$53,1,0) -> 0 | AJ10: =IF('InSilico1-heterozygous'!AJ10>'InSilico1-heterozygous'!$AJ$53,1,0) -> 1 | AK10: =IF('InSilico1-heterozygous'!AK10>'InSilico1-heterozygous'!$AK$53,1,0) -> 1 | AL10: =IF('InSilico1-heterozygous'!AL10>'InSilico1-heterozygous'!$AL$53,1,0) -> 1 | AM10: =IF('InSilico1-heterozygous'!AM10>'InSilico1-heterozygous'!$AM$53,1,0) -> 1 | AN10: =IF('InSilico1-heterozygous'!AN10>'InSilico1-heterozygous'!$AN$53,1,0) -> 0 | AO10: =IF('InSilico1-heterozygous'!AO10>'InSilico1-heterozygous'!$AO$53,1,0) -> 0 | AP10: =IF('InSilico1-heterozygous'!AP10>'InSilico1-heterozygous'!$AP$53,1,0) -> 1 | AQ10: =IF('InSilico1-heterozygous'!AQ10>'InSilico1-heterozygous'!$AQ$53,1,0) -> 0 | AR10: =IF('InSilico1-heterozygous'!AR10>'InSilico1-heterozygous'!$AR$53,1,0) -> 1 | AS10: =IF('InSilico1-heterozygous'!AS10>'InSilico1-heterozygous'!$AS$53,1,0) -> 0 | AT10: =IF('InSilico1-heterozygous'!AT10>'InSilico1-heterozygous'!$AT$53,1,0) -> 0 | AU10: =IF('InSilico1-heterozygous'!AU10>'InSilico1-heterozygous'!$AU$53,1,0) -> 0 | AV10: =IF('InSilico1-heterozygous'!AV10>'InSilico1-heterozygous'!$AV$53,1,0) -> 0 | AW10: =IF('InSilico1-heterozygous'!AW10>'InSilico1-heterozygous'!$AW$53,1,0) -> 1 | AX10: =IF('InSilico1-heterozygous'!AX10>'InSilico1-heterozygous'!$AX$53,1,0) -> 0
A11: =IF('InSilico1-heterozygous'!A11>'InSilico1-heterozygous'!$A$53,1,0) -> 1 | B11: =IF('InSilico1-heterozygous'!B11>'InSilico1-heterozygous'!$B$53,1,0) -> 0 | C11: =IF('InSilico1-heterozygous'!C11>'InSilico1-heterozygous'!$C$53,1,0) -> 1 | D11: =IF('InSilico1-heterozygous'!D11>'InSilico1-heterozygous'!$D$53,1,0) -> 1 | E11: =IF('InSilico1-heterozygous'!E11>'InSilico1-heterozygous'!$E$53,1,0) -> 1 | F11: =IF('InSilico1-heterozygous'!F11>'InSilico1-heterozygous'!$F$53,1,0) -> 1 | G11: =IF('InSilico1-heterozygous'!G11>'InSilico1-heterozygous'!$G$53,1,0) -> 0 | H11: =IF('InSilico1-heterozygous'!H11>'InSilico1-heterozygous'!$H$53,1,0) -> 0 | I11: =IF('InSilico1-heterozygous'!I11>'InSilico1-heterozygous'!$I$53,1,0) -> 0 | J11: =IF('InSilico1-heterozygous'!J11>'InSilico1-heterozygous'!$J$53,1,0) -> 0 | K11: =IF('InSilico1-heterozygous'!K11>'InSilico1-heterozygous'!$K$53,1,0) -> 0 | L11: =IF('InSilico1-heterozygous'!L11>'InSilico1-heterozygous'!$L$53,1,0) -> 0 | M11: =IF('InSilico1-heterozygous'!M11>'InSilico1-heterozygous'!$M$53,1,0) -> 1 | N11: =IF('InSilico1-heterozygous'!N11>'InSilico1-heterozygous'!$N$53,1,0) -> 1 | O11: =IF('InSilico1-heterozygous'!O11>'InSilico1-heterozygous'!$O$53,1,0) -> 0 | P11: =IF('InSilico1-heterozygous'!P11>'InSilico1-heterozygous'!$P$53,1,0) -> 0 | Q11: =IF('InSilico1-heterozygous'!Q11>'InSilico1-heterozygous'!$Q$53,1,0) -> 1 | R11: =IF('InSilico1-heterozygous'!R11>'InSilico1-heterozygous'!$R$53,1,0) -> 0 | S11: =IF('InSilico1-heterozygous'!S11>'InSilico1-heterozygous'!$S$53,1,0) -> 0 | T11: =IF('InSilico1-heterozygous'!T11>'InSilico1-heterozygous'!$T$53,1,0) -> 0 | U11: =IF('InSilico1-heterozygous'!U11>'InSilico1-heterozygous'!$U$53,1,0) -> 0 | V11: =IF('InSilico1-heterozygous'!V11>'InSilico1-heterozygous'!$V$53,1,0) -> 1 | W11: =IF('InSilico1-heterozygous'!W11>'InSilico1-heterozygous'!$W$53,1,0) -> 1 | X11: =IF('InSilico1-heterozygous'!X11>'InSilico1-heterozygous'!$X$53,1,0) -> 0 | Y11: =IF('InSilico1-heterozygous'!Y11>'InSilico1-heterozygous'!$Y$53,1,0) -> 0 | Z11: =IF('InSilico1-heterozygous'!Z11>'InSilico1-heterozygous'!$Z$53,1,0) -> 1 | AA11: =IF('InSilico1-heterozygous'!AA11>'InSilico1-heterozygous'!$AA$53,1,0) -> 1 | AB11: =IF('InSilico1-heterozygous'!AB11>'InSilico1-heterozygous'!$AB$53,1,0) -> 0 | AC11: =IF('InSilico1-heterozygous'!AC11>'InSilico1-heterozygous'!$AC$53,1,0) -> 1 | AD11: =IF('InSilico1-heterozygous'!AD11>'InSilico1-heterozygous'!$AD$53,1,0) -> 1 | AE11: =IF('InSilico1-heterozygous'!AE11>'InSilico1-heterozygous'!$AE$53,1,0) -> 1 | AF11: =IF('InSilico1-heterozygous'!AF11>'InSilico1-heterozygous'!$AF$53,1,0) -> 1 | AG11: =IF('InSilico1-heterozygous'!AG11>'InSilico1-heterozygous'!$AG$53,1,0) -> 1 | AH11: =IF('InSilico1-heterozygous'!AH11>'InSilico1-heterozygous'!$AH$53,1,0) -> 0 | AI11: =IF('InSilico1-heterozygous'!AI11>'InSilico1-heterozygous'!$AI$53,1,0) -> 0 | AJ11: =IF('InSilico1-heterozygous'!AJ11>'InSilico1-heterozygous'!$AJ$53,1,0) -> 0 | AK11: =IF('InSilico1-heterozygous'!AK11>'InSilico1-heterozygous'!$AK$53,1,0) -> 1 | AL11: =IF('InSilico1-heterozygous'!AL11>'InSilico1-heterozygous'!$AL$53,1,0) -> 0 | AM11: =IF('InSilico1-heterozygous'!AM11>'InSilico1-heterozygous'!$AM$53,1,0) -> 0 | AN11: =IF('InSilico1-heterozygous'!AN11>'InSilico1-heterozygous'!$AN$53,1,0) -> 1 | AO11: =IF('InSilico1-heterozygous'!AO11>'InSilico1-heterozygous'!$AO$53,1,0) -> 0 | AP11: =IF('InSilico1-heterozygous'!AP11>'InSilico1-heterozygous'!$AP$53,1,0) -> 1 | AQ11: =IF('InSilico1-heterozygous'!AQ11>'InSilico1-heterozygous'!$AQ$53,1,0) -> 0 | AR11: =IF('InSilico1-heterozygous'!AR11>'InSilico1-heterozygous'!$AR$53,1,0) -> 1 | AS11: =IF('InSilico1-heterozygous'!AS11>'InSilico1-heterozygous'!$AS$53,1,0) -> 0 | AT11: =IF('InSilico1-heterozygous'!AT11>'InSilico1-heterozygous'!$AT$53,1,0) -> 0 | AU11: =IF('InSilico1-heterozygous'!AU11>'InSilico1-heterozygous'!$AU$53,1,0) -> 0 | AV11: =IF('InSilico1-heterozygous'!AV11>'InSilico1-heterozygous'!$AV$53,1,0) -> 0 | AW11: =IF('InSilico1-heterozygous'!AW11>'InSilico1-heterozygous'!$AW$53,1,0) -> 1 | AX11: =IF('InSilico1-heterozygous'!AX11>'InSilico1-heterozygous'!$AX$53,1,0) -> 0
A12: =IF('InSilico1-heterozygous'!A12>'InSilico1-heterozygous'!$A$53,1,0) -> 1 | B12: =IF('InSilico1-heterozygous'!B12>'InSilico1-heterozygous'!$B$53,1,0) -> 0 | C12: =IF('InSilico1-heterozygous'!C12>'InSilico1-heterozygous'!$C$53,1,0) -> 1 | D12: =IF('InSilico1-heterozygous'!D12>'InSilico1-heterozygous'!$D$53,1,0) -> 1 | E12: =IF('InSilico1-heterozygous'!E12>'InSilico1-heterozygous'!$E$53,1,0) -> 1 | F12: =IF('InSilico1-heterozygous'!F12>'InSilico1-heterozygous'!$F$53,1,0) -> 1 | G12: =IF('InSilico1-heterozygous'!G12>'InSilico1-heterozygous'!$G$53,1,0) -> 0 | H12: =IF('InSilico1-heterozygous'!H12>'InSilico1-heterozygous'!$H$53,1,0) -> 0 | I12: =IF('InSilico1-heterozygous'!I12>'InSilico1-heterozygous'!$I$53,1,0) -> 1 | J12: =IF('InSilico1-heterozygous'!J12>'InSilico1-heterozygous'!$J$53,1,0) -> 0 | K12: =IF('InSilico1-heterozygous'!K12>'InSilico1-heterozygous'!$K$53,1,0) -> 0 | L12: =IF('InSilico1-heterozygous'!L12>'InSilico1-heterozygous'!$L$53,1,0) -> 1 | M12: =IF('InSilico1-heterozygous'!M12>'InSilico1-heterozygous'!$M$53,1,0) -> 1 | N12: =IF('InSilico1-heterozygous'!N12>'InSilico1-heterozygous'!$N$53,1,0) -> 1 | O12: =IF('InSilico1-heterozygous'!O12>'InSilico1-heterozygous'!$O$53,1,0) -> 0 | P12: =IF('InSilico1-heterozygous'!P12>'InSilico1-heterozygous'!$P$53,1,0) -> 0 | Q12: =IF('InSilico1-heterozygous'!Q12>'InSilico1-heterozygous'!$Q$53,1,0) -> 1 | R12: =IF('InSilico1-heterozygous'!R12>'InSilico1-heterozygous'!$R$53,1,0) -> 0 | S12: =IF('InSilico1-heterozygous'!S12>'InSilico1-heterozygous'!$S$53,1,0) -> 0 | T12: =IF('InSilico1-heterozygous'!T12>'InSilico1-heterozygous'!$T$53,1,0) -> 0 | U12: =IF('InSilico1-heterozygous'!U12>'InSilico1-heterozygous'!$U$53,1,0) -> 0 | V12: =IF('InSilico1-heterozygous'!V12>'InSilico1-heterozygous'!$V$53,1,0) -> 1 | W12: =IF('InSilico1-heterozygous'!W12>'InSilico1-heterozygous'!$W$53,1,0) -> 1 | X12: =IF('InSilico1-heterozygous'!X12>'InSilico1-heterozygous'!$X$53,1,0) -> 0 | Y12: =IF('InSilico1-heterozygous'!Y12>'InSilico1-heterozygous'!$Y$53,1,0) -> 0 | Z12: =IF('InSilico1-heterozygous'!Z12>'InSilico1-heterozygous'!$Z$53,1,0) -> 1 | AA12: =IF('InSilico1-heterozygous'!AA12>'InSilico1-heterozygous'!$AA$53,1,0) -> 1 | AB12: =IF('InSilico1-heterozygous'!AB12>'InSilico1-heterozygous'!$AB$53,1,0) -> 0 | AC12: =IF('InSilico1-heterozygous'!AC12>'InSilico1-heterozygous'!$AC$53,1,0) -> 0 | AD12: =IF('InSilico1-heterozygous'!AD12>'InSilico1-heterozygous'!$AD$53,1,0) -> 1 | AE12: =IF('InSilico1-heterozygous'!AE12>'InSilico1-heterozygous'!$AE$53,1,0) -> 1 | AF12: =IF('InSilico1-heterozygous'!AF12>'InSilico1-heterozygous'!$AF$53,1,0) -> 1 | AG12: =IF('InSilico1-heterozygous'!AG12>'InSilico1-heterozygous'!$AG$53,1,0) -> 1 | AH12: =IF('InSilico1-heterozygous'!AH12>'InSilico1-heterozygous'!$AH$53,1,0) -> 0 | AI12: =IF('InSilico1-heterozygous'!AI12>'InSilico1-heterozygous'!$AI$53,1,0) -> 0 | AJ12: =IF('InSilico1-heterozygous'!AJ12>'InSilico1-heterozygous'!$AJ$53,1,0) -> 0 | AK12: =IF('InSilico1-heterozygous'!AK12>'InSilico1-heterozygous'!$AK$53,1,0) -> 1 | AL12: =IF('InSilico1-heterozygous'!AL12>'InSilico1-heterozygous'!$AL$53,1,0) -> 0 | AM12: =IF('InSilico1-heterozygous'!AM12>'InSilico1-heterozygous'!$AM$53,1,0) -> 0 | AN12: =IF('InSilico1-heterozygous'!AN12>'InSilico1-heterozygous'!$AN$53,1,0) -> 1 | AO12: =IF('InSilico1-heterozygous'!AO12>'InSilico1-heterozygous'!$AO$53,1,0) -> 0 | AP12: =IF('InSilico1-heterozygous'!AP12>'InSilico1-heterozygous'!$AP$53,1,0) -> 0 | AQ12: =IF('InSilico1-heterozygous'!AQ12>'InSilico1-heterozygous'!$AQ$53,1,0) -> 0 | AR12: =IF('InSilico1-heterozygous'!AR12>'InSilico1-heterozygous'!$AR$53,1,0) -> 1 | AS12: =IF('InSilico1-heterozygous'!AS12>'InSilico1-heterozygous'!$AS$53,1,0) -> 0 | AT12: =IF('InSilico1-heterozygous'!AT12>'InSilico1-heterozygous'!$AT$53,1,0) -> 0 | AU12: =IF('InSilico1-heterozygous'!AU12>'InSilico1-heterozygous'!$AU$53,1,0) -> 0 | AV12: =IF('InSilico1-heterozygous'!AV12>'InSilico1-heterozygous'!$AV$53,1,0) -> 0 | AW12: =IF('InSilico1-heterozygous'!AW12>'InSilico1-heterozygous'!$AW$53,1,0) -> 1 | AX12: =IF('InSilico1-heterozygous'!AX12>'InSilico1-heterozygous'!$AX$53,1,0) -> 0
A13: =IF('InSilico1-heterozygous'!A13>'InSilico1-heterozygous'!$A$53,1,0) -> 1 | B13: =IF('InSilico1-heterozygous'!B13>'InSilico1-heterozygous'!$B$53,1,0) -> 1 | C13: =IF('InSilico1-heterozygous'!C13>'InSilico1-heterozygous'!$C$53,1,0) -> 1 | D13: =IF('InSilico1-heterozygous'!D13>'InSilico1-heterozygous'!$D$53,1,0) -> 0 | E13: =IF('InSilico1-heterozygous'!E13>'InSilico1-heterozygous'!$E$53,1,0) -> 1 | F13: =IF('InSilico1-heterozygous'!F13>'InSilico1-heterozygous'!$F$53,1,0) -> 1 | G13: =IF('InSilico1-heterozygous'!G13>'InSilico1-heterozygous'!$G$53,1,0) -> 0 | H13: =IF('InSilico1-heterozygous'!H13>'InSilico1-heterozygous'!$H$53,1,0) -> 0 | I13: =IF('InSilico1-heterozygous'!I13>'InSilico1-heterozygous'!$I$53,1,0) -> 0 | J13: =IF('InSilico1-heterozygous'!J13>'InSilico1-heterozygous'!$J$53,1,0) -> 0 | K13: =IF('InSilico1-heterozygous'!K13>'InSilico1-heterozygous'!$K$53,1,0) -> 0 | L13: =IF('InSilico1-heterozygous'!L13>'InSilico1-heterozygous'!$L$53,1,0) -> 0 | M13: =IF('InSilico1-heterozygous'!M13>'InSilico1-heterozygous'!$M$53,1,0) -> 1 | N13: =IF('InSilico1-heterozygous'!N13>'InSilico1-heterozygous'!$N$53,1,0) -> 0 | O13: =IF('InSilico1-heterozygous'!O13>'InSilico1-heterozygous'!$O$53,1,0) -> 0 | P13: =IF('InSilico1-heterozygous'!P13>'InSilico1-heterozygous'!$P$53,1,0) -> 0 | Q13: =IF('InSilico1-heterozygous'!Q13>'InSilico1-heterozygous'!$Q$53,1,0) -> 0 | R13: =IF('InSilico1-heterozygous'!R13>'InSilico1-heterozygous'!$R$53,1,0) -> 0 | S13: =IF('InSilico1-heterozygous'!S13>'InSilico1-heterozygous'!$S$53,1,0) -> 0 | T13: =IF('InSilico1-heterozygous'!T13>'InSilico1-heterozygous'!$T$53,1,0) -> 0 | U13: =IF('InSilico1-heterozygous'!U13>'InSilico1-heterozygous'!$U$53,1,0) -> 0 | V13: =IF('InSilico1-heterozygous'!V13>'InSilico1-heterozygous'!$V$53,1,0) -> 1 | W13: =IF('InSilico1-heterozygous'!W13>'InSilico1-heterozygous'!$W$53,1,0) -> 1 | X13: =IF('InSilico1-heterozygous'!X13>'InSilico1-heterozygous'!$X$53,1,0) -> 0 | Y13: =IF('InSilico1-heterozygous'!Y13>'InSilico1-heterozygous'!$Y$53,1,0) -> 0 | Z13: =IF('InSilico1-heterozygous'!Z13>'InSilico1-heterozygous'!$Z$53,1,0) -> 1 | AA13: =IF('InSilico1-heterozygous'!AA13>'InSilico1-heterozygous'!$AA$53,1,0) -> 1 | AB13: =IF('InSilico1-heterozygous'!AB13>'InSilico1-heterozygous'!$AB$53,1,0) -> 0 | AC13: =IF('InSilico1-heterozygous'!AC13>'InSilico1-heterozygous'!$AC$53,1,0) -> 0 | AD13: =IF('InSilico1-heterozygous'!AD13>'InSilico1-heterozygous'!$AD$53,1,0) -> 1 | AE13: =IF('InSilico1-heterozygous'!AE13>'InSilico1-heterozygous'!$AE$53,1,0) -> 1 | AF13: =IF('InSilico1-heterozygous'!AF13>'InSilico1-heterozygous'!$AF$53,1,0) -> 1 | AG13: =IF('InSilico1-heterozygous'!AG13>'InSilico1-heterozygous'!$AG$53,1,0) -> 0 | AH13: =IF('InSilico1-heterozygous'!AH13>'InSilico1-heterozygous'!$AH$53,1,0) -> 0 | AI13: =IF('InSilico1-heterozygous'!AI13>'InSilico1-heterozygous'!$AI$53,1,0) -> 0 | AJ13: =IF('InSilico1-heterozygous'!AJ13>'InSilico1-heterozygous'!$AJ$53,1,0) -> 1 | AK13: =IF('InSilico1-heterozygous'!AK13>'InSilico1-heterozygous'!$AK$53,1,0) -> 1 | AL13: =IF('InSilico1-heterozygous'!AL13>'InSilico1-heterozygous'!$AL$53,1,0) -> 0 | AM13: =IF('InSilico1-heterozygous'!AM13>'InSilico1-heterozygous'!$AM$53,1,0) -> 0 | AN13: =IF('InSilico1-heterozygous'!AN13>'InSilico1-heterozygous'!$AN$53,1,0) -> 1 | AO13: =IF('InSilico1-heterozygous'!AO13>'InSilico1-heterozygous'!$AO$53,1,0) -> 0 | AP13: =IF('InSilico1-heterozygous'!AP13>'InSilico1-heterozygous'!$AP$53,1,0) -> 0 | AQ13: =IF('InSilico1-heterozygous'!AQ13>'InSilico1-heterozygous'!$AQ$53,1,0) -> 0 | AR13: =IF('InSilico1-heterozygous'!AR13>'InSilico1-heterozygous'!$AR$53,1,0) -> 1 | AS13: =IF('InSilico1-heterozygous'!AS13>'InSilico1-heterozygous'!$AS$53,1,0) -> 1 | AT13: =IF('InSilico1-heterozygous'!AT13>'InSilico1-heterozygous'!$AT$53,1,0) -> 0 | AU13: =IF('InSilico1-heterozygous'!AU13>'InSilico1-heterozygous'!$AU$53,1,0) -> 0 | AV13: =IF('InSilico1-heterozygous'!AV13>'InSilico1-heterozygous'!$AV$53,1,0) -> 0 | AW13: =IF('InSilico1-heterozygous'!AW13>'InSilico1-heterozygous'!$AW$53,1,0) -> 1 | AX13: =IF('InSilico1-heterozygous'!AX13>'InSilico1-heterozygous'!$AX$53,1,0) -> 0
... A52: =IF('InSilico1-heterozygous'!A52>'InSilico1-heterozygous'!$A$53,1,0) -> 1 | B52: =IF('InSilico1-heterozygous'!B52>'InSilico1-heterozygous'!$B$53,1,0) -> 0 | C52: =IF('InSilico1-heterozygous'!C52>'InSilico1-heterozygous'!$C$53,1,0) -> 1 | D52: =IF('InSilico1-heterozygous'!D52>'InSilico1-heterozygous'!$D$53,1,0) -> 1 | E52: =IF('InSilico1-heterozygous'!E52>'InSilico1-heterozygous'!$E$53,1,0) -> 1 | F52: =IF('InSilico1-heterozygous'!F52>'InSilico1-heterozygous'!$F$53,1,0) -> 1 | G52: =IF('InSilico1-heterozygous'!G52>'InSilico1-heterozygous'!$G$53,1,0) -> 0 | H52: =IF('InSilico1-heterozygous'!H52>'InSilico1-heterozygous'!$H$53,1,0) -> 0 | I52: =IF('InSilico1-heterozygous'!I52>'InSilico1-heterozygous'!$I$53,1,0) -> 1 | J52: =IF('InSilico1-heterozygous'!J52>'InSilico1-heterozygous'!$J$53,1,0) -> 0 | K52: =IF('InSilico1-heterozygous'!K52>'InSilico1-heterozygous'!$K$53,1,0) -> 0 | L52: =IF('InSilico1-heterozygous'!L52>'InSilico1-heterozygous'!$L$53,1,0) -> 0 | M52: =IF('InSilico1-heterozygous'!M52>'InSilico1-heterozygous'!$M$53,1,0) -> 1 | N52: =IF('InSilico1-heterozygous'!N52>'InSilico1-heterozygous'!$N$53,1,0) -> 1 | O52: =IF('InSilico1-heterozygous'!O52>'InSilico1-heterozygous'!$O$53,1,0) -> 0 | P52: =IF('InSilico1-heterozygous'!P52>'InSilico1-heterozygous'!$P$53,1,0) -> 0 | Q52: =IF('InSilico1-heterozygous'!Q52>'InSilico1-heterozygous'!$Q$53,1,0) -> 1 | R52: =IF('InSilico1-heterozygous'!R52>'InSilico1-heterozygous'!$R$53,1,0) -> 0 | S52: =IF('InSilico1-heterozygous'!S52>'InSilico1-heterozygous'!$S$53,1,0) -> 0 | T52: =IF('InSilico1-heterozygous'!T52>'InSilico1-heterozygous'!$T$53,1,0) -> 0 | U52: =IF('InSilico1-heterozygous'!U52>'InSilico1-heterozygous'!$U$53,1,0) -> 0 | V52: =IF('InSilico1-heterozygous'!V52>'InSilico1-heterozygous'!$V$53,1,0) -> 1 | W52: =IF('InSilico1-heterozygous'!W52>'InSilico1-heterozygous'!$W$53,1,0) -> 1 | X52: =IF('InSilico1-heterozygous'!X52>'InSilico1-heterozygous'!$X$53,1,0) -> 0 | Y52: =IF('InSilico1-heterozygous'!Y52>'InSilico1-heterozygous'!$Y$53,1,0) -> 0 | Z52: =IF('InSilico1-heterozygous'!Z52>'InSilico1-heterozygous'!$Z$53,1,0) -> 1 | AA52: =IF('InSilico1-heterozygous'!AA52>'InSilico1-heterozygous'!$AA$53,1,0) -> 1 | AB52: =IF('InSilico1-heterozygous'!AB52>'InSilico1-heterozygous'!$AB$53,1,0) -> 0 | AC52: =IF('InSilico1-heterozygous'!AC52>'InSilico1-heterozygous'!$AC$53,1,0) -> 1 | AD52: =IF('InSilico1-heterozygous'!AD52>'InSilico1-heterozygous'!$AD$53,1,0) -> 1 | AE52: =IF('InSilico1-heterozygous'!AE52>'InSilico1-heterozygous'!$AE$53,1,0) -> 1 | AF52: =IF('InSilico1-heterozygous'!AF52>'InSilico1-heterozygous'!$AF$53,1,0) -> 1 | AG52: =IF('InSilico1-heterozygous'!AG52>'InSilico1-heterozygous'!$AG$53,1,0) -> 1 | AH52: =IF('InSilico1-heterozygous'!AH52>'InSilico1-heterozygous'!$AH$53,1,0) -> 0 | AI52: =IF('InSilico1-heterozygous'!AI52>'InSilico1-heterozygous'!$AI$53,1,0) -> 0 | AJ52: =IF('InSilico1-heterozygous'!AJ52>'InSilico1-heterozygous'!$AJ$53,1,0) -> 0 | AK52: =IF('InSilico1-heterozygous'!AK52>'InSilico1-heterozygous'!$AK$53,1,0) -> 1 | AL52: =IF('InSilico1-heterozygous'!AL52>'InSilico1-heterozygous'!$AL$53,1,0) -> 0 | AM52: =IF('InSilico1-heterozygous'!AM52>'InSilico1-heterozygous'!$AM$53,1,0) -> 0 | AN52: =IF('InSilico1-heterozygous'!AN52>'InSilico1-heterozygous'!$AN$53,1,0) -> 1 | AO52: =IF('InSilico1-heterozygous'!AO52>'InSilico1-heterozygous'!$AO$53,1,0) -> 0 | AP52: =IF('InSilico1-heterozygous'!AP52>'InSilico1-heterozygous'!$AP$53,1,0) -> 1 | AQ52: =IF('InSilico1-heterozygous'!AQ52>'InSilico1-heterozygous'!$AQ$53,1,0) -> 0 | AR52: =IF('InSilico1-heterozygous'!AR52>'InSilico1-heterozygous'!$AR$53,1,0) -> 1 | AS52: =IF('InSilico1-heterozygous'!AS52>'InSilico1-heterozygous'!$AS$53,1,0) -> 0 | AT52: =IF('InSilico1-heterozygous'!AT52>'InSilico1-heterozygous'!$AT$53,1,0) -> 0 | AU52: =IF('InSilico1-heterozygous'!AU52>'InSilico1-heterozygous'!$AU$53,1,0) -> 0 | AV52: =IF('InSilico1-heterozygous'!AV52>'InSilico1-heterozygous'!$AV$53,1,0) -> 0 | AW52: =IF('InSilico1-heterozygous'!AW52>'InSilico1-heterozygous'!$AW$53,1,0) -> 1 | AX52: =IF('InSilico1-heterozygous'!AX52>'InSilico1-heterozygous'!$AX$53,1,0) -> 0

Sheet Meta-Variables
A1: @_G1 | B1: @_G2 | C1: @_G3 | D1: @_G4 | E1: @_G5 | F1: @_G6 | G1: @_G7 | H1: @_G8 | I1: @_G9 | J1: @_G10 | K1: @_G11 | L1: @_G12 | M1: @_G13 | N1: @_G14 | O1: @_G15 | P1: @_G16 | Q1: @_G17 | R1: @_G18 | S1: @_G19 | T1: @_G20 | U1: @_G21 | V1: @_G22 | W1: @_G23 | X1: @_G24 | Y1: @_G25 | Z1: @_G26 | AA1: @_G27 | AB1: @_G28 | AC1: @_G29 | AD1: @_G30 | AE1: @_G31 | AF1: @_G32 | AG1: @_G33 | AH1: @_G34 | AI1: @_G35 | AJ1: @_G36 | AK1: @_G37 | AL1: @_G38 | AM1: @_G39 | AN1: @_G40 | AO1: @_G41 | AP1: @_G42 | AQ1: @_G43 | AR1: @_G44 | AS1: @_G45 | AT1: @_G46 | AU1: @_G47 | AV1: @_G48 | AW1: @_G49 | AX1: @_G50
A2: 0 | B2: 0 | C2: 0 | D2: 0 | E2: 0 | F2: 0 | G2: 0 | H2: 0 | I2: 0 | J2: 0 | K2: 0 | L2: 0 | M2: 0 | N2: 0 | O2: 0 | P2: 0 | Q2: 0 | R2: 0 | S2: 0 | T2: 0 | U2: 0 | V2: 0 | W2: 0 | X2: 0 | Y2: 0 | Z2: 0 | AA2: 0 | AB2: 0 | AC2: 0 | AD2: 0 | AE2: 0 | AF2: 0 | AG2: 0 | AH2: 0 | AI2: 0 | AJ2: 0 | AK2: 0 | AL2: 0 | AM2: 0 | AN2: 0 | AO2: 0 | AP2: 0 | AQ2: 0 | AR2: 0 | AS2: 0 | AT2: 0 | AU2: 0 | AV2: 0 | AW2: 0 | AX2: 0
A3: 1 | B3: 1 | C3: 1 | D3: 1 | E3: 1 | F3: 1 | G3: 1 | H3: 1 | I3: 1 | J3: 1 | K3: 1 | L3: 1 | M3: 1 | N3: 1 | O3: 1 | P3: 1 | Q3: 1 | R3: 1 | S3: 1 | T3: 1 | U3: 1 | V3: 1 | W3: 1 | X3: 1 | Y3: 1 | Z3: 1 | AA3: 1 | AB3: 1 | AC3: 1 | AD3: 1 | AE3: 1 | AF3: 1 | AG3: 1 | AH3: 1 | AI3: 1 | AJ3: 1 | AK3: 1 | AL3: 1 | AM3: 1 | AN3: 1 | AO3: 1 | AP3: 1 | AQ3: 1 | AR3: 1 | AS3: 1 | AT3: 1 | AU3: 1 | AV3: 1 | AW3: 1 | AX3: 1
A4: 2 | B4: 2 | C4: 2 | D4: 2 | E4: 2 | F4: 2 | G4: 2 | H4: 2 | I4: 2 | J4: 2 | K4: 2 | L4: 2 | M4: 2 | N4: 2 | O4: 2 | P4: 2 | Q4: 2 | R4: 2 | S4: 2 | T4: 2 | U4: 2 | V4: 2 | W4: 2 | X4: 2 | Y4: 2 | Z4: 2 | AA4: 2 | AB4: 2 | AC4: 2 | AD4: 2 | AE4: 2 | AF4: 2 | AG4: 2 | AH4: 2 | AI4: 2 | AJ4: 2 | AK4: 2 | AL4: 2 | AM4: 2 | AN4: 2 | AO4: 2 | AP4: 2 | AQ4: 2 | AR4: 2 | AS4: 2 | AT4: 2 | AU4: 2 | AV4: 2 | AW4: 2 | AX4: 2
A5: 3 | B5: 3 | C5: 3 | D5: 3 | E5: 3 | F5: 3 | G5: 3 | H5: 3 | I5: 3 | J5: 3 | K5: 3 | L5: 3 | M5: 3 | N5: 3 | O5: 3 | P5: 3 | Q5: 3 | R5: 3 | S5: 3 | T5: 3 | U5: 3 | V5: 3 | W5: 3 | X5: 3 | Y5: 3 | Z5: 3 | AA5: 3 | AB5: 3 | AC5: 3 | AD5: 3 | AE5: 3 | AF5: 3 | AG5: 3 | AH5: 3 | AI5: 3 | AJ5: 3 | AK5: 3 | AL5: 3 | AM5: 3 | AN5: 3 | AO5: 3 | AP5: 3 | AQ5: 3 | AR5: 3 | AS5: 3 | AT5: 3 | AU5: 3 | AV5: 3 | AW5: 3 | AX5: 3
A6: 4 | B6: 4 | C6: 4 | D6: 4 | E6: 4 | F6: 4 | G6: 4 | H6: 4 | I6: 4 | J6: 4 | K6: 4 | L6: 4 | M6: 4 | N6: 4 | O6: 4 | P6: 4 | Q6: 4 | R6: 4 | S6: 4 | T6: 4 | U6: 4 | V6: 4 | W6: 4 | X6: 4 | Y6: 4 | Z6: 4 | AA6: 4 | AB6: 4 | AC6: 4 | AD6: 4 | AE6: 4 | AF6: 4 | AG6: 4 | AH6: 4 | AI6: 4 | AJ6: 4 | AK6: 4 | AL6: 4 | AM6: 4 | AN6: 4 | AO6: 4 | AP6: 4 | AQ6: 4 | AR6: 4 | AS6: 4 | AT6: 4 | AU6: 4 | AV6: 4 | AW6: 4 | AX6: 4
A7: 5 | B7: 5 | C7: 5 | D7: 5 | E7: 5 | F7: 5 | G7: 5 | H7: 5 | I7: 5 | J7: 5 | K7: 5 | L7: 5 | M7: 5 | N7: 5 | O7: 5 | P7: 5 | Q7: 5 | R7: 5 | S7: 5 | T7: 5 | U7: 5 | V7: 5 | W7: 5 | X7: 5 | Y7: 5 | Z7: 5 | AA7: 5 | AB7: 5 | AC7: 5 | AD7: 5 | AE7: 5 | AF7: 5 | AG7: 5 | AH7: 5 | AI7: 5 | AJ7: 5 | AK7: 5 | AL7: 5 | AM7: 5 | AN7: 5 | AO7: 5 | AP7: 5 | AQ7: 5 | AR7: 5 | AS7: 5 | AT7: 5 | AU7: 5 | AV7: 5 | AW7: 5 | AX7: 5
A8: 6 | B8: 6 | C8: 6 | D8: 6 | E8: 6 | F8: 6 | G8: 6 | H8: 6 | I8: 6 | J8: 6 | K8: 6 | L8: 6 | M8: 6 | N8: 6 | O8: 6 | P8: 6 | Q8: 6 | R8: 6 | S8: 6 | T8: 6 | U8: 6 | V8: 6 | W8: 6 | X8: 6 | Y8: 6 | Z8: 6 | AA8: 6 | AB8: 6 | AC8: 6 | AD8: 6 | AE8: 6 | AF8: 6 | AG8: 6 | AH8: 6 | AI8: 6 | AJ8: 6 | AK8: 6 | AL8: 6 | AM8: 6 | AN8: 6 | AO8: 6 | AP8: 6 | AQ8: 6 | AR8: 6 | AS8: 6 | AT8: 6 | AU8: 6 | AV8: 6 | AW8: 6 | AX8: 6
A9: 7 | B9: 7 | C9: 7 | D9: 7 | E9: 7 | F9: 7 | G9: 7 | H9: 7 | I9: 7 | J9: 7 | K9: 7 | L9: 7 | M9: 7 | N9: 7 | O9: 7 | P9: 7 | Q9: 7 | R9: 7 | S9: 7 | T9: 7 | U9: 7 | V9: 7 | W9: 7 | X9: 7 | Y9: 7 | Z9: 7 | AA9: 7 | AB9: 7 | AC9: 7 | AD9: 7 | AE9: 7 | AF9: 7 | AG9: 7 | AH9: 7 | AI9: 7 | AJ9: 7 | AK9: 7 | AL9: 7 | AM9: 7 | AN9: 7 | AO9: 7 | AP9: 7 | AQ9: 7 | AR9: 7 | AS9: 7 | AT9: 7 | AU9: 7 | AV9: 7 | AW9: 7 | AX9: 7
A10: 8 | B10: 8 | C10: 8 | D10: 8 | E10: 8 | F10: 8 | G10: 8 | H10: 8 | I10: 8 | J10: 8 | K10: 8 | L10: 8 | M10: 8 | N10: 8 | O10: 8 | P10: 8 | Q10: 8 | R10: 8 | S10: 8 | T10: 8 | U10: 8 | V10: 8 | W10: 8 | X10: 8 | Y10: 8 | Z10: 8 | AA10: 8 | AB10: 8 | AC10: 8 | AD10: 8 | AE10: 8 | AF10: 8 | AG10: 8 | AH10: 8 | AI10: 8 | AJ10: 8 | AK10: 8 | AL10: 8 | AM10: 8 | AN10: 8 | AO10: 8 | AP10: 8 | AQ10: 8 | AR10: 8 | AS10: 8 | AT10: 8 | AU10: 8 | AV10: 8 | AW10: 8 | AX10: 8
A11: 9 | B11: 9 | C11: 9 | D11: 9 | E11: 9 | F11: 9 | G11: 9 | H11: 9 | I11: 9 | J11: 9 | K11: 9 | L11: 9 | M11: 9 | N11: 9 | O11: 9 | P11: 9 | Q11: 9 | R11: 9 | S11: 9 | T11: 9 | U11: 9 | V11: 9 | W11: 9 | X11: 9 | Y11: 9 | Z11: 9 | AA11: 9 | AB11: 9 | AC11: 9 | AD11: 9 | AE11: 9 | AF11: 9 | AG11: 9 | AH11: 9 | AI11: 9 | AJ11: 9 | AK11: 9 | AL11: 9 | AM11: 9 | AN11: 9 | AO11: 9 | AP11: 9 | AQ11: 9 | AR11: 9 | AS11: 9 | AT11: 9 | AU11: 9 | AV11: 9 | AW11: 9 | AX11: 9
A12: 10 | B12: 10 | C12: 10 | D12: 10 | E12: 10 | F12: 10 | G12: 10 | H12: 10 | I12: 10 | J12: 10 | K12: 10 | L12: 10 | M12: 10 | N12: 10 | O12: 10 | P12: 10 | Q12: 10 | R12: 10 | S12: 10 | T12: 10 | U12: 10 | V12: 10 | W12: 10 | X12: 10 | Y12: 10 | Z12: 10 | AA12: 10 | AB12: 10 | AC12: 10 | AD12: 10 | AE12: 10 | AF12: 10 | AG12: 10 | AH12: 10 | AI12: 10 | AJ12: 10 | AK12: 10 | AL12: 10 | AM12: 10 | AN12: 10 | AO12: 10 | AP12: 10 | AQ12: 10 | AR12: 10 | AS12: 10 | AT12: 10 | AU12: 10 | AV12: 10 | AW12: 10 | AX12: 10
A13: 11 | B13: 11 | C13: 11 | D13: 11 | E13: 11 | F13: 11 | G13: 11 | H13: 11 | I13: 11 | J13: 11 | K13: 11 | L13: 11 | M13: 11 | N13: 11 | O13: 11 | P13: 11 | Q13: 11 | R13: 11 | S13: 11 | T13: 11 | U13: 11 | V13: 11 | W13: 11 | X13: 11 | Y13: 11 | Z13: 11 | AA13: 11 | AB13: 11 | AC13: 11 | AD13: 11 | AE13: 11 | AF13: 11 | AG13: 11 | AH13: 11 | AI13: 11 | AJ13: 11 | AK13: 11 | AL13: 11 | AM13: 11 | AN13: 11 | AO13: 11 | AP13: 11 | AQ13: 11 | AR13: 11 | AS13: 11 | AT13: 11 | AU13: 11 | AV13: 11 | AW13: 11 | AX13: 11
... A52: 50 | B52: 50 | C52: 50 | D52: 50 | E52: 50 | F52: 50 | G52: 50 | H52: 50 | I52: 50 | J52: 50 | K52: 50 | L52: 50 | M52: 50 | N52: 50 | O52: 50 | P52: 50 | Q52: 50 | R52: 50 | S52: 50 | T52: 50 | U52: 50 | V52: 50 | W52: 50 | X52: 50 | Y52: 50 | Z52: 50 | AA52: 50 | AB52: 50 | AC52: 50 | AD52: 50 | AE52: 50 | AF52: 50 | AG52: 50 | AH52: 50 | AI52: 50 | AJ52: 50 | AK52: 50 | AL52: 50 | AM52: 50 | AN52: 50 | AO52: 50 | AP52: 50 | AQ52: 50 | AR52: 50 | AS52: 50 | AT52: 50 | AU52: 50 | AV52: 50 | AW52: 50 | AX52: 50

Sheet Gold Standard
A1: DIRECTED-SIGNED_EXCITATORY | F1: DIRECTED-SIGNED_INHIBITORY
A2: G1 | B2: G3 | C2: 1 | F2: G4 | G2: G7 | H2: 1
A3: G3 | B3: G12 | C3: 1 | F3: G5 | G3: G34 | H3: 1
A4: G4 | B4: G6 | C4: 1 | F4: G8 | G4: G14 | H4: 1
A5: G4 | B5: G26 | C5: 1 | F5: G10 | G5: G26 | H5: 1
A6: G5 | B6: G30 | C6: 1 | F6: G10 | G6: G40 | H6: 1
A7: G5 | B7: G31 | C7: 1 | F7: G11 | G7: G45 | H7: 1
A8: G6 | B8: G4 | C8: 1 | F8: G12 | G8: G35 | H8: 1
A9: G6 | B9: G44 | C9: 1 | F9: G14 | G9: G24 | H9: 1
A10: G7 | B10: G18 | C10: 1 | F10: G14 | G10: G48 | H10: 1
A11: G7 | B11: G28 | C11: 1 | F11: G15 | G11: G8 | H11: 1
A12: G8 | B12: G2 | C12: 1 | F12: G15 | G12: G16 | H12: 1
A13: G8 | B13: G32 | C13: 1 | F13: G15 | G13: G19 | H13: 1
... A2451: G50 | B2451: G49 | C2451: 0 | F2451: G50 | G2451: G49 | H2451: 0
