Workbook

Sheet d_scale (2)
A1: APOD | B1: ART1 | C1: BRDT | D1: BTF3P11 | E1: CA4 | F1: CBS | G1: CELP | H1: CLK2 | I1: CPB1 | J1: ATF6B | K1: CYP3A7 | L1: CYP8B1 | M1: DEFB1 | N1: DPYS | O1: DUSP8 | P1: EDN2 | Q1: EGR1 | R1: EGR3 | S1: EGR4 | T1: EMP2 | U1: FMO2 | V1: GABRB2 | W1: GAP43 | X1: GBA1 | Y1: GNAT1 | Z1: GNG4 | AA1: GPR31 | AB1: FFAR3 | AC1: GRID1 | AD1: GRM7 | AE1: GYPB | AF1: H1-3 | AG1: HBE1 | AH1: MNX1 | AI1: CXCL8 | AJ1: INHBB | AK1: IVL | AL1: KCNC2 | AM1: KDR | AN1: KIR2DS4 | AO1: LBP | AP1: MEIS2 | AQ1: MYL2 | AR1: NNMT | AS1: NPHS1 | AT1: TNFRSF11B | AU1: PDCD1 | AV1: PENK | AW1: PON1 | AX1: PRKACG | AY1: TAS2R38 | AZ1: RORB | BA1: RXRB | BB1: CCL24 | BC1: CXCL6 | BD1: SKIC2 | BE1: SLC6A11 | BF1: SNCB | BG1: TBXT | BH1: TNNI3 | BI1: TRN-GTT2-7 | BJ1: ZNF177 | BK1: TUSC3 | BL1: MFAP5 | BM1: H2AC14 | BN1: H2AC16 | BO1: H4C4 | BP1: H4C2 | BQ1: PDLIM4 | BR1: DNAJA3 | BS1: ENTREP1 | BT1: CHST3 | BU1: STXBP5L | BV1: ARNT2 | BW1: KBTBD11 | BX1: LINC01587 | BY1: CHST4 | BZ1: MYCNOS | CA1: TBR1 | CB1: PROKR1 | CC1: PPBPP2 | CD1: TMSB15A | CE1: PRDM7 | CF1: PTP4A3 | CG1: ADGRL3 | CH1: SCRIB | CI1: HYAL4 | CJ1: DDAH2 | CK1: SPDEF | CL1: ARHGEF26 | CM1: ANKRD2 | CN1: SRPX2 | CO1: IGHV3-21 | CP1: IGHV1-18 | CQ1: IGLVI-56 | CR1: IGLV10-67 | CS1: SCHIP1 | CT1: KCNIP1 | CU1: G0S2 | CV1: DHH | CW1: PI15 | CX1: DUSP13 | CY1: ELOA2 | CZ1: PCDH18 | DA1: ASPN | DB1: KIRREL1 | DC1: LARP6 | DD1: SVOP | DE1: GNG12 | DF1: PCDHB2 | DG1: VTRNA1-1 | DH1: LGALS14 | DI1: OTOR | DJ1: VARS2 | DK1: DPP10 | DL1: WFDC1 | DM1: ABCG8 | DN1: OR51B2 | DO1: CORO7 | DP1: BTNL8 | DQ1: GRHL2 | DR1: SEMA6D | DS1: OR6N2 | DT1: COL21A1 | DU1: GSG1 | DV1: H2AB3 | DW1: MRO | DX1: PCDHB19P | DY1: MYH16 | DZ1: GARIN1B | EA1: LNX1 | EB1: MEDAG | EC1: WNT3A | ED1: LINC00923 | EE1: GGTLC1 | EF1: LOC93463 | EG1: CADPS2 | EH1: MRAP2 | EI1: TMEM54 | EJ1: LENG8 | EK1: GALNT15 | EL1: CALHM3 | EM1: FAT3 | EN1: ASCL4 | EO1: SPIC | EP1: FLJ40194 | EQ1: CALR3 | ER1: ZNF648 | ES1: LINC01620 | ET1: PPP1R13B-DT | EU1: LOC145474 | EV1: C16orf92 | EW1: BICDL2 | EX1: ODF4 | EY1: CD300LG | EZ1: LYPD4 | FA1: ZNF560 | FB1: LRRC71 | FC1: SMYD1 | FD1: LINC01618 | FE1: FBXO16 | FF1: NKX6-3 | FG1: C12orf50 | FH1: ANKFN1 | FI1: CDC20B | FJ1: CYS1 | FK1: HEPACAM2 | FL1: CACNA1G-AS1 | FM1: CBARP | FN1: LINC01018 | FO1: LINC01743 | FP1: TAS2R20 | FQ1: TFAMP1 | FR1: SEC14L3 | FS1: TRHDE-AS1 | FT1: LINC00551 | FU1: SLC25A47 | FV1: TMEM235 | FW1: PIGW | FX1: HMSD | FY1: RSPO1 | FZ1: DNAJB8-AS1 | GA1: HTR3E | GB1: C3orf70 | GC1: YIPF7 | GD1: C4orf54 | GE1: ANKRD45 | GF1: LINC01141 | GG1: RSPO2 | GH1: OR52B6 | GI1: DCDC1 | GJ1: LRRC9 | GK1: COL6A4P1 | GL1: STRA8 | GM1: SPATA12 | GN1: C9orf50 | GO1: SLC16A12 | GP1: ZNF728 | GQ1: LINC02591 | GR1: OR11H4 | GS1: OR2L8 | GT1: OR1K1 | GU1: FOXI2 | GV1: TUSC8 | GW1: BCAR4 | GX1: LINC00114 | GY1: BCRP2 | GZ1: ACOXL-AS1 | HA1: LINC02232 | HB1: RNF223 | HC1: MIR23A | HD1: MIR296 | HE1: GLUD1P2 | HF1: MGC34796 | HG1: LOC440300 | HH1: NA...217 | HI1: OR13G1 | HJ1: DPY19L2P1 | HK1: CCNYL6 | HL1: PIRT | HM1: EVPLL | HN1: LSP1P5 | HO1: LINC00693 | HP1: GOLGA6FP | HQ1: RPS7P5 | HR1: SPATA31C2 | HS1: NAP1L6P | HT1: RD3L | HU1: SFTPA1 | HV1: FER1L6 | HW1: SCARNA20 | HX1: MIR584 | HY1: MIR602 | HZ1: MIR640 | IA1: FAM245A | IB1: KRTAP9-1 | IC1: LINC00977 | ID1: LOC729080 | IE1: LMO7DN | IF1: SNORD116-2 | IG1: SNORD116-27 | IH1: SNORD121A | II1: SNORD11B | IJ1: SNORA11B | IK1: MIR298 | IL1: MIR942 | IM1: LINC02291 | IN1: LOC100130673 | IO1: BSN-DT | IP1: SHISAL2B | IQ1: RNU4ATAC | IR1: RNA5S9 | IS1: DBIL5P2 | IT1: TRR-TCT3-1 | IU1: TRD-GTC2-6 | IV1: TRR-CCT3-1 | IW1: TRS-GCT4-3 | IX1: RAMP2-AS1 | IY1: LOC100270746 | IZ1: LMCD1-AS1 | JA1: MIR1289-1 | JB1: MIR548N | JC1: RASAL2-AS1 | JD1: MIR3128 | JE1: MIR3190 | JF1: MIR3153 | JG1: MIR4313 | JH1: BAALC-AS1 | JI1: SH3PXD2A-AS1 | JJ1: TMEM210 | JK1: LINC02606 | JL1: DOCK4-AS1 | JM1: CT66 | JN1: SOX21-AS1 | JO1: LINC02082 | JP1: MIR4477A | JQ1: MIR4673 | JR1: MIR4738 | JS1: MIR4748 | JT1: MIR378E | JU1: WDR87BP | JV1: MIR5696 | JW1: MIR5189 | JX1: MIR5192 | JY1: SRGAP2-AS1 | JZ1: RNU6-31P | KA1: RNU6-19P | KB1: LPP-AS1 | KC1: GRM7-AS1 | KD1: ABCC5-AS1 | KE1: ARHGAP26-AS1 | KF1: ARHGEF9-IT1 | KG1: DNAH17-AS1 | KH1: CYYR1-AS1 | KI1: LINC01356 | KJ1: LOC101060553 | KK1: LINC01375 | KL1: LOC101927040 | KM1: LOC101927143 | KN1: LINC01266 | KO1: LOC101927345 | KP1: NUP133-DT | KQ1: LOC101927657 | KR1: LOC101927668 | KS1: LINC01695 | KT1: LINC01483 | KU1: WDR35-DT | KV1: ZPLD2P | KW1: RGS5-AS1 | KX1: P4HA3-AS1 | KY1: LINC01509 | KZ1: LOC101928733 | LA1: LINC01450 | LB1: LOC101928748 | LC1: LINC01447 | LD1: LOC101929141 | LE1: LOC101929380 | LF1: LINC02099 | LG1: ETS1-AS1 | LH1: IFT74-AS1 | LI1: LOC101929626 | LJ1: NA...323 | LK1: MIR6761 | LL1: MIR6800 | LM1: MIR6885 | LN1: MIR8064 | LO1: MIR6754 | LP1: MIR6778 | LQ1: E2F5-DT | LR1: LOC102724135 | LS1: NA...332 | LT1: NA...333 | LU1: LOC102724467 | LV1: LINC00377 | LW1: NA...336 | LX1: NA...337 | LY1: NA...338 | LZ1: LOC105371031 | MA1: STUB1-DT | MB1: NA...341 | MC1: NA...342 | MD1: NA...343 | ME1: LOC105375840 | MF1: NA...345 | MG1: NA...346 | MH1: NA...347 | MI1: NA...348 | MJ1: NA...349 | MK1: NA...350 | ML1: NA...351
A2: =VLOOKUP(d_scale!A2,Sheet2!$A$2:$B$4,2,1) -> none | B2: =VLOOKUP(d_scale!B2,Sheet2!$A$2:$B$4,2,1) -> none | C2: =VLOOKUP(d_scale!C2,Sheet2!$A$2:$B$4,2,1) -> low | D2: =VLOOKUP(d_scale!D2,Sheet2!$A$2:$B$4,2,1) -> low | E2: =VLOOKUP(d_scale!E2,Sheet2!$A$2:$B$4,2,1) -> none | F2: =VLOOKUP(d_scale!F2,Sheet2!$A$2:$B$4,2,1) -> none | G2: =VLOOKUP(d_scale!G2,Sheet2!$A$2:$B$4,2,1) -> none | H2: =VLOOKUP(d_scale!H2,Sheet2!$A$2:$B$4,2,1) -> none | ... ML2: =VLOOKUP(d_scale!ML2,Sheet2!$A$2:$B$4,2,1) -> low
A3: =VLOOKUP(d_scale!A3,Sheet2!$A$2:$B$4,2,1) -> none | B3: =VLOOKUP(d_scale!B3,Sheet2!$A$2:$B$4,2,1) -> none | C3: =VLOOKUP(d_scale!C3,Sheet2!$A$2:$B$4,2,1) -> low | D3: =VLOOKUP(d_scale!D3,Sheet2!$A$2:$B$4,2,1) -> low | E3: =VLOOKUP(d_scale!E3,Sheet2!$A$2:$B$4,2,1) -> none | F3: =VLOOKUP(d_scale!F3,Sheet2!$A$2:$B$4,2,1) -> none | G3: =VLOOKUP(d_scale!G3,Sheet2!$A$2:$B$4,2,1) -> none | H3: =VLOOKUP(d_scale!H3,Sheet2!$A$2:$B$4,2,1) -> none | ... ML3: =VLOOKUP(d_scale!ML3,Sheet2!$A$2:$B$4,2,1) -> none
A4: =VLOOKUP(d_scale!A4,Sheet2!$A$2:$B$4,2,1) -> none | B4: =VLOOKUP(d_scale!B4,Sheet2!$A$2:$B$4,2,1) -> none | C4: =VLOOKUP(d_scale!C4,Sheet2!$A$2:$B$4,2,1) -> none | D4: =VLOOKUP(d_scale!D4,Sheet2!$A$2:$B$4,2,1) -> none | E4: =VLOOKUP(d_scale!E4,Sheet2!$A$2:$B$4,2,1) -> none | F4: =VLOOKUP(d_scale!F4,Sheet2!$A$2:$B$4,2,1) -> none | G4: =VLOOKUP(d_scale!G4,Sheet2!$A$2:$B$4,2,1) -> none | H4: =VLOOKUP(d_scale!H4,Sheet2!$A$2:$B$4,2,1) -> none | ... ML4: =VLOOKUP(d_scale!ML4,Sheet2!$A$2:$B$4,2,1) -> low
A5: =VLOOKUP(d_scale!A5,Sheet2!$A$2:$B$4,2,1) -> none | B5: =VLOOKUP(d_scale!B5,Sheet2!$A$2:$B$4,2,1) -> none | C5: =VLOOKUP(d_scale!C5,Sheet2!$A$2:$B$4,2,1) -> low | D5: =VLOOKUP(d_scale!D5,Sheet2!$A$2:$B$4,2,1) -> none | E5: =VLOOKUP(d_scale!E5,Sheet2!$A$2:$B$4,2,1) -> none | F5: =VLOOKUP(d_scale!F5,Sheet2!$A$2:$B$4,2,1) -> none | G5: =VLOOKUP(d_scale!G5,Sheet2!$A$2:$B$4,2,1) -> none | H5: =VLOOKUP(d_scale!H5,Sheet2!$A$2:$B$4,2,1) -> none | ... ML5: =VLOOKUP(d_scale!ML5,Sheet2!$A$2:$B$4,2,1) -> high
A6: =VLOOKUP(d_scale!A6,Sheet2!$A$2:$B$4,2,1) -> high | B6: =VLOOKUP(d_scale!B6,Sheet2!$A$2:$B$4,2,1) -> none | C6: =VLOOKUP(d_scale!C6,Sheet2!$A$2:$B$4,2,1) -> none | D6: =VLOOKUP(d_scale!D6,Sheet2!$A$2:$B$4,2,1) -> low | E6: =VLOOKUP(d_scale!E6,Sheet2!$A$2:$B$4,2,1) -> none | F6: =VLOOKUP(d_scale!F6,Sheet2!$A$2:$B$4,2,1) -> none | G6: =VLOOKUP(d_scale!G6,Sheet2!$A$2:$B$4,2,1) -> none | H6: =VLOOKUP(d_scale!H6,Sheet2!$A$2:$B$4,2,1) -> none | ... ML6: =VLOOKUP(d_scale!ML6,Sheet2!$A$2:$B$4,2,1) -> none
A7: =VLOOKUP(d_scale!A7,Sheet2!$A$2:$B$4,2,1) -> none | B7: =VLOOKUP(d_scale!B7,Sheet2!$A$2:$B$4,2,1) -> none | C7: =VLOOKUP(d_scale!C7,Sheet2!$A$2:$B$4,2,1) -> high | D7: =VLOOKUP(d_scale!D7,Sheet2!$A$2:$B$4,2,1) -> high | E7: =VLOOKUP(d_scale!E7,Sheet2!$A$2:$B$4,2,1) -> low | F7: =VLOOKUP(d_scale!F7,Sheet2!$A$2:$B$4,2,1) -> none | G7: =VLOOKUP(d_scale!G7,Sheet2!$A$2:$B$4,2,1) -> none | H7: =VLOOKUP(d_scale!H7,Sheet2!$A$2:$B$4,2,1) -> none | ... ML7: =VLOOKUP(d_scale!ML7,Sheet2!$A$2:$B$4,2,1) -> none
A8: =VLOOKUP(d_scale!A8,Sheet2!$A$2:$B$4,2,1) -> none | B8: =VLOOKUP(d_scale!B8,Sheet2!$A$2:$B$4,2,1) -> none | C8: =VLOOKUP(d_scale!C8,Sheet2!$A$2:$B$4,2,1) -> low | D8: =VLOOKUP(d_scale!D8,Sheet2!$A$2:$B$4,2,1) -> none | E8: =VLOOKUP(d_scale!E8,Sheet2!$A$2:$B$4,2,1) -> high | F8: =VLOOKUP(d_scale!F8,Sheet2!$A$2:$B$4,2,1) -> none | G8: =VLOOKUP(d_scale!G8,Sheet2!$A$2:$B$4,2,1) -> none | H8: =VLOOKUP(d_scale!H8,Sheet2!$A$2:$B$4,2,1) -> none | ... ML8: =VLOOKUP(d_scale!ML8,Sheet2!$A$2:$B$4,2,1) -> high
A9: =VLOOKUP(d_scale!A9,Sheet2!$A$2:$B$4,2,1) -> none | B9: =VLOOKUP(d_scale!B9,Sheet2!$A$2:$B$4,2,1) -> none | C9: =VLOOKUP(d_scale!C9,Sheet2!$A$2:$B$4,2,1) -> none | D9: =VLOOKUP(d_scale!D9,Sheet2!$A$2:$B$4,2,1) -> none | E9: =VLOOKUP(d_scale!E9,Sheet2!$A$2:$B$4,2,1) -> high | F9: =VLOOKUP(d_scale!F9,Sheet2!$A$2:$B$4,2,1) -> high | G9: =VLOOKUP(d_scale!G9,Sheet2!$A$2:$B$4,2,1) -> none | H9: =VLOOKUP(d_scale!H9,Sheet2!$A$2:$B$4,2,1) -> none | ... ML9: =VLOOKUP(d_scale!ML9,Sheet2!$A$2:$B$4,2,1) -> low
A10: =VLOOKUP(d_scale!A10,Sheet2!$A$2:$B$4,2,1) -> high | B10: =VLOOKUP(d_scale!B10,Sheet2!$A$2:$B$4,2,1) -> high | C10: =VLOOKUP(d_scale!C10,Sheet2!$A$2:$B$4,2,1) -> none | D10: =VLOOKUP(d_scale!D10,Sheet2!$A$2:$B$4,2,1) -> none | E10: =VLOOKUP(d_scale!E10,Sheet2!$A$2:$B$4,2,1) -> none | F10: =VLOOKUP(d_scale!F10,Sheet2!$A$2:$B$4,2,1) -> none | G10: =VLOOKUP(d_scale!G10,Sheet2!$A$2:$B$4,2,1) -> none | H10: =VLOOKUP(d_scale!H10,Sheet2!$A$2:$B$4,2,1) -> none | ... ML10: =VLOOKUP(d_scale!ML10,Sheet2!$A$2:$B$4,2,1) -> none
A11: =VLOOKUP(d_scale!A11,Sheet2!$A$2:$B$4,2,1) -> none | B11: =VLOOKUP(d_scale!B11,Sheet2!$A$2:$B$4,2,1) -> none | C11: =VLOOKUP(d_scale!C11,Sheet2!$A$2:$B$4,2,1) -> none | D11: =VLOOKUP(d_scale!D11,Sheet2!$A$2:$B$4,2,1) -> low | E11: =VLOOKUP(d_scale!E11,Sheet2!$A$2:$B$4,2,1) -> low | F11: =VLOOKUP(d_scale!F11,Sheet2!$A$2:$B$4,2,1) -> none | G11: =VLOOKUP(d_scale!G11,Sheet2!$A$2:$B$4,2,1) -> none | H11: =VLOOKUP(d_scale!H11,Sheet2!$A$2:$B$4,2,1) -> none | ... ML11: =VLOOKUP(d_scale!ML11,Sheet2!$A$2:$B$4,2,1) -> low
A12: =VLOOKUP(d_scale!A12,Sheet2!$A$2:$B$4,2,1) -> none | B12: =VLOOKUP(d_scale!B12,Sheet2!$A$2:$B$4,2,1) -> none | C12: =VLOOKUP(d_scale!C12,Sheet2!$A$2:$B$4,2,1) -> high | D12: =VLOOKUP(d_scale!D12,Sheet2!$A$2:$B$4,2,1) -> none | E12: =VLOOKUP(d_scale!E12,Sheet2!$A$2:$B$4,2,1) -> none | F12: =VLOOKUP(d_scale!F12,Sheet2!$A$2:$B$4,2,1) -> none | G12: =VLOOKUP(d_scale!G12,Sheet2!$A$2:$B$4,2,1) -> none | H12: =VLOOKUP(d_scale!H12,Sheet2!$A$2:$B$4,2,1) -> none | ... ML12: =VLOOKUP(d_scale!ML12,Sheet2!$A$2:$B$4,2,1) -> low
A13: =VLOOKUP(d_scale!A13,Sheet2!$A$2:$B$4,2,1) -> none | B13: =VLOOKUP(d_scale!B13,Sheet2!$A$2:$B$4,2,1) -> none | C13: =VLOOKUP(d_scale!C13,Sheet2!$A$2:$B$4,2,1) -> none | D13: =VLOOKUP(d_scale!D13,Sheet2!$A$2:$B$4,2,1) -> low | E13: =VLOOKUP(d_scale!E13,Sheet2!$A$2:$B$4,2,1) -> high | F13: =VLOOKUP(d_scale!F13,Sheet2!$A$2:$B$4,2,1) -> high | G13: =VLOOKUP(d_scale!G13,Sheet2!$A$2:$B$4,2,1) -> none | H13: =VLOOKUP(d_scale!H13,Sheet2!$A$2:$B$4,2,1) -> none | ... ML13: =VLOOKUP(d_scale!ML13,Sheet2!$A$2:$B$4,2,1) -> none
... A43: =VLOOKUP(d_scale!A43,Sheet2!$A$2:$B$4,2,1) -> none | B43: =VLOOKUP(d_scale!B43,Sheet2!$A$2:$B$4,2,1) -> high | C43: =VLOOKUP(d_scale!C43,Sheet2!$A$2:$B$4,2,1) -> high | D43: =VLOOKUP(d_scale!D43,Sheet2!$A$2:$B$4,2,1) -> low | E43: =VLOOKUP(d_scale!E43,Sheet2!$A$2:$B$4,2,1) -> low | F43: =VLOOKUP(d_scale!F43,Sheet2!$A$2:$B$4,2,1) -> none | G43: =VLOOKUP(d_scale!G43,Sheet2!$A$2:$B$4,2,1) -> none | H43: =VLOOKUP(d_scale!H43,Sheet2!$A$2:$B$4,2,1) -> none | ... ML43: =VLOOKUP(d_scale!ML43,Sheet2!$A$2:$B$4,2,1) -> high

Sheet Sheet2
A2: =-100 -> -100 | B2: low
A3: -1 | B3: none
A4: 1 | B4: high
D5: =VLOOKUP(D1,A2:B5,2,1) -> none

Sheet d_scale
A1: APOD | B1: ART1 | C1: BRDT | D1: BTF3P11 | E1: CA4 | F1: CBS | G1: CELP | H1: CLK2 | I1: CPB1 | J1: ATF6B | K1: CYP3A7 | L1: CYP8B1 | M1: DEFB1 | N1: DPYS | O1: DUSP8 | P1: EDN2 | Q1: EGR1 | R1: EGR3 | S1: EGR4 | T1: EMP2 | U1: FMO2 | V1: GABRB2 | W1: GAP43 | X1: GBA1 | Y1: GNAT1 | Z1: GNG4 | AA1: GPR31 | AB1: FFAR3 | AC1: GRID1 | AD1: GRM7 | AE1: GYPB | AF1: H1-3 | AG1: HBE1 | AH1: MNX1 | AI1: CXCL8 | AJ1: INHBB | AK1: IVL | AL1: KCNC2 | AM1: KDR | AN1: KIR2DS4 | AO1: LBP | AP1: MEIS2 | AQ1: MYL2 | AR1: NNMT | AS1: NPHS1 | AT1: TNFRSF11B | AU1: PDCD1 | AV1: PENK | AW1: PON1 | AX1: PRKACG | AY1: TAS2R38 | AZ1: RORB | BA1: RXRB | BB1: CCL24 | BC1: CXCL6 | BD1: SKIC2 | BE1: SLC6A11 | BF1: SNCB | BG1: TBXT | BH1: TNNI3 | BI1: TRN-GTT2-7 | BJ1: ZNF177 | BK1: TUSC3 | BL1: MFAP5 | BM1: H2AC14 | BN1: H2AC16 | BO1: H4C4 | BP1: H4C2 | BQ1: PDLIM4 | BR1: DNAJA3 | BS1: ENTREP1 | BT1: CHST3 | BU1: STXBP5L | BV1: ARNT2 | BW1: KBTBD11 | BX1: LINC01587 | BY1: CHST4 | BZ1: MYCNOS | CA1: TBR1 | CB1: PROKR1 | CC1: PPBPP2 | CD1: TMSB15A | CE1: PRDM7 | CF1: PTP4A3 | CG1: ADGRL3 | CH1: SCRIB | CI1: HYAL4 | CJ1: DDAH2 | CK1: SPDEF | CL1: ARHGEF26 | CM1: ANKRD2 | CN1: SRPX2 | CO1: IGHV3-21 | CP1: IGHV1-18 | CQ1: IGLVI-56 | CR1: IGLV10-67 | CS1: SCHIP1 | CT1: KCNIP1 | CU1: G0S2 | CV1: DHH | CW1: PI15 | CX1: DUSP13 | CY1: ELOA2 | CZ1: PCDH18 | DA1: ASPN | DB1: KIRREL1 | DC1: LARP6 | DD1: SVOP | DE1: GNG12 | DF1: PCDHB2 | DG1: VTRNA1-1 | DH1: LGALS14 | DI1: OTOR | DJ1: VARS2 | DK1: DPP10 | DL1: WFDC1 | DM1: ABCG8 | DN1: OR51B2 | DO1: CORO7 | DP1: BTNL8 | DQ1: GRHL2 | DR1: SEMA6D | DS1: OR6N2 | DT1: COL21A1 | DU1: GSG1 | DV1: H2AB3 | DW1: MRO | DX1: PCDHB19P | DY1: MYH16 | DZ1: GARIN1B | EA1: LNX1 | EB1: MEDAG | EC1: WNT3A | ED1: LINC00923 | EE1: GGTLC1 | EF1: LOC93463 | EG1: CADPS2 | EH1: MRAP2 | EI1: TMEM54 | EJ1: LENG8 | EK1: GALNT15 | EL1: CALHM3 | EM1: FAT3 | EN1: ASCL4 | EO1: SPIC | EP1: FLJ40194 | EQ1: CALR3 | ER1: ZNF648 | ES1: LINC01620 | ET1: PPP1R13B-DT | EU1: LOC145474 | EV1: C16orf92 | EW1: BICDL2 | EX1: ODF4 | EY1: CD300LG | EZ1: LYPD4 | FA1: ZNF560 | FB1: LRRC71 | FC1: SMYD1 | FD1: LINC01618 | FE1: FBXO16 | FF1: NKX6-3 | FG1: C12orf50 | FH1: ANKFN1 | FI1: CDC20B | FJ1: CYS1 | FK1: HEPACAM2 | FL1: CACNA1G-AS1 | FM1: CBARP | FN1: LINC01018 | FO1: LINC01743 | FP1: TAS2R20 | FQ1: TFAMP1 | FR1: SEC14L3 | FS1: TRHDE-AS1 | FT1: LINC00551 | FU1: SLC25A47 | FV1: TMEM235 | FW1: PIGW | FX1: HMSD | FY1: RSPO1 | FZ1: DNAJB8-AS1 | GA1: HTR3E | GB1: C3orf70 | GC1: YIPF7 | GD1: C4orf54 | GE1: ANKRD45 | GF1: LINC01141 | GG1: RSPO2 | GH1: OR52B6 | GI1: DCDC1 | GJ1: LRRC9 | GK1: COL6A4P1 | GL1: STRA8 | GM1: SPATA12 | GN1: C9orf50 | GO1: SLC16A12 | GP1: ZNF728 | GQ1: LINC02591 | GR1: OR11H4 | GS1: OR2L8 | GT1: OR1K1 | GU1: FOXI2 | GV1: TUSC8 | GW1: BCAR4 | GX1: LINC00114 | GY1: BCRP2 | GZ1: ACOXL-AS1 | HA1: LINC02232 | HB1: RNF223 | HC1: MIR23A | HD1: MIR296 | HE1: GLUD1P2 | HF1: MGC34796 | HG1: LOC440300 | HH1: NA...217 | HI1: OR13G1 | HJ1: DPY19L2P1 | HK1: CCNYL6 | HL1: PIRT | HM1: EVPLL | HN1: LSP1P5 | HO1: LINC00693 | HP1: GOLGA6FP | HQ1: RPS7P5 | HR1: SPATA31C2 | HS1: NAP1L6P | HT1: RD3L | HU1: SFTPA1 | HV1: FER1L6 | HW1: SCARNA20 | HX1: MIR584 | HY1: MIR602 | HZ1: MIR640 | IA1: FAM245A | IB1: KRTAP9-1 | IC1: LINC00977 | ID1: LOC729080 | IE1: LMO7DN | IF1: SNORD116-2 | IG1: SNORD116-27 | IH1: SNORD121A | II1: SNORD11B | IJ1: SNORA11B | IK1: MIR298 | IL1: MIR942 | IM1: LINC02291 | IN1: LOC100130673 | IO1: BSN-DT | IP1: SHISAL2B | IQ1: RNU4ATAC | IR1: RNA5S9 | IS1: DBIL5P2 | IT1: TRR-TCT3-1 | IU1: TRD-GTC2-6 | IV1: TRR-CCT3-1 | IW1: TRS-GCT4-3 | IX1: RAMP2-AS1 | IY1: LOC100270746 | IZ1: LMCD1-AS1 | JA1: MIR1289-1 | JB1: MIR548N | JC1: RASAL2-AS1 | JD1: MIR3128 | JE1: MIR3190 | JF1: MIR3153 | JG1: MIR4313 | JH1: BAALC-AS1 | JI1: SH3PXD2A-AS1 | JJ1: TMEM210 | JK1: LINC02606 | JL1: DOCK4-AS1 | JM1: CT66 | JN1: SOX21-AS1 | JO1: LINC02082 | JP1: MIR4477A | JQ1: MIR4673 | JR1: MIR4738 | JS1: MIR4748 | JT1: MIR378E | JU1: WDR87BP | JV1: MIR5696 | JW1: MIR5189 | JX1: MIR5192 | JY1: SRGAP2-AS1 | JZ1: RNU6-31P | KA1: RNU6-19P | KB1: LPP-AS1 | KC1: GRM7-AS1 | KD1: ABCC5-AS1 | KE1: ARHGAP26-AS1 | KF1: ARHGEF9-IT1 | KG1: DNAH17-AS1 | KH1: CYYR1-AS1 | KI1: LINC01356 | KJ1: LOC101060553 | KK1: LINC01375 | KL1: LOC101927040 | KM1: LOC101927143 | KN1: LINC01266 | KO1: LOC101927345 | KP1: NUP133-DT | KQ1: LOC101927657 | KR1: LOC101927668 | KS1: LINC01695 | KT1: LINC01483 | KU1: WDR35-DT | KV1: ZPLD2P | KW1: RGS5-AS1 | KX1: P4HA3-AS1 | KY1: LINC01509 | KZ1: LOC101928733 | LA1: LINC01450 | LB1: LOC101928748 | LC1: LINC01447 | LD1: LOC101929141 | LE1: LOC101929380 | LF1: LINC02099 | LG1: ETS1-AS1 | LH1: IFT74-AS1 | LI1: LOC101929626 | LJ1: NA...323 | LK1: MIR6761 | LL1: MIR6800 | LM1: MIR6885 | LN1: MIR8064 | LO1: MIR6754 | LP1: MIR6778 | LQ1: E2F5-DT | LR1: LOC102724135 | LS1: NA...332 | LT1: NA...333 | LU1: LOC102724467 | LV1: LINC00377 | LW1: NA...336 | LX1: NA...337 | LY1: NA...338 | LZ1: LOC105371031 | MA1: STUB1-DT | MB1: NA...341 | MC1: NA...342 | MD1: NA...343 | ME1: LOC105375840 | MF1: NA...345 | MG1: NA...346 | MH1: NA...347 | MI1: NA...348 | MJ1: NA...349 | MK1: NA...350 | ML1: NA...351
A2: 0.88615688 | B2: -0.9121763 | C2: -1.0334736 | D2: -1.0013755 | E2: -0.44692616 | F2: -0.086705038 | G2: 0.82734038 | H2: 0.19785037 | I2: -0.78528732 | J2: -0.65678868 | K2: -0.6892635 | L2: 0.32280373 | M2: 0.38023295 | N2: -1.1758187 | O2: 0.44983742 | P2: -0.9847419 | Q2: -0.36246692 | R2: 0.41095767 | S2: -0.61910831 | T2: 1.3200643 | U2: 0.53185884 | V2: -0.23158829 | W2: 1.7139906 | X2: 1.242712 | Y2: -0.87148306 | Z2: -0.0080553793 | AA2: -0.86793898 | AB2: -0.79498344 | AC2: 0.96440302 | AD2: -0.92848266 | AE2: -0.88653774 | AF2: 0.52894822 | AG2: 0.84683917 | AH2: 0.82998971 | AI2: -0.80976539 | AJ2: -0.0090093502 | AK2: 1.1770584 | AL2: -0.6975433 | AM2: 0.51653439 | AN2: -0.6761011 | AO2: 1.0088124 | AP2: -1.6122179 | AQ2: 1.3425822 | AR2: 0.4122571 | AS2: -0.0060529136 | AT2: -0.86499102 | AU2: 0.61903597 | AV2: 0.1155278 | AW2: 0.762769 | AX2: 1.8226417 | AY2: 0.94858903 | AZ2: 0.057416271 | BA2: -0.12962138 | BB2: 0.91794222 | BC2: -0.5091068 | BD2: 2.0297056 | BE2: -0.55555928 | BF2: 3.3249022 | BG2: 1.9940562 | BH2: -0.62999762 | BI2: -1.1893342 | BJ2: 1.9308133 | BK2: -0.70135916 | BL2: 1.8767173 | BM2: 1.9410303 | BN2: -1.0015264 | BO2: 1.2495776 | BP2: -0.55704037 | BQ2: -0.066613641 | BR2: 0.63081946 | BS2: 1.6095879 | BT2: 0.39137629 | BU2: -0.68580052 | BV2: -0.84236745 | BW2: 0.69895583 | BX2: 0.54432793 | BY2: -0.12668307 | BZ2: 0.9837408 | CA2: -0.57180207 | CB2: -0.90526706 | CC2: 0.97790533 | CD2: -1.1552511 | CE2: -0.11429136 | CF2: 0.68948226 | CG2: -0.63260595 | CH2: -0.67877043 | CI2: -0.77729947 | CJ2: -0.180577 | CK2: -0.18089872 | CL2: 0.26670921 | CM2: -0.53655059 | CN2: -0.5405702 | CO2: 0.063811527 | CP2: -0.27264325 | CQ2: 1.1174752 | CR2: 0.60387066 | CS2: -1.093904 | CT2: -0.63407572 | CU2: -0.64961249 | CV2: -0.56152404 | CW2: -0.55401889 | CX2: -0.98210878 | CY2: 2.1092491 | CZ2: 0.58426331 | DA2: -0.89268294 | DB2: 1.6200452 | DC2: -0.66621525 | DD2: -0.55797706 | DE2: 0.14343394 | DF2: -1.0561184 | DG2: -0.89151441 | DH2: 0.064058889 | DI2: 1.8380039 | DJ2: -0.69223813 | DK2: 1.1383252 | DL2: -0.72091215 | DM2: 0.84114487 | DN2: -0.63141956 | DO2: -0.38644402 | DP2: 0.092451487 | DQ2: -1.3084884 | DR2: 0.46073096 | DS2: 0.69798898 | DT2: -0.73499074 | DU2: 0.41018254 | DV2: 1.0919963 | DW2: 0.75272061 | DX2: 1.386531 | DY2: -1.1176176 | DZ2: -0.71955873 | EA2: -0.73529549 | EB2: 0.39860741 | EC2: -1.1207482 | ED2: -0.74145331 | EE2: 0.65979937 | EF2: 0.025473445 | EG2: 0.62503836 | EH2: 0.61871237 | EI2: -0.72498131 | EJ2: -0.39599937 | EK2: 0.43369775 | EL2: 0.25628405 | EM2: -0.83725166 | EN2: 0.70705722 | EO2: 1.3797778 | EP2: -0.61256349 | EQ2: -0.87347945 | ER2: -0.7698132 | ES2: -0.57363044 | ET2: -0.73401494 | EU2: -1.2419783 | EV2: -0.58034107 | EW2: 0.78945878 | EX2: 0.69884626 | EY2: 0.42893089 | EZ2: -0.99487806 | FA2: -0.69280401 | FB2: -0.12150825 | FC2: -0.61630895 | FD2: 0.62813716 | FE2: -0.50066619 | FF2: 1.2091625 | FG2: -0.97556486 | FH2: -0.37313783 | FI2: 1.1765337 | FJ2: 0.090453245 | FK2: 0.96678572 | FL2: -1.026315 | FM2: -0.87318544 | FN2: -0.65010763 | FO2: -0.66242474 | FP2: -0.52402953 | FQ2: 0.69445274 | FR2: 1.48406 | FS2: -1.161487 | FT2: -0.6423118 | FU2: 0.024433232 | FV2: 1.2512676 | FW2: 1.5748125 | FX2: -0.047391133 | FY2: 2.0054281 | FZ2: -0.73580774 | GA2: -0.70653662 | GB2: -0.0065294882 | GC2: 0.43521913 | GD2: -1.0701766 | GE2: -1.1480909 | GF2: 0.42164798 | GG2: -0.67739032 | GH2: 0.12370926 | GI2: 0.60482526 | GJ2: -0.51472918 | GK2: -0.14542111 | GL2: -0.85756157 | GM2: 1.5121529 | GN2: -0.76879679 | GO2: -0.78637721 | GP2: 0.55735362 | GQ2: -0.46185192 | GR2: -0.94957871 | GS2: -0.75459762 | GT2: -1.2778804 | GU2: 0.76127646 | GV2: -0.69827327 | GW2: -0.70019907 | GX2: -0.75778951 | GY2: -1.0555726 | GZ2: 0.093443697 | HA2: -0.72169835 | HB2: -1.1094367 | HC2: -0.97964404 | HD2: 1.0351386 | HE2: 0.36045829 | HF2: -1.118375 | HG2: 1.2387627 | HH2: 0.38822867 | HI2: 2.427271 | HJ2: 0.28607187 | HK2: 1.3518409 | HL2: -0.60353715 | HM2: 0.66551055 | HN2: -1.0092621 | HO2: 1.4764855 | HP2: 1.4042585 | HQ2: 0.86705286 | HR2: 0.51530308 | HS2: -1.0902197 | HT2: 0.40225779 | HU2: 0.80130229 | HV2: 0.82187869 | HW2: -1.0256053 | HX2: 1.0404464 | HY2: -0.49650348 | HZ2: -0.79053687 | IA2: -0.61477956 | IB2: -0.46129459 | IC2: 1.7456892 | ID2: 0.99778569 | IE2: 0.53636109 | IF2: -1.2299179 | IG2: 0.52707353 | IH2: 0.033777366 | II2: -1.0698464 | IJ2: -0.94665909 | IK2: -0.80685508 | IL2: 0.42420449 | IM2: 1.9898285 | IN2: -0.80802847 | IO2: -0.98301446 | IP2: -0.72293283 | IQ2: 0.27965353 | IR2: 0.34929856 | IS2: 0.44606371 | IT2: -0.68817015 | IU2: -1.6717935 | IV2: -0.93515491 | IW2: 1.1222218 | IX2: -0.75457709 | IY2: -0.8929072 | IZ2: -0.77166367 | JA2: -0.63265001 | JB2: -0.91868072 | JC2: 1.0190708 | JD2: 0.12808047 | JE2: 0.98530298 | JF2: 0.085243908 | JG2: -0.56237669 | JH2: -1.0196433 | JI2: 0.66349011 | JJ2: -0.94892656 | JK2: -0.34937098 | JL2: -0.14783332 | JM2: 0.74559312 | JN2: -0.78384407 | JO2: 1.4962523 | JP2: -0.052096221 | JQ2: -0.93025003 | JR2: -0.8132075 | JS2: -0.57066971 | JT2: -1.296673 | JU2: 1.0854166 | JV2: -0.6805642 | JW2: -0.93861576 | JX2: -0.048692438 | JY2: -0.17843072 | JZ2: 1.7239456 | KA2: -1.2104448 | KB2: 1.0104015 | KC2: 0.54993782 | KD2: -0.91497148 | KE2: -1.4826044 | KF2: -0.75250815 | KG2: -0.90124271 | KH2: -1.0833014 | KI2: 1.2311349 | KJ2: 0.35457434 | KK2: -0.62879698 | KL2: -0.43352562 | KM2: -0.010404646 | KN2: 0.45612156 | KO2: -0.55039514 | KP2: 1.5411784 | KQ2: -0.66695641 | KR2: -0.57652865 | KS2: 1.1901808 | KT2: -0.6347818 | KU2: 0.60387314 | KV2: -1.522977 | KW2: 1.922654 | KX2: -0.5711001 | KY2: 1.4911782 | KZ2: -0.6402398 | LA2: 0.81814368 | LB2: -0.60817111 | LC2: -0.70848649 | LD2: 0.26900433 | LE2: -0.95889164 | LF2: 0.17471425 | LG2: -0.73689781 | LH2: 0.43923125 | LI2: -0.90585909 | LJ2: -1.0472901 | LK2: -1.023576 | LL2: -0.75193816 | LM2: -0.62349785 | LN2: -1.0984849 | LO2: 0.17143595 | LP2: 1.0033262 | LQ2: 0.85525057 | LR2: 0.12395331 | LS2: -0.43742745 | LT2: -0.68104255 | LU2: -1.0816996 | LV2: -0.35666588 | LW2: -1.7129636 | LX2: -1.1928623 | LY2: 1.6832449 | LZ2: -0.59607784 | MA2: -0.10131768 | MB2: 0.47685204 | MC2: -0.84037404 | MD2: 2.1783215 | ME2: 0.2413857 | MF2: -0.76725644 | MG2: 0.69953778 | MH2: 0.65689103 | MI2: 0.23509666 | MJ2: -0.5717695 | MK2: -0.65294868 | ML2: -1.015312
A3: -0.99790711 | B3: -0.9121763 | C3: -1.0334736 | D3: -1.0013755 | E3: 0.11591728 | F3: 0.78638498 | G3: 0.79674446 | H3: -0.0061783947 | I3: -0.78528732 | J3: -0.65678868 | K3: -0.6892635 | L3: 0.85851043 | M3: -0.93162884 | N3: 1.0204089 | O3: 0.85746471 | P3: -0.9847419 | Q3: -0.66242647 | R3: -0.57365538 | S3: -0.61910831 | T3: 0.67668748 | U3: 1.5814298 | V3: 2.0256888 | W3: 0.98385357 | X3: 1.6852456 | Y3: 0.63032342 | Z3: 1.9044853 | AA3: -0.86793898 | AB3: -0.79498344 | AC3: -1.0752847 | AD3: -0.92848266 | AE3: -0.88653774 | AF3: 1.1953269 | AG3: 0.32960327 | AH3: -0.62306865 | AI3: -0.96158088 | AJ3: 0.25465623 | AK3: -0.60195878 | AL3: -0.6975433 | AM3: -0.72955579 | AN3: 0.51171688 | AO3: -0.65530808 | AP3: -1.6122179 | AQ3: 1.7184186 | AR3: -0.15518339 | AS3: 0.50542098 | AT3: 0.49281376 | AU3: 2.5297313 | AV3: -1.2641843 | AW3: 1.3900026 | AX3: 1.4941416 | AY3: 0.91228241 | AZ3: 0.24442647 | BA3: -0.58353878 | BB3: 0.5128852 | BC3: -0.5091068 | BD3: -0.47747463 | BE3: -0.55555928 | BF3: 1.1793984 | BG3: -0.93180341 | BH3: -0.62999762 | BI3: 0.97795971 | BJ3: 1.1488175 | BK3: 0.65838874 | BL3: -1.1348671 | BM3: 2.4587923 | BN3: -1.0015264 | BO3: -0.85620418 | BP3: 1.0806332 | BQ3: 0.44465821 | BR3: -1.0032779 | BS3: 0.57183705 | BT3: -0.96890116 | BU3: -0.68580052 | BV3: -0.84236745 | BW3: 0.66942847 | BX3: 0.51010952 | BY3: -1.1391 | BZ3: 0.58463319 | CA3: -0.57180207 | CB3: 0.058282591 | CC3: -0.88046141 | CD3: 1.2056511 | CE3: -1.2488662 | CF3: -0.84686222 | CG3: -0.63260595 | CH3: -0.59127963 | CI3: -0.27768682 | CJ3: 3.6130529 | CK3: -1.7249868 | CL3: -1.2010142 | CM3: -0.53655059 | CN3: -0.5405702 | CO3: 0.32074059 | CP3: 1.674743 | CQ3: -0.84141325 | CR3: 1.050308 | CS3: 2.2405801 | CT3: -0.63407572 | CU3: -0.011899048 | CV3: -0.56152404 | CW3: -0.55401889 | CX3: 0.52911217 | CY3: 0.72355711 | CZ3: -0.86345674 | DA3: 0.50797907 | DB3: 1.5729136 | DC3: -0.66621525 | DD3: -0.55797706 | DE3: -0.85351022 | DF3: -1.0561184 | DG3: -0.89151441 | DH3: 0.93915326 | DI3: -0.76553265 | DJ3: -0.69223813 | DK3: -0.59438477 | DL3: 0.64142699 | DM3: -1.0438517 | DN3: 0.83947564 | DO3: -0.38644402 | DP3: -1.1649058 | DQ3: -1.3084884 | DR3: -0.77571508 | DS3: 0.65136982 | DT3: 2.0928744 | DU3: 1.1523488 | DV3: 0.51955743 | DW3: 0.37327217 | DX3: -0.5310394 | DY3: -1.1176176 | DZ3: -0.71955873 | EA3: -0.73529549 | EB3: -1.0005173 | EC3: 0.24755839 | ED3: -0.74145331 | EE3: -0.97321396 | EF3: -0.011395008 | EG3: -0.73487476 | EH3: -1.5830907 | EI3: -0.72498131 | EJ3: -0.38779218 | EK3: -0.093444475 | EL3: 0.95877944 | EM3: -0.83725166 | EN3: 0.93891141 | EO3: -0.76302354 | EP3: 0.77916361 | EQ3: 0.61568426 | ER3: -0.7698132 | ES3: -0.57363044 | ET3: -0.73401494 | EU3: -0.29630981 | EV3: -0.58034107 | EW3: 0.99467205 | EX3: 0.66762458 | EY3: 0.86082206 | EZ3: -0.99487806 | FA3: -0.69280401 | FB3: -0.9316922 | FC3: 1.6286292 | FD3: -0.7654858 | FE3: 0.52094495 | FF3: -0.72765744 | FG3: -0.97556486 | FH3: -0.37313783 | FI3: 1.5443409 | FJ3: -0.93815765 | FK3: -1.2323102 | FL3: 1.5177511 | FM3: -0.87318544 | FN3: -0.65010763 | FO3: -0.66242474 | FP3: -0.52402953 | FQ3: -0.14073857 | FR3: 1.6061694 | FS3: -1.161487 | FT3: 1.4593196 | FU3: -1.0147504 | FV3: 0.39891988 | FW3: 1.5298745 | FX3: -0.0753862 | FY3: -0.63869213 | FZ3: -0.73580774 | GA3: 1.0848191 | GB3: 0.24008184 | GC3: -0.99484391 | GD3: -1.0701766 | GE3: 1.3133694 | GF3: 0.99959549 | GG3: -0.67739032 | GH3: -0.45024973 | GI3: 0.81911778 | GJ3: 0.61551076 | GK3: -1.5311866 | GL3: -0.85756157 | GM3: -0.98893612 | GN3: 1.2592505 | GO3: -0.78637721 | GP3: 0.90347153 | GQ3: -0.46185192 | GR3: 1.5473035 | GS3: -0.75459762 | GT3: -1.2778804 | GU3: -0.68206972 | GV3: -0.69827327 | GW3: -0.70019907 | GX3: -0.75778951 | GY3: 0.99431485 | GZ3: -0.32317267 | HA3: -0.72169835 | HB3: -0.012869343 | HC3: -1.2037507 | HD3: -0.86001239 | HE3: 0.32916801 | HF3: 0.24935679 | HG3: -0.66566684 | HH3: 0.96054239 | HI3: -0.42806668 | HJ3: 1.2822332 | HK3: 1.3108612 | HL3: -0.60353715 | HM3: -0.93082623 | HN3: 0.31073222 | HO3: -0.86985443 | HP3: -0.82141074 | HQ3: -0.78517707 | HR3: -0.97035627 | HS3: -0.046271841 | HT3: -1.2393511 | HU3: -1.175355 | HV3: -0.90699112 | HW3: 0.92820158 | HX3: -0.62933971 | HY3: 1.8601799 | HZ3: -0.79053687 | IA3: -0.61477956 | IB3: -0.46129459 | IC3: 0.29619783 | ID3: -0.86153222 | IE3: -0.91723867 | IF3: -0.072072772 | IG3: 2.2865972 | IH3: 0.0065529104 | II3: 0.35285442 | IJ3: 0.73715617 | IK3: 0.91919804 | IL3: -0.90422265 | IM3: 0.78731953 | IN3: -0.80802847 | IO3: 1.3222283 | IP3: 1.0273834 | IQ3: 0.82655242 | IR3: 3.5098602 | IS3: 0.40701338 | IT3: 2.7636548 | IU3: -0.12398164 | IV3: 0.75718177 | IW3: 0.18488408 | IX3: -0.75457709 | IY3: -0.8929072 | IZ3: -0.77166367 | JA3: 0.93510013 | JB3: 1.2989895 | JC3: -0.66542744 | JD3: -1.096648 | JE3: 0.95053028 | JF3: -1.048922 | JG3: -0.56237669 | JH3: -0.047433443 | JI3: 1.4023184 | JJ3: 2.4261418 | JK3: -0.37521934 | JL3: 0.99075866 | JM3: -0.63715609 | JN3: -0.78384407 | JO3: -0.55329006 | JP3: 1.1498291 | JQ3: 1.1335473 | JR3: -0.8132075 | JS3: -0.57066971 | JT3: -1.296673 | JU3: -0.87500668 | JV3: -0.6805642 | JW3: -0.93861576 | JX3: -0.080425795 | JY3: -1.3337257 | JZ3: 0.98633415 | KA3: -1.2104448 | KB3: 1.3760945 | KC3: -0.40206563 | KD3: 0.62232602 | KE3: -0.63138426 | KF3: 1.1770366 | KG3: 1.6970895 | KH3: 0.16151915 | KI3: 1.9769622 | KJ3: 0.12080493 | KK3: -0.62879698 | KL3: -0.43352562 | KM3: -0.57059816 | KN3: 0.42889761 | KO3: -0.55039514 | KP3: 0.81823175 | KQ3: -0.66695641 | KR3: -0.57652865 | KS3: 1.1514366 | KT3: 1.0637866 | KU3: 0.23354107 | KV3: 1.2335637 | KW3: -0.74426131 | KX3: 1.6200271 | KY3: -1.4922034 | KZ3: 1.0490941 | LA3: 2.6997552 | LB3: -0.60817111 | LC3: -0.70848649 | LD3: -0.038306035 | LE3: 1.4146254 | LF3: 0.13508367 | LG3: 1.1329387 | LH3: 0.40851753 | LI3: 0.99030304 | LJ3: -1.0472901 | LK3: -1.023576 | LL3: -0.75193816 | LM3: -0.62349785 | LN3: 1.4013722 | LO3: 0.14589904 | LP3: -0.012514548 | LQ3: -0.82076162 | LR3: 1.2523108 | LS3: -1.4949511 | LT3: -0.68104255 | LU3: -1.0816996 | LV3: -0.11080196 | LW3: 1.2381727 | LX3: -0.24771062 | LY3: 0.81106943 | LZ3: -0.59607784 | MA3: 2.1305233 | MB3: -0.89779763 | MC3: -0.84037404 | MD3: -0.74791143 | ME3: 0.73350414 | MF3: -0.76725644 | MG3: -1.0734054 | MH3: -0.3799054 | MI3: 1.2802606 | MJ3: 1.2416712 | MK3: 0.42299426 | ML3: 0.11214671
A4: 0.37818443 | B4: -0.9121763 | C4: -0.16760325 | D4: 0.96656728 | E4: 0.67597859 | F4: 0.33231362 | G4: -0.66538178 | H4: 0.01863703 | I4: -0.78528732 | J4: -0.0055530579 | K4: 1.0511689 | L4: 0.96230863 | M4: -0.93162884 | N4: 0.46265268 | O4: -0.60945754 | P4: -0.9847419 | Q4: -0.20267361 | R4: -0.26320209 | S4: 0.64976867 | T4: -0.77597705 | U4: 0.12409412 | V4: 0.53352296 | W4: -0.66470459 | X4: 1.1852893 | Y4: -0.87148306 | Z4: -1.0918542 | AA4: 0.72949286 | AB4: -0.79498344 | AC4: -1.0752847 | AD4: 0.80424073 | AE4: -0.88653774 | AF4: 0.98659526 | AG4: 2.4052113 | AH4: 0.87692111 | AI4: -0.072715506 | AJ4: 1.3940152 | AK4: -0.60195878 | AL4: -0.6975433 | AM4: 1.4954439 | AN4: -0.6761011 | AO4: -0.65530808 | AP4: -0.86806455 | AQ4: 0.83371325 | AR4: 0.89917012 | AS4: -1.3366024 | AT4: 0.56595592 | AU4: 1.2488407 | AV4: 2.3537997 | AW4: 0.81543119 | AX4: -0.83505797 | AY4: 1.0057785 | AZ4: 0.71249179 | BA4: 1.6948142 | BB4: 1.1502333 | BC4: -0.5091068 | BD4: -0.30529716 | BE4: -0.55555928 | BF4: -0.61161971 | BG4: 0.21400582 | BH4: -0.62999762 | BI4: 1.7573107 | BJ4: -0.61496933 | BK4: 0.90014482 | BL4: 0.1382262 | BM4: 0.88990809 | BN4: -1.0015264 | BO4: -0.85620418 | BP4: -0.55704037 | BQ4: 0.72789391 | BR4: -1.1081522 | BS4: 0.96507508 | BT4: 1.4599896 | BU4: 0.81117167 | BV4: 0.82590756 | BW4: 0.74548448 | BX4: -0.1301698 | BY4: 1.4166655 | BZ4: 1.6458339 | CA4: -0.57180207 | CB4: -0.90526706 | CC4: 0.68635334 | CD4: -1.1552511 | CE4: 0.77840355 | CF4: -0.84686222 | CG4: -0.63260595 | CH4: 2.2267566 | CI4: -0.77729947 | CJ4: -0.018634625 | CK4: 0.87354071 | CL4: 1.4197304 | CM4: 1.0953899 | CN4: 1.2148809 | CO4: 0.60736048 | CP4: -0.3324396 | CQ4: 1.1806978 | CR4: 0.22876322 | CS4: 0.66629871 | CT4: 1.4015563 | CU4: 0.29382772 | CV4: 1.4205972 | CW4: -0.55401889 | CX4: 0.96703712 | CY4: -0.60890731 | CZ4: -0.86345674 | DA4: -0.89268294 | DB4: -0.68165143 | DC4: -0.66621525 | DD4: 1.1975463 | DE4: 0.60143693 | DF4: 0.91406467 | DG4: 0.79161951 | DH4: 1.5567905 | DI4: -0.76553265 | DJ4: 0.51446233 | DK4: 1.1942478 | DL4: -0.72091215 | DM4: 0.54541503 | DN4: -0.63141956 | DO4: 2.0913316 | DP4: -0.31219475 | DQ4: 0.4201221 | DR4: 1.4335791 | DS4: -0.012100471 | DT4: -0.73499074 | DU4: -1.5224694 | DV4: 1.1521424 | DW4: -0.34528207 | DX4: -0.5310394 | DY4: -1.1176176 | DZ4: 0.98676072 | EA4: 0.47190203 | EB4: 0.76777356 | EC4: 0.32126626 | ED4: 1.8210333 | EE4: 1.0906782 | EF4: 0.62279735 | EG4: 0.66892913 | EH4: 0.025540812 | EI4: 0.91234766 | EJ4: -0.45539508 | EK4: -0.3964224 | EL4: -1.0271638 | EM4: -0.83725166 | EN4: 0.4287928 | EO4: -0.76302354 | EP4: -0.15446133 | EQ4: -0.87347945 | ER4: -0.7698132 | ES4: -0.57363044 | ET4: -0.73401494 | EU4: 1.1952411 | EV4: -0.58034107 | EW4: -0.78041078 | EX4: -0.8244061 | EY4: -0.69341824 | EZ4: -0.99487806 | FA4: 1.0851024 | FB4: 0.73393385 | FC4: -0.61630895 | FD4: -0.7654858 | FE4: 0.11447069 | FF4: -0.72765744 | FG4: 0.15702702 | FH4: -0.37313783 | FI4: -0.66906633 | FJ4: 0.56300416 | FK4: -1.2323102 | FL4: -1.026315 | FM4: 0.51401924 | FN4: 1.983495 | FO4: -0.66242474 | FP4: -0.52402953 | FQ4: -0.48773075 | FR4: 0.91384782 | FS4: -1.161487 | FT4: -0.6423118 | FU4: -1.0147504 | FV4: 0.94324658 | FW4: -0.61840648 | FX4: -0.0032938733 | FY4: -0.63869213 | FZ4: 0.54329091 | GA4: -0.70653662 | GB4: 0.85823761 | GC4: 1.0914617 | GD4: -1.0701766 | GE4: 2.2761233 | GF4: 0.47017214 | GG4: -0.67739032 | GH4: -1.7461774 | GI4: 1.3562633 | GJ4: -0.88227045 | GK4: 0.22022014 | GL4: -0.85756157 | GM4: -0.98893612 | GN4: 1.3684972 | GO4: 1.0711392 | GP4: -1.1794127 | GQ4: 2.1011466 | GR4: 0.91270419 | GS4: -0.75459762 | GT4: 1.1149438 | GU4: -0.68206972 | GV4: 1.1942283 | GW4: 0.74704584 | GX4: 1.2363097 | GY4: 0.47291243 | GZ4: 0.94865172 | HA4: 0.91124486 | HB4: -1.1094367 | HC4: -0.029624421 | HD4: -0.86001239 | HE4: -0.051608296 | HF4: 0.32303369 | HG4: -0.66566684 | HH4: 1.5578218 | HI4: -0.42806668 | HJ4: -0.75458257 | HK4: -0.64819008 | HL4: -0.60353715 | HM4: 0.71703183 | HN4: -1.0092621 | HO4: -0.86985443 | HP4: -0.15590061 | HQ4: -0.78517707 | HR4: 0.90730183 | HS4: 0.64759495 | HT4: 0.4552402 | HU4: -1.175355 | HV4: -0.90699112 | HW4: -1.0256053 | HX4: 2.3542508 | HY4: -0.49650348 | HZ4: 0.79640679 | IA4: 1.8679681 | IB4: 1.7475028 | IC4: 0.37141818 | ID4: -0.86153222 | IE4: -0.91723867 | IF4: -0.0096650917 | IG4: -0.73360937 | IH4: -1.2944571 | II4: 0.76585389 | IJ4: -0.94665909 | IK4: 1.012177 | IL4: -0.90422265 | IM4: -1.2926951 | IN4: 0.79398341 | IO4: 1.4461773 | IP4: 0.58182992 | IQ4: -0.22078354 | IR4: 0.38073856 | IS4: -1.4609808 | IT4: -0.68817015 | IU4: -0.51798637 | IV4: 0.84834447 | IW4: -1.0368897 | IX4: -0.75457709 | IY4: 1.6130066 | IZ4: 2.0876201 | JA4: -0.63265001 | JB4: -0.91868072 | JC4: 1.0734374 | JD4: 0.69072914 | JE4: -0.71119756 | JF4: -1.048922 | JG4: -0.56237669 | JH4: 0.75386212 | JI4: 2.3538587 | JJ4: 1.4257033 | JK4: 0.98844242 | JL4: 0.2926121 | JM4: -0.63715609 | JN4: -0.78384407 | JO4: -0.55329006 | JP4: -0.011542125 | JQ4: -0.93025003 | JR4: -0.8132075 | JS4: -0.57066971 | JT4: -1.296673 | JU4: -0.87500668 | JV4: -0.6805642 | JW4: 0.35508733 | JX4: 0.92787574 | JY4: -0.14111659 | JZ4: -0.6773441 | KA4: 1.4130399 | KB4: 0.51526623 | KC4: 0.61013721 | KD4: -0.91497148 | KE4: -0.58550362 | KF4: -0.75250815 | KG4: -0.90124271 | KH4: 1.5352553 | KI4: 0.70761192 | KJ4: 1.2195964 | KK4: 2.3313294 | KL4: -0.43352562 | KM4: -0.81656953 | KN4: -0.87255469 | KO4: -0.55039514 | KP4: 1.6171037 | KQ4: -0.66695641 | KR4: -0.57652865 | KS4: -0.70074295 | KT4: -0.6347818 | KU4: -1.2479585 | KV4: 1.6133865 | KW4: 0.48847461 | KX4: -0.5711001 | KY4: -0.037273526 | KZ4: -0.6402398 | LA4: 1.5467722 | LB4: -0.60817111 | LC4: 1.9956131 | LD4: 1.6217386 | LE4: -0.95889164 | LF4: 0.87997109 | LG4: 0.65696067 | LH4: 0.48761087 | LI4: 1.9172796 | LJ4: -0.089635503 | LK4: 1.3777537 | LL4: 1.2528195 | LM4: -0.62349785 | LN4: 0.081158387 | LO4: -1.0744657 | LP4: -1.3366131 | LQ4: 0.90934334 | LR4: 1.1334883 | LS4: 0.81545098 | LT4: -0.68104255 | LU4: 1.1562163 | LV4: -0.031145958 | LW4: 0.60770751 | LX4: 0.79735037 | LY4: -1.1623161 | LZ4: 1.4607377 | MA4: -0.071055476 | MB4: -0.89779763 | MC4: -0.84037404 | MD4: -0.74791143 | ME4: 1.5989853 | MF4: 1.6419995 | MG4: 1.039152 | MH4: 0.18111986 | MI4: -1.0244958 | MJ4: 2.9093039 | MK4: 0.060313686 | ML4: -1.015312
A5: 0.23986336 | B5: 0.47857839 | C5: -1.0334736 | D5: 0.7687549 | E5: -0.48903526 | F5: 0.1985145 | G5: 0.72057736 | H5: -0.46684984 | I5: 0.58436115 | J5: 0.41075286 | K5: -0.6892635 | L5: 1.5129947 | M5: -0.93162884 | N5: -1.1758187 | O5: -0.60945754 | P5: -0.9847419 | Q5: -0.60348514 | R5: -0.57876773 | S5: 0.778357 | T5: -0.77597705 | U5: -0.97933369 | V5: -0.0064134701 | W5: -0.66470459 | X5: -0.63097586 | Y5: -0.87148306 | Z5: 1.1558452 | AA5: -0.86793898 | AB5: -0.79498344 | AC5: -1.0752847 | AD5: 0.63007197 | AE5: 0.69790934 | AF5: 0.65387035 | AG5: 0.26880005 | AH5: -0.62306865 | AI5: -0.73123768 | AJ5: -0.1035888 | AK5: 1.0498821 | AL5: 1.0165301 | AM5: -0.72955579 | AN5: 1.4275853 | AO5: 0.88984967 | AP5: 0.79329418 | AQ5: -0.54330681 | AR5: -0.22188837 | AS5: -1.3366024 | AT5: -0.86499102 | AU5: -0.75341452 | AV5: -1.2641843 | AW5: 0.98612358 | AX5: -0.83505797 | AY5: 1.5021696 | AZ5: 0.16032352 | BA5: -0.58353878 | BB5: -1.1102378 | BC5: 0.80131178 | BD5: 2.308917 | BE5: -0.55555928 | BF5: -0.61161971 | BG5: 0.52495344 | BH5: -0.62999762 | BI5: -0.0025154409 | BJ5: -0.61496933 | BK5: 0.87653268 | BL5: 0.010258237 | BM5: -0.66545142 | BN5: -1.0015264 | BO5: 1.0992146 | BP5: -0.55704037 | BQ5: -0.19051535 | BR5: 0.6880914 | BS5: 0.12545092 | BT5: -0.96890116 | BU5: -0.68580052 | BV5: 0.2194087 | BW5: -0.74163318 | BX5: -1.1267473 | BY5: 1.1603473 | BZ5: -1.0119819 | CA5: 2.4525678 | CB5: 0.91997029 | CC5: 0.84513476 | CD5: -1.1552511 | CE5: -0.19543883 | CF5: -0.84686222 | CG5: 0.53621178 | CH5: -0.57330697 | CI5: 0.28053347 | CJ5: -0.53308017 | CK5: 0.46279092 | CL5: -1.2010142 | CM5: 2.0044045 | CN5: -0.5405702 | CO5: -0.5508352 | CP5: -0.22267713 | CQ5: 1.7294546 | CR5: -0.49236544 | CS5: 1.407454 | CT5: -0.63407572 | CU5: -0.67811095 | CV5: -0.56152404 | CW5: -0.084561863 | CX5: -0.98210878 | CY5: -0.60890731 | CZ5: -0.86345674 | DA5: 0.98401465 | DB5: 1.7855752 | DC5: -0.66621525 | DD5: -0.55797706 | DE5: 0.99627784 | DF5: 0.19780758 | DG5: -0.89151441 | DH5: 1.4144795 | DI5: -0.76553265 | DJ5: 0.39330419 | DK5: -0.59438477 | DL5: -0.72091215 | DM5: 1.4294919 | DN5: 1.339381 | DO5: -0.38644402 | DP5: -0.65266469 | DQ5: 1.0641964 | DR5: 2.4652708 | DS5: 0.75802048 | DT5: 1.9459793 | DU5: 0.27210468 | DV5: 0.45229798 | DW5: -1.1472335 | DX5: -0.5310394 | DY5: -0.095001603 | DZ5: 0.81524602 | EA5: 1.1443286 | EB5: 0.29858844 | EC5: 0.92844438 | ED5: -0.74145331 | EE5: 0.099243484 | EF5: -0.40958596 | EG5: -0.73487476 | EH5: -0.40128148 | EI5: -0.72498131 | EJ5: -0.099474252 | EK5: 0.49882411 | EL5: -1.0271638 | EM5: -0.83725166 | EN5: -1.0666138 | EO5: -0.76302354 | EP5: -0.0069846798 | EQ5: 0.53815235 | ER5: -0.7698132 | ES5: -0.57363044 | ET5: -0.73401494 | EU5: -1.2419783 | EV5: -0.58034107 | EW5: -0.78041078 | EX5: 1.1751843 | EY5: -0.69341824 | EZ5: -0.99487806 | FA5: -0.69280401 | FB5: -0.98670463 | FC5: -0.61630895 | FD5: 0.52846196 | FE5: 0.77696537 | FF5: -0.72765744 | FG5: -0.97556486 | FH5: -0.37313783 | FI5: 1.7531204 | FJ5: 1.9208335 | FK5: 1.8806393 | FL5: -1.026315 | FM5: -0.87318544 | FN5: 1.0260528 | FO5: -0.66242474 | FP5: -0.52402953 | FQ5: 0.078271284 | FR5: -1.1199244 | FS5: 0.78267299 | FT5: 0.98481303 | FU5: -1.0147504 | FV5: -0.71207361 | FW5: -0.61840648 | FX5: 1.8112167 | FY5: 1.0984112 | FZ5: -0.73580774 | GA5: 0.99155381 | GB5: 0.12914558 | GC5: -0.99484391 | GD5: -0.14645255 | GE5: 0.87406451 | GF5: 0.31416939 | GG5: -0.67739032 | GH5: 0.37929082 | GI5: 0.72271989 | GJ5: -0.61210301 | GK5: 0.044270347 | GL5: 1.3180197 | GM5: 0.35351367 | GN5: 0.59095403 | GO5: -0.78637721 | GP5: 1.0999394 | GQ5: -0.46185192 | GR5: -0.94957871 | GS5: 1.3452141 | GT5: -0.51521008 | GU5: 1.2126269 | GV5: -0.69827327 | GW5: 0.2205411 | GX5: -0.75778951 | GY5: 0.31927318 | GZ5: 1.0899971 | HA5: 0.74710574 | HB5: 0.68996171 | HC5: 0.13955874 | HD5: 0.89974002 | HE5: 0.83755298 | HF5: 0.17814712 | HG5: -0.66566684 | HH5: -1.1005897 | HI5: -0.42806668 | HJ5: -0.75458257 | HK5: 1.9766736 | HL5: 0.99761524 | HM5: -0.93082623 | HN5: 0.24196926 | HO5: -0.86985443 | HP5: -0.82141074 | HQ5: -0.78517707 | HR5: -0.97035627 | HS5: 0.88579686 | HT5: 0.28490439 | HU5: 0.66015944 | HV5: 1.0585362 | HW5: -1.0256053 | HX5: -0.62933971 | HY5: -0.49650348 | HZ5: 1.2274831 | IA5: 1.6184089 | IB5: -0.46129459 | IC5: 0.2234964 | ID5: -0.86153222 | IE5: -0.91723867 | IF5: 0.9633704 | IG5: 0.43690651 | IH5: -0.061221097 | II5: -0.11596401 | IJ5: -0.94665909 | IK5: -0.80685508 | IL5: 0.32919224 | IM5: 0.47150487 | IN5: -0.80802847 | IO5: -0.98301446 | IP5: -0.72293283 | IQ5: -1.5764618 | IR5: -0.62412558 | IS5: -0.014742532 | IT5: 1.2032463 | IU5: 1.0694604 | IV5: 0.66907185 | IW5: 0.12123775 | IX5: -0.75457709 | IY5: -0.8929072 | IZ5: -0.77166367 | JA5: 1.4684181 | JB5: -0.91868072 | JC5: -0.66542744 | JD5: -1.096648 | JE5: 1.5158177 | JF5: 0.0041256816 | JG5: -0.56237669 | JH5: 0.28329339 | JI5: 0.19775885 | JJ5: 1.4387837 | JK5: -0.43955447 | JL5: 0.15197108 | JM5: 1.1779942 | JN5: -0.78384407 | JO5: -0.55329006 | JP5: -1.3077049 | JQ5: -0.93025003 | JR5: 0.35925907 | JS5: -0.57066971 | JT5: 0.35141081 | JU5: 2.2728965 | JV5: -0.6805642 | JW5: -0.93861576 | JX5: -1.5974522 | JY5: -0.26106015 | JZ5: -0.6773441 | KA5: -0.029455092 | KB5: -0.82458982 | KC5: 0.41659373 | KD5: -0.91497148 | KE5: -1.4826044 | KF5: -0.75250815 | KG5: 1.1104378 | KH5: 0.096708738 | KI5: -0.7090623 | KJ5: -1.5367156 | KK5: -0.62879698 | KL5: -0.43352562 | KM5: 0.55856313 | KN5: 0.87121531 | KO5: -0.55039514 | KP5: -0.81409135 | KQ5: -0.66695641 | KR5: -0.57652865 | KS5: -0.70074295 | KT5: -0.6347818 | KU5: 0.15640818 | KV5: 0.32642591 | KW5: 0.36449541 | KX5: 0.89799137 | KY5: -1.4922034 | KZ5: -0.6402398 | LA5: -0.76966051 | LB5: -0.60817111 | LC5: 1.0125418 | LD5: 0.1592156 | LE5: 0.46537669 | LF5: -0.20408494 | LG5: -0.73689781 | LH5: 0.90753478 | LI5: 1.1691584 | LJ5: -1.0472901 | LK5: -1.023576 | LL5: 0.52349275 | LM5: -0.62349785 | LN5: 0.40159587 | LO5: 0.92807648 | LP5: 1.4669089 | LQ5: 0.27993469 | LR5: 0.42106285 | LS5: -0.1070449 | LT5: 0.94084017 | LU5: -1.0816996 | LV5: -0.44485969 | LW5: -0.77826802 | LX5: 1.6334532 | LY5: 0.70844298 | LZ5: -0.59607784 | MA5: 0.19167953 | MB5: -0.89779763 | MC5: 0.68379566 | MD5: 0.6118278 | ME5: -1.0388124 | MF5: -0.76725644 | MG5: 0.27113494 | MH5: -0.73215685 | MI5: 0.1450524 | MJ5: -0.5717695 | MK5: -0.36929838 | ML5: 1.1204158
A6: 1.5797251 | B6: 0.11388011 | C6: 0.1150141 | D6: -1.0013755 | E6: 0.6675888 | F6: 0.53030302 | G6: -0.66538178 | H6: -0.14467547 | I6: 0.22519756 | J6: -0.65678868 | K6: -0.6892635 | L6: -1.070785 | M6: 1.9027617 | N6: 0.70595431 | O6: -0.60945754 | P6: 0.83363409 | Q6: 0.11595487 | R6: -0.53096081 | S6: -0.61910831 | T6: -0.77597705 | U6: 1.0892811 | V6: -0.95166111 | W6: -0.66470459 | X6: 0.65051553 | Y6: 1.2278764 | Z6: -1.0918542 | AA6: 1.7249158 | AB6: -0.79498344 | AC6: 0.32242729 | AD6: 1.3692198 | AE6: -0.88653774 | AF6: 1.1684198 | AG6: 0.31647032 | AH6: -0.62306865 | AI6: -0.27257546 | AJ6: 0.88473381 | AK6: -0.60195878 | AL6: -0.6975433 | AM6: 0.47727695 | AN6: -0.6761011 | AO6: 0.95638508 | AP6: 1.7853813 | AQ6: -0.54330681 | AR6: 0.11466622 | AS6: -0.42513779 | AT6: 0.47754474 | AU6: -0.75341452 | AV6: 0.62445184 | AW6: -0.86891799 | AX6: -0.83505797 | AY6: -0.82337044 | AZ6: 1.2706637 | BA6: 0.03798186 | BB6: -0.30708884 | BC6: -0.5091068 | BD6: -0.13457032 | BE6: -0.55555928 | BF6: -0.61161971 | BG6: -0.93180341 | BH6: 1.3642472 | BI6: -1.1893342 | BJ6: -0.61496933 | BK6: -0.70135916 | BL6: -1.1348671 | BM6: 0.79381007 | BN6: 2.0310229 | BO6: 1.1833234 | BP6: -0.55704037 | BQ6: 0.4194746 | BR6: 0.53159711 | BS6: -0.7827896 | BT6: 0.34852144 | BU6: -0.68580052 | BV6: 1.9722023 | BW6: 1.6734855 | BX6: 2.1017334 | BY6: 1.2591345 | BZ6: 0.92091377 | CA6: 1.6605836 | CB6: 1.4249718 | CC6: 0.1592939 | CD6: 0.75191338 | CE6: 0.30463601 | CF6: 1.2561821 | CG6: -0.63260595 | CH6: -0.73692616 | CI6: -0.77729947 | CJ6: -0.53308017 | CK6: 0.0013393153 | CL6: -0.1955815 | CM6: -0.53655059 | CN6: 2.0612731 | CO6: 0.73927823 | CP6: -0.50266225 | CQ6: 1.0557615 | CR6: -0.12206085 | CS6: 0.55754443 | CT6: 1.7043376 | CU6: -0.32652149 | CV6: -0.56152404 | CW6: -0.064346764 | CX6: 0.075101727 | CY6: -0.60890731 | CZ6: -0.86345674 | DA6: 1.5032541 | DB6: 1.8916985 | DC6: -0.66621525 | DD6: 1.0890141 | DE6: 1.3029409 | DF6: 0.79248459 | DG6: 2.0584877 | DH6: 0.29818279 | DI6: 0.49637869 | DJ6: -0.69223813 | DK6: 2.5405232 | DL6: 1.9684238 | DM6: 1.7416308 | DN6: -0.63141956 | DO6: -0.38644402 | DP6: -0.41020762 | DQ6: -1.3084884 | DR6: -0.77571508 | DS6: 2.0848938 | DT6: 0.88125217 | DU6: 0.0063007819 | DV6: 1.0332854 | DW6: 1.2257545 | DX6: -0.5310394 | DY6: -1.1176176 | DZ6: 0.88133562 | EA6: -0.73529549 | EB6: 0.91469203 | EC6: 1.0165346 | ED6: -0.74145331 | EE6: -0.97321396 | EF6: -0.35078965 | EG6: 1.5436948 | EH6: 1.4276305 | EI6: 0.81118515 | EJ6: -0.72000346 | EK6: 2.0314542 | EL6: -1.0271638 | EM6: -0.83725166 | EN6: -1.0666138 | EO6: -0.76302354 | EP6: 1.7249798 | EQ6: -0.87347945 | ER6: -0.7698132 | ES6: 1.9140409 | ET6: -0.73401494 | EU6: 1.0450169 | EV6: -0.58034107 | EW6: 0.46139057 | EX6: 0.65083072 | EY6: -0.69341824 | EZ6: 2.312087 | FA6: -0.69280401 | FB6: 1.9044134 | FC6: -0.61630895 | FD6: 0.58420777 | FE6: 0.040784981 | FF6: -0.72765744 | FG6: 0.087006469 | FH6: -0.37313783 | FI6: -0.66906633 | FJ6: -0.93815765 | FK6: 0.27513755 | FL6: -1.026315 | FM6: -0.87318544 | FN6: -0.65010763 | FO6: -0.66242474 | FP6: -0.52402953 | FQ6: 0.62532699 | FR6: 0.23021052 | FS6: 0.41010869 | FT6: -0.6423118 | FU6: 0.72742021 | FV6: -0.71207361 | FW6: -0.61840648 | FX6: 2.3139053 | FY6: -0.63869213 | FZ6: -0.73580774 | GA6: -0.70653662 | GB6: 0.21612841 | GC6: 1.7703404 | GD6: 1.0818101 | GE6: 1.7034167 | GF6: -1.0818261 | GG6: -0.67739032 | GH6: 0.064877018 | GI6: 0.26224233 | GJ6: 0.40541995 | GK6: 0.11207616 | GL6: 0.45333157 | GM6: 0.99017328 | GN6: 1.2364443 | GO6: 0.95637235 | GP6: -1.1794127 | GQ6: -0.46185192 | GR6: 1.7163425 | GS6: -0.75459762 | GT6: -0.15316119 | GU6: -0.68206972 | GV6: 1.8113053 | GW6: 1.4448361 | GX6: -0.75778951 | GY6: -0.041253299 | GZ6: 0.050714404 | HA6: 2.1403352 | HB6: 0.42344326 | HC6: 0.086498683 | HD6: -0.86001239 | HE6: -0.12054552 | HF6: -0.1618405 | HG6: -0.66566684 | HH6: 0.93739791 | HI6: -0.42806668 | HJ6: 0.67032031 | HK6: -0.64819008 | HL6: -0.60353715 | HM6: 1.7438773 | HN6: 1.9057136 | HO6: 1.0987778 | HP6: -0.19704463 | HQ6: -0.78517707 | HR6: 1.717575 | HS6: -0.058011426 | HT6: 0.35053974 | HU6: 0.73911072 | HV6: 0.76741152 | HW6: 1.4669544 | HX6: -0.62933971 | HY6: -0.49650348 | HZ6: -0.79053687 | IA6: 1.7145713 | IB6: 3.1238917 | IC6: 1.0809535 | ID6: -0.86153222 | IE6: 1.8934565 | IF6: -1.2299179 | IG6: -0.73360937 | IH6: -1.2944571 | II6: 0.33685562 | IJ6: -0.94665909 | IK6: -0.80685508 | IL6: -0.90422265 | IM6: -1.2926951 | IN6: -0.80802847 | IO6: -0.98301446 | IP6: -0.72293283 | IQ6: -1.5764618 | IR6: 2.6312003 | IS6: 0.92210372 | IT6: -0.68817015 | IU6: 0.20201996 | IV6: -0.93515491 | IW6: 0.17113216 | IX6: 0.64962683 | IY6: -0.8929072 | IZ6: -0.77166367 | JA6: -0.63265001 | JB6: 1.2740762 | JC6: 0.96600151 | JD6: 0.58029589 | JE6: 0.93182637 | JF6: -1.048922 | JG6: -0.56237669 | JH6: 0.33939862 | JI6: 0.056532053 | JJ6: 0.16609163 | JK6: 0.11596381 | JL6: 0.20616416 | JM6: -0.63715609 | JN6: 0.22379598 | JO6: 0.85070528 | JP6: -0.091675169 | JQ6: -0.93025003 | JR6: -0.8132075 | JS6: 1.157904 | JT6: 0.80811565 | JU6: -0.87500668 | JV6: -0.6805642 | JW6: 1.7721885 | JX6: 1.2046436 | JY6: 1.4029613 | JZ6: -0.6773441 | KA6: 1.2511445 | KB6: -0.82458982 | KC6: 0.49118262 | KD6: 0.16015018 | KE6: -0.29269275 | KF6: 0.80571164 | KG6: -0.90124271 | KH6: 0.14752068 | KI6: -0.7090623 | KJ6: 0.10219261 | KK6: 1.85626 | KL6: 1.7087064 | KM6: 0.51088017 | KN6: -0.87255469 | KO6: -0.55039514 | KP6: -0.81409135 | KQ6: -0.66695641 | KR6: 1.9692079 | KS6: -0.70074295 | KT6: -0.6347818 | KU6: -1.2479585 | KV6: -1.522977 | KW6: -0.74426131 | KX6: -0.5711001 | KY6: 1.5530146 | KZ6: -0.6402398 | LA6: -0.76966051 | LB6: -0.60817111 | LC6: 1.0866503 | LD6: -0.052130914 | LE6: -0.95889164 | LF6: -0.43482234 | LG6: 1.5267655 | LH6: -1.0597645 | LI6: 0.62540232 | LJ6: -0.14884086 | LK6: 1.229479 | LL6: 0.57844082 | LM6: 0.99872598 | LN6: 1.1130123 | LO6: 1.3366869 | LP6: -0.027418206 | LQ6: -0.82076162 | LR6: 0.094004252 | LS6: 1.3902142 | LT6: 1.3902843 | LU6: -1.0816996 | LV6: 0.098402462 | LW6: -1.7129636 | LX6: -1.1928623 | LY6: 1.593922 | LZ6: -0.59607784 | MA6: -1.0382756 | MB6: 0.043876866 | MC6: 2.3336788 | MD6: -0.74791143 | ME6: 0.20105371 | MF6: 0.36402056 | MG6: -0.081444533 | MH6: 0.050299184 | MI6: 1.8289721 | MJ6: -0.5717695 | MK6: 0.081801488 | ML6: 0.91440284
A7: -0.085442546 | B7: 0.53730301 | C7: 1.3959423 | D7: 1.6061592 | E7: -1.0359731 | F7: -0.9987912 | G7: -0.66538178 | H7: -0.46684984 | I7: 1.6843069 | J7: 0.047991666 | K7: -0.6892635 | L7: -1.070785 | M7: -0.93162884 | N7: -0.40707765 | O7: 0.41563241 | P7: 1.0460441 | Q7: -0.80264 | R7: -0.54074547 | S7: -0.61910831 | T7: 0.65920109 | U7: -0.97933369 | V7: 1.7361849 | W7: 0.96400911 | X7: -0.71964137 | Y7: -0.87148306 | Z7: 1.0039113 | AA7: -0.86793898 | AB7: -0.79498344 | AC7: -1.0752847 | AD7: -0.92848266 | AE7: -0.060173204 | AF7: 0.16458678 | AG7: 1.9797778 | AH7: -0.62306865 | AI7: -1.1054226 | AJ7: -1.3320426 | AK7: 1.1196311 | AL7: 1.0889069 | AM7: -0.72955579 | AN7: 1.666852 | AO7: 0.95509396 | AP7: 0.09403292 | AQ7: -0.54330681 | AR7: -0.17060591 | AS7: -1.3366024 | AT7: 0.083847294 | AU7: -0.75341452 | AV7: 0.070990206 | AW7: 1.3628537 | AX7: -0.83505797 | AY7: -0.82337044 | AZ7: 0.22499318 | BA7: 0.037483961 | BB7: 0.024346801 | BC7: -0.5091068 | BD7: 0.26614396 | BE7: -0.55555928 | BF7: -0.61161971 | BG7: 0.1423507 | BH7: -0.62999762 | BI7: 0.55947982 | BJ7: -0.61496933 | BK7: -0.70135916 | BL7: 0.058611157 | BM7: -0.66545142 | BN7: 0.82942935 | BO7: -0.85620418 | BP7: -0.55704037 | BQ7: 0.25365351 | BR7: 0.92326968 | BS7: 3.1021756 | BT7: -0.96890116 | BU7: -0.68580052 | BV7: -0.84236745 | BW7: -0.74163318 | BX7: 0.74006159 | BY7: 0.81863283 | BZ7: 0.91936294 | CA7: 1.2500014 | CB7: 0.44058981 | CC7: 0.58836993 | CD7: -1.1552511 | CE7: 0.65169976 | CF7: 0.63988852 | CG7: -0.63260595 | CH7: -0.45884099 | CI7: -0.77729947 | CJ7: -0.19195946 | CK7: -0.23070778 | CL7: -0.19637946 | CM7: -0.53655059 | CN7: -0.5405702 | CO7: -0.5696655 | CP7: -0.50293228 | CQ7: -0.84141325 | CR7: 0.35219135 | CS7: -1.093904 | CT7: -0.63407572 | CU7: -0.83478692 | CV7: -0.56152404 | CW7: -0.55401889 | CX7: 0.074254796 | CY7: -0.60890731 | CZ7: -0.86345674 | DA7: -0.89268294 | DB7: -0.68165143 | DC7: -0.66621525 | DD7: -0.55797706 | DE7: -0.85351022 | DF7: -0.13174425 | DG7: 0.22454511 | DH7: -1.1959189 | DI7: -0.76553265 | DJ7: 1.9472528 | DK7: -0.59438477 | DL7: 1.1814319 | DM7: 0.44602755 | DN7: 1.4225101 | DO7: -0.38644402 | DP7: -0.78719974 | DQ7: 0.015089268 | DR7: 0.9159167 | DS7: 1.0678612 | DT7: 2.0589268 | DU7: 0.0050760851 | DV7: -0.77157495 | DW7: 0.35499794 | DX7: 2.0917548 | DY7: 0.38923856 | DZ7: -0.71955873 | EA7: -0.73529549 | EB7: 0.35344318 | EC7: -1.1207482 | ED7: -0.74145331 | EE7: 1.2603718 | EF7: 0.68697361 | EG7: -0.73487476 | EH7: -1.5830907 | EI7: -0.72498131 | EJ7: 0.31329438 | EK7: 0.15608497 | EL7: 0.72829699 | EM7: -0.83725166 | EN7: 0.33527502 | EO7: -0.76302354 | EP7: -1.6097235 | EQ7: 1.20596 | ER7: -0.7698132 | ES7: 1.5796562 | ET7: 0.82346077 | EU7: 0.62494744 | EV7: 1.3733881 | EW7: 1.3662285 | EX7: 1.7272471 | EY7: 0.84211295 | EZ7: -0.99487806 | FA7: -0.69280401 | FB7: 1.1349471 | FC7: -0.61630895 | FD7: -0.7654858 | FE7: -0.28753987 | FF7: -0.72765744 | FG7: 0.086163166 | FH7: -0.37313783 | FI7: 0.59421929 | FJ7: 0.46912647 | FK7: 0.89597371 | FL7: 1.0271705 | FM7: 0.96486818 | FN7: -0.65010763 | FO7: 1.1310774 | FP7: 1.6224946 | FQ7: 1.1848822 | FR7: 0.78681995 | FS7: -1.161487 | FT7: -0.6423118 | FU7: -1.0147504 | FV7: 0.83972834 | FW7: -0.61840648 | FX7: 1.535986 | FY7: -0.63869213 | FZ7: -0.73580774 | GA7: 1.0632557 | GB7: -1.8930918 | GC7: -0.99484391 | GD7: -1.0701766 | GE7: 1.1274452 | GF7: 0.3731153 | GG7: -0.67739032 | GH7: 1.5076455 | GI7: 1.7085216 | GJ7: -0.9444993 | GK7: -0.19015411 | GL7: -0.85756157 | GM7: 0.41019861 | GN7: -0.76879679 | GO7: -0.78637721 | GP7: 1.7282629 | GQ7: -0.46185192 | GR7: -0.94957871 | GS7: 0.79371935 | GT7: 1.2292276 | GU7: 1.2926305 | GV7: -0.69827327 | GW7: -0.70019907 | GX7: -0.75778951 | GY7: -0.042058307 | GZ7: -1.2628484 | HA7: -0.72169835 | HB7: -1.1094367 | HC7: -0.21455372 | HD7: -0.86001239 | HE7: 1.5940895 | HF7: -1.118375 | HG7: -0.66566684 | HH7: -1.1005897 | HI7: -0.42806668 | HJ7: 1.2577537 | HK7: -0.64819008 | HL7: -0.60353715 | HM7: -0.93082623 | HN7: 0.83446584 | HO7: -0.86985443 | HP7: 1.2417264 | HQ7: 0.81370178 | HR7: 1.3008655 | HS7: 1.4288236 | HT7: -1.2393511 | HU7: -1.175355 | HV7: 0.76607016 | HW7: 0.55094362 | HX7: -0.62933971 | HY7: 1.1503544 | HZ7: 1.312694 | IA7: -0.61477956 | IB7: -0.46129459 | IC7: -1.1001864 | ID7: 0.6972259 | IE7: 1.0709507 | IF7: 0.38732498 | IG7: -0.73360937 | IH7: 0.93051479 | II7: -1.0698464 | IJ7: 0.7168873 | IK7: -0.80685508 | IL7: -0.90422265 | IM7: -1.2926951 | IN7: 1.3146458 | IO7: -0.98301446 | IP7: -0.72293283 | IQ7: -1.5764618 | IR7: 0.70765531 | IS7: 1.1467115 | IT7: 0.70615178 | IU7: 1.5655011 | IV7: -0.93515491 | IW7: -1.0368897 | IX7: -0.28579028 | IY7: -0.8929072 | IZ7: -0.77166367 | JA7: 0.91622377 | JB7: -0.91868072 | JC7: -0.66542744 | JD7: 0.088533563 | JE7: -0.71119756 | JF7: 0.048621294 | JG7: -0.56237669 | JH7: 1.8551617 | JI7: 0.055470673 | JJ7: 0.62622641 | JK7: -1.610911 | JL7: -1.1065595 | JM7: -0.63715609 | JN7: 0.639619 | JO7: -0.55329006 | JP7: -0.092640264 | JQ7: 0.51193811 | JR7: 0.40880062 | JS7: -0.57066971 | JT7: -1.296673 | JU7: 0.22097869 | JV7: -0.6805642 | JW7: 0.27414309 | JX7: -0.098686947 | JY7: -1.3337257 | JZ7: 0.96630278 | KA7: 0.92026576 | KB7: 0.4314343 | KC7: -0.41308785 | KD7: 1.7125931 | KE7: 0.73850137 | KF7: 0.34876504 | KG7: 1.195381 | KH7: -1.0833014 | KI7: -0.7090623 | KJ7: -0.37808666 | KK7: -0.62879698 | KL7: -0.43352562 | KM7: 0.50861154 | KN7: 2.6354973 | KO7: -0.55039514 | KP7: -0.81409135 | KQ7: 1.27859 | KR7: 0.69643969 | KS7: 2.4650213 | KT7: 0.5521832 | KU7: 2.0173108 | KV7: 0.051238906 | KW7: 0.88952587 | KX7: -0.5711001 | KY7: -1.4922034 | KZ7: -0.6402398 | LA7: 1.4020896 | LB7: -0.60817111 | LC7: 1.0852122 | LD7: -1.2676897 | LE7: 0.52551642 | LF7: -0.82398896 | LG7: 1.1104306 | LH7: -1.0597645 | LI7: -0.90585909 | LJ7: -1.0472901 | LK7: 0.27694833 | LL7: -0.75193816 | LM7: -0.62349785 | LN7: 0.0073506267 | LO7: -1.0744657 | LP7: 0.51284753 | LQ7: -0.82076162 | LR7: -0.82615518 | LS7: -0.048502536 | LT7: 1.0093242 | LU7: -1.0816996 | LV7: 0.6399319 | LW7: 1.2028047 | LX7: -1.1928623 | LY7: 0.21710667 | LZ7: 2.1292137 | MA7: -1.0382756 | MB7: -0.89779763 | MC7: -0.84037404 | MD7: -0.74791143 | ME7: 0.20006046 | MF7: 0.83086486 | MG7: -1.0734054 | MH7: -0.68115322 | MI7: 0.46795056 | MJ7: -0.5717695 | MK7: -1.5608867 | ML7: 0.55948807
