Workbook

Sheet d_scale (2)
A1: APOD | B1: ART1 | C1: BRDT | D1: BTF3P11 | E1: CA4 | F1: CBS | G1: CELP | H1: CLK2 | I1: CPB1 | J1: ATF6B | K1: CYP3A7 | L1: CYP8B1 | M1: DEFB1 | N1: DPYS | O1: DUSP8 | P1: EDN2 | Q1: EGR1 | R1: EGR3 | S1: EGR4 | T1: EMP2 | U1: FMO2 | V1: GABRB2 | W1: GAP43 | X1: GBA1 | Y1: GNAT1 | Z1: GNG4 | AA1: GPR31 | AB1: FFAR3 | AC1: GRID1 | AD1: GRM7 | AE1: GYPB | AF1: H1-3 | AG1: HBE1 | AH1: MNX1 | AI1: CXCL8 | AJ1: INHBB | AK1: IVL | AL1: KCNC2 | AM1: KDR | AN1: KIR2DS4 | AO1: LBP | AP1: MEIS2 | AQ1: MYL2 | AR1: NNMT | AS1: NPHS1 | AT1: TNFRSF11B | AU1: PDCD1 | AV1: PENK | AW1: PON1 | AX1: PRKACG | AY1: TAS2R38 | AZ1: RORB | BA1: RXRB | BB1: CCL24 | BC1: CXCL6 | BD1: SKIC2 | BE1: SLC6A11 | BF1: SNCB | BG1: TBXT | BH1: TNNI3 | BI1: TRN-GTT2-7 | BJ1: ZNF177 | BK1: TUSC3 | BL1: MFAP5 | BM1: H2AC14 | BN1: H2AC16 | BO1: H4C4 | BP1: H4C2 | BQ1: PDLIM4 | BR1: DNAJA3 | BS1: ENTREP1 | BT1: CHST3 | BU1: STXBP5L | BV1: ARNT2 | BW1: KBTBD11 | BX1: LINC01587 | BY1: CHST4 | BZ1: MYCNOS | CA1: TBR1 | CB1: PROKR1 | CC1: PPBPP2 | CD1: TMSB15A | CE1: PRDM7 | CF1: PTP4A3 | CG1: ADGRL3 | CH1: SCRIB | CI1: HYAL4 | CJ1: DDAH2 | CK1: SPDEF | CL1: ARHGEF26 | CM1: ANKRD2 | CN1: SRPX2 | CO1: IGHV3-21 | CP1: IGHV1-18 | CQ1: IGLVI-56 | CR1: IGLV10-67 | CS1: SCHIP1 | CT1: KCNIP1 | CU1: G0S2 | CV1: DHH | CW1: PI15 | CX1: DUSP13 | CY1: ELOA2 | CZ1: PCDH18 | DA1: ASPN | DB1: KIRREL1 | DC1: LARP6 | DD1: SVOP | DE1: GNG12 | DF1: PCDHB2 | DG1: VTRNA1-1 | DH1: LGALS14 | DI1: OTOR | DJ1: VARS2 | DK1: DPP10 | DL1: WFDC1 | DM1: ABCG8 | DN1: OR51B2 | DO1: CORO7 | DP1: BTNL8 | DQ1: GRHL2 | DR1: SEMA6D | DS1: OR6N2 | DT1: COL21A1 | DU1: GSG1 | DV1: H2AB3 | DW1: MRO | DX1: PCDHB19P | DY1: MYH16 | DZ1: GARIN1B | EA1: LNX1 | EB1: MEDAG | EC1: WNT3A | ED1: LINC00923 | EE1: GGTLC1 | EF1: LOC93463 | EG1: CADPS2 | EH1: MRAP2 | EI1: TMEM54 | EJ1: LENG8 | EK1: GALNT15 | EL1: CALHM3 | EM1: FAT3 | EN1: ASCL4 | EO1: SPIC | EP1: FLJ40194 | EQ1: CALR3 | ER1: ZNF648 | ES1: LINC01620 | ET1: PPP1R13B-DT | EU1: LOC145474 | EV1: C16orf92 | EW1: BICDL2 | EX1: ODF4 | EY1: CD300LG | EZ1: LYPD4 | FA1: ZNF560 | FB1: LRRC71 | FC1: SMYD1 | FD1: LINC01618 | FE1: FBXO16 | FF1: NKX6-3 | FG1: C12orf50 | FH1: ANKFN1 | FI1: CDC20B | FJ1: CYS1 | FK1: HEPACAM2 | FL1: CACNA1G-AS1 | FM1: CBARP | FN1: LINC01018 | FO1: LINC01743 | FP1: TAS2R20 | FQ1: TFAMP1 | FR1: SEC14L3 | FS1: TRHDE-AS1 | FT1: LINC00551 | FU1: SLC25A47 | FV1: TMEM235 | FW1: PIGW | FX1: HMSD | FY1: RSPO1 | FZ1: DNAJB8-AS1 | GA1: HTR3E | GB1: C3orf70 | GC1: YIPF7 | GD1: C4orf54 | GE1: ANKRD45 | GF1: LINC01141 | GG1: RSPO2 | GH1: OR52B6 | GI1: DCDC1 | GJ1: LRRC9 | GK1: COL6A4P1 | GL1: STRA8 | GM1: SPATA12 | GN1: C9orf50 | GO1: SLC16A12 | GP1: ZNF728 | GQ1: LINC02591 | GR1: OR11H4 | GS1: OR2L8 | GT1: OR1K1 | GU1: FOXI2 | GV1: TUSC8 | GW1: BCAR4 | GX1: LINC00114 | GY1: BCRP2 | GZ1: ACOXL-AS1 | HA1: LINC02232 | HB1: RNF223 | HC1: MIR23A | HD1: MIR296 | HE1: GLUD1P2 | HF1: MGC34796 | HG1: LOC440300 | HH1: NA...217 | HI1: OR13G1 | HJ1: DPY19L2P1 | HK1: CCNYL6 | HL1: PIRT | HM1: EVPLL | HN1: LSP1P5 | HO1: LINC00693 | HP1: GOLGA6FP | HQ1: RPS7P5 | HR1: SPATA31C2 | HS1: NAP1L6P | HT1: RD3L | HU1: SFTPA1 | HV1: FER1L6 | HW1: SCARNA20 | HX1: MIR584 | HY1: MIR602 | HZ1: MIR640 | IA1: FAM245A | IB1: KRTAP9-1 | IC1: LINC00977 | ID1: LOC729080 | IE1: LMO7DN | IF1: SNORD116-2 | IG1: SNORD116-27 | IH1: SNORD121A | II1: SNORD11B | IJ1: SNORA11B | IK1: MIR298 | IL1: MIR942 | IM1: LINC02291 | IN1: LOC100130673 | IO1: BSN-DT | IP1: SHISAL2B | IQ1: RNU4ATAC | IR1: RNA5S9 | IS1: DBIL5P2 | IT1: TRR-TCT3-1 | IU1: TRD-GTC2-6 | IV1: TRR-CCT3-1 | IW1: TRS-GCT4-3 | IX1: RAMP2-AS1 | IY1: LOC100270746 | IZ1: LMCD1-AS1 | JA1: MIR1289-1 | JB1: MIR548N | JC1: RASAL2-AS1 | JD1: MIR3128 | JE1: MIR3190 | JF1: MIR3153 | JG1: MIR4313 | JH1: BAALC-AS1 | JI1: SH3PXD2A-AS1 | JJ1: TMEM210 | JK1: LINC02606 | JL1: DOCK4-AS1 | JM1: CT66 | JN1: SOX21-AS1 | JO1: LINC02082 | JP1: MIR4477A | JQ1: MIR4673 | JR1: MIR4738 | JS1: MIR4748 | JT1: MIR378E | JU1: WDR87BP | JV1: MIR5696 | JW1: MIR5189 | JX1: MIR5192 | JY1: SRGAP2-AS1 | JZ1: RNU6-31P | KA1: RNU6-19P | KB1: LPP-AS1 | KC1: GRM7-AS1 | KD1: ABCC5-AS1 | KE1: ARHGAP26-AS1 | KF1: ARHGEF9-IT1 | KG1: DNAH17-AS1 | KH1: CYYR1-AS1 | KI1: LINC01356 | KJ1: LOC101060553 | KK1: LINC01375 | KL1: LOC101927040 | KM1: LOC101927143 | KN1: LINC01266 | KO1: LOC101927345 | KP1: NUP133-DT | KQ1: LOC101927657 | KR1: LOC101927668 | KS1: LINC01695 | KT1: LINC01483 | KU1: WDR35-DT | KV1: ZPLD2P | KW1: RGS5-AS1 | KX1: P4HA3-AS1 | KY1: LINC01509 | KZ1: LOC101928733 | LA1: LINC01450 | LB1: LOC101928748 | LC1: LINC01447 | LD1: LOC101929141 | LE1: LOC101929380 | LF1: LINC02099 | LG1: ETS1-AS1 | LH1: IFT74-AS1 | LI1: LOC101929626 | LJ1: NA...323 | LK1: MIR6761 | LL1: MIR6800 | LM1: MIR6885 | LN1: MIR8064 | LO1: MIR6754 | LP1: MIR6778 | LQ1: E2F5-DT | LR1: LOC102724135 | LS1: NA...332 | LT1: NA...333 | LU1: LOC102724467 | LV1: LINC00377 | LW1: NA...336 | LX1: NA...337 | LY1: NA...338 | LZ1: LOC105371031 | MA1: STUB1-DT | MB1: NA...341 | MC1: NA...342 | MD1: NA...343 | ME1: LOC105375840 | MF1: NA...345 | MG1: NA...346 | MH1: NA...347 | MI1: NA...348 | MJ1: NA...349 | MK1: NA...350 | ML1: NA...351
A2: =VLOOKUP(d_scale!A2,Sheet2!$A$2:$B$4,2,1) -> none | B2: =VLOOKUP(d_scale!B2,Sheet2!$A$2:$B$4,2,1) -> none | C2: =VLOOKUP(d_scale!C2,Sheet2!$A$2:$B$4,2,1) -> low | D2: =VLOOKUP(d_scale!D2,Sheet2!$A$2:$B$4,2,1) -> low | E2: =VLOOKUP(d_scale!E2,Sheet2!$A$2:$B$4,2,1) -> none | F2: =VLOOKUP(d_scale!F2,Sheet2!$A$2:$B$4,2,1) -> none | G2: =VLOOKUP(d_scale!G2,Sheet2!$A$2:$B$4,2,1) -> none | H2: =VLOOKUP(d_scale!H2,Sheet2!$A$2:$B$4,2,1) -> none | ... ML2: =VLOOKUP(d_scale!ML2,Sheet2!$A$2:$B$4,2,1) -> low
A3: =VLOOKUP(d_scale!A3,Sheet2!$A$2:$B$4,2,1) -> none | B3: =VLOOKUP(d_scale!B3,Sheet2!$A$2:$B$4,2,1) -> none | C3: =VLOOKUP(d_scale!C3,Sheet2!$A$2:$B$4,2,1) -> low | D3: =VLOOKUP(d_scale!D3,Sheet2!$A$2:$B$4,2,1) -> low | E3: =VLOOKUP(d_scale!E3,Sheet2!$A$2:$B$4,2,1) -> none | F3: =VLOOKUP(d_scale!F3,Sheet2!$A$2:$B$4,2,1) -> none | G3: =VLOOKUP(d_scale!G3,Sheet2!$A$2:$B$4,2,1) -> none | H3: =VLOOKUP(d_scale!H3,Sheet2!$A$2:$B$4,2,1) -> none | ... ML3: =VLOOKUP(d_scale!ML3,Sheet2!$A$2:$B$4,2,1) -> none
A4: =VLOOKUP(d_scale!A4,Sheet2!$A$2:$B$4,2,1) -> none | B4: =VLOOKUP(d_scale!B4,Sheet2!$A$2:$B$4,2,1) -> none | C4: =VLOOKUP(d_scale!C4,Sheet2!$A$2:$B$4,2,1) -> none | D4: =VLOOKUP(d_scale!D4,Sheet2!$A$2:$B$4,2,1) -> none | E4: =VLOOKUP(d_scale!E4,Sheet2!$A$2:$B$4,2,1) -> none | F4: =VLOOKUP(d_scale!F4,Sheet2!$A$2:$B$4,2,1) -> none | G4: =VLOOKUP(d_scale!G4,Sheet2!$A$2:$B$4,2,1) -> none | H4: =VLOOKUP(d_scale!H4,Sheet2!$A$2:$B$4,2,1) -> none | ... ML4: =VLOOKUP(d_scale!ML4,Sheet2!$A$2:$B$4,2,1) -> low
A5: =VLOOKUP(d_scale!A5,Sheet2!$A$2:$B$4,2,1) -> none | B5: =VLOOKUP(d_scale!B5,Sheet2!$A$2:$B$4,2,1) -> none | C5: =VLOOKUP(d_scale!C5,Sheet2!$A$2:$B$4,2,1) -> low | D5: =VLOOKUP(d_scale!D5,Sheet2!$A$2:$B$4,2,1) -> none | E5: =VLOOKUP(d_scale!E5,Sheet2!$A$2:$B$4,2,1) -> none | F5: =VLOOKUP(d_scale!F5,Sheet2!$A$2:$B$4,2,1) -> none | G5: =VLOOKUP(d_scale!G5,Sheet2!$A$2:$B$4,2,1) -> none | H5: =VLOOKUP(d_scale!H5,Sheet2!$A$2:$B$4,2,1) -> none | ... ML5: =VLOOKUP(d_scale!ML5,Sheet2!$A$2:$B$4,2,1) -> high
A6: =VLOOKUP(d_scale!A6,Sheet2!$A$2:$B$4,2,1) -> high | B6: =VLOOKUP(d_scale!B6,Sheet2!$A$2:$B$4,2,1) -> none | C6: =VLOOKUP(d_scale!C6,Sheet2!$A$2:$B$4,2,1) -> none | D6: =VLOOKUP(d_scale!D6,Sheet2!$A$2:$B$4,2,1) -> low | E6: =VLOOKUP(d_scale!E6,Sheet2!$A$2:$B$4,2,1) -> none | F6: =VLOOKUP(d_scale!F6,Sheet2!$A$2:$B$4,2,1) -> none | G6: =VLOOKUP(d_scale!G6,Sheet2!$A$2:$B$4,2,1) -> none | H6: =VLOOKUP(d_scale!H6,Sheet2!$A$2:$B$4,2,1) -> none | ... ML6: =VLOOKUP(d_scale!ML6,Sheet2!$A$2:$B$4,2,1) -> none
A7: =VLOOKUP(d_scale!A7,Sheet2!$A$2:$B$4,2,1) -> none | B7: =VLOOKUP(d_scale!B7,Sheet2!$A$2:$B$4,2,1) -> none | C7: =VLOOKUP(d_scale!C7,Sheet2!$A$2:$B$4,2,1) -> high | D7: =VLOOKUP(d_scale!D7,Sheet2!$A$2:$B$4,2,1) -> high | E7: =VLOOKUP(d_scale!E7,Sheet2!$A$2:$B$4,2,1) -> low | F7: =VLOOKUP(d_scale!F7,Sheet2!$A$2:$B$4,2,1) -> none | G7: =VLOOKUP(d_scale!G7,Sheet2!$A$2:$B$4,2,1) -> none | H7: =VLOOKUP(d_scale!H7,Sheet2!$A$2:$B$4,2,1) -> none | ... ML7: =VLOOKUP(d_scale!ML7,Sheet2!$A$2:$B$4,2,1) -> none
A8: =VLOOKUP(d_scale!A8,Sheet2!$A$2:$B$4,2,1) -> none | B8: =VLOOKUP(d_scale!B8,Sheet2!$A$2:$B$4,2,1) -> none | C8: =VLOOKUP(d_scale!C8,Sheet2!$A$2:$B$4,2,1) -> low | D8: =VLOOKUP(d_scale!D8,Sheet2!$A$2:$B$4,2,1) -> none | E8: =VLOOKUP(d_scale!E8,Sheet2!$A$2:$B$4,2,1) -> high | F8: =VLOOKUP(d_scale!F8,Sheet2!$A$2:$B$4,2,1) -> none | G8: =VLOOKUP(d_scale!G8,Sheet2!$A$2:$B$4,2,1) -> none | H8: =VLOOKUP(d_scale!H8,Sheet2!$A$2:$B$4,2,1) -> none | ... ML8: =VLOOKUP(d_scale!ML8,Sheet2!$A$2:$B$4,2,1) -> high
A9: =VLOOKUP(d_scale!A9,Sheet2!$A$2:$B$4,2,1) -> none | B9: =VLOOKUP(d_scale!B9,Sheet2!$A$2:$B$4,2,1) -> none | C9: =VLOOKUP(d_scale!C9,Sheet2!$A$2:$B$4,2,1) -> none | D9: =VLOOKUP(d_scale!D9,Sheet2!$A$2:$B$4,2,1) -> none | E9: =VLOOKUP(d_scale!E9,Sheet2!$A$2:$B$4,2,1) -> high | F9: =VLOOKUP(d_scale!F9,Sheet2!$A$2:$B$4,2,1) -> high | G9: =VLOOKUP(d_scale!G9,Sheet2!$A$2:$B$4,2,1) -> none | H9: =VLOOKUP(d_scale!H9,Sheet2!$A$2:$B$4,2,1) -> none | ... ML9: =VLOOKUP(d_scale!ML9,Sheet2!$A$2:$B$4,2,1) -> low
A10: =VLOOKUP(d_scale!A10,Sheet2!$A$2:$B$4,2,1) -> high | B10: =VLOOKUP(d_scale!B10,Sheet2!$A$2:$B$4,2,1) -> high | C10: =VLOOKUP(d_scale!C10,Sheet2!$A$2:$B$4,2,1) -> none | D10: =VLOOKUP(d_scale!D10,Sheet2!$A$2:$B$4,2,1) -> none | E10: =VLOOKUP(d_scale!E10,Sheet2!$A$2:$B$4,2,1) -> none | F10: =VLOOKUP(d_scale!F10,Sheet2!$A$2:$B$4,2,1) -> none | G10: =VLOOKUP(d_scale!G10,Sheet2!$A$2:$B$4,2,1) -> none | H10: =VLOOKUP(d_scale!H10,Sheet2!$A$2:$B$4,2,1) -> none | ... ML10: =VLOOKUP(d_scale!ML10,Sheet2!$A$2:$B$4,2,1) -> none
A11: =VLOOKUP(d_scale!A11,Sheet2!$A$2:$B$4,2,1) -> none | B11: =VLOOKUP(d_scale!B11,Sheet2!$A$2:$B$4,2,1) -> none | C11: =VLOOKUP(d_scale!C11,Sheet2!$A$2:$B$4,2,1) -> none | D11: =VLOOKUP(d_scale!D11,Sheet2!$A$2:$B$4,2,1) -> low | E11: =VLOOKUP(d_scale!E11,Sheet2!$A$2:$B$4,2,1) -> low | F11: =VLOOKUP(d_scale!F11,Sheet2!$A$2:$B$4,2,1) -> none | G11: =VLOOKUP(d_scale!G11,Sheet2!$A$2:$B$4,2,1) -> none | H11: =VLOOKUP(d_scale!H11,Sheet2!$A$2:$B$4,2,1) -> none | ... ML11: =VLOOKUP(d_scale!ML11,Sheet2!$A$2:$B$4,2,1) -> low
A12: =VLOOKUP(d_scale!A12,Sheet2!$A$2:$B$4,2,1) -> none | B12: =VLOOKUP(d_scale!B12,Sheet2!$A$2:$B$4,2,1) -> none | C12: =VLOOKUP(d_scale!C12,Sheet2!$A$2:$B$4,2,1) -> high | D12: =VLOOKUP(d_scale!D12,Sheet2!$A$2:$B$4,2,1) -> none | E12: =VLOOKUP(d_scale!E12,Sheet2!$A$2:$B$4,2,1) -> none | F12: =VLOOKUP(d_scale!F12,Sheet2!$A$2:$B$4,2,1) -> none | G12: =VLOOKUP(d_scale!G12,Sheet2!$A$2:$B$4,2,1) -> none | H12: =VLOOKUP(d_scale!H12,Sheet2!$A$2:$B$4,2,1) -> none | ... ML12: =VLOOKUP(d_scale!ML12,Sheet2!$A$2:$B$4,2,1) -> low
A13: =VLOOKUP(d_scale!A13,Sheet2!$A$2:$B$4,2,1) -> none | B13: =VLOOKUP(d_scale!B13,Sheet2!$A$2:$B$4,2,1) -> none | C13: =VLOOKUP(d_scale!C13,Sheet2!$A$2:$B$4,2,1) -> none | D13: =VLOOKUP(d_scale!D13,Sheet2!$A$2:$B$4,2,1) -> low | E13: =VLOOKUP(d_scale!E13,Sheet2!$A$2:$B$4,2,1) -> high | F13: =VLOOKUP(d_scale!F13,Sheet2!$A$2:$B$4,2,1) -> high | G13: =VLOOKUP(d_scale!G13,Sheet2!$A$2:$B$4,2,1) -> none | H13: =VLOOKUP(d_scale!H13,Sheet2!$A$2:$B$4,2,1) -> none | ... ML13: =VLOOKUP(d_scale!ML13,Sheet2!$A$2:$B$4,2,1) -> none
... A43: =VLOOKUP(d_scale!A43,Sheet2!$A$2:$B$4,2,1) -> none | B43: =VLOOKUP(d_scale!B43,Sheet2!$A$2:$B$4,2,1) -> high | C43: =VLOOKUP(d_scale!C43,Sheet2!$A$2:$B$4,2,1) -> high | D43: =VLOOKUP(d_scale!D43,Sheet2!$A$2:$B$4,2,1) -> low | E43: =VLOOKUP(d_scale!E43,Sheet2!$A$2:$B$4,2,1) -> low | F43: =VLOOKUP(d_scale!F43,Sheet2!$A$2:$B$4,2,1) -> none | G43: =VLOOKUP(d_scale!G43,Sheet2!$A$2:$B$4,2,1) -> none | H43: =VLOOKUP(d_scale!H43,Sheet2!$A$2:$B$4,2,1) -> none | ... ML43: =VLOOKUP(d_scale!ML43,Sheet2!$A$2:$B$4,2,1) -> high

Sheet Sheet2
A2: =-100 -> -100 | B2: low
A3: -1 | B3: none
A4: 1 | B4: high
D5: =VLOOKUP(D1,A2:B5,2,1) -> none

Sheet d_scale
A1: APOD | B1: ART1 | C1: BRDT | D1: BTF3P11 | E1: CA4 | F1: CBS | G1: CELP | H1: CLK2 | I1: CPB1 | J1: ATF6B | K1: CYP3A7 | L1: CYP8B1 | M1: DEFB1 | N1: DPYS | O1: DUSP8 | P1: EDN2 | Q1: EGR1 | R1: EGR3 | S1: EGR4 | T1: EMP2 | U1: FMO2 | V1: GABRB2 | W1: GAP43 | X1: GBA1 | Y1: GNAT1 | Z1: GNG4 | AA1: GPR31 | AB1: FFAR3 | AC1: GRID1 | AD1: GRM7 | AE1: GYPB | AF1: H1-3 | AG1: HBE1 | AH1: MNX1 | AI1: CXCL8 | AJ1: INHBB | AK1: IVL | AL1: KCNC2 | AM1: KDR | AN1: KIR2DS4 | AO1: LBP | AP1: MEIS2 | AQ1: MYL2 | AR1: NNMT | AS1: NPHS1 | AT1: TNFRSF11B | AU1: PDCD1 | AV1: PENK | AW1: PON1 | AX1: PRKACG | AY1: TAS2R38 | AZ1: RORB | BA1: RXRB | BB1: CCL24 | BC1: CXCL6 | BD1: SKIC2 | BE1: SLC6A11 | BF1: SNCB | BG1: TBXT | BH1: TNNI3 | BI1: TRN-GTT2-7 | BJ1: ZNF177 | BK1: TUSC3 | BL1: MFAP5 | BM1: H2AC14 | BN1: H2AC16 | BO1: H4C4 | BP1: H4C2 | BQ1: PDLIM4 | BR1: DNAJA3 | BS1: ENTREP1 | BT1: CHST3 | BU1: STXBP5L | BV1: ARNT2 | BW1: KBTBD11 | BX1: LINC01587 | BY1: CHST4 | BZ1: MYCNOS | CA1: TBR1 | CB1: PROKR1 | CC1: PPBPP2 | CD1: TMSB15A | CE1: PRDM7 | CF1: PTP4A3 | CG1: ADGRL3 | CH1: SCRIB | CI1: HYAL4 | CJ1: DDAH2 | CK1: SPDEF | CL1: ARHGEF26 | CM1: ANKRD2 | CN1: SRPX2 | CO1: IGHV3-21 | CP1: IGHV1-18 | CQ1: IGLVI-56 | CR1: IGLV10-67 | CS1: SCHIP1 | CT1: KCNIP1 | CU1: G0S2 | CV1: DHH | CW1: PI15 | CX1: DUSP13 | CY1: ELOA2 | CZ1: PCDH18 | DA1: ASPN | DB1: KIRREL1 | DC1: LARP6 | DD1: SVOP | DE1: GNG12 | DF1: PCDHB2 | DG1: VTRNA1-1 | DH1: LGALS14 | DI1: OTOR | DJ1: VARS2 | DK1: DPP10 | DL1: WFDC1 | DM1: ABCG8 | DN1: OR51B2 | DO1: CORO7 | DP1: BTNL8 | DQ1: GRHL2 | DR1: SEMA6D | DS1: OR6N2 | DT1: COL21A1 | DU1: GSG1 | DV1: H2AB3 | DW1: MRO | DX1: PCDHB19P | DY1: MYH16 | DZ1: GARIN1B | EA1: LNX1 | EB1: MEDAG | EC1: WNT3A | ED1: LINC00923 | EE1: GGTLC1 | EF1: LOC93463 | EG1: CADPS2 | EH1: MRAP2 | EI1: TMEM54 | EJ1: LENG8 | EK1: GALNT15 | EL1: CALHM3 | EM1: FAT3 | EN1: ASCL4 | EO1: SPIC | EP1: FLJ40194 | EQ1: CALR3 | ER1: ZNF648 | ES1: LINC01620 | ET1: PPP1R13B-DT | EU1: LOC145474 | EV1: C16orf92 | EW1: BICDL2 | EX1: ODF4 | EY1: CD300LG | EZ1: LYPD4 | FA1: ZNF560 | FB1: LRRC71 | FC1: SMYD1 | FD1: LINC01618 | FE1: FBXO16 | FF1: NKX6-3 | FG1: C12orf50 | FH1: ANKFN1 | FI1: CDC20B | FJ1: CYS1 | FK1: HEPACAM2 | FL1: CACNA1G-AS1 | FM1: CBARP | FN1: LINC01018 | FO1: LINC01743 | FP1: TAS2R20 | FQ1: TFAMP1 | FR1: SEC14L3 | FS1: TRHDE-AS1 | FT1: LINC00551 | FU1: SLC25A47 | FV1: TMEM235 | FW1: PIGW | FX1: HMSD | FY1: RSPO1 | FZ1: DNAJB8-AS1 | GA1: HTR3E | GB1: C3orf70 | GC1: YIPF7 | GD1: C4orf54 | GE1: ANKRD45 | GF1: LINC01141 | GG1: RSPO2 | GH1: OR52B6 | GI1: DCDC1 | GJ1: LRRC9 | GK1: COL6A4P1 | GL1: STRA8 | GM1: SPATA12 | GN1: C9orf50 | GO1: SLC16A12 | GP1: ZNF728 | GQ1: LINC02591 | GR1: OR11H4 | GS1: OR2L8 | GT1: OR1K1 | GU1: FOXI2 | GV1: TUSC8 | GW1: BCAR4 | GX1: LINC00114 | GY1: BCRP2 | GZ1: ACOXL-AS1 | HA1: LINC02232 | HB1: RNF223 | HC1: MIR23A | HD1: MIR296 | HE1: GLUD1P2 | HF1: MGC34796 | HG1: LOC440300 | HH1: NA...217 | HI1: OR13G1 | HJ1: DPY19L2P1 | HK1: CCNYL6 | HL1: PIRT | HM1: EVPLL | HN1: LSP1P5 | HO1: LINC00693 | HP1: GOLGA6FP | HQ1: RPS7P5 | HR1: SPATA31C2 | HS1: NAP1L6P | HT1: RD3L | HU1: SFTPA1 | HV1: FER1L6 | HW1: SCARNA20 | HX1: MIR584 | HY1: MIR602 | HZ1: MIR640 | IA1: FAM245A | IB1: KRTAP9-1 | IC1: LINC00977 | ID1: LOC729080 | IE1: LMO7DN | IF1: SNORD116-2 | IG1: SNORD116-27 | IH1: SNORD121A | II1: SNORD11B | IJ1: SNORA11B | IK1: MIR298 | IL1: MIR942 | IM1: LINC02291 | IN1: LOC100130673 | IO1: BSN-DT | IP1: SHISAL2B | IQ1: RNU4ATAC | IR1: RNA5S9 | IS1: DBIL5P2 | IT1: TRR-TCT3-1 | IU1: TRD-GTC2-6 | IV1: TRR-CCT3-1 | IW1: TRS-GCT4-3 | IX1: RAMP2-AS1 | IY1: LOC100270746 | IZ1: LMCD1-AS1 | JA1: MIR1289-1 | JB1: MIR548N | JC1: RASAL2-AS1 | JD1: MIR3128 | JE1: MIR3190 | JF1: MIR3153 | JG1: MIR4313 | JH1: BAALC-AS1 | JI1: SH3PXD2A-AS1 | JJ1: TMEM210 | JK1: LINC02606 | JL1: DOCK4-AS1 | JM1: CT66 | JN1: SOX21-AS1 | JO1: LINC02082 | JP1: MIR4477A | JQ1: MIR4673 | JR1: MIR4738 | JS1: MIR4748 | JT1: MIR378E | JU1: WDR87BP | JV1: MIR5696 | JW1: MIR5189 | JX1: MIR5192 | JY1: SRGAP2-AS1 | JZ1: RNU6-31P | KA1: RNU6-19P | KB1: LPP-AS1 | KC1: GRM7-AS1 | KD1: ABCC5-AS1 | KE1: ARHGAP26-AS1 | KF1: ARHGEF9-IT1 | KG1: DNAH17-AS1 | KH1: CYYR1-AS1 | KI1: LINC01356 | KJ1: LOC101060553 | KK1: LINC01375 | KL1: LOC101927040 | KM1: LOC101927143 | KN1: LINC01266 | KO1: LOC101927345 | KP1: NUP133-DT | KQ1: LOC101927657 | KR1: LOC101927668 | KS1: LINC01695 | KT1: LINC01483 | KU1: WDR35-DT | KV1: ZPLD2P | KW1: RGS5-AS1 | KX1: P4HA3-AS1 | KY1: LINC01509 | KZ1: LOC101928733 | LA1: LINC01450 | LB1: LOC101928748 | LC1: LINC01447 | LD1: LOC101929141 | LE1: LOC101929380 | LF1: LINC02099 | LG1: ETS1-AS1 | LH1: IFT74-AS1 | LI1: LOC101929626 | LJ1: NA...323 | LK1: MIR6761 | LL1: MIR6800 | LM1: MIR6885 | LN1: MIR8064 | LO1: MIR6754 | LP1: MIR6778 | LQ1: E2F5-DT | LR1: LOC102724135 | LS1: NA...332 | LT1: NA...333 | LU1: LOC102724467 | LV1: LINC00377 | LW1: NA...336 | LX1: NA...337 | LY1: NA...338 | LZ1: LOC105371031 | MA1: STUB1-DT | MB1: NA...341 | MC1: NA...342 | MD1: NA...343 | ME1: LOC105375840 | MF1: NA...345 | MG1: NA...346 | MH1: NA...347 | MI1: NA...348 | MJ1: NA...349 | MK1: NA...350 | ML1: NA...351
A2: 0.88615688 | B2: -0.9121763 | C2: -1.0334736 | D2: -1.0013755 | E2: -0.44692616 | F2: -0.086705038 | G2: 0.82734038 | H2: 0.19785037 | I2: -0.78528732 | J2: -0.65678868 | K2: -0.6892635 | L2: 0.32280373 | M2: 0.38023295 | N2: -1.1758187 | O2: 0.44983742 | P2: -0.9847419 | Q2: -0.36246692 | R2: 0.41095767 | S2: -0.61910831 | T2: 1.3200643 | U2: 0.53185884 | V2: -0.23158829 | W2: 1.7139906 | X2: 1.242712 | Y2: -0.87148306 | Z2: -0.0080553793 | AA2: -0.86793898 | AB2: -0.79498344 | AC2: 0.96440302 | AD2: -0.92848266 | AE2: -0.88653774 | AF2: 0.52894822 | AG2: 0.84683917 | AH2: 0.82998971 | AI2: -0.80976539 | AJ2: -0.0090093502 | AK2: 1.1770584 | AL2: -0.6975433 | AM2: 0.51653439 | AN2: -0.6761011 | AO2: 1.0088124 | AP2: -1.6122179 | AQ2: 1.3425822 | AR2: 0.4122571 | AS2: -0.0060529136 | AT2: -0.86499102 | AU2: 0.61903597 | AV2: 0.1155278 | AW2: 0.762769 | AX2: 1.8226417 | AY2: 0.94858903 | AZ2: 0.057416271 | BA2: -0.12962138 | BB2: 0.91794222 | BC2: -0.5091068 | BD2: 2.0297056 | BE2: -0.55555928 | BF2: 3.3249022 | BG2: 1.9940562 | BH2: -0.62999762 | BI2: -1.1893342 | BJ2: 1.9308133 | BK2: -0.70135916 | BL2: 1.8767173 | BM2: 1.9410303 | BN2: -1.0015264 | BO2: 1.2495776 | BP2: -0.55704037 | BQ2: -0.066613641 | BR2: 0.63081946 | BS2: 1.6095879 | BT2: 0.39137629 | BU2: -0.68580052 | BV2: -0.84236745 | BW2: 0.69895583 | BX2: 0.54432793 | BY2: -0.12668307 | BZ2: 0.9837408 | CA2: -0.57180207 | CB2: -0.90526706 | CC2: 0.97790533 | CD2: -1.1552511 | CE2: -0.11429136 | CF2: 0.68948226 | CG2: -0.63260595 | CH2: -0.67877043 | CI2: -0.77729947 | CJ2: -0.180577 | CK2: -0.18089872 | CL2: 0.26670921 | CM2: -0.53655059 | CN2: -0.5405702 | CO2: 0.063811527 | CP2: -0.27264325 | CQ2: 1.1174752 | CR2: 0.60387066 | CS2: -1.093904 | CT2: -0.63407572 | CU2: -0.64961249 | CV2: -0.56152404 | CW2: -0.55401889 | CX2: -0.98210878 | CY2: 2.1092491 | CZ2: 0.58426331 | DA2: -0.89268294 | DB2: 1.6200452 | DC2: -0.66621525 | DD2: -0.55797706 | DE2: 0.14343394 | DF2: -1.0561184 | DG2: -0.89151441 | DH2: 0.064058889 | DI2: 1.8380039 | DJ2: -0.69223813 | DK2: 1.1383252 | DL2: -0.72091215 | DM2: 0.84114487 | DN2: -0.63141956 | DO2: -0.38644402 | DP2: 0.092451487 | DQ2: -1.3084884 | DR2: 0.46073096 | DS2: 0.69798898 | DT2: -0.73499074 | DU2: 0.41018254 | DV2: 1.0919963 | DW2: 0.75272061 | DX2: 1.386531 | DY2: -1.1176176 | DZ2: -0.71955873 | EA2: -0.73529549 | EB2: 0.39860741 | EC2: -1.1207482 | ED2: -0.74145331 | EE2: 0.65979937 | EF2: 0.025473445 | EG2: 0.62503836 | EH2: 0.61871237 | EI2: -0.72498131 | EJ2: -0.39599937 | EK2: 0.43369775 | EL2: 0.25628405 | EM2: -0.83725166 | EN2: 0.70705722 | EO2: 1.3797778 | EP2: -0.61256349 | EQ2: -0.87347945 | ER2: -0.7698132 | ES2: -0.57363044 | ET2: -0.73401494 | EU2: -1.2419783 | EV2: -0.58034107 | EW2: 0.78945878 | EX2: 0.69884626 | EY2: 0.42893089 | EZ2: -0.99487806 | FA2: -0.69280401 | FB2: -0.12150825 | FC2: -0.61630895 | FD2: 0.62813716 | FE2: -0.50066619 | FF2: 1.2091625 | FG2: -0.97556486 | FH2: -0.37313783 | FI2: 1.1765337 | FJ2: 0.090453245 | FK2: 0.96678572 | FL2: -1.026315 | FM2: -0.87318544 | FN2: -0.65010763 | FO2: -0.66242474 | FP2: -0.52402953 | FQ2: 0.69445274 | FR2: 1.48406 | FS2: -1.161487 | FT2: -0.6423118 | FU2: 0.024433232 | FV2: 1.2512676 | FW2: 1.5748125 | FX2: -0.047391133 | FY2: 2.0054281 | FZ2: -0.73580774 | GA2: -0.70653662 | GB2: -0.0065294882 | GC2: 0.43521913 | GD2: -1.0701766 | GE2: -1.1480909 | GF2: 0.42164798 | GG2: -0.67739032 | GH2: 0.12370926 | GI2: 0.60482526 | GJ2: -0.51472918 | GK2: -0.14542111 | GL2: -0.85756157 | GM2: 1.5121529 | GN2: -0.76879679 | GO2: -0.78637721 | GP2: 0.55735362 | GQ2: -0.46185192 | GR2: -0.94957871 | GS2: -0.75459762 | GT2: -1.2778804 | GU2: 0.76127646 | GV2: -0.69827327 | GW2: -0.70019907 | GX2: -0.75778951 | GY2: -1.0555726 | GZ2: 0.093443697 | HA2: -0.72169835 | HB2: -1.1094367 | HC2: -0.97964404 | HD2: 1.0351386 | HE2: 0.36045829 | HF2: -1.118375 | HG2: 1.2387627 | HH2: 0.38822867 | HI2: 2.427271 | HJ2: 0.28607187 | HK2: 1.3518409 | HL2: -0.60353715 | HM2: 0.66551055 | HN2: -1.0092621 | HO2: 1.4764855 | HP2: 1.4042585 | HQ2: 0.86705286 | HR2: 0.51530308 | HS2: -1.0902197 | HT2: 0.40225779 | HU2: 0.80130229 | HV2: 0.82187869 | HW2: -1.0256053 | HX2: 1.0404464 | HY2: -0.49650348 | HZ2: -0.79053687 | IA2: -0.61477956 | IB2: -0.46129459 | IC2: 1.7456892 | ID2: 0.99778569 | IE2: 0.53636109 | IF2: -1.2299179 | IG2: 0.52707353 | IH2: 0.033777366 | II2: -1.0698464 | IJ2: -0.94665909 | IK2: -0.80685508 | IL2: 0.42420449 | IM2: 1.9898285 | IN2: -0.80802847 | IO2: -0.98301446 | IP2: -0.72293283 | IQ2: 0.27965353 | IR2: 0.34929856 | IS2: 0.44606371 | IT2: -0.68817015 | IU2: -1.6717935 | IV2: -0.93515491 | IW2: 1.1222218 | IX2: -0.75457709 | IY2: -0.8929072 | IZ2: -0.77166367 | JA2: -0.63265001 | JB2: -0.91868072 | JC2: 1.0190708 | JD2: 0.12808047 | JE2: 0.98530298 | JF2: 0.085243908 | JG2: -0.56237669 | JH2: -1.0196433 | JI2: 0.66349011 | JJ2: -0.94892656 | JK2: -0.34937098 | JL2: -0.14783332 | JM2: 0.74559312 | JN2: -0.78384407 | JO2: 1.4962523 | JP2: -0.052096221 | JQ2: -0.93025003 | JR2: -0.8132075 | JS2: -0.57066971 | JT2: -1.296673 | JU2: 1.0854166 | JV2: -0.6805642 | JW2: -0.93861576 | JX2: -0.048692438 | JY2: -0.17843072 | JZ2: 1.7239456 | KA2: -1.2104448 | KB2: 1.0104015 | KC2: 0.54993782 | KD2: -0.91497148 | KE2: -1.4826044 | KF2: -0.75250815 | KG2: -0.90124271 | KH2: -1.0833014 | KI2: 1.2311349 | KJ2: 0.35457434 | KK2: -0.62879698 | KL2: -0.43352562 | KM2: -0.010404646 | KN2: 0.45612156 | KO2: -0.55039514 | KP2: 1.5411784 | KQ2: -0.66695641 | KR2: -0.57652865 | KS2: 1.1901808 | KT2: -0.6347818 | KU2: 0.60387314 | KV2: -1.522977 | KW2: 1.922654 | KX2: -0.5711001 | KY2: 1.4911782 | KZ2: -0.6402398 | LA2: 0.81814368 | LB2: -0.60817111 | LC2: -0.70848649 | LD2: 0.26900433 | LE2: -0.95889164 | LF2: 0.17471425 | LG2: -0.73689781 | LH2: 0.43923125 | LI2: -0.90585909 | LJ2: -1.0472901 | LK2: -1.023576 | LL2: -0.75193816 | LM2: -0.62349785 | LN2: -1.0984849 | LO2: 0.17143595 | LP2: 1.0033262 | LQ2: 0.85525057 | LR2: 0.12395331 | LS2: -0.43742745 | LT2: -0.68104255 | LU2: -1.0816996 | LV2: -0.35666588 | LW2: -1.7129636 | LX2: -1.1928623 | LY2: 1.6832449 | LZ2: -0.59607784 | MA2: -0.10131768 | MB2: 0.47685204 | MC2: -0.84037404 | MD2: 2.1783215 | ME2: 0.2413857 | MF2: -0.76725644 | MG2: 0.69953778 | MH2: 0.65689103 | MI2: 0.23509666 | MJ2: -0.5717695 | MK2: -0.65294868 | ML2: -1.015312
A3: -0.99790711 | B3: -0.9121763 | C3: -1.0334736 | D3: -1.0013755 | E3: 0.11591728 | F3: 0.78638498 | G3: 0.79674446 | H3: -0.0061783947 | I3: -0.78528732 | J3: -0.65678868 | K3: -0.6892635 | L3: 0.85851043 | M3: -0.93162884 | N3: 1.0204089 | O3: 0.85746471 | P3: -0.9847419 | Q3: -0.66242647 | R3: -0.57365538 | S3: -0.61910831 | T3: 0.67668748 | U3: 1.5814298 | V3: 2.0256888 | W3: 0.98385357 | X3: 1.6852456 | Y3: 0.63032342 | Z3: 1.9044853 | AA3: -0.86793898 | AB3: -0.79498344 | AC3: -1.0752847 | AD3: -0.92848266 | AE3: -0.88653774 | AF3: 1.1953269 | AG3: 0.32960327 | AH3: -0.62306865 | AI3: -0.96158088 | AJ3: 0.25465623 | AK3: -0.60195878 | AL3: -0.6975433 | AM3: -0.72955579 | AN3: 0.51171688 | AO3: -0.65530808 | AP3: -1.6122179 | AQ3: 1.7184186 | AR3: -0.15518339 | AS3: 0.50542098 | AT3: 0.49281376 | AU3: 2.5297313 | AV3: -1.2641843 | AW3: 1.3900026 | AX3: 1.4941416 | AY3: 0.91228241 | AZ3: 0.24442647 | BA3: -0.58353878 | BB3: 0.5128852 | BC3: -0.5091068 | BD3: -0.47747463 | BE3: -0.55555928 | BF3: 1.1793984 | BG3: -0.93180341 | BH3: -0.62999762 | BI3: 0.97795971 | BJ3: 1.1488175 | BK3: 0.65838874 | BL3: -1.1348671 | BM3: 2.4587923 | BN3: -1.0015264 | BO3: -0.85620418 | BP3: 1.0806332 | BQ3: 0.44465821 | BR3: -1.0032779 | BS3: 0.57183705 | BT3: -0.96890116 | BU3: -0.68580052 | BV3: -0.84236745 | BW3: 0.66942847 | BX3: 0.51010952 | BY3: -1.1391 | BZ3: 0.58463319 | CA3: -0.57180207 | CB3: 0.058282591 | CC3: -0.88046141 | CD3: 1.2056511 | CE3: -1.2488662 | CF3: -0.84686222 | CG3: -0.63260595 | CH3: -0.59127963 | CI3: -0.27768682 | CJ3: 3.6130529 | CK3: -1.7249868 | CL3: -1.2010142 | CM3: -0.53655059 | CN3: -0.5405702 | CO3: 0.32074059 | CP3: 1.674743 | CQ3: -0.84141325 | CR3: 1.050308 | CS3: 2.2405801 | CT3: -0.63407572 | CU3: -0.011899048 | CV3: -0.56152404 | CW3: -0.55401889 | CX3: 0.52911217 | CY3: 0.72355711 | CZ3: -0.86345674 | DA3: 0.50797907 | DB3: 1.5729136 | DC3: -0.66621525 | DD3: -0.55797706 | DE3: -0.85351022 | DF3: -1.0561184 | DG3: -0.89151441 | DH3: 0.93915326 | DI3: -0.76553265 | DJ3: -0.69223813 | DK3: -0.59438477 | DL3: 0.64142699 | DM3: -1.0438517 | DN3: 0.83947564 | DO3: -0.38644402 | DP3: -1.1649058 | DQ3: -1.3084884 | DR3: -0.77571508 | DS3: 0.65136982 | DT3: 2.0928744 | DU3: 1.1523488 | DV3: 0.51955743 | DW3: 0.37327217 | DX3: -0.5310394 | DY3: -1.1176176 | DZ3: -0.71955873 | EA3: -0.73529549 | EB3: -1.0005173 | EC3: 0.24755839 | ED3: -0.74145331 | EE3: -0.97321396 | EF3: -0.011395008 | EG3: -0.73487476 | EH3: -1.5830907 | EI3: -0.72498131 | EJ3: -0.38779218 | EK3: -0.093444475 | EL3: 0.95877944 | EM3: -0.83725166 | EN3: 0.93891141 | EO3: -0.76302354 | EP3: 0.77916361 | EQ3: 0.61568426 | ER3: -0.7698132 | ES3: -0.57363044 | ET3: -0.73401494 | EU3: -0.29630981 | EV3: -0.58034107 | EW3: 0.99467205 | EX3: 0.66762458 | EY3: 0.86082206 | EZ3: -0.99487806 | FA3: -0.69280401 | FB3: -0.9316922 | FC3: 1.6286292 | FD3: -0.7654858 | FE3: 0.52094495 | FF3: -0.72765744 | FG3: -0.97556486 | FH3: -0.37313783 | FI3: 1.5443409 | FJ3: -0.93815765 | FK3: -1.2323102 | FL3: 1.5177511 | FM3: -0.87318544 | FN3: -0.65010763 | FO3: -0.66242474 | FP3: -0.52402953 | FQ3: -0.14073857 | FR3: 1.6061694 | FS3: -1.161487 | FT3: 1.4593196 | FU3: -1.0147504 | FV3: 0.39891988 | FW3: 1.5298745 | FX3: -0.0753862 | FY3: -0.63869213 | FZ3: -0.73580774 | GA3: 1.0848191 | GB3: 0.24008184 | GC3: -0.99484391 | GD3: -1.0701766 | GE3: 1.3133694 | GF3: 0.99959549 | GG3: -0.67739032 | GH3: -0.45024973 | GI3: 0.81911778 | GJ3: 0.61551076 | GK3: -1.5311866 | GL3: -0.85756157 | GM3: -0.98893612 | GN3: 1.2592505 | GO3: -0.78637721 | GP3: 0.90347153 | GQ3: -0.46185192 | GR3: 1.5473035 | GS3: -0.75459762 | GT3: -1.2778804 | GU3: -0.68206972 | GV3: -0.69827327 | GW3: -0.70019907 | GX3: -0.75778951 | GY3: 0.99431485 | GZ3: -0.32317267 | HA3: -0.72169835 | HB3: -0.012869343 | HC3: -1.2037507 | HD3: -0.86001239 | HE3: 0.32916801 | HF3: 0.24935679 | HG3: -0.66566684 | HH3: 0.96054239 | HI3: -0.42806668 | HJ3: 1.2822332 | HK3: 1.3108612 | HL3: -0.60353715 | HM3: -0.93082623 | HN3: 0.31073222 | HO3: -0.86985443 | HP3: -0.82141074 | HQ3: -0.78517707 | HR3: -0.97035627 | HS3: -0.046271841 | HT3: -1.2393511 | HU3: -1.175355 | HV3: -0.90699112 | HW3: 0.92820158 | HX3: -0.62933971 | HY3: 1.8601799 | HZ3: -0.79053687 | IA3: -0.61477956 | IB3: -0.46129459 | IC3: 0.29619783 | ID3: -0.86153222 | IE3: -0.91723867 | IF3: -0.072072772 | IG3: 2.2865972 | IH3: 0.0065529104 | II3: 0.35285442 | IJ3: 0.73715617 | IK3: 0.91919804 | IL3: -0.90422265 | IM3: 0.78731953 | IN3: -0.80802847 | IO3: 1.3222283 | IP3: 1.0273834 | IQ3: 0.82655242 | IR3: 3.5098602 | IS3: 0.40701338 | IT3: 2.7636548 | IU3: -0.12398164 | IV3: 0.75718177 | IW3: 0.18488408 | IX3: -0.75457709 | IY3: -0.8929072 | IZ3: -0.77166367 | JA3: 0.93510013 | JB3: 1.2989895 | JC3: -0.66542744 | JD3: -1.096648 | JE3: 0.95053028 | JF3: -1.048922 | JG3: -0.56237669 | JH3: -0.047433443 | JI3: 1.4023184 | JJ3: 2.4261418 | JK3: -0.37521934 | JL3: 0.99075866 | JM3: -0.63715609 | JN3: -0.78384407 | JO3: -0.55329006 | JP3: 1.1498291 | JQ3: 1.1335473 | JR3: -0.8132075 | JS3: -0.57066971 | JT3: -1.296673 | JU3: -0.87500668 | JV3: -0.6805642 | JW3: -0.93861576 | JX3: -0.080425795 | JY3: -1.3337257 | JZ3: 0.98633415 | KA3: -1.2104448 | KB3: 1.3760945 | KC3: -0.40206563 | KD3: 0.62232602 | KE3: -0.63138426 | KF3: 1.1770366 | KG3: 1.6970895 | KH3: 0.16151915 | KI3: 1.9769622 | KJ3: 0.12080493 | KK3: -0.62879698 | KL3: -0.43352562 | KM3: -0.57059816 | KN3: 0.42889761 | KO3: -0.55039514 | KP3: 0.81823175 | KQ3: -0.66695641 | KR3: -0.57652865 | KS3: 1.1514366 | KT3: 1.0637866 | KU3: 0.23354107 | KV3: 1.2335637 | KW3: -0.74426131 | KX3: 1.6200271 | KY3: -1.4922034 | KZ3: 1.0490941 | LA3: 2.6997552 | LB3: -0.60817111 | LC3: -0.70848649 | LD3: -0.038306035 | LE3: 1.4146254 | LF3: 0.13508367 | LG3: 1.1329387 | LH3: 0.40851753 | LI3: 0.99030304 | LJ3: -1.0472901 | LK3: -1.023576 | LL3: -0.75193816 | LM3: -0.62349785 | LN3: 1.4013722 | LO3: 0.14589904 | LP3: -0.012514548 | LQ3: -0.82076162 | LR3: 1.2523108 | LS3: -1.4949511 | LT3: -0.68104255 | LU3: -1.0816996 | LV3: -0.11080196 | LW3: 1.2381727 | LX3: -0.24771062 | LY3: 0.81106943 | LZ3: -0.59607784 | MA3: 2.1305233 | MB3: -0.89779763 | MC3: -0.84037404 | MD3: -0.74791143 | ME3: 0.73350414 | MF3: -0.76725644 | MG3: -1.0734054 | MH3: -0.3799054 | MI3: 1.2802606 | MJ3: 1.2416712 | MK3: 0.42299426 | ML3: 0.11214671
A4: 0.37818443 | B4: -0.9121763 | C4: -0.16760325 | D4: 0.96656728 | E4: 0.67597859 | F4: 0.33231362 | G4: -0.66538178 | H4: 0.01863703 | I4: -0.78528732 | J4: -0.0055530579 | K4: 1.0511689 | L4: 0.96230863 | M4: -0.93162884 | N4: 0.46265268 | O4: -0.60945754 | P4: -0.9847419 | Q4: -0.20267361 | R4: -0.26320209 | S4: 0.64976867 | T4: -0.77597705 | U4: 0.12409412 | V4: 0.53352296 | W4: -0.66470459 | X4: 1.1852893 | Y4: -0.87148306 | Z4: -1.0918542 | AA4: 0.72949286 | AB4: -0.79498344 | AC4: -1.0752847 | AD4: 0.80424073 | AE4: -0.88653774 | AF4: 0.98659526 | AG4: 2.4052113 | AH4: 0.87692111 | AI4: -0.072715506 | AJ4: 1.3940152 | AK4: -0.60195878 | AL4: -0.6975433 | AM4: 1.4954439 | AN4: -0.6761011 | AO4: -0.65530808 | AP4: -0.86806455 | AQ4: 0.83371325 | AR4: 0.89917012 | AS4: -1.3366024 | AT4: 0.56595592 | AU4: 1.2488407 | AV4: 2.3537997 | AW4: 0.81543119 | AX4: -0.83505797 | AY4: 1.0057785 | AZ4: 0.71249179 | BA4: 1.6948142 | BB4: 1.1502333 | BC4: -0.5091068 | BD4: -0.30529716 | BE4: -0.55555928 | BF4: -0.61161971 | BG4: 0.21400582 | BH4: -0.62999762 | BI4: 1.7573107 | BJ4: -0.61496933 | BK4: 0.90014482 | BL4: 0.1382262 | BM4: 0.88990809 | BN4: -1.0015264 | BO4: -0.85620418 | BP4: -0.55704037 | BQ4: 0.72789391 | BR4: -1.1081522 | BS4: 0.96507508 | BT4: 1.4599896 | BU4: 0.81117167 | BV4: 0.82590756 | BW4: 0.74548448 | BX4: -0.1301698 | BY4: 1.4166655 | BZ4: 1.6458339 | CA4: -0.57180207 | CB4: -0.90526706 | CC4: 0.68635334 | CD4: -1.1552511 | CE4: 0.77840355 | CF4: -0.84686222 | CG4: -0.63260595 | CH4: 2.2267566 | CI4: -0.77729947 | CJ4: -0.018634625 | CK4: 0.87354071 | CL4: 1.4197304 | CM4: 1.0953899 | CN4: 1.2148809 | CO4: 0.60736048 | CP4: -0.3324396 | CQ4: 1.1806978 | CR4: 0.22876322 | CS4: 0.66629871 | CT4: 1.4015563 | CU4: 0.29382772 | CV4: 1.4205972 | CW4: -0.55401889 | CX4: 0.96703712 | CY4: -0.60890731 | CZ4: -0.86345674 | DA4: -0.89268294 | DB4: -0.68165143 | DC4: -0.66621525 | DD4: 1.1975463 | DE4: 0.60143693 | DF4: 0.91406467 | DG4: 0.79161951 | DH4: 1.5567905 | DI4: -0.76553265 | DJ4: 0.51446233 | DK4: 1.1942478 | DL4: -0.72091215 | DM4: 0.54541503 | DN4: -0.63141956 | DO4: 2.0913316 | DP4: -0.31219475 | DQ4: 0.4201221 | DR4: 1.4335791 | DS4: -0.012100471 | DT4: -0.73499074 | DU4: -1.5224694 | DV4: 1.1521424 | DW4: -0.34528207 | DX4: -0.5310394 | DY4: -1.1176176 | DZ4: 0.98676072 | EA4: 0.47190203 | EB4: 0.76777356 | EC4: 0.32126626 | ED4: 1.8210333 | EE4: 1.0906782 | EF4: 0.62279735 | EG4: 0.66892913 | EH4: 0.025540812 | EI4: 0.91234766 | EJ4: -0.45539508 | EK4: -0.3964224 | EL4: -1.0271638 | EM4: -0.83725166 | EN4: 0.4287928 | EO4: -0.76302354 | EP4: -0.15446133 | EQ4: -0.87347945 | ER4: -0.7698132 | ES4: -0.57363044 | ET4: -0.73401494 | EU4: 1.1952411 | EV4: -0.58034107 | EW4: -0.78041078 | EX4: -0.8244061 | EY4: -0.69341824 | EZ4: -0.99487806 | FA4: 1.0851024 | FB4: 0.73393385 | FC4: -0.61630895 | FD4: -0.7654858 | FE4: 0.11447069 | FF4: -0.72765744 | FG4: 0.15702702 | FH4: -0.37313783 | FI4: -0.66906633 | FJ4: 0.56300416 | FK4: -1.2323102 | FL4: -1.026315 | FM4: 0.51401924 | FN4: 1.983495 | FO4: -0.66242474 | FP4: -0.52402953 | FQ4: -0.48773075 | FR4: 0.91384782 | FS4: -1.161487 | FT4: -0.6423118 | FU4: -1.0147504 | FV4: 0.94324658 | FW4: -0.61840648 | FX4: -0.0032938733 | FY4: -0.63869213 | FZ4: 0.54329091 | GA4: -0.70653662 | GB4: 0.85823761 | GC4: 1.0914617 | GD4: -1.0701766 | GE4: 2.2761233 | GF4: 0.47017214 | GG4: -0.67739032 | GH4: -1.7461774 | GI4: 1.3562633 | GJ4: -0.88227045 | GK4: 0.22022014 | GL4: -0.85756157 | GM4: -0.98893612 | GN4: 1.3684972 | GO4: 1.0711392 | GP4: -1.1794127 | GQ4: 2.1011466 | GR4: 0.91270419 | GS4: -0.75459762 | GT4: 1.1149438 | GU4: -0.68206972 | GV4: 1.1942283 | GW4: 0.74704584 | GX4: 1.2363097 | GY4: 0.47291243 | GZ4: 0.94865172 | HA4: 0.91124486 | HB4: -1.1094367 | HC4: -0.029624421 | HD4: -0.86001239 | HE4: -0.051608296 | HF4: 0.32303369 | HG4: -0.66566684 | HH4: 1.5578218 | HI4: -0.42806668 | HJ4: -0.75458257 | HK4: -0.64819008 | HL4: -0.60353715 | HM4: 0.71703183 | HN4: -1.0092621 | HO4: -0.86985443 | HP4: -0.15590061 | HQ4: -0.78517707 | HR4: 0.90730183 | HS4: 0.64759495 | HT4: 0.4552402 | HU4: -1.175355 | HV4: -0.90699112 | HW4: -1.0256053 | HX4: 2.3542508 | HY4: -0.49650348 | HZ4: 0.79640679 | IA4: 1.8679681 | IB4: 1.7475028 | IC4: 0.37141818 | ID4: -0.86153222 | IE4: -0.91723867 | IF4: -0.0096650917 | IG4: -0.73360937 | IH4: -1.2944571 | II4: 0.76585389 | IJ4: -0.94665909 | IK4: 1.012177 | IL4: -0.90422265 | IM4: -1.2926951 | IN4: 0.79398341 | IO4: 1.4461773 | IP4: 0.58182992 | IQ4: -0.22078354 | IR4: 0.38073856 | IS4: -1.4609808 | IT4: -0.68817015 | IU4: -0.51798637 | IV4: 0.84834447 | IW4: -1.0368897 | IX4: -0.75457709 | IY4: 1.6130066 | IZ4: 2.0876201 | JA4: -0.63265001 | JB4: -0.91868072 | JC4: 1.0734374 | JD4: 0.69072914 | JE4: -0.71119756 | JF4: -1.048922 | JG4: -0.56237669 | JH4: 0.75386212 | JI4: 2.3538587 | JJ4: 1.4257033 | JK4: 0.98844242 | JL4: 0.2926121 | JM4: -0.63715609 | JN4: -0.78384407 | JO4: -0.55329006 | JP4: -0.011542125 | JQ4: -0.93025003 | JR4: -0.8132075 | JS4: -0.57066971 | JT4: -1.296673 | JU4: -0.87500668 | JV4: -0.6805642 | JW4: 0.35508733 | JX4: 0.92787574 | JY4: -0.14111659 | JZ4: -0.6773441 | KA4: 1.4130399 | KB4: 0.51526623 | KC4: 0.61013721 | KD4: -0.91497148 | KE4: -0.58550362 | KF4: -0.75250815 | KG4: -0.90124271 | KH4: 1.5352553 | KI4: 0.70761192 | KJ4: 1.2195964 | KK4: 2.3313294 | KL4: -0.43352562 | KM4: -0.81656953 | KN4: -0.87255469 | KO4: -0.55039514 | KP4: 1.6171037 | KQ4: -0.66695641 | KR4: -0.57652865 | KS4: -0.70074295 | KT4: -0.6347818 | KU4: -1.2479585 | KV4: 1.6133865 | KW4: 0.48847461 | KX4: -0.5711001 | KY4: -0.037273526 | KZ4: -0.6402398 | LA4: 1.5467722 | LB4: -0.60817111 | LC4: 1.9956131 | LD4: 1.6217386 | LE4: -0.95889164 | LF4: 0.87997109 | LG4: 0.65696067 | LH4: 0.48761087 | LI4: 1.9172796 | LJ4: -0.089635503 | LK4: 1.3777537 | LL4: 1.2528195 | LM4: -0.62349785 | LN4: 0.081158387 | LO4: -1.0744657 | LP4: -1.3366131 | LQ4: 0.90934334 | LR4: 1.1334883 | LS4: 0.81545098 | LT4: -0.68104255 | LU4: 1.1562163 | LV4: -0.031145958 | LW4: 0.60770751 | LX4: 0.79735037 | LY4: -1.1623161 | LZ4: 1.4607377 | MA4: -0.071055476 | MB4: -0.89779763 | MC4: -0.84037404 | MD4: -0.74791143 | ME4: 1.5989853 | MF4: 1.6419995 | MG4: 1.039152 | MH4: 0.18111986 | MI4: -1.0244958 | MJ4: 2.9093039 | MK4: 0.060313686 | ML4: -1.015312
A5: 0.23986336 | B5: 0.47857839 | C5: -1.0334736 | D5: 0.7687549 | E5: -0.48903526 | F5: 0.1985145 | G5: 0.72057736 | H5: -0.46684984 | I5: 0.58436115 | J5: 0.41075286 | K5: -0.6892635 | L5: 1.5129947 | M5: -0.93162884 | N5: -1.1758187 | O5: -0.60945754 | P5: -0.9847419 | Q5: -0.60348514 | R5: -0.57876773 | S5: 0.778357 | T5: -0.77597705 | U5: -0.97933369 | V5: -0.0064134701 | W5: -0.66470459 | X5: -0.63097586 | Y5: -0.87148306 | Z5: 1.1558452 | AA5: -0.86793898 | AB5: -0.79498344 | AC5: -1.0752847 | AD5: 0.63007197 | AE5: 0.69790934 | AF5: 0.65387035 | AG5: 0.26880005 | AH5: -0.62306865 | AI5: -0.73123768 | AJ5: -0.1035888 | AK5: 1.0498821 | AL5: 1.0165301 | AM5: -0.72955579 | AN5: 1.4275853 | AO5: 0.88984967 | AP5: 0.79329418 | AQ5: -0.54330681 | AR5: -0.22188837 | AS5: -1.3366024 | AT5: -0.86499102 | AU5: -0.75341452 | AV5: -1.2641843 | AW5: 0.98612358 | AX5: -0.83505797 | AY5: 1.5021696 | AZ5: 0.16032352 | BA5: -0.58353878 | BB5: -1.1102378 | BC5: 0.80131178 | BD5: 2.308917 | BE5: -0.55555928 | BF5: -0.61161971 | BG5: 0.52495344 | BH5: -0.62999762 | BI5: -0.0025154409 | BJ5: -0.61496933 | BK5: 0.87653268 | BL5: 0.010258237 | BM5: -0.66545142 | BN5: -1.0015264 | BO5: 1.0992146 | BP5: -0.55704037 | BQ5: -0.19051535 | BR5: 0.6880914 | BS5: 0.12545092 | BT5: -0.96890116 | BU5: -0.68580052 | BV5: 0.2194087 | BW5: -0.74163318 | BX5: -1.1267473 | BY5: 1.1603473 | BZ5: -1.0119819 | CA5: 2.4525678 | CB5: 0.91997029 | CC5: 0.84513476 | CD5: -1.1552511 | CE5: -0.19543883 | CF5: -0.84686222 | CG5: 0.53621178 | CH5: -0.57330697 | CI5: 0.28053347 | CJ5: -0.53308017 | CK5: 0.46279092 | CL5: -1.2010142 | CM5: 2.0044045 | CN5: -0.5405702 | CO5: -0.5508352 | CP5: -0.22267713 | CQ5: 1.7294546 | CR5: -0.49236544 | CS5: 1.407454 | CT5: -0.63407572 | CU5: -0.67811095 | CV5: -0.56152404 | CW5: -0.084561863 | CX5: -0.98210878 | CY5: -0.60890731 | CZ5: -0.86345674 | DA5: 0.98401465 | DB5: 1.7855752 | DC5: -0.66621525 | DD5: -0.55797706 | DE5: 0.99627784 | DF5: 0.19780758 | DG5: -0.89151441 | DH5: 1.4144795 | DI5: -0.76553265 | DJ5: 0.39330419 | DK5: -0.59438477 | DL5: -0.72091215 | DM5: 1.4294919 | DN5: 1.339381 | DO5: -0.38644402 | DP5: -0.65266469 | DQ5: 1.0641964 | DR5: 2.4652708 | DS5: 0.75802048 | DT5: 1.9459793 | DU5: 0.27210468 | DV5: 0.45229798 | DW5: -1.1472335 | DX5: -0.5310394 | DY5: -0.095001603 | DZ5: 0.81524602 | EA5: 1.1443286 | EB5: 0.29858844 | EC5: 0.92844438 | ED5: -0.74145331 | EE5: 0.099243484 | EF5: -0.40958596 | EG5: -0.73487476 | EH5: -0.40128148 | EI5: -0.72498131 | EJ5: -0.099474252 | EK5: 0.49882411 | EL5: -1.0271638 | EM5: -0.83725166 | EN5: -1.0666138 | EO5: -0.76302354 | EP5: -0.0069846798 | EQ5: 0.53815235 | ER5: -0.7698132 | ES5: -0.57363044 | ET5: -0.73401494 | EU5: -1.2419783 | EV5: -0.58034107 | EW5: -0.78041078 | EX5: 1.1751843 | EY5: -0.69341824 | EZ5: -0.99487806 | FA5: -0.69280401 | FB5: -0.98670463 | FC5: -0.61630895 | FD5: 0.52846196 | FE5: 0.77696537 | FF5: -0.72765744 | FG5: -0.97556486 | FH5: -0.37313783 | FI5: 1.7531204 | FJ5: 1.9208335 | FK5: 1.8806393 | FL5: -1.026315 | FM5: -0.87318544 | FN5: 1.0260528 | FO5: -0.66242474 | FP5: -0.52402953 | FQ5: 0.078271284 | FR5: -1.1199244 | FS5: 0.78267299 | FT5: 0.98481303 | FU5: -1.0147504 | FV5: -0.71207361 | FW5: -0.61840648 | FX5: 1.8112167 | FY5: 1.0984112 | FZ5: -0.73580774 | GA5: 0.99155381 | GB5: 0.12914558 | GC5: -0.99484391 | GD5: -0.14645255 | GE5: 0.87406451 | GF5: 0.31416939 | GG5: -0.67739032 | GH5: 0.37929082 | GI5: 0.72271989 | GJ5: -0.61210301 | GK5: 0.044270347 | GL5: 1.3180197 | GM5: 0.35351367 | GN5: 0.59095403 | GO5: -0.78637721 | GP5: 1.0999394 | GQ5: -0.46185192 | GR5: -0.94957871 | GS5: 1.3452141 | GT5: -0.51521008 | GU5: 1.2126269 | GV5: -0.69827327 | GW5: 0.2205411 | GX5: -0.75778951 | GY5: 0.31927318 | GZ5: 1.0899971 | HA5: 0.74710574 | HB5: 0.68996171 | HC5: 0.13955874 | HD5: 0.89974002 | HE5: 0.83755298 | HF5: 0.17814712 | HG5: -0.66566684 | HH5: -1.1005897 | HI5: -0.42806668 | HJ5: -0.75458257 | HK5: 1.9766736 | HL5: 0.99761524 | HM5: -0.93082623 | HN5: 0.24196926 | HO5: -0.86985443 | HP5: -0.82141074 | HQ5: -0.78517707 | HR5: -0.97035627 | HS5: 0.88579686 | HT5: 0.28490439 | HU5: 0.66015944 | HV5: 1.0585362 | HW5: -1.0256053 | HX5: -0.62933971 | HY5: -0.49650348 | HZ5: 1.2274831 | IA5: 1.6184089 | IB5: -0.46129459 | IC5: 0.2234964 | ID5: -0.86153222 | IE5: -0.91723867 | IF5: 0.9633704 | IG5: 0.43690651 | IH5: -0.061221097 | II5: -0.11596401 | IJ5: -0.94665909 | IK5: -0.80685508 | IL5: 0.32919224 | IM5: 0.47150487 | IN5: -0.80802847 | IO5: -0.98301446 | IP5: -0.72293283 | IQ5: -1.5764618 | IR5: -0.62412558 | IS5: -0.014742532 | IT5: 1.2032463 | IU5: 1.0694604 | IV5: 0.66907185 | IW5: 0.12123775 | IX5: -0.75457709 | IY5: -0.8929072 | IZ5: -0.77166367 | JA5: 1.4684181 | JB5: -0.91868072 | JC5: -0.66542744 | JD5: -1.096648 | JE5: 1.5158177 | JF5: 0.0041256816 | JG5: -0.56237669 | JH5: 0.28329339 | JI5: 0.19775885 | JJ5: 1.4387837 | JK5: -0.43955447 | JL5: 0.15197108 | JM5: 1.1779942 | JN5: -0.78384407 | JO5: -0.55329006 | JP5: -1.3077049 | JQ5: -0.93025003 | JR5: 0.35925907 | JS5: -0.57066971 | JT5: 0.35141081 | JU5: 2.2728965 | JV5: -0.6805642 | JW5: -0.93861576 | JX5: -1.5974522 | JY5: -0.26106015 | JZ5: -0.6773441 | KA5: -0.029455092 | KB5: -0.82458982 | KC5: 0.41659373 | KD5: -0.91497148 | KE5: -1.4826044 | KF5: -0.75250815 | KG5: 1.1104378 | KH5: 0.096708738 | KI5: -0.7090623 | KJ5: -1.5367156 | KK5: -0.62879698 | KL5: -0.43352562 | KM5: 0.55856313 | KN5: 0.87121531 | KO5: -0.55039514 | KP5: -0.81409135 | KQ5: -0.66695641 | KR5: -0.57652865 | KS5: -0.70074295 | KT5: -0.6347818 | KU5: 0.15640818 | KV5: 0.32642591 | KW5: 0.36449541 | KX5: 0.89799137 | KY5: -1.4922034 | KZ5: -0.6402398 | LA5: -0.76966051 | LB5: -0.60817111 | LC5: 1.0125418 | LD5: 0.1592156 | LE5: 0.46537669 | LF5: -0.20408494 | LG5: -0.73689781 | LH5: 0.90753478 | LI5: 1.1691584 | LJ5: -1.0472901 | LK5: -1.023576 | LL5: 0.52349275 | LM5: -0.62349785 | LN5: 0.40159587 | LO5: 0.92807648 | LP5: 1.4669089 | LQ5: 0.27993469 | LR5: 0.42106285 | LS5: -0.1070449 | LT5: 0.94084017 | LU5: -1.0816996 | LV5: -0.44485969 | LW5: -0.77826802 | LX5: 1.6334532 | LY5: 0.70844298 | LZ5: -0.59607784 | MA5: 0.19167953 | MB5: -0.89779763 | MC5: 0.68379566 | MD5: 0.6118278 | ME5: -1.0388124 | MF5: -0.76725644 | MG5: 0.27113494 | MH5: -0.73215685 | MI5: 0.1450524 | MJ5: -0.5717695 | MK5: -0.36929838 | ML5: 1.1204158
A6: 1.5797251 | B6: 0.11388011 | C6: 0.1150141 | D6: -1.0013755 | E6: 0.6675888 | F6: 0.53030302 | G6: -0.66538178 | H6: -0.14467547 | I6: 0.22519756 | J6: -0.65678868 | K6: -0.6892635 | L6: -1.070785 | M6: 1.9027617 | N6: 0.70595431 | O6: -0.60945754 | P6: 0.83363409 | Q6: 0.11595487 | R6: -0.53096081 | S6: -0.61910831 | T6: -0.77597705 | U6: 1.0892811 | V6: -0.95166111 | W6: -0.66470459 | X6: 0.65051553 | Y6: 1.2278764 | Z6: -1.0918542 | AA6: 1.7249158 | AB6: -0.79498344 | AC6: 0.32242729 | AD6: 1.3692198 | AE6: -0.88653774 | AF6: 1.1684198 | AG6: 0.31647032 | AH6: -0.62306865 | AI6: -0.27257546 | AJ6: 0.88473381 | AK6: -0.60195878 | AL6: -0.6975433 | AM6: 0.47727695 | AN6: -0.6761011 | AO6: 0.95638508 | AP6: 1.7853813 | AQ6: -0.54330681 | AR6: 0.11466622 | AS6: -0.42513779 | AT6: 0.47754474 | AU6: -0.75341452 | AV6: 0.62445184 | AW6: -0.86891799 | AX6: -0.83505797 | AY6: -0.82337044 | AZ6: 1.2706637 | BA6: 0.03798186 | BB6: -0.30708884 | BC6: -0.5091068 | BD6: -0.13457032 | BE6: -0.55555928 | BF6: -0.61161971 | BG6: -0.93180341 | BH6: 1.3642472 | BI6: -1.1893342 | BJ6: -0.61496933 | BK6: -0.70135916 | BL6: -1.1348671 | BM6: 0.79381007 | BN6: 2.0310229 | BO6: 1.1833234 | BP6: -0.55704037 | BQ6: 0.4194746 | BR6: 0.53159711 | BS6: -0.7827896 | BT6: 0.34852144 | BU6: -0.68580052 | BV6: 1.9722023 | BW6: 1.6734855 | BX6: 2.1017334 | BY6: 1.2591345 | BZ6: 0.92091377 | CA6: 1.6605836 | CB6: 1.4249718 | CC6: 0.1592939 | CD6: 0.75191338 | CE6: 0.30463601 | CF6: 1.2561821 | CG6: -0.63260595 | CH6: -0.73692616 | CI6: -0.77729947 | CJ6: -0.53308017 | CK6: 0.0013393153 | CL6: -0.1955815 | CM6: -0.53655059 | CN6: 2.0612731 | CO6: 0.73927823 | CP6: -0.50266225 | CQ6: 1.0557615 | CR6: -0.12206085 | CS6: 0.55754443 | CT6: 1.7043376 | CU6: -0.32652149 | CV6: -0.56152404 | CW6: -0.064346764 | CX6: 0.075101727 | CY6: -0.60890731 | CZ6: -0.86345674 | DA6: 1.5032541 | DB6: 1.8916985 | DC6: -0.66621525 | DD6: 1.0890141 | DE6: 1.3029409 | DF6: 0.79248459 | DG6: 2.0584877 | DH6: 0.29818279 | DI6: 0.49637869 | DJ6: -0.69223813 | DK6: 2.5405232 | DL6: 1.9684238 | DM6: 1.7416308 | DN6: -0.63141956 | DO6: -0.38644402 | DP6: -0.41020762 | DQ6: -1.3084884 | DR6: -0.77571508 | DS6: 2.0848938 | DT6: 0.88125217 | DU6: 0.0063007819 | DV6: 1.0332854 | DW6: 1.2257545 | DX6: -0.5310394 | DY6: -1.1176176 | DZ6: 0.88133562 | EA6: -0.73529549 | EB6: 0.91469203 | EC6: 1.0165346 | ED6: -0.74145331 | EE6: -0.97321396 | EF6: -0.35078965 | EG6: 1.5436948 | EH6: 1.4276305 | EI6: 0.81118515 | EJ6: -0.72000346 | EK6: 2.0314542 | EL6: -1.0271638 | EM6: -0.83725166 | EN6: -1.0666138 | EO6: -0.76302354 | EP6: 1.7249798 | EQ6: -0.87347945 | ER6: -0.7698132 | ES6: 1.9140409 | ET6: -0.73401494 | EU6: 1.0450169 | EV6: -0.58034107 | EW6: 0.46139057 | EX6: 0.65083072 | EY6: -0.69341824 | EZ6: 2.312087 | FA6: -0.69280401 | FB6: 1.9044134 | FC6: -0.61630895 | FD6: 0.58420777 | FE6: 0.040784981 | FF6: -0.72765744 | FG6: 0.087006469 | FH6: -0.37313783 | FI6: -0.66906633 | FJ6: -0.93815765 | FK6: 0.27513755 | FL6: -1.026315 | FM6: -0.87318544 | FN6: -0.65010763 | FO6: -0.66242474 | FP6: -0.52402953 | FQ6: 0.62532699 | FR6: 0.23021052 | FS6: 0.41010869 | FT6: -0.6423118 | FU6: 0.72742021 | FV6: -0.71207361 | FW6: -0.61840648 | FX6: 2.3139053 | FY6: -0.63869213 | FZ6: -0.73580774 | GA6: -0.70653662 | GB6: 0.21612841 | GC6: 1.7703404 | GD6: 1.0818101 | GE6: 1.7034167 | GF6: -1.0818261 | GG6: -0.67739032 | GH6: 0.064877018 | GI6: 0.26224233 | GJ6: 0.40541995 | GK6: 0.11207616 | GL6: 0.45333157 | GM6: 0.99017328 | GN6: 1.2364443 | GO6: 0.95637235 | GP6: -1.1794127 | GQ6: -0.46185192 | GR6: 1.7163425 | GS6: -0.75459762 | GT6: -0.15316119 | GU6: -0.68206972 | GV6: 1.8113053 | GW6: 1.4448361 | GX6: -0.75778951 | GY6: -0.041253299 | GZ6: 0.050714404 | HA6: 2.1403352 | HB6: 0.42344326 | HC6: 0.086498683 | HD6: -0.86001239 | HE6: -0.12054552 | HF6: -0.1618405 | HG6: -0.66566684 | HH6: 0.93739791 | HI6: -0.42806668 | HJ6: 0.67032031 | HK6: -0.64819008 | HL6: -0.60353715 | HM6: 1.7438773 | HN6: 1.9057136 | HO6: 1.0987778 | HP6: -0.19704463 | HQ6: -0.78517707 | HR6: 1.717575 | HS6: -0.058011426 | HT6: 0.35053974 | HU6: 0.73911072 | HV6: 0.76741152 | HW6: 1.4669544 | HX6: -0.62933971 | HY6: -0.49650348 | HZ6: -0.79053687 | IA6: 1.7145713 | IB6: 3.1238917 | IC6: 1.0809535 | ID6: -0.86153222 | IE6: 1.8934565 | IF6: -1.2299179 | IG6: -0.73360937 | IH6: -1.2944571 | II6: 0.33685562 | IJ6: -0.94665909 | IK6: -0.80685508 | IL6: -0.90422265 | IM6: -1.2926951 | IN6: -0.80802847 | IO6: -0.98301446 | IP6: -0.72293283 | IQ6: -1.5764618 | IR6: 2.6312003 | IS6: 0.92210372 | IT6: -0.68817015 | IU6: 0.20201996 | IV6: -0.93515491 | IW6: 0.17113216 | IX6: 0.64962683 | IY6: -0.8929072 | IZ6: -0.77166367 | JA6: -0.63265001 | JB6: 1.2740762 | JC6: 0.96600151 | JD6: 0.58029589 | JE6: 0.93182637 | JF6: -1.048922 | JG6: -0.56237669 | JH6: 0.33939862 | JI6: 0.056532053 | JJ6: 0.16609163 | JK6: 0.11596381 | JL6: 0.20616416 | JM6: -0.63715609 | JN6: 0.22379598 | JO6: 0.85070528 | JP6: -0.091675169 | JQ6: -0.93025003 | JR6: -0.8132075 | JS6: 1.157904 | JT6: 0.80811565 | JU6: -0.87500668 | JV6: -0.6805642 | JW6: 1.7721885 | JX6: 1.2046436 | JY6: 1.4029613 | JZ6: -0.6773441 | KA6: 1.2511445 | KB6: -0.82458982 | KC6: 0.49118262 | KD6: 0.16015018 | KE6: -0.29269275 | KF6: 0.80571164 | KG6: -0.90124271 | KH6: 0.14752068 | KI6: -0.7090623 | KJ6: 0.10219261 | KK6: 1.85626 | KL6: 1.7087064 | KM6: 0.51088017 | KN6: -0.87255469 | KO6: -0.55039514 | KP6: -0.81409135 | KQ6: -0.66695641 | KR6: 1.9692079 | KS6: -0.70074295 | KT6: -0.6347818 | KU6: -1.2479585 | KV6: -1.522977 | KW6: -0.74426131 | KX6: -0.5711001 | KY6: 1.5530146 | KZ6: -0.6402398 | LA6: -0.76966051 | LB6: -0.60817111 | LC6: 1.0866503 | LD6: -0.052130914 | LE6: -0.95889164 | LF6: -0.43482234 | LG6: 1.5267655 | LH6: -1.0597645 | LI6: 0.62540232 | LJ6: -0.14884086 | LK6: 1.229479 | LL6: 0.57844082 | LM6: 0.99872598 | LN6: 1.1130123 | LO6: 1.3366869 | LP6: -0.027418206 | LQ6: -0.82076162 | LR6: 0.094004252 | LS6: 1.3902142 | LT6: 1.3902843 | LU6: -1.0816996 | LV6: 0.098402462 | LW6: -1.7129636 | LX6: -1.1928623 | LY6: 1.593922 | LZ6: -0.59607784 | MA6: -1.0382756 | MB6: 0.043876866 | MC6: 2.3336788 | MD6: -0.74791143 | ME6: 0.20105371 | MF6: 0.36402056 | MG6: -0.081444533 | MH6: 0.050299184 | MI6: 1.8289721 | MJ6: -0.5717695 | MK6: 0.081801488 | ML6: 0.91440284
A7: -0.085442546 | B7: 0.53730301 | C7: 1.3959423 | D7: 1.6061592 | E7: -1.0359731 | F7: -0.9987912 | G7: -0.66538178 | H7: -0.46684984 | I7: 1.6843069 | J7: 0.047991666 | K7: -0.6892635 | L7: -1.070785 | M7: -0.93162884 | N7: -0.40707765 | O7: 0.41563241 | P7: 1.0460441 | Q7: -0.80264 | R7: -0.54074547 | S7: -0.61910831 | T7: 0.65920109 | U7: -0.97933369 | V7: 1.7361849 | W7: 0.96400911 | X7: -0.71964137 | Y7: -0.87148306 | Z7: 1.0039113 | AA7: -0.86793898 | AB7: -0.79498344 | AC7: -1.0752847 | AD7: -0.92848266 | AE7: -0.060173204 | AF7: 0.16458678 | AG7: 1.9797778 | AH7: -0.62306865 | AI7: -1.1054226 | AJ7: -1.3320426 | AK7: 1.1196311 | AL7: 1.0889069 | AM7: -0.72955579 | AN7: 1.666852 | AO7: 0.95509396 | AP7: 0.09403292 | AQ7: -0.54330681 | AR7: -0.17060591 | AS7: -1.3366024 | AT7: 0.083847294 | AU7: -0.75341452 | AV7: 0.070990206 | AW7: 1.3628537 | AX7: -0.83505797 | AY7: -0.82337044 | AZ7: 0.22499318 | BA7: 0.037483961 | BB7: 0.024346801 | BC7: -0.5091068 | BD7: 0.26614396 | BE7: -0.55555928 | BF7: -0.61161971 | BG7: 0.1423507 | BH7: -0.62999762 | BI7: 0.55947982 | BJ7: -0.61496933 | BK7: -0.70135916 | BL7: 0.058611157 | BM7: -0.66545142 | BN7: 0.82942935 | BO7: -0.85620418 | BP7: -0.55704037 | BQ7: 0.25365351 | BR7: 0.92326968 | BS7: 3.1021756 | BT7: -0.96890116 | BU7: -0.68580052 | BV7: -0.84236745 | BW7: -0.74163318 | BX7: 0.74006159 | BY7: 0.81863283 | BZ7: 0.91936294 | CA7: 1.2500014 | CB7: 0.44058981 | CC7: 0.58836993 | CD7: -1.1552511 | CE7: 0.65169976 | CF7: 0.63988852 | CG7: -0.63260595 | CH7: -0.45884099 | CI7: -0.77729947 | CJ7: -0.19195946 | CK7: -0.23070778 | CL7: -0.19637946 | CM7: -0.53655059 | CN7: -0.5405702 | CO7: -0.5696655 | CP7: -0.50293228 | CQ7: -0.84141325 | CR7: 0.35219135 | CS7: -1.093904 | CT7: -0.63407572 | CU7: -0.83478692 | CV7: -0.56152404 | CW7: -0.55401889 | CX7: 0.074254796 | CY7: -0.60890731 | CZ7: -0.86345674 | DA7: -0.89268294 | DB7: -0.68165143 | DC7: -0.66621525 | DD7: -0.55797706 | DE7: -0.85351022 | DF7: -0.13174425 | DG7: 0.22454511 | DH7: -1.1959189 | DI7: -0.76553265 | DJ7: 1.9472528 | DK7: -0.59438477 | DL7: 1.1814319 | DM7: 0.44602755 | DN7: 1.4225101 | DO7: -0.38644402 | DP7: -0.78719974 | DQ7: 0.015089268 | DR7: 0.9159167 | DS7: 1.0678612 | DT7: 2.0589268 | DU7: 0.0050760851 | DV7: -0.77157495 | DW7: 0.35499794 | DX7: 2.0917548 | DY7: 0.38923856 | DZ7: -0.71955873 | EA7: -0.73529549 | EB7: 0.35344318 | EC7: -1.1207482 | ED7: -0.74145331 | EE7: 1.2603718 | EF7: 0.68697361 | EG7: -0.73487476 | EH7: -1.5830907 | EI7: -0.72498131 | EJ7: 0.31329438 | EK7: 0.15608497 | EL7: 0.72829699 | EM7: -0.83725166 | EN7: 0.33527502 | EO7: -0.76302354 | EP7: -1.6097235 | EQ7: 1.20596 | ER7: -0.7698132 | ES7: 1.5796562 | ET7: 0.82346077 | EU7: 0.62494744 | EV7: 1.3733881 | EW7: 1.3662285 | EX7: 1.7272471 | EY7: 0.84211295 | EZ7: -0.99487806 | FA7: -0.69280401 | FB7: 1.1349471 | FC7: -0.61630895 | FD7: -0.7654858 | FE7: -0.28753987 | FF7: -0.72765744 | FG7: 0.086163166 | FH7: -0.37313783 | FI7: 0.59421929 | FJ7: 0.46912647 | FK7: 0.89597371 | FL7: 1.0271705 | FM7: 0.96486818 | FN7: -0.65010763 | FO7: 1.1310774 | FP7: 1.6224946 | FQ7: 1.1848822 | FR7: 0.78681995 | FS7: -1.161487 | FT7: -0.6423118 | FU7: -1.0147504 | FV7: 0.83972834 | FW7: -0.61840648 | FX7: 1.535986 | FY7: -0.63869213 | FZ7: -0.73580774 | GA7: 1.0632557 | GB7: -1.8930918 | GC7: -0.99484391 | GD7: -1.0701766 | GE7: 1.1274452 | GF7: 0.3731153 | GG7: -0.67739032 | GH7: 1.5076455 | GI7: 1.7085216 | GJ7: -0.9444993 | GK7: -0.19015411 | GL7: -0.85756157 | GM7: 0.41019861 | GN7: -0.76879679 | GO7: -0.78637721 | GP7: 1.7282629 | GQ7: -0.46185192 | GR7: -0.94957871 | GS7: 0.79371935 | GT7: 1.2292276 | GU7: 1.2926305 | GV7: -0.69827327 | GW7: -0.70019907 | GX7: -0.75778951 | GY7: -0.042058307 | GZ7: -1.2628484 | HA7: -0.72169835 | HB7: -1.1094367 | HC7: -0.21455372 | HD7: -0.86001239 | HE7: 1.5940895 | HF7: -1.118375 | HG7: -0.66566684 | HH7: -1.1005897 | HI7: -0.42806668 | HJ7: 1.2577537 | HK7: -0.64819008 | HL7: -0.60353715 | HM7: -0.93082623 | HN7: 0.83446584 | HO7: -0.86985443 | HP7: 1.2417264 | HQ7: 0.81370178 | HR7: 1.3008655 | HS7: 1.4288236 | HT7: -1.2393511 | HU7: -1.175355 | HV7: 0.76607016 | HW7: 0.55094362 | HX7: -0.62933971 | HY7: 1.1503544 | HZ7: 1.312694 | IA7: -0.61477956 | IB7: -0.46129459 | IC7: -1.1001864 | ID7: 0.6972259 | IE7: 1.0709507 | IF7: 0.38732498 | IG7: -0.73360937 | IH7: 0.93051479 | II7: -1.0698464 | IJ7: 0.7168873 | IK7: -0.80685508 | IL7: -0.90422265 | IM7: -1.2926951 | IN7: 1.3146458 | IO7: -0.98301446 | IP7: -0.72293283 | IQ7: -1.5764618 | IR7: 0.70765531 | IS7: 1.1467115 | IT7: 0.70615178 | IU7: 1.5655011 | IV7: -0.93515491 | IW7: -1.0368897 | IX7: -0.28579028 | IY7: -0.8929072 | IZ7: -0.77166367 | JA7: 0.91622377 | JB7: -0.91868072 | JC7: -0.66542744 | JD7: 0.088533563 | JE7: -0.71119756 | JF7: 0.048621294 | JG7: -0.56237669 | JH7: 1.8551617 | JI7: 0.055470673 | JJ7: 0.62622641 | JK7: -1.610911 | JL7: -1.1065595 | JM7: -0.63715609 | JN7: 0.639619 | JO7: -0.55329006 | JP7: -0.092640264 | JQ7: 0.51193811 | JR7: 0.40880062 | JS7: -0.57066971 | JT7: -1.296673 | JU7: 0.22097869 | JV7: -0.6805642 | JW7: 0.27414309 | JX7: -0.098686947 | JY7: -1.3337257 | JZ7: 0.96630278 | KA7: 0.92026576 | KB7: 0.4314343 | KC7: -0.41308785 | KD7: 1.7125931 | KE7: 0.73850137 | KF7: 0.34876504 | KG7: 1.195381 | KH7: -1.0833014 | KI7: -0.7090623 | KJ7: -0.37808666 | KK7: -0.62879698 | KL7: -0.43352562 | KM7: 0.50861154 | KN7: 2.6354973 | KO7: -0.55039514 | KP7: -0.81409135 | KQ7: 1.27859 | KR7: 0.69643969 | KS7: 2.4650213 | KT7: 0.5521832 | KU7: 2.0173108 | KV7: 0.051238906 | KW7: 0.88952587 | KX7: -0.5711001 | KY7: -1.4922034 | KZ7: -0.6402398 | LA7: 1.4020896 | LB7: -0.60817111 | LC7: 1.0852122 | LD7: -1.2676897 | LE7: 0.52551642 | LF7: -0.82398896 | LG7: 1.1104306 | LH7: -1.0597645 | LI7: -0.90585909 | LJ7: -1.0472901 | LK7: 0.27694833 | LL7: -0.75193816 | LM7: -0.62349785 | LN7: 0.0073506267 | LO7: -1.0744657 | LP7: 0.51284753 | LQ7: -0.82076162 | LR7: -0.82615518 | LS7: -0.048502536 | LT7: 1.0093242 | LU7: -1.0816996 | LV7: 0.6399319 | LW7: 1.2028047 | LX7: -1.1928623 | LY7: 0.21710667 | LZ7: 2.1292137 | MA7: -1.0382756 | MB7: -0.89779763 | MC7: -0.84037404 | MD7: -0.74791143 | ME7: 0.20006046 | MF7: 0.83086486 | MG7: -1.0734054 | MH7: -0.68115322 | MI7: 0.46795056 | MJ7: -0.5717695 | MK7: -1.5608867 | ML7: 0.55948807
A8: 0.94314015 | B8: 0.63100962 | C8: -1.0334736 | D8: 0.38794284 | E8: 2.3049297 | F8: 0.32974308 | G8: -0.66538178 | H8: -0.46684984 | I8: -0.78528732 | J8: -0.65678868 | K8: 1.0478079 | L8: -1.070785 | M8: 1.4063095 | N8: -1.1758187 | O8: 0.48193906 | P8: -0.9847419 | Q8: 0.88116242 | R8: 2.3237853 | S8: 1.746264 | T8: 0.30481175 | U8: 0.12196313 | V8: 3.9019899 | W8: -0.66470459 | X8: -0.15249789 | Y8: 1.3618062 | Z8: 0.48679478 | AA8: -0.86793898 | AB8: 0.69775591 | AC8: 1.4966802 | AD8: -0.92848266 | AE8: 0.63634821 | AF8: 0.25343916 | AG8: -0.83825074 | AH8: -0.62306865 | AI8: 0.91555095 | AJ8: 0.031053733 | AK8: -0.60195878 | AL8: 0.64777772 | AM8: -0.72955579 | AN8: -0.6761011 | AO8: -0.65530808 | AP8: 0.72951719 | AQ8: -0.54330681 | AR8: -0.088774715 | AS8: 0.034237768 | AT8: 2.6218652 | AU8: 1.2449778 | AV8: 2.0596719 | AW8: 1.1893244 | AX8: -0.83505797 | AY8: 1.4118145 | AZ8: 1.4997559 | BA8: 0.22596264 | BB8: 0.97921369 | BC8: 0.9449379 | BD8: -0.30630829 | BE8: 0.888777 | BF8: -0.61161971 | BG8: 1.4885541 | BH8: -0.62999762 | BI8: 0.67253796 | BJ8: -0.61496933 | BK8: -0.70135916 | BL8: -1.1348671 | BM8: -0.66545142 | BN8: -1.0015264 | BO8: 2.2078588 | BP8: -0.55704037 | BQ8: 0.56073785 | BR8: -0.69810015 | BS8: 0.64205114 | BT8: 0.43256717 | BU8: 1.4257551 | BV8: -0.84236745 | BW8: 1.3567123 | BX8: -0.13209444 | BY8: -1.1391 | BZ8: 0.17590674 | CA8: -0.57180207 | CB8: 0.52759738 | CC8: -0.88046141 | CD8: 0.87342351 | CE8: 0.77449743 | CF8: 0.73600467 | CG8: 0.66439721 | CH8: -0.65850083 | CI8: -0.77729947 | CJ8: -0.53308017 | CK8: 0.52255608 | CL8: 0.93610271 | CM8: 1.7661421 | CN8: 1.9355831 | CO8: -0.412261 | CP8: -0.37733147 | CQ8: 1.1767928 | CR8: -0.048672606 | CS8: 1.05703 | CT8: -0.63407572 | CU8: 2.2641308 | CV8: -0.56152404 | CW8: 0.26880151 | CX8: -0.98210878 | CY8: -0.60890731 | CZ8: -0.86345674 | DA8: -0.89268294 | DB8: -0.68165143 | DC8: 2.6737661 | DD8: -0.55797706 | DE8: -0.85351022 | DF8: 2.3408352 | DG8: 0.78836916 | DH8: 1.3952207 | DI8: -0.76553265 | DJ8: -0.69223813 | DK8: -0.59438477 | DL8: 1.3042519 | DM8: 0.89820177 | DN8: 1.5551168 | DO8: -0.38644402 | DP8: 1.2417077 | DQ8: 0.10065653 | DR8: -0.77571508 | DS8: -0.015138725 | DT8: -0.73499074 | DU8: 0.77594673 | DV8: -0.77157495 | DW8: 0.45198572 | DX8: 1.4445974 | DY8: 0.017149734 | DZ8: -0.71955873 | EA8: 0.96807845 | EB8: -1.0005173 | EC8: 1.1526296 | ED8: -0.74145331 | EE8: -0.97321396 | EF8: 1.4315798 | EG8: 0.66621821 | EH8: 0.022441316 | EI8: -0.72498131 | EJ8: -0.27542914 | EK8: 0.48563919 | EL8: -0.09183821 | EM8: 0.89132895 | EN8: -1.0666138 | EO8: -0.76302354 | EP8: 0.44299796 | EQ8: -0.87347945 | ER8: 0.25941837 | ES8: -0.57363044 | ET8: -0.73401494 | EU8: -1.2419783 | EV8: -0.58034107 | EW8: -0.78041078 | EX8: -0.8244061 | EY8: -0.69341824 | EZ8: 1.8801778 | FA8: -0.69280401 | FB8: 0.49283901 | FC8: 0.56543901 | FD8: 1.7198557 | FE8: -0.48312197 | FF8: -0.72765744 | FG8: -0.97556486 | FH8: -0.37313783 | FI8: -0.66906633 | FJ8: 1.4284677 | FK8: -1.2323102 | FL8: 1.1597486 | FM8: 0.51134037 | FN8: 2.567051 | FO8: 2.9039553 | FP8: -0.52402953 | FQ8: -0.070083874 | FR8: -1.1199244 | FS8: 1.3888574 | FT8: 2.2095605 | FU8: 1.6035434 | FV8: -0.71207361 | FW8: 1.6412259 | FX8: -1.4137021 | FY8: -0.63869213 | FZ8: -0.73580774 | GA8: -0.70653662 | GB8: 1.2756732 | GC8: 0.4785232 | GD8: 0.70406019 | GE8: 0.14875204 | GF8: 0.81468601 | GG8: 0.93986493 | GH8: 1.1387452 | GI8: -1.0345 | GJ8: 0.92434849 | GK8: -0.52129602 | GL8: -0.85756157 | GM8: -0.98893612 | GN8: -0.76879679 | GO8: -0.78637721 | GP8: -1.1794127 | GQ8: -0.46185192 | GR8: 1.1959407 | GS8: 0.89381566 | GT8: 0.18701349 | GU8: -0.68206972 | GV8: -0.69827327 | GW8: 2.6773409 | GX8: -0.75778951 | GY8: -1.0555726 | GZ8: -1.2628484 | HA8: -0.72169835 | HB8: 0.044003584 | HC8: 0.7675862 | HD8: -0.86001239 | HE8: -0.053761773 | HF8: 0.91480542 | HG8: 0.72220544 | HH8: 1.5527123 | HI8: 3.1724004 | HJ8: -0.75458257 | HK8: -0.64819008 | HL8: 1.1731067 | HM8: 1.3935616 | HN8: -1.0092621 | HO8: 0.84056695 | HP8: -0.82141074 | HQ8: -0.78517707 | HR8: 1.1928768 | HS8: 2.5279625 | HT8: -1.2393511 | HU8: 0.86108602 | HV8: 1.6103748 | HW8: 1.3465437 | HX8: -0.62933971 | HY8: -0.49650348 | HZ8: 0.79334201 | IA8: 1.1379781 | IB8: -0.46129459 | IC8: 0.97558686 | ID8: -0.86153222 | IE8: 1.6732984 | IF8: 0.49187725 | IG8: 0.56527818 | IH8: -1.2944571 | II8: -1.0698464 | IJ8: -0.94665909 | IK8: -0.80685508 | IL8: -0.90422265 | IM8: 1.6384699 | IN8: 0.79088972 | IO8: 1.4415031 | IP8: -0.72293283 | IQ8: -0.22340152 | IR8: -0.62412558 | IS8: 0.80698155 | IT8: 0.79634174 | IU8: -0.043754227 | IV8: 1.2442472 | IW8: -1.0368897 | IX8: -0.75457709 | IY8: 1.2745313 | IZ8: -0.77166367 | JA8: 1.0164107 | JB8: -0.91868072 | JC8: -0.66542744 | JD8: 0.16519553 | JE8: -0.71119756 | JF8: 0.60309111 | JG8: -0.56237669 | JH8: 0.75044495 | JI8: 0.72179023 | JJ8: -0.94892656 | JK8: 0.22598723 | JL8: 1.5017011 | JM8: -0.63715609 | JN8: -0.78384407 | JO8: 0.9403346 | JP8: -0.01404534 | JQ8: -0.93025003 | JR8: -0.8132075 | JS8: -0.57066971 | JT8: 0.94231052 | JU8: 0.77466145 | JV8: -0.6805642 | JW8: 0.88681885 | JX8: 0.92301662 | JY8: -1.3337257 | JZ8: -0.6773441 | KA8: 0.10006526 | KB8: 0.51267863 | KC8: 0.3492183 | KD8: 0.70200844 | KE8: -1.4826044 | KF8: -0.75250815 | KG8: -0.90124271 | KH8: 0.22604168 | KI8: -0.7090623 | KJ8: 0.20661147 | KK8: -0.62879698 | KL8: 1.8453713 | KM8: -2.3368612 | KN8: -0.87255469 | KO8: -0.55039514 | KP8: 0.90283961 | KQ8: -0.66695641 | KR8: 3.0022012 | KS8: 1.2474403 | KT8: -0.6347818 | KU8: 0.31033133 | KV8: 0.15300955 | KW8: -0.74426131 | KX8: -0.5711001 | KY8: -1.4922034 | KZ8: 0.61663203 | LA8: -0.76966051 | LB8: -0.60817111 | LC8: 1.2011721 | LD8: -0.35302284 | LE8: 0.62148112 | LF8: 0.23328713 | LG8: -0.73689781 | LH8: -1.0597645 | LI8: 0.2463633 | LJ8: 0.86242613 | LK8: -1.023576 | LL8: -0.75193816 | LM8: 1.1022867 | LN8: -1.0984849 | LO8: 0.74030043 | LP8: -1.3366131 | LQ8: -0.82076162 | LR8: 0.55776199 | LS8: 0.67984231 | LT8: -0.68104255 | LU8: 0.8532991 | LV8: 0.94674129 | LW8: 2.4155192 | LX8: 0.21264311 | LY8: -1.1623161 | LZ8: -0.59607784 | MA8: -1.0382756 | MB8: 1.1037969 | MC8: 1.2302675 | MD8: -0.74791143 | ME8: 0.82525344 | MF8: -0.76725644 | MG8: 0.75320294 | MH8: -0.29907904 | MI8: -1.0244958 | MJ8: -0.5717695 | MK8: 3.133347 | ML8: 1.0374355
A9: -0.99790711 | B9: 0.57448198 | C9: 0.407611 | D9: 0.33702683 | E9: 2.3776391 | F9: 1.2152987 | G9: -0.66538178 | H9: -0.46684984 | I9: -0.78528732 | J9: -0.65678868 | K9: -0.6892635 | L9: -1.070785 | M9: 0.90866114 | N9: -1.1758187 | O9: -0.60945754 | P9: 0.62955945 | Q9: 2.2093584 | R9: 2.1537236 | S9: 0.60092849 | T9: -0.77597705 | U9: -0.97933369 | V9: 0.79631627 | W9: -0.66470459 | X9: -0.71009407 | Y9: 1.2799998 | Z9: 0.77019232 | AA9: -0.86793898 | AB9: 1.980644 | AC9: 1.4026985 | AD9: -0.92848266 | AE9: -0.88653774 | AF9: 1.4209765 | AG9: -0.83825074 | AH9: 1.4159108 | AI9: 3.2865007 | AJ9: -1.3320426 | AK9: -0.60195878 | AL9: 1.1347291 | AM9: 1.4100204 | AN9: 1.0250347 | AO9: -0.65530808 | AP9: -0.014284066 | AQ9: -0.54330681 | AR9: 0.39849387 | AS9: 0.28032967 | AT9: -0.86499102 | AU9: 1.3984611 | AV9: -1.2641843 | AW9: 0.75059912 | AX9: 1.2095184 | AY9: -0.82337044 | AZ9: 0.71398918 | BA9: -0.58353878 | BB9: 1.0634918 | BC9: 4.0038867 | BD9: -0.32545093 | BE9: 1.4115679 | BF9: 0.87064212 | BG9: 0.16990263 | BH9: -0.62999762 | BI9: 0.079379303 | BJ9: 1.9118257 | BK9: -0.70135916 | BL9: -1.1348671 | BM9: -0.66545142 | BN9: -0.061728554 | BO9: -0.85620418 | BP9: -0.55704037 | BQ9: 0.91637469 | BR9: -0.90421405 | BS9: -0.7827896 | BT9: -0.96890116 | BU9: -0.68580052 | BV9: 0.5472832 | BW9: 0.68821756 | BX9: -0.16854668 | BY9: -1.1391 | BZ9: -1.0119819 | CA9: -0.57180207 | CB9: 1.045689 | CC9: -0.88046141 | CD9: 0.2276051 | CE9: 0.70041731 | CF9: -0.84686222 | CG9: 1.8640266 | CH9: -0.55003713 | CI9: 1.9714726 | CJ9: -0.53308017 | CK9: 0.044149112 | CL9: -1.2010142 | CM9: -0.53655059 | CN9: -0.5405702 | CO9: -0.3366317 | CP9: -0.27685115 | CQ9: -0.84141325 | CR9: -0.43853842 | CS9: -1.093904 | CT9: 0.75036224 | CU9: 3.251129 | CV9: -0.56152404 | CW9: -0.55401889 | CX9: 1.4346726 | CY9: 1.2999767 | CZ9: -0.86345674 | DA9: 0.11122471 | DB9: 1.9555129 | DC9: -0.66621525 | DD9: -0.55797706 | DE9: 1.1236876 | DF9: -1.0561184 | DG9: 1.6649743 | DH9: 0.57158779 | DI9: 0.52773843 | DJ9: -0.69223813 | DK9: -0.59438477 | DL9: -0.72091215 | DM9: 1.1158794 | DN9: -0.63141956 | DO9: -0.38644402 | DP9: 3.7476957 | DQ9: 0.049038875 | DR9: -0.77571508 | DS9: -0.51550307 | DT9: 0.43660698 | DU9: 0.044257443 | DV9: 1.4931045 | DW9: -1.1472335 | DX9: -0.5310394 | DY9: 1.0667233 | DZ9: -0.71955873 | EA9: -0.73529549 | EB9: -1.0005173 | EC9: -1.1207482 | ED9: 2.2729224 | EE9: 0.6476196 | EF9: 1.3146284 | EG9: -0.73487476 | EH9: 0.41253818 | EI9: -0.72498131 | EJ9: -1.0184791 | EK9: 0.80273103 | EL9: 0.24671151 | EM9: -0.83725166 | EN9: 0.96556632 | EO9: -0.76302354 | EP9: 0.10347112 | EQ9: 1.7369481 | ER9: -0.7698132 | ES9: -0.57363044 | ET9: 1.5237041 | EU9: 1.1016699 | EV9: -0.58034107 | EW9: 2.4533266 | EX9: -0.8244061 | EY9: 0.88149914 | EZ9: 1.7752566 | FA9: -0.69280401 | FB9: 0.62944215 | FC9: -0.61630895 | FD9: 0.61774898 | FE9: 0.64002314 | FF9: -0.72765744 | FG9: 0.11341241 | FH9: -0.37313783 | FI9: -0.66906633 | FJ9: -0.93815765 | FK9: 1.7186486 | FL9: -1.026315 | FM9: 1.0119539 | FN9: -0.65010763 | FO9: -0.66242474 | FP9: -0.52402953 | FQ9: -0.52686077 | FR9: 0.57418051 | FS9: 0.69769428 | FT9: 0.58796348 | FU9: 0.016687071 | FV9: -0.71207361 | FW9: -0.61840648 | FX9: 0.5029696 | FY9: 1.2181983 | FZ9: -0.73580774 | GA9: -0.70653662 | GB9: 0.26843329 | GC9: 0.42455306 | GD9: 0.3258722 | GE9: 0.10124806 | GF9: 1.0272591 | GG9: 2.4329313 | GH9: 1.033526 | GI9: -1.0345 | GJ9: 1.5584625 | GK9: -1.5311866 | GL9: -0.85756157 | GM9: 1.4935582 | GN9: 2.4775094 | GO9: -0.78637721 | GP9: 1.2569367 | GQ9: -0.46185192 | GR9: -0.94957871 | GS9: -0.75459762 | GT9: -1.2778804 | GU9: 1.3432813 | GV9: -0.69827327 | GW9: -0.70019907 | GX9: -0.75778951 | GY9: 0.743823 | GZ9: 0.38536703 | HA9: 0.84839145 | HB9: -1.1094367 | HC9: 2.4611573 | HD9: 1.0210167 | HE9: 1.6646872 | HF9: 0.26755262 | HG9: -0.66566684 | HH9: 0.37712437 | HI9: -0.42806668 | HJ9: 0.70569812 | HK9: -0.64819008 | HL9: -0.60353715 | HM9: 0.65360434 | HN9: 1.6634086 | HO9: -0.86985443 | HP9: -0.82141074 | HQ9: 0.854737 | HR9: -0.97035627 | HS9: 1.7953461 | HT9: -1.2393511 | HU9: -1.175355 | HV9: 0.80898398 | HW9: 0.11813491 | HX9: -0.62933971 | HY9: -0.49650348 | HZ9: 1.3666416 | IA9: -0.61477956 | IB9: -0.46129459 | IC9: 0.89964798 | ID9: -0.86153222 | IE9: 0.52551948 | IF9: 0.42880707 | IG9: -0.73360937 | IH9: 0.9875479 | II9: -1.0698464 | IJ9: -0.94665909 | IK9: -0.80685508 | IL9: -0.90422265 | IM9: -0.34896617 | IN9: -0.80802847 | IO9: 0.827445 | IP9: -0.72293283 | IQ9: -0.27296477 | IR9: 1.0482891 | IS9: -1.4609808 | IT9: -0.68817015 | IU9: 1.4592681 | IV9: -0.93515491 | IW9: -1.0368897 | IX9: -0.75457709 | IY9: 0.8131752 | IZ9: -0.77166367 | JA9: -0.63265001 | JB9: -0.91868072 | JC9: -0.66542744 | JD9: 1.3323049 | JE9: 0.97265713 | JF9: -1.048922 | JG9: 1.8756535 | JH9: -0.034487916 | JI9: -1.2663335 | JJ9: -0.94892656 | JK9: -0.35878013 | JL9: 0.79484223 | JM9: -0.63715609 | JN9: 0.67613066 | JO9: -0.55329006 | JP9: -1.3077049 | JQ9: 1.1610033 | JR9: -0.8132075 | JS9: -0.57066971 | JT9: -0.050550563 | JU9: -0.87500668 | JV9: -0.6805642 | JW9: -0.93861576 | JX9: -0.51014175 | JY9: -1.3337257 | JZ9: 1.7060357 | KA9: -1.2104448 | KB9: -0.82458982 | KC9: -1.3175005 | KD9: -0.91497148 | KE9: 1.2375316 | KF9: -0.75250815 | KG9: -0.90124271 | KH9: 0.17807982 | KI9: 0.65305768 | KJ9: -0.34836797 | KK9: -0.62879698 | KL9: -0.43352562 | KM9: 0.393687 | KN9: 0.74210095 | KO9: -0.55039514 | KP9: -0.81409135 | KQ9: -0.66695641 | KR9: -0.57652865 | KS9: -0.70074295 | KT9: -0.6347818 | KU9: 0.25325043 | KV9: -0.38092933 | KW9: -0.74426131 | KX9: 2.1473367 | KY9: 0.48497091 | KZ9: -0.6402398 | LA9: 0.80630111 | LB9: 1.4781187 | LC9: -0.70848649 | LD9: -0.021950741 | LE9: 0.11800307 | LF9: -1.7619077 | LG9: -0.73689781 | LH9: -1.0597645 | LI9: -0.90585909 | LJ9: 1.2046823 | LK9: 0.31032628 | LL9: 0.61150205 | LM9: 1.0390398 | LN9: 0.86481802 | LO9: 0.67382467 | LP9: 1.3443678 | LQ9: 0.35588668 | LR9: -0.82615518 | LS9: -0.20980995 | LT9: -0.68104255 | LU9: -1.0816996 | LV9: 0.14028107 | LW9: 0.28357652 | LX9: 1.5102199 | LY9: -1.1623161 | LZ9: -0.59607784 | MA9: 0.27649471 | MB9: 0.46659927 | MC9: 0.78889927 | MD9: 1.3070988 | ME9: -0.14004632 | MF9: -0.76725644 | MG9: -0.056793328 | MH9: 0.63760351 | MI9: -0.14019595 | MJ9: -0.5717695 | MK9: -0.28722413 | ML9: -1.015312
A10: 2.2375089 | B10: 1.4726726 | C10: 0.057776079 | D10: 0.2394594 | E10: 0.39367118 | F10: 0.18783072 | G10: -0.66538178 | H10: -0.46684984 | I10: -0.78528732 | J10: -0.18261629 | K10: 1.5037575 | L10: 0.21163421 | M10: 0.27558296 | N10: 1.451512 | O10: -0.60945754 | P10: -0.9847419 | Q10: 0.48250306 | R10: 0.91071967 | S10: 0.5120402 | T10: -0.77597705 | U10: 0.41130782 | V10: -0.95166111 | W10: 0.43074401 | X10: -0.55163512 | Y10: -0.87148306 | Z10: -1.0918542 | AA10: 0.55610187 | AB10: -0.79498344 | AC10: 0.801874 | AD10: 0.61616471 | AE10: -0.10075132 | AF10: 0.39040734 | AG10: 2.0554762 | AH10: -0.62306865 | AI10: 0.43424628 | AJ10: 0.77449478 | AK10: -0.60195878 | AL10: -0.6975433 | AM10: -0.72955579 | AN10: -0.6761011 | AO10: -0.65530808 | AP10: 0.86130757 | AQ10: -0.54330681 | AR10: 0.64622454 | AS10: -0.11219365 | AT10: -0.86499102 | AU10: 2.0647344 | AV10: 0.00546525 | AW10: -0.86891799 | AX10: 1.0606419 | AY10: -0.82337044 | AZ10: -0.44250743 | BA10: 0.13953888 | BB10: 1.4140433 | BC10: 2.084252 | BD10: -0.021285763 | BE10: -0.55555928 | BF10: 1.5595694 | BG10: 2.2025217 | BH10: -0.62999762 | BI10: 0.47365511 | BJ10: -0.61496933 | BK10: -0.062079181 | BL10: 0.4692862 | BM10: -0.66545142 | BN10: -1.0015264 | BO10: 0.51488324 | BP10: 2.5152262 | BQ10: 0.84154696 | BR10: -1.41559 | BS10: 0.11734477 | BT10: 0.80042709 | BU10: -0.68580052 | BV10: 0.20993428 | BW10: 1.1325697 | BX10: -0.238398 | BY10: 0.72265027 | BZ10: 1.3578228 | CA10: -0.57180207 | CB10: -6.3759125e-05 | CC10: 1.3262411 | CD10: 0.41458866 | CE10: 0.22721298 | CF10: 0.88421165 | CG10: -0.63260595 | CH10: 0.106402 | CI10: -0.77729947 | CJ10: -0.53308017 | CK10: -0.30400009 | CL10: 0.14962582 | CM10: -0.53655059 | CN10: -0.5405702 | CO10: 2.7535696 | CP10: -0.2281532 | CQ10: -0.84141325 | CR10: 2.0815911 | CS10: 0.015945817 | CT10: -0.63407572 | CU10: 0.39678274 | CV10: -0.56152404 | CW10: -0.088750913 | CX10: -0.98210878 | CY10: -0.60890731 | CZ10: -0.86345674 | DA10: 0.038041415 | DB10: -0.68165143 | DC10: 1.4462863 | DD10: -0.55797706 | DE10: 1.5698053 | DF10: 0.18661857 | DG10: -0.89151441 | DH10: 0.63590747 | DI10: -0.76553265 | DJ10: -0.69223813 | DK10: 1.0001032 | DL10: -0.72091215 | DM10: -1.0438517 | DN10: 1.7595335 | DO10: -0.38644402 | DP10: -0.32456627 | DQ10: 0.23259758 | DR10: 0.36205128 | DS10: -0.017535094 | DT10: -0.73499074 | DU10: 0.25610317 | DV10: -0.77157495 | DW10: 1.611255 | DX10: -0.5310394 | DY10: -1.1176176 | DZ10: 0.35631642 | EA10: -0.73529549 | EB10: 0.81934002 | EC10: 0.69625314 | ED10: -0.74145331 | EE10: -0.97321396 | EF10: 0.36296095 | EG10: 0.51655522 | EH10: -1.5830907 | EI10: -0.72498131 | EJ10: -0.32201538 | EK10: -1.2836657 | EL10: 0.64223131 | EM10: 0.70668414 | EN10: 0.266476 | EO10: 0.84815494 | EP10: 0.22397053 | EQ10: -0.87347945 | ER10: 0.5298293 | ES10: 1.0987249 | ET10: -0.73401494 | EU10: 0.53341692 | EV10: 1.2774514 | EW10: -0.78041078 | EX10: -0.8244061 | EY10: -0.69341824 | EZ10: 0.29163367 | FA10: 1.5474359 | FB10: 0.43917319 | FC10: -0.61630895 | FD10: -0.7654858 | FE10: -1.0795929 | FF10: 1.6284965 | FG10: -0.97556486 | FH10: 1.5775823 | FI10: -0.66906633 | FJ10: 0.40006267 | FK10: -0.062486569 | FL10: 1.1564156 | FM10: 0.36344706 | FN10: -0.65010763 | FO10: 1.4258101 | FP10: -0.52402953 | FQ10: -1.5038659 | FR10: 0.16292285 | FS10: -0.2988653 | FT10: -0.6423118 | FU10: 0.89622162 | FV10: -0.71207361 | FW10: -0.61840648 | FX10: -0.15638464 | FY10: -0.63869213 | FZ10: 0.87623037 | GA10: -0.70653662 | GB10: 0.75614099 | GC10: -0.99484391 | GD10: 0.2241602 | GE10: 0.4891497 | GF10: 2.0053628 | GG10: -0.67739032 | GH10: -0.025289456 | GI10: 0.19761563 | GJ10: 0.46508003 | GK10: 1.1689913 | GL10: 0.90341634 | GM10: -0.98893612 | GN10: 0.57881811 | GO10: 0.3848312 | GP10: -1.1794127 | GQ10: -0.46185192 | GR10: 2.07605 | GS10: 0.28677733 | GT10: 0.85608378 | GU10: -0.68206972 | GV10: 0.98880939 | GW10: -0.70019907 | GX10: 1.4188098 | GY10: -1.0555726 | GZ10: -0.38007337 | HA10: -0.72169835 | HB10: -1.1094367 | HC10: 0.50589708 | HD10: -0.86001239 | HE10: -1.1666771 | HF10: 1.4474822 | HG10: -0.66566684 | HH10: -1.1005897 | HI10: -0.42806668 | HJ10: -0.75458257 | HK10: -0.64819008 | HL10: -0.60353715 | HM10: -0.93082623 | HN10: 0.23080188 | HO10: -0.86985443 | HP10: 2.007348 | HQ10: -0.78517707 | HR10: 1.3951148 | HS10: -0.10945435 | HT10: 0.89590813 | HU10: 0.64379574 | HV10: -0.90699112 | HW10: 1.093433 | HX10: 1.543048 | HY10: -0.49650348 | HZ10: 1.2094759 | IA10: -0.61477956 | IB10: -0.46129459 | IC10: 0.75409979 | ID10: 0.34908108 | IE10: 1.581972 | IF10: 0.94381713 | IG10: -0.73360937 | IH10: 0.82138301 | II10: 1.2427663 | IJ10: -0.94665909 | IK10: -0.80685508 | IL10: 1.2119244 | IM10: 0.84761246 | IN10: -0.80802847 | IO10: -0.98301446 | IP10: -0.72293283 | IQ10: 0.83678636 | IR10: -0.62412558 | IS10: 1.0190106 | IT10: -0.68817015 | IU10: 0.84418826 | IV10: 1.0115704 | IW10: -1.0368897 | IX10: 0.24113284 | IY10: -0.8929072 | IZ10: 0.70191104 | JA10: -0.63265001 | JB10: 0.78296291 | JC10: 2.4299327 | JD10: 0.49672081 | JE10: 0.84990676 | JF10: -0.0052728815 | JG10: 1.6981276 | JH10: -1.0196433 | JI10: 1.4412167 | JJ10: 0.885077 | JK10: 1.1052244 | JL10: 0.14074099 | JM10: 1.9056043 | JN10: 0.5697612 | JO10: -0.55329006 | JP10: -0.15230525 | JQ10: -0.93025003 | JR10: 0.34879468 | JS10: -0.57066971 | JT10: -0.14139094 | JU10: -0.87500668 | JV10: -0.6805642 | JW10: 1.882422 | JX10: 0.86848753 | JY10: 0.16931031 | JZ10: -0.6773441 | KA10: 0.81575736 | KB10: 2.0970886 | KC10: 0.4011342 | KD10: -0.91497148 | KE10: 0.77505142 | KF10: 1.3402161 | KG10: 0.50891519 | KH10: 0.086179294 | KI10: -0.7090623 | KJ10: 0.36959303 | KK10: -0.62879698 | KL10: -0.43352562 | KM10: -0.67743235 | KN10: -0.87255469 | KO10: -0.55039514 | KP10: 0.71943921 | KQ10: -0.66695641 | KR10: 2.6209795 | KS10: -0.70074295 | KT10: -0.6347818 | KU10: -1.2479585 | KV10: 0.59292551 | KW10: -0.74426131 | KX10: -0.5711001 | KY10: -0.19519683 | KZ10: -0.6402398 | LA10: -0.76966051 | LB10: -0.60817111 | LC10: 0.99718475 | LD10: -1.2676897 | LE10: -0.95889164 | LF10: 0.020397852 | LG10: -0.73689781 | LH10: 0.62922674 | LI10: -0.90585909 | LJ10: 0.15963457 | LK10: 1.4477807 | LL10: 0.51210939 | LM10: 0.91784344 | LN10: -0.046950731 | LO10: 0.072001626 | LP10: -0.092693416 | LQ10: 0.72155154 | LR10: 0.40993369 | LS10: -1.4949511 | LT10: 0.45587295 | LU10: -1.0816996 | LV10: 0.9428846 | LW10: 0.13826808 | LX10: 0.5815627 | LY10: 0.14941019 | LZ10: -0.59607784 | MA10: -1.0382756 | MB10: 0.89022474 | MC10: -0.84037404 | MD10: -0.74791143 | ME10: -0.20556497 | MF10: -0.76725644 | MG10: 0.81009917 | MH10: 1.1032226 | MI10: -1.0244958 | MJ10: 0.8197042 | MK10: 0.86548153 | ML10: 0.81828067
A11: -0.99790711 | B11: -0.9121763 | C11: 0.66763669 | D11: -1.0013755 | E11: -1.0359731 | F11: 0.60368003 | G11: 0.84976145 | H11: 0.11761107 | I11: -0.78528732 | J11: -0.65678868 | K11: -0.6892635 | L11: 0.34371016 | M11: 1.3717184 | N11: -1.1758187 | O11: -0.60945754 | P11: 0.92083995 | Q11: -0.7304974 | R11: -0.57063399 | S11: -0.61910831 | T11: -0.77597705 | U11: -0.97933369 | V11: 0.31345619 | W11: 0.5436344 | X11: 2.1060784 | Y11: -0.87148306 | Z11: -1.0918542 | AA11: -0.86793898 | AB11: 0.24557568 | AC11: 0.7181821 | AD11: 0.77524746 | AE11: 0.33885287 | AF11: -1.2116365 | AG11: 0.017747898 | AH11: 1.4620511 | AI11: -0.55753757 | AJ11: 0.99091934 | AK11: -0.60195878 | AL11: -0.6975433 | AM11: 1.0579737 | AN11: -0.6761011 | AO11: 1.7318902 | AP11: -0.3456993 | AQ11: -0.54330681 | AR11: -0.10876028 | AS11: 1.5218659 | AT11: 0.13023529 | AU11: -0.75341452 | AV11: 0.71502724 | AW11: 1.1588119 | AX11: -0.83505797 | AY11: -0.82337044 | AZ11: 0.078877382 | BA11: -0.58353878 | BB11: 0.079781946 | BC11: -0.5091068 | BD11: -0.82889603 | BE11: -0.55555928 | BF11: -0.61161971 | BG11: -0.93180341 | BH11: -0.62999762 | BI11: 0.10810694 | BJ11: -0.61496933 | BK11: -0.70135916 | BL11: -1.1348671 | BM11: 1.2069923 | BN11: 0.35719928 | BO11: -0.85620418 | BP11: 2.3785104 | BQ11: 0.52581314 | BR11: -1.0454762 | BS11: -0.7827896 | BT11: -0.96890116 | BU11: -0.68580052 | BV11: 0.79802829 | BW11: 1.3255932 | BX11: -1.1267473 | BY11: -1.1391 | BZ11: 1.0136681 | CA11: -0.57180207 | CB11: -0.90526706 | CC11: -0.88046141 | CD11: -1.1552511 | CE11: 0.74450202 | CF11: 0.25615478 | CG11: -0.63260595 | CH11: -0.74891452 | CI11: 2.2530842 | CJ11: -0.027242726 | CK11: 0.084130633 | CL11: 1.5815908 | CM11: -0.53655059 | CN11: 0.6803494 | CO11: -0.54430022 | CP11: -0.30114066 | CQ11: 0.5649688 | CR11: -1.2724267 | CS11: 0.63684563 | CT11: -0.63407572 | CU11: -0.22393504 | CV11: -0.56152404 | CW11: 0.17127081 | CX11: -0.98210878 | CY11: 1.343173 | CZ11: 0.60598181 | DA11: 0.13395631 | DB11: -0.68165143 | DC11: 0.49981473 | DD11: -0.55797706 | DE11: 1.6211938 | DF11: 0.31460766 | DG11: 1.1347525 | DH11: 0.6115325 | DI11: -0.76553265 | DJ11: -0.69223813 | DK11: 1.1643191 | DL11: 1.2742578 | DM11: -1.0438517 | DN11: -0.63141956 | DO11: -0.38644402 | DP11: -0.12075778 | DQ11: -1.3084884 | DR11: 0.47930269 | DS11: -0.81191317 | DT11: -0.73499074 | DU11: -1.5224694 | DV11: 1.5443221 | DW11: -1.1472335 | DX11: 1.4152981 | DY11: 0.46286268 | DZ11: 0.95820926 | EA11: 0.45169655 | EB11: 0.4195969 | EC11: -1.1207482 | ED11: 0.52085126 | EE11: 0.68429762 | EF11: -0.71923267 | EG11: 0.6454396 | EH11: -0.2911989 | EI11: -0.72498131 | EJ11: -0.44890192 | EK11: -1.2836657 | EL11: 1.5732539 | EM11: -0.83725166 | EN11: 1.0114925 | EO11: -0.76302354 | EP11: 1.0629955 | EQ11: 0.66964234 | ER11: 1.2561533 | ES11: 1.2709603 | ET11: -0.73401494 | EU11: -1.2419783 | EV11: -0.58034107 | EW11: 0.52102085 | EX11: -0.8244061 | EY11: -0.69341824 | EZ11: 0.42413111 | FA11: -0.69280401 | FB11: 0.68851168 | FC11: 1.7098748 | FD11: 0.64906974 | FE11: 0.094516174 | FF11: -0.72765744 | FG11: 0.13807026 | FH11: -0.37313783 | FI11: -0.66906633 | FJ11: -0.93815765 | FK11: 1.64554 | FL11: 0.051569758 | FM11: 1.054557 | FN11: 1.1821829 | FO11: 1.2187069 | FP11: -0.52402953 | FQ11: -1.5038659 | FR11: 0.61249414 | FS11: 0.73971078 | FT11: -0.6423118 | FU11: 0.040042037 | FV11: -0.71207361 | FW11: 1.6077149 | FX11: -1.4137021 | FY11: -0.63869213 | FZ11: -0.73580774 | GA11: -0.70653662 | GB11: 1.028163 | GC11: 0.78232393 | GD11: -1.0701766 | GE11: 0.65756641 | GF11: -1.0818261 | GG11: -0.67739032 | GH11: -1.7461774 | GI11: -1.0345 | GJ11: -1.876852 | GK11: -0.12463204 | GL11: -0.85756157 | GM11: -0.98893612 | GN11: 0.71769526 | GO11: 0.50552895 | GP11: 0.06749695 | GQ11: -0.46185192 | GR11: -0.94957871 | GS11: -0.75459762 | GT11: 0.92379777 | GU11: -0.68206972 | GV11: 1.1625615 | GW11: -0.70019907 | GX11: 1.2029429 | GY11: 0.78451786 | GZ11: -1.2628484 | HA11: 2.8594226 | HB11: 1.4282073 | HC11: -0.14184301 | HD11: -0.86001239 | HE11: 0.38336818 | HF11: -1.118375 | HG11: -0.66566684 | HH11: 1.0351359 | HI11: -0.42806668 | HJ11: 0.30170277 | HK11: -0.64819008 | HL11: -0.60353715 | HM11: -0.93082623 | HN11: -1.0092621 | HO11: -0.86985443 | HP11: -0.82141074 | HQ11: -0.78517707 | HR11: -0.97035627 | HS11: 0.61857494 | HT11: 1.3926729 | HU11: -0.1712448 | HV11: 0.33424924 | HW11: -1.0256053 | HX11: 1.065527 | HY11: -0.49650348 | HZ11: -0.79053687 | IA11: -0.61477956 | IB11: -0.46129459 | IC11: -1.1001864 | ID11: -0.86153222 | IE11: 0.55816781 | IF11: -1.2299179 | IG11: 1.823155 | IH11: 0.611542 | II11: -1.0698464 | IJ11: -0.94665909 | IK11: 2.2871171 | IL11: 0.4441578 | IM11: 0.37782245 | IN11: 1.4182229 | IO11: 1.1541198 | IP11: -0.72293283 | IQ11: 0.72939685 | IR11: -0.62412558 | IS11: 0.47466122 | IT11: -0.68817015 | IU11: 1.1026789 | IV11: 1.2119385 | IW11: 0.75302715 | IX11: 0.096530928 | IY11: 0.85173175 | IZ11: -0.77166367 | JA11: -0.63265001 | JB11: 1.3793006 | JC11: 1.0443414 | JD11: -1.096648 | JE11: 1.7232586 | JF11: -1.048922 | JG11: -0.56237669 | JH11: 0.40465871 | JI11: -0.13402367 | JJ11: 0.70318747 | JK11: 1.244997 | JL11: -1.1065595 | JM11: 1.347071 | JN11: 0.70916858 | JO11: -0.55329006 | JP11: -1.3077049 | JQ11: 0.58244561 | JR11: 0.99887085 | JS11: -0.57066971 | JT11: 0.90911865 | JU11: 1.4219063 | JV11: -0.6805642 | JW11: 0.85974713 | JX11: 0.32722241 | JY11: -0.1610779 | JZ11: -0.6773441 | KA11: 0.080623967 | KB11: 0.49284038 | KC11: 0.57792362 | KD11: 1.3364281 | KE11: 0.67458576 | KF11: 0.88053607 | KG11: -0.90124271 | KH11: 1.7937052 | KI11: -0.7090623 | KJ11: 1.1737131 | KK11: 1.2138552 | KL11: -0.43352562 | KM11: -0.84200823 | KN11: 0.47605418 | KO11: 0.54529093 | KP11: 1.256862 | KQ11: -0.66695641 | KR11: -0.57652865 | KS11: -0.70074295 | KT11: -0.6347818 | KU11: 0.28722144 | KV11: 0.12815418 | KW11: -0.74426131 | KX11: -0.5711001 | KY11: 1.6985259 | KZ11: 1.8338197 | LA11: -0.76966051 | LB11: -0.60817111 | LC11: -0.70848649 | LD11: 1.7113764 | LE11: -0.95889164 | LF11: 0.20373685 | LG11: 1.20069 | LH11: 0.46171899 | LI11: 0.69893223 | LJ11: 0.28393536 | LK11: -1.023576 | LL11: 0.64237459 | LM11: -0.62349785 | LN11: 0.061414102 | LO11: -1.0744657 | LP11: 1.0384152 | LQ11: 1.2620521 | LR11: 0.5372381 | LS11: -0.18074539 | LT11: -0.68104255 | LU11: 0.47529766 | LV11: 1.2025264 | LW11: 0.055732119 | LX11: -1.1928623 | LY11: -0.13892547 | LZ11: -0.59607784 | MA11: -1.0382756 | MB11: -0.89779763 | MC11: -0.84037404 | MD11: -0.74791143 | ME11: 1.555021 | MF11: -0.76725644 | MG11: 1.6719155 | MH11: 0.34403975 | MI11: -1.0244958 | MJ11: 0.51383894 | MK11: -0.1051717 | ML11: -1.015312
A12: -0.99790711 | B12: -0.9121763 | C12: 1.2125429 | D12: 0.27773278 | E12: -0.24619491 | F12: -0.9987912 | G12: -0.66538178 | H12: -0.46684984 | I12: 1.1924849 | J12: -0.31106351 | K12: 0.91009301 | L12: -1.070785 | M12: -0.93162884 | N12: -0.42227883 | O12: -0.60945754 | P12: -0.9847419 | Q12: -1.1896098 | R12: -0.76083129 | S12: -0.61910831 | T12: 0.63084658 | U12: -0.97933369 | V12: 0.014036003 | W12: -0.66470459 | X12: -0.79391027 | Y12: 1.1847512 | Z12: 0.96254582 | AA12: -0.86793898 | AB12: 0.57954948 | AC12: -1.0752847 | AD12: -0.92848266 | AE12: -0.88653774 | AF12: 0.91784621 | AG12: -0.83825074 | AH12: -0.62306865 | AI12: -0.72190034 | AJ12: -1.3320426 | AK12: 2.3177359 | AL12: -0.6975433 | AM12: 0.71774022 | AN12: -0.6761011 | AO12: -0.65530808 | AP12: -0.92841894 | AQ12: -0.54330681 | AR12: -0.1956138 | AS12: -0.074442333 | AT12: -0.86499102 | AU12: -0.75341452 | AV12: -1.2641843 | AW12: -0.86891799 | AX12: -0.83505797 | AY12: 1.8321002 | AZ12: 1.0355773 | BA12: 0.025214547 | BB12: -1.1102378 | BC12: -0.5091068 | BD12: -0.48857127 | BE12: -0.55555928 | BF12: -0.61161971 | BG12: 0.12112887 | BH12: -0.62999762 | BI12: -1.1893342 | BJ12: -0.61496933 | BK12: 0.6155309 | BL12: -1.1348671 | BM12: -0.66545142 | BN12: -1.0015264 | BO12: -0.85620418 | BP12: -0.55704037 | BQ12: -0.63718032 | BR12: 1.5933595 | BS12: 0.14510929 | BT12: -0.96890116 | BU12: -0.68580052 | BV12: -0.84236745 | BW12: 1.1903556 | BX12: -0.21099699 | BY12: 0.77999176 | BZ12: -1.0119819 | CA12: -0.57180207 | CB12: -0.90526706 | CC12: -0.88046141 | CD12: 0.71277766 | CE12: 0.27272388 | CF12: -0.84686222 | CG12: 2.7382537 | CH12: 1.6110402 | CI12: -0.093242853 | CJ12: -0.53308017 | CK12: -0.52866939 | CL12: 0.19126914 | CM12: -0.53655059 | CN12: -0.5405702 | CO12: -0.53920182 | CP12: -0.5699872 | CQ12: -0.84141325 | CR12: 0.5075982 | CS12: -1.093904 | CT12: -0.63407572 | CU12: -0.4764135 | CV12: -0.56152404 | CW12: -0.55401889 | CX12: -0.98210878 | CY12: -0.60890731 | CZ12: 0.50985139 | DA12: -0.89268294 | DB12: 1.1016404 | DC12: -0.66621525 | DD12: -0.55797706 | DE12: 0.4835019 | DF12: 0.224935 | DG12: -0.89151441 | DH12: 0.49342519 | DI12: 0.98191218 | DJ12: -0.69223813 | DK12: -0.59438477 | DL12: -0.72091215 | DM12: 0.41659233 | DN12: 1.3819703 | DO12: -0.38644402 | DP12: -1.1649058 | DQ12: -1.3084884 | DR12: 0.88249549 | DS12: 0.32608714 | DT12: -0.73499074 | DU12: 0.31091059 | DV12: 0.99620985 | DW12: 1.3976741 | DX12: -0.5310394 | DY12: -1.1176176 | DZ12: -0.71955873 | EA12: 0.83303509 | EB12: 0.32669327 | EC12: -1.1207482 | ED12: -0.74145331 | EE12: 0.12245625 | EF12: -0.067009991 | EG12: 0.55513967 | EH12: 0.12344165 | EI12: -0.72498131 | EJ12: -0.66811781 | EK12: 0.71056733 | EL12: 0.46352201 | EM12: -0.83725166 | EN12: 0.30757821 | EO12: 0.89777887 | EP12: -0.2724219 | EQ12: -0.87347945 | ER12: 1.9051187 | ES12: -0.57363044 | ET12: 0.34583112 | EU12: 0.052806337 | EV12: -0.58034107 | EW12: -0.78041078 | EX12: -0.8244061 | EY12: -0.69341824 | EZ12: 0.87957077 | FA12: -0.69280401 | FB12: -0.54183158 | FC12: -0.61630895 | FD12: 1.8762029 | FE12: -0.30318829 | FF12: -0.72765744 | FG12: 1.1041536 | FH12: -0.37313783 | FI12: -0.66906633 | FJ12: 0.44132306 | FK12: 0.47212394 | FL12: -0.018991756 | FM12: -0.87318544 | FN12: -0.65010763 | FO12: -0.66242474 | FP12: -0.52402953 | FQ12: 1.4414065 | FR12: -1.1199244 | FS12: -1.161487 | FT12: -0.6423118 | FU12: 0.37890953 | FV12: -0.71207361 | FW12: -0.61840648 | FX12: -0.11761867 | FY12: -0.63869213 | FZ12: -0.73580774 | GA12: 0.52051509 | GB12: -1.8930918 | GC12: -0.99484391 | GD12: 0.26406757 | GE12: 0.045938435 | GF12: 1.3856516 | GG12: -0.67739032 | GH12: 0.027713505 | GI12: 1.3383228 | GJ12: 0.35864225 | GK12: 0.54553107 | GL12: 1.3650645 | GM12: 0.94956121 | GN12: -0.76879679 | GO12: -0.78637721 | GP12: -1.1794127 | GQ12: -0.46185192 | GR12: 1.2586095 | GS12: 1.3905913 | GT12: -1.2778804 | GU12: -0.68206972 | GV12: -0.69827327 | GW12: -0.70019907 | GX12: -0.75778951 | GY12: -1.0555726 | GZ12: 0.31244381 | HA12: -0.72169835 | HB12: -1.1094367 | HC12: -0.61587153 | HD12: -0.86001239 | HE12: 0.28196448 | HF12: -1.118375 | HG12: -0.66566684 | HH12: 0.89557764 | HI12: -0.42806668 | HJ12: -0.75458257 | HK12: 2.0333973 | HL12: -0.60353715 | HM12: 0.58345983 | HN12: 0.7980397 | HO12: 1.0583595 | HP12: -0.82141074 | HQ12: -0.78517707 | HR12: -0.97035627 | HS12: 0.65893014 | HT12: 0.31788011 | HU12: -1.175355 | HV12: 0.73301585 | HW12: 1.6481102 | HX12: -0.62933971 | HY12: -0.49650348 | HZ12: -0.79053687 | IA12: -0.61477956 | IB12: 2.0239463 | IC12: 2.0633311 | ID12: 1.2975409 | IE12: -0.91723867 | IF12: 0.71111806 | IG12: 0.95710551 | IH12: 1.223284 | II12: -0.095317738 | IJ12: 0.20672905 | IK12: -0.80685508 | IL12: -0.90422265 | IM12: -0.39077535 | IN12: -0.80802847 | IO12: -0.98301446 | IP12: 0.47600744 | IQ12: -0.051112718 | IR12: -0.62412558 | IS12: 0.62738708 | IT12: 0.67858028 | IU12: -0.17282505 | IV12: -0.93515491 | IW12: 0.1463048 | IX12: -0.10490408 | IY12: -0.8929072 | IZ12: 0.74734472 | JA12: -0.63265001 | JB12: -0.91868072 | JC12: -0.66542744 | JD12: -1.096648 | JE12: 1.5639969 | JF12: -1.048922 | JG12: -0.56237669 | JH12: -1.0196433 | JI12: -1.2663335 | JJ12: -0.94892656 | JK12: 0.080527689 | JL12: 0.17919812 | JM12: -0.63715609 | JN12: 1.1883601 | JO12: -0.55329006 | JP12: 1.3525493 | JQ12: 0.48342009 | JR12: -0.8132075 | JS12: -0.57066971 | JT12: -0.10575642 | JU12: -0.87500668 | JV12: 0.62172905 | JW12: 0.25016184 | JX12: 0.72352976 | JY12: -1.3337257 | JZ12: -0.6773441 | KA12: 1.2006318 | KB12: 0.40659752 | KC12: 1.3361441 | KD12: -0.91497148 | KE12: -0.65826277 | KF12: 0.77370259 | KG12: 0.55241132 | KH12: 0.12223706 | KI12: -0.7090623 | KJ12: -1.5367156 | KK12: -0.62879698 | KL12: -0.43352562 | KM12: 0.62095884 | KN12: 0.90889844 | KO12: -0.55039514 | KP12: 1.1214611 | KQ12: -0.66695641 | KR12: -0.57652865 | KS12: 1.0929884 | KT12: 1.0101858 | KU12: 0.77994683 | KV12: -1.522977 | KW12: -0.74426131 | KX12: -0.5711001 | KY12: -1.4922034 | KZ12: -0.6402398 | LA12: 1.074526 | LB12: -0.60817111 | LC12: 1.0497745 | LD12: -1.2676897 | LE12: 0.82271424 | LF12: -0.4620834 | LG12: 1.0739334 | LH12: 0.36218379 | LI12: 1.2139998 | LJ12: 0.19684682 | LK12: 1.1832211 | LL12: -0.75193816 | LM12: -0.62349785 | LN12: 0.43404859 | LO12: -1.0744657 | LP12: 1.5274544 | LQ12: 0.30375867 | LR12: 0.075093062 | LS12: -0.49178351 | LT12: 0.97592796 | LU12: 0.37343916 | LV12: -0.15745951 | LW12: -0.36287192 | LX12: -1.1928623 | LY12: 1.1770873 | LZ12: -0.59607784 | MA12: -1.0382756 | MB12: -0.89779763 | MC12: -0.84037404 | MD12: -0.74791143 | ME12: 0.67764256 | MF12: 0.79929112 | MG12: -1.0734054 | MH12: -1.0672205 | MI12: 0.17035439 | MJ12: 0.86260652 | MK12: -1.5608867 | ML12: -1.015312
A13: -0.05243634 | B13: 0.92666851 | C13: 0.64705303 | D13: -1.0013755 | E13: 2.3642654 | F13: 1.4163698 | G13: -0.66538178 | H13: -0.13328653 | I13: -0.78528732 | J13: -0.024196975 | K13: -0.6892635 | L13: 1.7187049 | M13: 0.38378418 | N13: -0.049684459 | O13: -0.60945754 | P13: 1.6742317 | Q13: -0.79605567 | R13: -0.071878344 | S13: 1.1228626 | T13: -0.77597705 | U13: 0.53594967 | V13: -0.95166111 | W13: -0.66470459 | X13: 1.5084985 | Y13: -0.87148306 | Z13: -1.0918542 | AA13: -0.86793898 | AB13: -0.79498344 | AC13: 0.96991982 | AD13: 1.7302192 | AE13: 0.82436127 | AF13: 0.023624152 | AG13: 0.0073698245 | AH13: -0.62306865 | AI13: 0.1066234 | AJ13: 0.96284446 | AK13: -0.60195878 | AL13: -0.6975433 | AM13: 0.51990758 | AN13: -0.6761011 | AO13: -0.65530808 | AP13: -0.59030857 | AQ13: -0.54330681 | AR13: 0.63540211 | AS13: 0.29687695 | AT13: 0.11816923 | AU13: 0.62275122 | AV13: -1.2641843 | AW13: -0.86891799 | AX13: 0.85194811 | AY13: 0.95338576 | AZ13: 0.38276896 | BA13: 0.059936696 | BB13: -0.27869733 | BC13: 1.7263056 | BD13: -0.46914712 | BE13: -0.55555928 | BF13: -0.61161971 | BG13: -0.14455263 | BH13: -0.62999762 | BI13: 0.62270723 | BJ13: -0.61496933 | BK13: -0.70135916 | BL13: 0.10176071 | BM13: 0.40318894 | BN13: -1.0015264 | BO13: 0.63777247 | BP13: -0.55704037 | BQ13: 1.7706568 | BR13: 0.55666413 | BS13: -0.7827896 | BT13: -0.96890116 | BU13: 0.76829357 | BV13: -0.84236745 | BW13: -0.74163318 | BX13: 0.54884968 | BY13: -1.1391 | BZ13: -1.0119819 | CA13: 1.3158677 | CB13: 1.8785422 | CC13: 1.5236692 | CD13: 0.8191937 | CE13: 0.35951252 | CF13: -0.84686222 | CG13: 0.62966479 | CH13: -0.90095904 | CI13: -0.26584767 | CJ13: 0.078744171 | CK13: -0.17672058 | CL13: 0.27068237 | CM13: 1.7045134 | CN13: -0.5405702 | CO13: 2.1860251 | CP13: -0.30764058 | CQ13: 2.556406 | CR13: 0.18578636 | CS13: 0.1154779 | CT13: -0.63407572 | CU13: 0.22092676 | CV13: 1.3638228 | CW13: -0.55401889 | CX13: 0.11244704 | CY13: -0.60890731 | CZ13: 1.1881837 | DA13: 1.372274 | DB13: -0.68165143 | DC13: 0.96229378 | DD13: 1.8527972 | DE13: 0.87684218 | DF13: 1.0829246 | DG13: -0.89151441 | DH13: 0.067469673 | DI13: -0.76553265 | DJ13: -0.69223813 | DK13: -0.59438477 | DL13: 0.6736896 | DM13: -1.0438517 | DN13: -0.63141956 | DO13: -0.38644402 | DP13: 0.92448661 | DQ13: 1.2532159 | DR13: -0.77571508 | DS13: -0.82130914 | DT13: -0.73499074 | DU13: 0.97776246 | DV13: 0.55015294 | DW13: -0.04595289 | DX13: -0.5310394 | DY13: -1.1176176 | DZ13: -0.71955873 | EA13: -0.73529549 | EB13: -1.0005173 | EC13: 0.27996232 | ED13: -0.74145331 | EE13: -0.97321396 | EF13: -0.30047966 | EG13: -0.73487476 | EH13: 0.22065772 | EI13: 0.86544929 | EJ13: -0.76048726 | EK13: -1.2836657 | EL13: 2.1153347 | EM13: 0.8450656 | EN13: -1.0666138 | EO13: 0.47901993 | EP13: 1.8420542 | EQ13: -0.87347945 | ER13: 0.64631499 | ES13: 1.2486165 | ET13: 0.40746369 | EU13: 1.1256018 | EV13: 1.4440595 | EW13: 2.2263002 | EX13: -0.8244061 | EY13: 1.5552519 | EZ13: 1.4301061 | FA13: 1.0341774 | FB13: -0.11645847 | FC13: -0.61630895 | FD13: -0.7654858 | FE13: -1.0795929 | FF13: 2.7636598 | FG13: 2.4936017 | FH13: -0.37313783 | FI13: 1.9464308 | FJ13: 1.1227043 | FK13: -1.2323102 | FL13: 1.1013115 | FM13: 0.079920834 | FN13: 1.1599882 | FO13: 1.6128559 | FP13: -0.52402953 | FQ13: -1.5038659 | FR13: 0.27790321 | FS13: 0.16742927 | FT13: -0.6423118 | FU13: 1.7369588 | FV13: 0.4252467 | FW13: -0.61840648 | FX13: -1.4137021 | FY13: -0.63869213 | FZ13: 1.0207158 | GA13: -0.70653662 | GB13: 0.54751484 | GC13: 0.43909034 | GD13: 1.5642192 | GE13: 1.209458 | GF13: -0.015495181 | GG13: 0.89658107 | GH13: 0.34941765 | GI13: 0.86296051 | GJ13: 0.28065371 | GK13: 1.2426438 | GL13: -0.85756157 | GM13: -0.98893612 | GN13: -0.76879679 | GO13: -0.78637721 | GP13: 1.5715017 | GQ13: 2.0277341 | GR13: -0.94957871 | GS13: 0.8496979 | GT13: 1.4453455 | GU13: -0.68206972 | GV13: -0.69827327 | GW13: -0.70019907 | GX13: 1.1791923 | GY13: -0.0053968722 | GZ13: 1.4519864 | HA13: -0.72169835 | HB13: 0.013115624 | HC13: -0.67529863 | HD13: -0.86001239 | HE13: 1.4822384 | HF13: 1.3036711 | HG13: 1.2439181 | HH13: 0.72719205 | HI13: 1.5976931 | HJ13: -0.75458257 | HK13: -0.64819008 | HL13: -0.60353715 | HM13: 1.3314268 | HN13: -1.0092621 | HO13: 0.79478961 | HP13: -0.82141074 | HQ13: -0.78517707 | HR13: 0.51932479 | HS13: -1.0902197 | HT13: 0.40670165 | HU13: -1.175355 | HV13: 2.0918458 | HW13: 1.8002404 | HX13: 1.0449785 | HY13: -0.49650348 | HZ13: 1.3887351 | IA13: -0.61477956 | IB13: 2.571041 | IC13: 0.32926669 | ID13: 1.9306371 | IE13: -0.91723867 | IF13: -0.044635728 | IG13: -0.73360937 | IH13: -1.2944571 | II13: 0.3865465 | IJ13: 0.77703191 | IK13: 1.6903933 | IL13: 0.42781012 | IM13: 0.055186771 | IN13: 1.8838844 | IO13: 0.8459728 | IP13: -0.72293283 | IQ13: -0.25961453 | IR13: 0.35194064 | IS13: -1.4609808 | IT13: -0.68817015 | IU13: -0.087326705 | IV13: 2.0617174 | IW13: 0.73134566 | IX13: -0.067847954 | IY13: -0.8929072 | IZ13: -0.77166367 | JA13: 0.97225054 | JB13: -0.91868072 | JC13: 0.52929389 | JD13: 1.645915 | JE13: -0.71119756 | JF13: 0.91960021 | JG13: 1.4492732 | JH13: -1.0196433 | JI13: -1.2663335 | JJ13: -0.94892656 | JK13: -0.34595597 | JL13: 0.81428573 | JM13: -0.63715609 | JN13: 1.5460294 | JO13: -0.55329006 | JP13: 0.47225196 | JQ13: -0.93025003 | JR13: -0.8132075 | JS13: 1.2190095 | JT13: 0.88241035 | JU13: -0.87500668 | JV13: 1.2656593 | JW13: -0.93861576 | JX13: 1.0889721 | JY13: 1.2533533 | JZ13: -0.6773441 | KA13: 0.06497113 | KB13: 2.3583217 | KC13: 0.97438657 | KD13: 0.65873195 | KE13: 1.6475141 | KF13: 0.86075479 | KG13: 0.6353791 | KH13: -1.0833014 | KI13: -0.7090623 | KJ13: 0.16000947 | KK13: -0.62879698 | KL13: -0.43352562 | KM13: -0.52879529 | KN13: -0.87255469 | KO13: -0.55039514 | KP13: 1.2317863 | KQ13: -0.66695641 | KR13: 0.74248625 | KS13: -0.70074295 | KT13: -0.6347818 | KU13: -1.2479585 | KV13: 1.0536433 | KW13: -0.74426131 | KX13: -0.5711001 | KY13: -0.0789474 | KZ13: -0.6402398 | LA13: -0.76966051 | LB13: 2.6072882 | LC13: -0.70848649 | LD13: 1.8053998 | LE13: -0.95889164 | LF13: -0.38794386 | LG13: -0.73689781 | LH13: -1.0597645 | LI13: 0.21550795 | LJ13: 1.4091936 | LK13: -1.023576 | LL13: -0.75193816 | LM13: 2.7324768 | LN13: -1.0984849 | LO13: 1.9808454 | LP13: -1.3366131 | LQ13: 1.5544037 | LR13: -0.82615518 | LS13: 1.1992733 | LT13: -0.68104255 | LU13: 0.0062707768 | LV13: -0.075784338 | LW13: 0.034316293 | LX13: 1.3622257 | LY13: 1.6909219 | LZ13: 2.8600565 | MA13: -1.0382756 | MB13: 0.48057325 | MC13: -0.84037404 | MD13: -0.74791143 | ME13: 0.77542389 | MF13: 0.88864405 | MG13: 0.37857188 | MH13: 0.96944762 | MI13: 0.52187154 | MJ13: -0.5717695 | MK13: 1.081028 | ML13: 0.9825178
... A43: -0.99790711 | B43: 1.1417603 | C43: 3.7340648 | D43: -1.0013755 | E43: -1.0359731 | F43: 0.25227659 | G43: -0.66538178 | H43: -0.010554454 | I43: -0.78528732 | J43: -0.044688067 | K43: -0.6892635 | L43: -0.11444779 | M43: 0.34114708 | N43: 1.1309196 | O43: 0.84352997 | P43: 1.8903957 | Q43: -0.19746226 | R43: -0.34838283 | S43: -0.61910831 | T43: -0.77597705 | U43: 0.48683407 | V43: 0.036030573 | W43: -0.66470459 | X43: -0.37872971 | Y43: 0.61604657 | Z43: -1.0918542 | AA43: -0.86793898 | AB43: -0.79498344 | AC43: -1.0752847 | AD43: 0.70005508 | AE43: -0.058053707 | AF43: -1.2116365 | AG43: 0.31850947 | AH43: 1.3700265 | AI43: -0.39859007 | AJ43: -0.048428067 | AK43: -0.60195878 | AL43: -0.6975433 | AM43: 0.47940813 | AN43: -0.6761011 | AO43: -0.65530808 | AP43: -0.21468232 | AQ43: -0.54330681 | AR43: 1.2501472 | AS43: 1.3962316 | AT43: 1.4617334 | AU43: -0.75341452 | AV43: 1.4083369 | AW43: 1.3685736 | AX43: 0.31950873 | AY43: 0.89579492 | AZ43: 1.6620004 | BA43: -0.58353878 | BB43: 2.640628 | BC43: -0.5091068 | BD43: 1.8226583 | BE43: 0.80450731 | BF43: 1.8950259 | BG43: 0.1451103 | BH43: 0.78345912 | BI43: 1.2887647 | BJ43: -0.61496933 | BK43: -0.70135916 | BL43: -1.1348671 | BM43: -0.66545142 | BN43: 0.834122 | BO43: -0.85620418 | BP43: 1.0650765 | BQ43: 0.42338911 | BR43: -1.0071892 | BS43: -0.7827896 | BT43: 0.35084791 | BU43: -0.68580052 | BV43: 0.26708517 | BW43: 1.2343583 | BX43: -1.1267473 | BY43: 0.82365041 | BZ43: 1.2232146 | CA43: -0.57180207 | CB43: 0.049122655 | CC43: -0.88046141 | CD43: 1.1832901 | CE43: 1.4434804 | CF43: -0.84686222 | CG43: 1.8079064 | CH43: -0.91553035 | CI43: 0.61952338 | CJ43: -0.53308017 | CK43: 0.0043818534 | CL43: 1.4591461 | CM43: -0.53655059 | CN43: -0.5405702 | CO43: -0.41728018 | CP43: -0.32481779 | CQ43: -0.84141325 | CR43: 0.35635518 | CS43: 0.56046077 | CT43: 1.2791573 | CU43: -0.27991947 | CV43: 1.3014157 | CW43: -0.55401889 | CX43: 0.31460999 | CY43: -0.60890731 | CZ43: 0.54112965 | DA43: 0.088614578 | DB43: -0.68165143 | DC43: 1.5608897 | DD43: -0.55797706 | DE43: -0.85351022 | DF43: -1.0561184 | DG43: -0.89151441 | DH43: -1.1959189 | DI43: 1.0217117 | DJ43: -0.69223813 | DK43: -0.59438477 | DL43: 1.1863075 | DM43: -1.0438517 | DN43: -0.63141956 | DO43: 1.9423472 | DP43: -0.40887918 | DQ43: -1.3084884 | DR43: 0.92026264 | DS43: -1.5869063 | DT43: -0.73499074 | DU43: -1.5224694 | DV43: -0.77157495 | DW43: 1.4553082 | DX43: 1.3293985 | DY43: 0.73209467 | DZ43: 0.88416269 | EA43: -0.73529549 | EB43: 0.35692162 | EC43: 1.7484236 | ED43: -0.74145331 | EE43: -0.97321396 | EF43: -0.76586164 | EG43: 1.547715 | EH43: 0.72377809 | EI43: 1.937321 | EJ43: -0.80874744 | EK43: -0.44980206 | EL43: -0.14640971 | EM43: 0.79053586 | EN43: -1.0666138 | EO43: -0.76302354 | EP43: -0.24196372 | EQ43: 1.4566795 | ER43: 1.6007155 | ES43: -0.57363044 | ET43: -0.73401494 | EU43: 1.4019326 | EV43: 2.1889223 | EW43: -0.78041078 | EX43: -0.8244061 | EY43: 1.4824553 | EZ43: 0.3615046 | FA43: 0.97819997 | FB43: -0.50890008 | FC43: -0.61630895 | FD43: -0.7654858 | FE43: -1.0795929 | FF43: -0.72765744 | FG43: -0.97556486 | FH43: -0.37313783 | FI43: 0.59745942 | FJ43: 1.5027364 | FK43: -1.2323102 | FL43: 0.43029268 | FM43: 0.96957903 | FN43: -0.65010763 | FO43: -0.66242474 | FP43: -0.52402953 | FQ43: 1.3544456 | FR43: 1.4067144 | FS43: 1.0630532 | FT43: -0.6423118 | FU43: -1.0147504 | FV43: -0.71207361 | FW43: -0.61840648 | FX43: -1.4137021 | FY43: -0.63869213 | FZ43: -0.73580774 | GA43: 1.0678024 | GB43: -0.3981442 | GC43: -0.99484391 | GD43: 0.29445611 | GE43: -0.28430118 | GF43: 1.4417282 | GG43: -0.67739032 | GH43: -0.83825628 | GI43: -1.0345 | GJ43: 0.21084972 | GK43: 1.4681452 | GL43: -0.85756157 | GM43: 0.41379311 | GN43: 1.2399854 | GO43: -0.78637721 | GP43: 0.012426925 | GQ43: 1.947038 | GR43: 0.061592779 | GS43: 1.4393936 | GT43: -1.2778804 | GU43: -0.68206972 | GV43: -0.69827327 | GW43: -0.70019907 | GX43: 1.116408 | GY43: 1.2138642 | GZ43: 1.0136635 | HA43: -0.72169835 | HB43: 0.42615021 | HC43: -0.13013361 | HD43: 0.97871232 | HE43: -0.11869474 | HF43: 0.79639414 | HG43: 1.1820218 | HH43: -1.1005897 | HI43: -0.42806668 | HJ43: -0.75458257 | HK43: -0.64819008 | HL43: -0.60353715 | HM43: 1.2581905 | HN43: 0.83920253 | HO43: -0.86985443 | HP43: -0.82141074 | HQ43: -0.78517707 | HR43: 0.47103905 | HS43: 0.37126505 | HT43: 0.71072533 | HU43: 1.8517156 | HV43: 2.2264814 | HW43: 0.90965699 | HX43: 0.99067285 | HY43: -0.49650348 | HZ43: -0.79053687 | IA43: -0.61477956 | IB43: -0.46129459 | IC43: 0.59328471 | ID43: 0.41482993 | IE43: 1.7173234 | IF43: -1.2299179 | IG43: -0.73360937 | IH43: 0.52742269 | II43: -1.0698464 | IJ43: 0.23301433 | IK43: 0.90280173 | IL43: 1.3267836 | IM43: 0.011497236 | IN43: 0.69765721 | IO43: 1.0599115 | IP43: 1.0107566 | IQ43: 1.2660097 | IR43: 0.71107677 | IS43: 0.050197276 | IT43: 0.709728 | IU43: -0.58740344 | IV43: 0.25048858 | IW43: 1.665937 | IX43: -0.75457709 | IY43: 1.1484477 | IZ43: 0.32722375 | JA43: -0.63265001 | JB43: 0.8753798 | JC43: -0.66542744 | JD43: 0.58325725 | JE43: -0.71119756 | JF43: 0.051436323 | JG43: 2.1887013 | JH43: 0.34179859 | JI43: 0.26342545 | JJ43: -0.94892656 | JK43: 1.1195489 | JL43: 1.8271052 | JM43: -0.63715609 | JN43: 1.6851119 | JO43: -0.55329006 | JP43: 0.80100755 | JQ43: 0.5156371 | JR43: 0.91889663 | JS43: -0.57066971 | JT43: -0.078615886 | JU43: -0.87500668 | JV43: 0.65140782 | JW43: 0.27725363 | JX43: 0.24232823 | JY43: 0.90601923 | JZ43: 0.97051848 | KA43: 0.023603646 | KB43: 1.6916879 | KC43: 0.4943703 | KD43: 0.16205225 | KE43: 0.89724671 | KF43: 0.80846334 | KG43: 0.58553954 | KH43: 0.4263602 | KI43: 1.1733282 | KJ43: 0.10508108 | KK43: -0.62879698 | KL43: -0.43352562 | KM43: -0.58736268 | KN43: -0.87255469 | KO43: 1.2625075 | KP43: 1.4710949 | KQ43: 2.7036066 | KR43: -0.57652865 | KS43: 0.59688574 | KT43: 2.9269087 | KU43: -1.2479585 | KV43: 0.70771343 | KW43: 2.525971 | KX43: -0.5711001 | KY43: -0.52498795 | KZ43: 0.54329993 | LA43: -0.76966051 | LB43: 1.7460024 | LC43: 1.0898204 | LD43: 0.65598012 | LE43: -0.95889164 | LF43: -0.4324788 | LG43: 1.1151766 | LH43: -1.0597645 | LI43: -0.90585909 | LJ43: -1.0472901 | LK43: 1.581852 | LL43: -0.75193816 | LM43: 1.001596 | LN43: 0.46895334 | LO43: -1.0744657 | LP43: 0.51759895 | LQ43: 0.80531513 | LR43: -0.82615518 | LS43: 0.9049624 | LT43: -0.68104255 | LU43: -0.029017002 | LV43: 1.079846 | LW43: 1.3674898 | LX43: 0.42767366 | LY43: -0.18412373 | LZ43: -0.59607784 | MA43: 0.24690767 | MB43: 1.7649176 | MC43: 0.75223479 | MD43: 1.2608537 | ME43: -1.0388124 | MF43: -0.76725644 | MG43: -0.07968959 | MH43: 0.87558855 | MI43: 0.19756811 | MJ43: -0.5717695 | MK43: -0.31585397 | ML43: 1.2162062
