Workbook

Sheet Genes
A1: 50 Genes of Interest | E1: ADRBK2 | F1: -0.70990869 | G1: =ABS(F1) -> 0.70990869
A2: ADRBK2 | E2: PEX11B | F2: -0.70986923 | G2: =ABS(F2) -> 0.70986923
A3: PEX11B | E3: TERF2IP | F3: -0.70300512 | G3: =ABS(F3) -> 0.70300512
A4: TERF2IP | E4: RC3H2 | F4: -0.70105482 | G4: =ABS(F4) -> 0.70105482
A5: RC3H2 | E5: RSBN1 | F5: -0.69716957 | G5: =ABS(F5) -> 0.69716957
A6: RSBN1 | E6: COL5A2 | F6: -0.69339768 | G6: =ABS(F6) -> 0.69339768
A7: COL5A2 | E7: CSNK1G3 | F7: -0.69317923 | G7: =ABS(F7) -> 0.69317923
A8: CSNK1G3 | E8: AU151342 | F8: -0.69082508 | G8: =ABS(F8) -> 0.69082508
A9: SART1 | E9: COL5A2 | F9: -0.68772665 | G9: =ABS(F9) -> 0.68772665
A10: ERF | E10: PRKAG2-AS1 | F10: -0.68547251 | G10: =ABS(F10) -> 0.68547251
A11: MAPRE3 | E11: SART1 | F11: -0.6827144 | G11: =ABS(F11) -> 0.6827144
A12: SLC2A3 | E12: ERF | F12: 0.68069098 | G12: =ABS(F12) -> 0.68069098
... A68: COX7C | E68: BRE | F68: -0.61591853 | G68: =ABS(F68) -> 0.61591853
E69: DLGAP2 | F69: -0.61566625 | G69: =ABS(F69) -> 0.61566625
E70: AAK1 | F70: -0.61514062 | G70: =ABS(F70) -> 0.61514062
E71: RBMS1 | F71: 0.61450358 | G71: =ABS(F71) -> 0.61450358
E72: APLP2 | F72: -0.61409113 | G72: =ABS(F72) -> 0.61409113
E73: BC035670 | F73: -0.61335719 | G73: =ABS(F73) -> 0.61335719
E74: C6orf57 | F74: -0.61316265 | G74: =ABS(F74) -> 0.61316265
E75: MARK1 | F75: -0.61020565 | G75: =ABS(F75) -> 0.61020565
E76: KIF5C | F76: -0.61009826 | G76: =ABS(F76) -> 0.61009826
E77: PLEKHM3 | F77: -0.609991 | G77: =ABS(F77) -> 0.609991
E78: C5orf24 | F78: -0.60931231 | G78: =ABS(F78) -> 0.60931231
E79: NRXN1 | F79: -0.60872735 | G79: =ABS(F79) -> 0.60872735
E80: ARL6IP1 | F80: -0.60838612 | G80: =ABS(F80) -> 0.60838612
... E76848: LINC00355 | F76848: -2.2852373e-17 | G76848: =ABS(F76848) -> 2.2852373e-17

Sheet 810
A1: IDENTIFIER | B1: GSM21215 | C1: GSM21217 | D1: GSM21218 | E1: GSM21219 | F1: GSM21220 | G1: GSM21221 | H1: GSM21226 | I1: GSM21231 | J1: GSM21232 | K1: GSM21204 | L1: GSM21205 | M1: GSM21216 | N1: GSM21222 | O1: GSM21225 | P1: GSM21228 | Q1: GSM21233 | R1: GSM21209 | S1: GSM21210 | T1: GSM21211 | U1: GSM21214 | V1: GSM21223 | W1: GSM21224 | X1: GSM21227 | Y1: GSM21230 | Z1: GSM21203 | AA1: GSM21206 | AB1: GSM21207 | AC1: GSM21208 | AD1: GSM21212 | AE1: GSM21213 | AF1: GSM21229
A2: age | B2: 85 | C2: 80 | D2: 92 | E2: 80 | F2: 75 | G2: 97 | H2: 95 | I2: 77 | J2: 87 | K2: 101 | L2: 95 | M2: 83 | N2: 88 | O2: 91 | P2: 88 | Q2: 97 | R2: 85 | S2: 89 | T2: 83 | U2: 82 | V2: 79 | W2: 81 | X2: 86 | Y2: 82 | Z2: 85 | AA2: 65 | AB2: 93 | AC2: 79 | AD2: 94 | AE2: 79 | AF2: 93
A3: sex | B3: M | C3: M | D3: F | E3: M | F3: M | G3: F | H3: M | I3: M | J3: M | K3: F | L3: F | M3: F | N3: F | O3: F | P3: M | Q3: F | R3: F | S3: F | T3: F | U3: F | V3: F | W3: M | X3: F | Y3: M | Z3: M | AA3: F | AB3: M | AC3: F | AD3: F | AE3: F | AF3: F
A4: group | B4: Control | C4: Control | D4: Control | E4: Control | F4: Control | G4: Control | H4: Control | I4: Control | J4: Control | K4: Incipient | L4: Incipient | M4: Incipient | N4: Incipient | O4: Incipient | P4: Incipient | Q4: Incipient | R4: Moderate | S4: Moderate | T4: Moderate | U4: Moderate | V4: Moderate | W4: Moderate | X4: Moderate | Y4: Moderate | Z4: Severe | AA4: Severe | AB4: Severe | AC4: Severe | AD4: Severe | AE4: Severe | AF4: Severe
A5: Alzheimer | B5: 0 | C5: 0 | D5: 0 | E5: 0 | F5: 0 | G5: 0 | H5: 0 | I5: 0 | J5: 0 | K5: 1 | L5: 1 | M5: 1 | N5: 1 | O5: 1 | P5: 1 | Q5: 1 | R5: 1 | S5: 1 | T5: 1 | U5: 1 | V5: 1 | W5: 1 | X5: 1 | Y5: 1 | Z5: 1 | AA5: 1 | AB5: 1 | AC5: 1 | AD5: 1 | AE5: 1 | AF5: 1
A6: ADRBK2 | B6: -0.62709315 | C6: 0.53574755 | D6: -0.98647908 | E6: 0.32713848 | F6: 0.38290526 | G6: -0.48044716 | H6: -0.1024723 | I6: 0.11233309 | J6: -1.7321016 | K6: -0.55480287 | L6: 2.6301001 | M6: -0.1251921 | N6: 0.10407134 | O6: 0.071024362 | P6: -0.93277773 | Q6: -0.41641863 | R6: -0.25531459 | S6: -0.34825923 | T6: 0.45106466 | U6: -0.27183808 | V6: -0.009527658 | W6: -1.8064573 | X6: 1.8163181 | Y6: -0.59817704 | Z6: 0.58325259 | AA6: -1.3417341 | AB6: 1.4445396 | AC6: 0.19495055 | AD6: 1.7812057 | AE6: 1.0004707 | AF6: -0.84602941 | AG6: 0.14276888
A7: PEX11B | B7: 1.3359048 | C7: -0.37298451 | D7: 1.5193528 | E7: -0.41743539 | F7: 0.018253765 | G7: 1.932111 | H7: 0.092691346 | I7: -0.006088382 | J7: -0.5211541 | K7: 0.45711798 | L7: -1.0316336 | M7: 2.107445 | N7: 1.5451061 | O7: 0.3018927 | P7: 0.33540725 | Q7: 1.1916158 | R7: -1.2002647 | S7: -0.23998467 | T7: -1.3149198 | U7: 0.74075691 | V7: -0.35075907 | W7: -0.55008245 | X7: -1.4549753 | Y7: -0.93214833 | Z7: -0.51304006 | AA7: -0.1143933 | AB7: -0.8171405 | AC7: -0.47141146 | AD7: -1.0161111 | AE7: -1.2302514 | AF7: 0.97712269 | AG7: -0.33934338
A8: TERF2IP | B8: 1.5585215 | C8: 2.1472797 | D8: 2.3387585 | E8: -0.61189875 | F8: 0.65841413 | G8: 1.2129376 | H8: -0.87174885 | I8: -0.015783586 | J8: -0.40433257 | K8: 0.094375592 | L8: -0.87204313 | M8: 1.137994 | N8: -0.000971444 | O8: 0.36060178 | P8: -0.62013862 | Q8: -0.47319432 | R8: -0.65878752 | S8: -0.034421381 | T8: -0.61180066 | U8: 1.3664542 | V8: -0.30623891 | W8: 0.18020754 | X8: -0.64848768 | Y8: -1.6874957 | Z8: -0.61749009 | AA8: 1.0235187 | AB8: -1.2911973 | AC8: -0.44984802 | AD8: -0.94943903 | AE8: -1.092852 | AF8: 0.1391063 | AG8: -0.090269686
A9: RC3H2 | B9: 0.86186392 | C9: 0.14609887 | D9: -0.37838414 | E9: 0.075139406 | F9: -0.21486885 | G9: 0.73691355 | H9: -1.2391533 | I9: -0.81339651 | J9: 0.63355955 | K9: 0.28030482 | L9: -1.6201748 | M9: -0.80105574 | N9: -0.18247431 | O9: -0.8751004 | P9: -0.17321872 | Q9: -1.9903981 | R9: 1.2182038 | S9: 1.5498622 | T9: -0.58509214 | U9: -0.47402515 | V9: -0.012788627 | W9: -0.67302018 | X9: -0.049810957 | Y9: -0.8226521 | Z9: 2.6605321 | AA9: -0.27194494 | AB9: -0.031299792 | AC9: 1.9509375 | AD9: -0.26423195 | AE9: 1.014581 | AF9: 0.34509389 | AG9: -0.27354466
A10: RSBN1 | B10: -0.48602016 | C10: -1.0148298 | D10: 1.3395899 | E10: 0.096204651 | F10: 1.4529487 | G10: -0.19935901 | H10: 1.0458068 | I10: -0.67534708 | J10: 0.29146659 | K10: 1.2238572 | L10: -1.3638086 | M10: 0.32648317 | N10: -0.15484641 | O10: -0.16315543 | P10: 0.073058099 | Q10: 0.15377428 | R10: -0.64685901 | S10: 0.26001102 | T10: 1.2511582 | U10: 1.4802498 | V10: 0.64934789 | W10: 0.24398648 | X10: 0.21431142 | Y10: 0.35497123 | Z10: -1.4736064 | AA10: 1.8357571 | AB10: -2.2321011 | AC10: -1.4148497 | AD10: -1.1293756 | AE10: -0.7311362 | AF10: -0.60768793 | AG10: -0.2918207
A11: COL5A2 | B11: 2.0865224 | C11: 1.9707344 | D11: -0.88064023 | E11: 1.220988 | F11: 0.54570354 | G11: 1.0112315 | H11: 1.1113269 | I11: 1.6599447 | J11: 0.87249845 | K11: -0.90633618 | L11: -0.43943273 | M11: 0.29055719 | N11: 0.5799648 | O11: 0.029721462 | P11: -0.032986648 | Q11: -0.34871541 | R11: -0.77623092 | S11: 0.62416683 | T11: -0.7722296 | U11: -1.1185934 | V11: -0.76578999 | W11: -1.1772377 | X11: -0.59629678 | Y11: -0.68144977 | Z11: 0.29274541 | AA11: -1.1192812 | AB11: -1.1027132 | AC11: 1.101011 | AD11: -0.7448456 | AE11: -0.82399662 | AF11: -1.1103407 | AG11: -0.52056027
A12: CSNK1G3 | B12: 0.048108399 | C12: -0.43115674 | D12: 1.8679063 | E12: 0.98267543 | F12: 1.1292742 | G12: 2.0483356 | H12: 1.058794 | I12: 0.91924327 | J12: -0.65387407 | K12: -1.2092578 | L12: 0.059385225 | M12: -0.57493629 | N12: 1.1912967 | O12: 0.76700611 | P12: -0.82866489 | Q12: -1.027419 | R12: -0.87800101 | S12: -0.15628409 | T12: -0.31556927 | U12: -0.47908326 | V12: -0.11681519 | W12: 0.37372677 | X12: -0.37336301 | Y12: 0.81916144 | Z12: -1.1838849 | AA12: 0.22712803 | AB12: -1.1260912 | AC12: -0.30711165 | AD12: -0.26905236 | AE12: -2.4764912 | AF12: 0.91501446 | AG12: -0.12372542
A13: SART1 | B13: -1.5042935 | C13: -0.6315314 | D13: -1.0622452 | E13: 0.18922499 | F13: -0.63019792 | G13: -0.64086576 | H13: 0.34724226 | I13: -0.85288893 | J13: 0.4052486 | K13: -1.1322528 | L13: 1.5780435 | M13: -0.7595454 | N13: -1.2142618 | O13: -0.13547718 | P13: -0.65286707 | Q13: 0.12055081 | R13: 1.3446846 | S13: -0.95690031 | T13: 1.0146486 | U13: 0.11788385 | V13: -0.60552856 | W13: -0.56485745 | X13: 1.3040135 | Y13: 0.80729255 | Z13: 1.7573964 | AA13: -0.18548264 | AB13: 2.7255022 | AC13: -0.4595126 | AD13: 0.60460373 | AE13: 0.041875546 | AF13: -0.36950276 | AG13: 0.42452784
A14: ERF | B14: -1.5907417 | C14: -1.8349099 | D14: -0.46026244 | E14: -1.7227592 | F14: -0.73839623 | G14: -0.5288346 | H14: -0.98705041 | I14: -1.3978425 | J14: -0.16162108 | K14: -0.10907046 | L14: 0.85478491 | M14: -0.57433575 | N14: 0.69521045 | O14: 0.447838 | P14: -0.007814373 | Q14: -0.49615067 | R14: 0.09344171 | S14: -0.18341036 | T14: 1.5975431 | U14: 0.23379033 | V14: 1.6116421 | W14: -0.81658131 | X14: 1.1771381 | Y14: 1.5232032 | Z14: -0.29427937 | AA14: -0.19622759 | AB14: 1.2828803 | AC14: 0.37093465 | AD14: 1.7763434 | AE14: 0.64394155 | AF14: -0.20840395 | AG14: 0.20901376
A15: MAPRE3 | B15: 1.727844 | C15: -0.40388465 | D15: 1.4486125 | E15: -0.23534597 | F15: 0.10458797 | G15: 2.5091207 | H15: -0.56456772 | I15: 0.086020151 | J15: 0.73517972 | K15: -1.1287438 | L15: -0.9766305 | M15: 2.1163399 | N15: 0.48022927 | O15: -0.10465708 | P15: -0.38603098 | Q15: 1.0308366 | R15: -1.0630423 | S15: -0.51172084 | T15: -0.52029061 | U15: 0.66804991 | V15: -0.048953621 | W15: 0.045313775 | X15: -0.60670238 | Y15: -0.99519832 | Z15: -1.0980355 | AA15: 0.65019624 | AB15: -1.1715926 | AC15: -1.1594521 | AD15: -0.57385163 | AE15: -0.80666353 | AF15: 0.7530334 | AG15: 0.26419166
A16: SLC2A3 | B16: -0.59926621 | C16: -0.70474528 | D16: 2.303896 | E16: -0.46492966 | F16: 0.7799224 | G16: -0.12411285 | H16: -0.59727604 | I16: 3.0442396 | J16: -0.60822198 | K16: -0.59926621 | L16: -0.36691373 | M16: 2.0511442 | N16: 0.59234876 | O16: -0.57289645 | P16: -0.48781663 | Q16: -0.43358446 | R16: -0.59876867 | S16: -0.43855989 | T16: -0.44851075 | U16: -0.54105371 | V16: -0.1037136 | W16: -0.61668021 | X16: 0.54309203 | Y16: 1.97303 | Z16: -0.39726384 | AA16: -0.47189526 | AB16: -0.51717165 | AC16: -0.62165564 | AD16: -0.57140382 | AE16: -0.45696898 | AF16: 0.055002553 | AG16: -0.25365443
A17: FBXO21 | B17: 0.65153685 | C17: 1.2625124 | D17: 1.0629387 | E17: -0.12006044 | F17: -0.1211546 | G17: 0.73250423 | H17: -0.10189749 | I17: -0.56078561 | J17: -0.76736186 | K17: -1.7702633 | L17: -0.79931115 | M17: 1.5237963 | N17: 1.7404388 | O17: -0.055724197 | P17: -0.24369983 | Q17: 0.57319543 | R17: -0.50192013 | S17: 0.004235434 | T17: -0.25376604 | U17: 1.7599147 | V17: -0.043907335 | W17: -0.58354401 | X17: -1.2220922 | Y17: 0.225911 | Z17: -1.2157461 | AA17: 0.14888257 | AB17: -1.8019937 | AC17: 0.78086583 | AD17: 0.69420885 | AE17: -1.9514552 | AF17: 0.95374214 | AG17: -0.15450796
... A55: RBMS1 | B55: 2.0388523 | C55: 0.028495406 | D55: -0.008987943 | E55: -0.27387027 | F55: 0.12345322 | G55: -0.75490657 | H55: -0.50501758 | I55: 2.6535792 | J55: -0.5137637 | K55: 1.8739256 | L55: -0.14517744 | M55: -1.0897578 | N55: -0.39131809 | O55: -0.39006865 | P55: -0.76490213 | Q55: -0.74366157 | R55: -0.90109163 | S55: -0.44004645 | T55: 1.9076606 | U55: -0.65620042 | V55: -0.45628923 | W55: 0.22965604 | X55: -0.66744543 | Y55: -0.87360384 | Z55: 1.3866421 | AA55: -0.64245653 | AB55: -1.028535 | AC55: 0.92309798 | AD55: -0.63246097 | AE55: 0.27838439 | AF55: 0.43581446 | AG55: 0.046483839

Sheet 4136
A1: IDENTIFIER | B1: GSM697332 | C1: GSM697312 | D1: GSM697327 | E1: GSM697334 | F1: GSM697336 | G1: GSM697309 | H1: GSM697311 | I1: GSM697328 | J1: GSM697326 | K1: GSM697330 | L1: GSM697318 | M1: GSM697325 | N1: GSM697308 | O1: GSM697323 | P1: GSM697331 | Q1: GSM697329 | R1: GSM697315 | S1: GSM697319 | T1: GSM697321 | U1: GSM697324 | V1: GSM697320 | W1: GSM697310 | X1: GSM697333 | Y1: GSM697337 | Z1: GSM697335 | AA1: GSM697314 | AB1: GSM697317 | AC1: GSM697313 | AD1: GSM697322 | AE1: GSM697316
A2: age | B2: 65 | C2: 75 | D2: 79 | E2: 79 | F2: 79 | G2: 80 | H2: 80 | I2: 81 | J2: 82 | K2: 82 | L2: 83 | M2: 83 | N2: 85 | O2: 85 | P2: 85 | Q2: 86 | R2: 87 | S2: 88 | T2: 88 | U2: 89 | V2: 91 | W2: 92 | X2: 93 | Y2: 93 | Z2: 94 | AA2: 95 | AB2: 95 | AC2: 97 | AD2: 97 | AE2: 101
A3: sex | B3: F | C3: M | D3: F | E3: F | F3: F | G3: M | H3: M | I3: M | J3: F | K3: M | L3: F | M3: F | N3: M | O3: F | P3: M | Q3: F | R3: M | S3: M | T3: M | U3: F | V3: F | W3: F | X3: M | Y3: F | Z3: F | AA3: M | AB3: F | AC3: F | AD3: F | AE3: F
A4: group | B4: Severe | C4: Control | D4: Moderate | E4: Severe | F4: Severe | G4: Control | H4: Control | I4: Moderate | J4: Moderate | K4: Moderate | L4: Incipient | M4: Moderate | N4: Control | O4: Moderate | P4: Severe | Q4: Moderate | R4: Control | S4: Incipient | T4: Incipient | U4: Moderate | V4: Incipient | W4: Control | X4: Severe | Y4: Severe | Z4: Severe | AA4: Control | AB4: Incipient | AC4: Control | AD4: Incipient | AE4: Incipient
A5: Alzheimer | B5: 1 | C5: 0 | D5: 1 | E5: 1 | F5: 1 | G5: 0 | H5: 0 | I5: 1 | J5: 1 | K5: 1 | L5: 1 | M5: 1 | N5: 0 | O5: 1 | P5: 1 | Q5: 1 | R5: 0 | S5: 1 | T5: 1 | U5: 1 | V5: 1 | W5: 0 | X5: 1 | Y5: 1 | Z5: 1 | AA5: 0 | AB5: 1 | AC5: 0 | AD5: 1 | AE5: 1
A6: ADRBK2 | B6: -1.1952683 | C6: 1.6663146 | D6: -0.40627444 | E6: 0.083920669 | F6: -1.0371941 | G6: 0.64792044 | H6: 2.8441598 | I6: -0.36358892 | J6: -0.001725781 | K6: -1.0641824 | L6: 0.91146916 | M6: 0.43889904 | N6: -0.62631146 | O6: -0.38699711 | P6: 0.19738156 | Q6: -0.48834082 | R6: -0.26224521 | S6: 0.26953387 | T6: -1.0148875 | U6: 0.94589298 | V6: -0.17962805 | W6: 0.27917254 | X6: -0.53488181 | Y6: -0.67257707 | Z6: -1.2525495 | AA6: -0.088473792 | AB6: -0.71416104 | AC6: -0.55168063 | AD6: -0.01742304 | AE6: 2.5737263
A7: PEX11B | B7: -0.64878225 | C7: 0.23749512 | D7: -1.6423397 | E7: -0.62648885 | F7: -1.9557624 | G7: 1.8890255 | H7: 1.7115771 | I7: 0.34880863 | J7: 0.5341704 | K7: -1.0134337 | L7: 0.81596149 | M7: -1.0718744 | N7: 1.7046501 | O7: -0.60971949 | P7: 0.51979039 | Q7: -0.79177122 | R7: 0.13446765 | S7: -0.86873493 | T7: -0.052297036 | U7: -0.75156859 | V7: 0.54743244 | W7: 1.1476223 | X7: -0.45419185 | Y7: 0.078745138 | Z7: -0.17446131 | AA7: 1.5046453 | AB7: -0.13202276 | AC7: 0.9297082 | AD7: -1.1461857 | AE7: -0.16446545 | AF7: -0.020681844
A8: TERF2IP | B8: -0.62922929 | C8: 0.89499812 | D8: -1.8924513 | E8: -0.79919052 | F8: -0.61122157 | G8: 2.4352832 | H8: 0.32054867 | I8: 0.57390607 | J8: 0.14939911 | K8: -0.76613066 | L8: 0.31043265 | M8: -0.11782211 | N8: 1.0015514 | O8: -0.26755131 | P8: -0.27660088 | Q8: -1.230797 | R8: 0.71498181 | S8: -0.1816566 | T8: -0.39080215 | U8: -0.13997375 | V8: 0.8698909 | W8: 0.08583885 | X8: -1.0647054 | Y8: 0.49078412 | Z8: -1.3849748 | AA8: 1.3500664 | AB8: -0.94239916 | AC8: 2.3663907 | AD8: -0.42928566 | AE8: -0.4392798 | AF8: -0.20761912
A9: RC3H2 | B9: -3.7260553 | C9: 4.2121855 | D9: 12.978249 | E9: 3.8915367 | F9: -4.3923061 | G9: -0.051070909 | H9: -4.4465793 | I9: 2.0724475 | J9: 5.1317114 | K9: 0.64075691 | L9: -3.6224995 | M9: -2.8158869 | N9: 2.1834893 | O9: -3.8901227 | P9: -2.8458307 | Q9: -2.789686 | R9: -2.9225619 | S9: -3.6387191 | T9: -0.92318569 | U9: -2.2987315 | V9: 4.7243502 | W9: -0.22324808 | X9: 4.1516739 | Y9: -2.1309212 | Z9: -1.2276149 | AA9: -1.2993554 | AB9: 0.77675192 | AC9: -2.0760241 | AD9: 7.4473695 | AE9: -2.8901227 | AF9: 0.18322592
A10: RSBN1 | B10: -2.0862583 | C10: 1.6157285 | D10: 0.63476821 | E10: -2.1831126 | F10: 1.211755 | G10: -0.76092715 | H10: 2.6231788 | I10: -2.3486755 | J10: -0.53907285 | K10: 2.0677152 | L10: -1.2865894 | M10: -1.1491722 | N10: -2.5125828 | O10: -1.8892384 | P10: 1.2481788 | Q10: 3.122351 | R10: -0.87268212 | S10: 2.1844371 | T10: -1.4413907 | U10: -0.15248344 | V10: -0.61440397 | W10: 0.10827815 | X10: 0.62069536 | Y10: -2.7327815 | Z10: 3.7208609 | AA10: 0.51639073 | AB10: 1.1041391 | AC10: -1.5059603 | AD10: -0.1557947 | AE10: 1.452649 | AF10: -0.48792515
A11: COL5A2 | B11: -1.5286816 | C11: 1.2958799 | D11: -0.014327485 | E11: -1.8412812 | F11: -0.10603402 | G11: -0.27748538 | H11: 0.082961191 | I11: -1.1953482 | J11: 1.1268208 | K11: 0.045481127 | L11: 0.66988304 | M11: 0.50640617 | N11: -0.50555556 | O11: -0.84606592 | P11: -0.17700691 | Q11: -1.3667996 | R11: 2.0430888 | S11: -1.1355396 | T11: 1.6898192 | U11: 3.9218767 | V11: -0.070148857 | W11: 0.30544923 | X11: 0.65792132 | Y11: -1.6889686 | Z11: -1.0589846 | AA11: 1.6260234 | AB11: -1.6187932 | AC11: -1.3620149 | AD11: 1.3947634 | AE11: -0.57333865 | AF11: -0.07936578
A12: CSNK1G3 | B12: 0.1474456 | C12: 0.95586566 | D12: -0.44574267 | E12: -0.80193945 | F12: -0.821807 | G12: 0.95870388 | H12: 0.49276254 | I12: -0.2910596 | J12: 0.024456008 | K12: 0.17961211 | L12: -0.23287606 | M12: -0.71300851 | N12: 0.24347209 | O12: -0.006291391 | P12: 0.072705771 | Q12: -0.69503311 | R12: -0.20023652 | S12: 0.086423841 | T12: -0.74470199 | U12: -0.77734153 | V12: 0.22786187 | W12: 0.66825922 | X12: -0.019063387 | Y12: 0.20846736 | Z12: 0.13561968 | AA12: 0.93694418 | AB12: -0.62029328 | AC12: 0.97999054 | AD12: -0.25936613 | AE12: 0.31017029 | AF12: 0.24819493
A13: SART1 | B13: 0.11313199 | C13: 0.51380901 | D13: -0.68174878 | E13: -0.29071899 | F13: -0.32871405 | G13: 1.2932159 | H13: -0.17301875 | I13: -0.21694601 | J13: -0.097088013 | K13: -0.39267483 | L13: 0.19194634 | M13: -0.23435986 | N13: 0.9185838 | O13: -0.076579388 | P13: -0.22207977 | Q13: -0.55229633 | R13: 0.008160559 | S13: -0.26790743 | T13: -0.23600953 | U13: 0.28206419 | V13: -0.064088132 | W13: 0.34730511 | X13: -0.37062212 | Y13: 0.38386826 | Z13: 0.080224486 | AA13: 0.42093952 | AB13: -0.38577923 | AC13: 0.57302535 | AD13: -0.31452694 | AE13: -0.22111636 | AF13: 0.25947534
A14: ERF | B14: -1.5907417 | C14: -1.8349099 | D14: -0.46026244 | E14: -1.7227592 | F14: -0.73839623 | G14: -0.5288346 | H14: -0.98705041 | I14: -1.3978425 | J14: -0.16162108 | K14: -0.10907046 | L14: 0.85478491 | M14: -0.57433575 | N14: 0.69521045 | O14: 0.447838 | P14: -0.007814373 | Q14: -0.49615067 | R14: 0.09344171 | S14: -0.18341036 | T14: 1.5975431 | U14: 0.23379033 | V14: 1.6116421 | W14: -0.81658131 | X14: 1.1771381 | Y14: 1.5232032 | Z14: -0.29427937 | AA14: -0.19622759 | AB14: 1.2828803 | AC14: 0.37093465 | AD14: 1.7763434 | AE14: 0.64394155 | AF14: -0.20840395 | AG14: 0.20901376
A15: MAPRE3 | B15: 1.727844 | C15: -0.40388465 | D15: 1.4486125 | E15: -0.23534597 | F15: 0.10458797 | G15: 2.5091207 | H15: -0.56456772 | I15: 0.086020151 | J15: 0.73517972 | K15: -1.1287438 | L15: -0.9766305 | M15: 2.1163399 | N15: 0.48022927 | O15: -0.10465708 | P15: -0.38603098 | Q15: 1.0308366 | R15: -1.0630423 | S15: -0.51172084 | T15: -0.52029061 | U15: 0.66804991 | V15: -0.048953621 | W15: 0.045313775 | X15: -0.60670238 | Y15: -0.99519832 | Z15: -1.0980355 | AA15: 0.65019624 | AB15: -1.1715926 | AC15: -1.1594521 | AD15: -0.57385163 | AE15: -0.80666353 | AF15: 0.7530334 | AG15: 0.26419166
A16: SLC2A3 | B16: 0.15469847 | C16: 0.44483405 | D16: 2.2896508 | E16: -1.5746716 | F16: -0.070321168 | G16: 0.26700575 | H16: 0.41576986 | I16: 0.34002067 | J16: -1.0746055 | K16: -0.77059605 | L16: 0.8525429 | M16: 0.54276114 | N16: -0.43154756 | O16: 0.23085273 | P16: 0.61668748 | Q16: -1.1129864 | R16: 0.41647874 | S16: 0.23449841 | T16: -0.97667839 | U16: -0.29331543 | V16: -0.60360353 | W16: 2.2032683 | X16: -0.08287852 | Y16: -1.0549593 | Z16: 2.0492382 | AA16: -0.27204894 | AB16: -0.63661721 | AC16: -0.42435747 | AD16: 0.20624437 | AE16: -1.8853648 | AF16: 0.2632135
A17: FBXO21 | B17: -0.30334872 | C17: 1.7805744 | D17: -0.58157949 | E17: -0.76411795 | F17: -0.69365641 | G17: 0.50011282 | H17: 1.3895744 | I17: -0.82150256 | J17: 0.55695897 | K17: -0.40004103 | L17: 0.30095897 | M17: 0.38388205 | N17: 0.76188205 | O17: -0.50027179 | P17: -0.39227179 | Q17: -1.2763487 | R17: 0.42511282 | S17: -0.92419487 | T17: 0.12711282 | U17: -0.27165641 | V17: -0.2799641 | W17: 0.74865128 | X17: 0.1730359 | Y17: 0.53249744 | Z17: 0.40157436 | AA17: 0.15157436 | AB17: -1.014041 | AC17: 0.50534359 | AD17: -0.27719487 | AE17: -0.23865641 | AF17: -0.21569389
A18: TRIM37 | B18: -0.27377731 | C18: -0.16900069 | D18: -0.48627705 | E18: 0.13711224 | F18: -0.010658187 | G18: 0.47002365 | H18: 0.78051481 | I18: 0.12252506 | J18: 0.08795572 | K18: -0.41214803 | L18: -0.27012533 | M18: 0.1073465 | N18: 0.25614405 | O18: -0.027475982 | P18: -0.00471334 | Q18: -0.3438186 | R18: -0.38843089 | S18: -0.43446455 | T18: -0.15720437 | U18: -0.10613886 | V18: -0.37356359 | W18: 0.31964912 | X18: -0.36812711 | Y18: -0.30463241 | Z18: 1.8192964 | AA18: -0.002627975 | AB18: -0.15112465 | AC18: 0.30009234 | AD18: -0.039106302 | AE18: -0.077244621 | AF18: -0.11534063
A19: B4GALT6 | B19: -0.008082473 | C19: -0.38492273 | D19: 0.65133304 | E19: 0.43566615 | F19: -0.41370761 | G19: 0.20659562 | H19: 0.25054201 | I19: 0.069812495 | J19: 0.1779206 | K19: -0.22034351 | L19: -0.2591262 | M19: -0.23989966 | N19: 0.30470592 | O19: 0.93050245 | P19: 0.23197466 | Q19: -0.51258698 | R19: -0.14761225 | S19: -0.27373837 | T19: -0.17628726 | U19: -0.096085109 | V19: -0.16244415 | W19: -0.067300227 | X19: -0.48632901 | Y19: -0.11124661 | Z19: 0.34667472 | AA19: 0.038610562 | AB19: -0.28395591 | AC19: 0.55003662 | AD19: 0.11211089 | AE19: -0.4628177 | AF19: 0.14702621
A20: SCAF11 | B20: -0.58206201 | C20: 1.1081447 | D20: -1.2105069 | E20: 0.31779035 | F20: -0.62118602 | G20: -0.082308071 | H20: 2.0203002 | I20: 0.45386319 | J20: -0.3054872 | K20: -0.36331201 | L20: -0.46936516 | M20: 0.16621555 | N20: 0.67581201 | O20: 0.63693405 | P20: -0.29564469 | Q20: -1.375123 | R20: -0.65366634 | S20: 1.3064715 | T20: -0.55130413 | U20: -0.19328248 | V20: 0.25824311 | W20: -0.3859498 | X20: -0.12044784 | Y20: -0.021284449 | Z20: 2.179503 | AA20: -0.80376476 | AB20: -0.5828002 | AC20: 0.37684547 | AD20: -1.3849656 | AE20: 0.5023376 | AF20: 0.020753686
A21: CITED2 | B21: 0.32855057 | C21: 0.26145176 | D21: -0.039704508 | E21: 0.15072997 | F21: -0.39359379 | G21: -0.070888811 | H21: -0.13973955 | I21: 0.57294441 | J21: 0.031949311 | K21: -0.17547886 | L21: -0.14937515 | M21: 0.32977692 | N21: -0.17477809 | O21: -0.25431558 | P21: 0.32382037 | Q21: 0.44277622 | R21: 0.38250993 | S21: 0.57977692 | T21: 0.01898505 | U21: -0.16671922 | V21: -0.061428405 | W21: -0.15585728 | X21: -0.50028615 | Y21: -0.16636884 | Z21: -0.62309624 | AA21: -0.33735693 | AB21: -0.49713268 | AC21: -0.1311551 | AD21: 0.3495737 | AE21: 0.26443004 | AF21: -0.16316638
A22: FKBP1A | B22: 0.31826001 | C22: -0.14435463 | D22: -0.38110265 | E22: 0.0658117 | F22: -0.49473548 | G22: 0.44805948 | H22: -0.37426291 | I22: 0.13467537 | J22: 0.032079382 | K22: 0.056795689 | L22: 0.49920203 | M22: -0.1827504 | N22: -0.35902896 | O22: -0.20544588 | P22: 0.095346909 | Q22: -0.58085393 | R22: 0.52158661 | S22: -0.086683248 | T22: -0.15632416 | U22: -0.13906938 | V22: -0.15725685 | W22: 1.3010052 | X22: -0.070672056 | Y22: -0.53950464 | Z22: -0.55473859 | AA22: 0.77030416 | AB22: -0.30089124 | AC22: -0.14761905 | AD22: -0.14140111 | AE22: 0.77356858 | AF22: -0.12698923
A23: NRXN3 | B23: 0.20256182 | C23: -0.12018362 | D23: 0.10438324 | E23: -0.38206723 | F23: -0.3345328 | G23: -0.043551014 | H23: 0.67946098 | I23: -0.72058344 | J23: 0.43867911 | K23: -0.60085888 | L23: 1.3980305 | M23: 0.3327262 | N23: 1.1090478 | O23: 0.23832371 | P23: -0.5528802 | Q23: 0.18234859 | R23: 0.007537391 | S23: -0.56620761 | T23: -0.15172516 | U23: 0.11237968 | V23: -0.19548349 | W23: 0.46955427 | X23: -0.21947283 | Y23: 0.028194876 | Z23: -0.39450614 | AA23: 0.2438768 | AB23: -0.43115652 | AC23: -0.024004146 | AD23: -0.28477714 | AE23: -0.52511476 | AF23: 0.004309945
A24: APLP2 | B24: -0.23641287 | C24: -0.15997054 | D24: -0.58701274 | E24: 0.052924243 | F24: 0.01308182 | G24: 0.44482534 | H24: 0.66410208 | I24: 0.20600833 | J24: -0.007563188 | K24: -0.21608158 | L24: -0.43157576 | M24: -0.15398297 | N24: 0.21478801 | O24: -0.1770862 | P24: -0.099337454 | Q24: -0.027204293 | R24: -0.34278855 | S24: 0.052574669 | T24: -0.15897784 | U24: -0.26031608 | V24: -0.10702359 | W24: 0.012678466 | X24: -0.26754284 | Y24: -0.46726139 | Z24: 2.6564025 | AA24: 0.12002668 | AB24: -0.38862975 | AC24: 0.018105819 | AD24: -0.073276296 | AE24: -0.29347403 | AF24: 0.39447242
A25: BNIP3 | B25: 0.23738121 | C25: -0.36047076 | D25: -0.85240065 | E25: -0.64368207 | F25: -0.48688268 | G25: 1.3695319 | H25: 2.9653087 | I25: -1.6009745 | J25: -0.15661418 | K25: 0.25127263 | L25: -0.11094614 | M25: -0.096707432 | N25: 1.0142588 | O25: 0.4087666 | P25: 0.16410397 | Q25: 0.68815777 | R25: -0.1705056 | S25: -1.2425759 | T25: -0.46187812 | U25: 2.6510153 | V25: -0.072918376 | W25: -0.47976333 | X25: -0.41030623 | Y25: -0.3057733 | Z25: -0.30368958 | AA25: 0.65898579 | AB25: -0.70133147 | AC25: -1.2960579 | AD25: -0.62249766 | AE25: -0.032806902 | AF25: -0.083854961
A26: ZNF711 | B26: 0.47177177 | C26: 0.33386463 | D26: -0.18034188 | E26: -0.14984985 | F26: -0.30837376 | G26: -0.35151305 | H26: -0.31461077 | I26: 0.048868099 | J26: 0.12128667 | K26: -0.0498845 | L26: 0.62527142 | M26: -0.25709171 | N26: 0.023746824 | O26: 0.019242319 | P26: -0.26783322 | Q26: -0.084361284 | R26: 0.14207669 | S26: -0.2505082 | T26: -0.15574036 | U26: -0.1955879 | V26: 0.088715639 | W26: -0.017659968 | X26: -0.22885193 | Y26: 0.22627628 | Z26: -0.17445137 | AA26: 0.1455417 | AB26: 0.32624163 | AC26: 0.38272118 | AD26: 0.12942943 | AE26: -0.098394548 | AF26: -0.059164294
A27: ENO2 | B27: -0.44467219 | C27: 0.87267626 | D27: -1.6688458 | E27: -1.1771323 | F27: -1.2733732 | G27: 1.6467296 | H27: 0.085337024 | I27: -0.78370377 | J27: -0.14644318 | K27: -0.42465656 | L27: 1.8753281 | M27: -0.97022705 | N27: 0.89462017 | O27: 0.13743936 | P27: 0.1074352 | Q27: -1.1980928 | R27: 1.2450672 | S27: -0.064066723 | T27: -0.036877863 | U27: -0.009611872 | V27: 0.5758549 | W27: 1.0762456 | X27: -0.88065808 | Y27: 0.86108725 | Z27: -1.1907846 | AA27: 1.2767297 | AB27: -1.3237979 | AC27: 1.4073712 | AD27: -0.75186773 | AE27: 0.28289012 | AF27: 0.27690547
... A55: RBMS1 | B55: -0.56974925 | C55: -0.50332512 | D55: 1.5492509 | E55: -1.4610766 | F55: -0.36226186 | G55: 0.093201111 | H55: -1.1176896 | I55: -0.99915894 | J55: 0.8192896 | K55: 0.48587803 | L55: 0.018092556 | M55: -0.74355514 | N55: -0.57948989 | O55: 0.63656457 | P55: -0.51834683 | Q55: -1.2662637 | R55: 0.52683566 | S55: -1.2349294 | T55: 0.41651997 | U55: -0.35346008 | V55: 0.7311544 | W55: -0.2745961 | X55: 0.52812659 | Y55: 0.94063686 | Z55: 0.23848922 | AA55: 1.4360013 | AB55: -0.36097093 | AC55: -0.38878457 | AD55: 2.1603294 | AE55: 0.15328796 | AF55: -0.012404096

Sheet GDS810&4136
A1: Age | B1: =IF('810'!B2>80,1,0) -> 1 | C1: =IF('810'!C2>80,1,0) -> 0 | D1: =IF('810'!D2>80,1,0) -> 1 | E1: =IF('810'!E2>80,1,0) -> 0 | F1: =IF('810'!F2>80,1,0) -> 0 | G1: =IF('810'!G2>80,1,0) -> 1 | H1: =IF('810'!H2>80,1,0) -> 1 | I1: =IF('810'!I2>80,1,0) -> 0 | ... AF1: =IF('810'!AF2>80,1,0) -> 1 | AG1: =IF('4136'!B2>80,1,0) -> 0 | AH1: =IF('4136'!C2>80,1,0) -> 0 | AI1: =IF('4136'!D2>80,1,0) -> 0 | AJ1: =IF('4136'!E2>80,1,0) -> 0 | AK1: =IF('4136'!F2>80,1,0) -> 0 | AL1: =IF('4136'!G2>80,1,0) -> 0 | AM1: =IF('4136'!H2>80,1,0) -> 0 | AN1: =IF('4136'!I2>80,1,0) -> 1 | ... BJ1: =IF('4136'!AE2>80,1,0) -> 1
A2: Gender | B2: =IF('810'!B3="M",0,1) -> 0 | C2: =IF('810'!C3="M",0,1) -> 0 | D2: =IF('810'!D3="M",0,1) -> 1 | E2: =IF('810'!E3="M",0,1) -> 0 | F2: =IF('810'!F3="M",0,1) -> 0 | G2: =IF('810'!G3="M",0,1) -> 1 | H2: =IF('810'!H3="M",0,1) -> 0 | I2: =IF('810'!I3="M",0,1) -> 0 | ... AF2: =IF('810'!AF3="M",0,1) -> 1 | AG2: =IF('4136'!B3="M",0,1) -> 1 | AH2: =IF('4136'!C3="M",0,1) -> 0 | AI2: =IF('4136'!D3="M",0,1) -> 1 | AJ2: =IF('4136'!E3="M",0,1) -> 1 | AK2: =IF('4136'!F3="M",0,1) -> 1 | AL2: =IF('4136'!G3="M",0,1) -> 0 | AM2: =IF('4136'!H3="M",0,1) -> 0 | AN2: =IF('4136'!I3="M",0,1) -> 0 | ... BJ2: =IF('4136'!AE3="M",0,1) -> 1
A3: Group | B3: =IF('810'!B4="Control",0,IF('810'!B4="Incipent",1,IF('810'!B4="Moderate",2,3))) -> 0 | C3: =IF('810'!C4="Control",0,IF('810'!C4="Incipent",1,IF('810'!C4="Moderate",2,3))) -> 0 | D3: =IF('810'!D4="Control",0,IF('810'!D4="Incipent",1,IF('810'!D4="Moderate",2,3))) -> 0 | E3: =IF('810'!E4="Control",0,IF('810'!E4="Incipent",1,IF('810'!E4="Moderate",2,3))) -> 0 | F3: =IF('810'!F4="Control",0,IF('810'!F4="Incipent",1,IF('810'!F4="Moderate",2,3))) -> 0 | G3: =IF('810'!G4="Control",0,IF('810'!G4="Incipent",1,IF('810'!G4="Moderate",2,3))) -> 0 | H3: =IF('810'!H4="Control",0,IF('810'!H4="Incipent",1,IF('810'!H4="Moderate",2,3))) -> 0 | I3: =IF('810'!I4="Control",0,IF('810'!I4="Incipent",1,IF('810'!I4="Moderate",2,3))) -> 0 | ... AF3: =IF('810'!AF4="Control",0,IF('810'!AF4="Incipent",1,IF('810'!AF4="Moderate",2,3))) -> 3 | AG3: =IF('4136'!B4="Control",0,IF('4136'!B4="Incipent",1,IF('4136'!B4="Moderate",2,3))) -> 3 | AH3: =IF('4136'!C4="Control",0,IF('4136'!C4="Incipent",1,IF('4136'!C4="Moderate",2,3))) -> 0 | AI3: =IF('4136'!D4="Control",0,IF('4136'!D4="Incipent",1,IF('4136'!D4="Moderate",2,3))) -> 2 | AJ3: =IF('4136'!E4="Control",0,IF('4136'!E4="Incipent",1,IF('4136'!E4="Moderate",2,3))) -> 3 | AK3: =IF('4136'!F4="Control",0,IF('4136'!F4="Incipent",1,IF('4136'!F4="Moderate",2,3))) -> 3 | AL3: =IF('4136'!G4="Control",0,IF('4136'!G4="Incipent",1,IF('4136'!G4="Moderate",2,3))) -> 0 | AM3: =IF('4136'!H4="Control",0,IF('4136'!H4="Incipent",1,IF('4136'!H4="Moderate",2,3))) -> 0 | AN3: =IF('4136'!I4="Control",0,IF('4136'!I4="Incipent",1,IF('4136'!I4="Moderate",2,3))) -> 2 | ... BJ3: =IF('4136'!AE4="Control",0,IF('4136'!AE4="Incipent",1,IF('4136'!AE4="Moderate",2,3))) -> 3
A4: Alzheimer | B4: ='GDS810&4136'!B5 -> 1 | C4: ='GDS810&4136'!C5 -> 1 | D4: ='GDS810&4136'!D5 -> 1 | E4: ='GDS810&4136'!E5 -> 1 | F4: ='GDS810&4136'!F5 -> 1 | G4: ='GDS810&4136'!G5 -> 1 | H4: ='GDS810&4136'!H5 -> 1 | I4: ='GDS810&4136'!I5 -> 1 | ... AF4: ='GDS810&4136'!AF5 -> 1 | AG4: ='4136'!B5 -> 1 | AH4: ='4136'!C5 -> 0 | AI4: ='4136'!D5 -> 1 | AJ4: ='4136'!E5 -> 1 | AK4: ='4136'!F5 -> 1 | AL4: ='4136'!G5 -> 0 | AM4: ='4136'!H5 -> 0 | AN4: ='4136'!I5 -> 1 | ... BJ4: ='4136'!AE5 -> 1
A5: ADRBK2 | B5: =IF('810'!B6<-1,0,IF('810'!B6<1,1,2)) -> 1 | C5: =IF('810'!C6<-1,0,IF('810'!C6<1,1,2)) -> 1 | D5: =IF('810'!D6<-1,0,IF('810'!D6<1,1,2)) -> 1 | E5: =IF('810'!E6<-1,0,IF('810'!E6<1,1,2)) -> 1 | F5: =IF('810'!F6<-1,0,IF('810'!F6<1,1,2)) -> 1 | G5: =IF('810'!G6<-1,0,IF('810'!G6<1,1,2)) -> 1 | H5: =IF('810'!H6<-1,0,IF('810'!H6<1,1,2)) -> 1 | I5: =IF('810'!I6<-1,0,IF('810'!I6<1,1,2)) -> 1 | ... AF5: =IF('810'!AF6<-1,0,IF('810'!AF6<1,1,2)) -> 1 | AG5: =IF('4136'!B6<-1,0,IF('4136'!B6<1,1,2)) -> 0 | AH5: =IF('4136'!C6<-1,0,IF('4136'!C6<1,1,2)) -> 2 | AI5: =IF('4136'!D6<-1,0,IF('4136'!D6<1,1,2)) -> 1 | AJ5: =IF('4136'!E6<-1,0,IF('4136'!E6<1,1,2)) -> 1 | AK5: =IF('4136'!F6<-1,0,IF('4136'!F6<1,1,2)) -> 0 | AL5: =IF('4136'!G6<-1,0,IF('4136'!G6<1,1,2)) -> 1 | AM5: =IF('4136'!H6<-1,0,IF('4136'!H6<1,1,2)) -> 2 | AN5: =IF('4136'!I6<-1,0,IF('4136'!I6<1,1,2)) -> 1 | ... BJ5: =IF('4136'!AE6<-1,0,IF('4136'!AE6<1,1,2)) -> 2
A6: PEX11B | B6: =IF('810'!B7<-1,0,IF('810'!B7<1,1,2)) -> 2 | C6: =IF('810'!C7<-1,0,IF('810'!C7<1,1,2)) -> 1 | D6: =IF('810'!D7<-1,0,IF('810'!D7<1,1,2)) -> 2 | E6: =IF('810'!E7<-1,0,IF('810'!E7<1,1,2)) -> 1 | F6: =IF('810'!F7<-1,0,IF('810'!F7<1,1,2)) -> 1 | G6: =IF('810'!G7<-1,0,IF('810'!G7<1,1,2)) -> 2 | H6: =IF('810'!H7<-1,0,IF('810'!H7<1,1,2)) -> 1 | I6: =IF('810'!I7<-1,0,IF('810'!I7<1,1,2)) -> 1 | ... AF6: =IF('810'!AF7<-1,0,IF('810'!AF7<1,1,2)) -> 1 | AG6: =IF('4136'!B7<-1,0,IF('4136'!B7<1,1,2)) -> 1 | AH6: =IF('4136'!C7<-1,0,IF('4136'!C7<1,1,2)) -> 1 | AI6: =IF('4136'!D7<-1,0,IF('4136'!D7<1,1,2)) -> 0 | AJ6: =IF('4136'!E7<-1,0,IF('4136'!E7<1,1,2)) -> 1 | AK6: =IF('4136'!F7<-1,0,IF('4136'!F7<1,1,2)) -> 0 | AL6: =IF('4136'!G7<-1,0,IF('4136'!G7<1,1,2)) -> 2 | AM6: =IF('4136'!H7<-1,0,IF('4136'!H7<1,1,2)) -> 2 | AN6: =IF('4136'!I7<-1,0,IF('4136'!I7<1,1,2)) -> 1 | ... BJ6: =IF('4136'!AE7<-1,0,IF('4136'!AE7<1,1,2)) -> 1
A7: TERF2IP | B7: =IF('810'!B8<-1,0,IF('810'!B8<1,1,2)) -> 2 | C7: =IF('810'!C8<-1,0,IF('810'!C8<1,1,2)) -> 2 | D7: =IF('810'!D8<-1,0,IF('810'!D8<1,1,2)) -> 2 | E7: =IF('810'!E8<-1,0,IF('810'!E8<1,1,2)) -> 1 | F7: =IF('810'!F8<-1,0,IF('810'!F8<1,1,2)) -> 1 | G7: =IF('810'!G8<-1,0,IF('810'!G8<1,1,2)) -> 2 | H7: =IF('810'!H8<-1,0,IF('810'!H8<1,1,2)) -> 1 | I7: =IF('810'!I8<-1,0,IF('810'!I8<1,1,2)) -> 1 | ... AF7: =IF('810'!AF8<-1,0,IF('810'!AF8<1,1,2)) -> 1 | AG7: =IF('4136'!B8<-1,0,IF('4136'!B8<1,1,2)) -> 1 | AH7: =IF('4136'!C8<-1,0,IF('4136'!C8<1,1,2)) -> 1 | AI7: =IF('4136'!D8<-1,0,IF('4136'!D8<1,1,2)) -> 0 | AJ7: =IF('4136'!E8<-1,0,IF('4136'!E8<1,1,2)) -> 1 | AK7: =IF('4136'!F8<-1,0,IF('4136'!F8<1,1,2)) -> 1 | AL7: =IF('4136'!G8<-1,0,IF('4136'!G8<1,1,2)) -> 2 | AM7: =IF('4136'!H8<-1,0,IF('4136'!H8<1,1,2)) -> 1 | AN7: =IF('4136'!I8<-1,0,IF('4136'!I8<1,1,2)) -> 1 | ... BJ7: =IF('4136'!AE8<-1,0,IF('4136'!AE8<1,1,2)) -> 1
A8: RC3H2 | B8: =IF('810'!B9<-1,0,IF('810'!B9<1,1,2)) -> 1 | C8: =IF('810'!C9<-1,0,IF('810'!C9<1,1,2)) -> 1 | D8: =IF('810'!D9<-1,0,IF('810'!D9<1,1,2)) -> 1 | E8: =IF('810'!E9<-1,0,IF('810'!E9<1,1,2)) -> 1 | F8: =IF('810'!F9<-1,0,IF('810'!F9<1,1,2)) -> 1 | G8: =IF('810'!G9<-1,0,IF('810'!G9<1,1,2)) -> 1 | H8: =IF('810'!H9<-1,0,IF('810'!H9<1,1,2)) -> 0 | I8: =IF('810'!I9<-1,0,IF('810'!I9<1,1,2)) -> 1 | ... AF8: =IF('810'!AF9<-1,0,IF('810'!AF9<1,1,2)) -> 1 | AG8: =IF('4136'!B9<-1,0,IF('4136'!B9<1,1,2)) -> 0 | AH8: =IF('4136'!C9<-1,0,IF('4136'!C9<1,1,2)) -> 2 | AI8: =IF('4136'!D9<-1,0,IF('4136'!D9<1,1,2)) -> 2 | AJ8: =IF('4136'!E9<-1,0,IF('4136'!E9<1,1,2)) -> 2 | AK8: =IF('4136'!F9<-1,0,IF('4136'!F9<1,1,2)) -> 0 | AL8: =IF('4136'!G9<-1,0,IF('4136'!G9<1,1,2)) -> 1 | AM8: =IF('4136'!H9<-1,0,IF('4136'!H9<1,1,2)) -> 0 | AN8: =IF('4136'!I9<-1,0,IF('4136'!I9<1,1,2)) -> 2 | ... BJ8: =IF('4136'!AE9<-1,0,IF('4136'!AE9<1,1,2)) -> 0
A9: RSBN1 | B9: =IF('810'!B10<-1,0,IF('810'!B10<1,1,2)) -> 1 | C9: =IF('810'!C10<-1,0,IF('810'!C10<1,1,2)) -> 0 | D9: =IF('810'!D10<-1,0,IF('810'!D10<1,1,2)) -> 2 | E9: =IF('810'!E10<-1,0,IF('810'!E10<1,1,2)) -> 1 | F9: =IF('810'!F10<-1,0,IF('810'!F10<1,1,2)) -> 2 | G9: =IF('810'!G10<-1,0,IF('810'!G10<1,1,2)) -> 1 | H9: =IF('810'!H10<-1,0,IF('810'!H10<1,1,2)) -> 2 | I9: =IF('810'!I10<-1,0,IF('810'!I10<1,1,2)) -> 1 | ... AF9: =IF('810'!AF10<-1,0,IF('810'!AF10<1,1,2)) -> 1 | AG9: =IF('4136'!B10<-1,0,IF('4136'!B10<1,1,2)) -> 0 | AH9: =IF('4136'!C10<-1,0,IF('4136'!C10<1,1,2)) -> 2 | AI9: =IF('4136'!D10<-1,0,IF('4136'!D10<1,1,2)) -> 1 | AJ9: =IF('4136'!E10<-1,0,IF('4136'!E10<1,1,2)) -> 0 | AK9: =IF('4136'!F10<-1,0,IF('4136'!F10<1,1,2)) -> 2 | AL9: =IF('4136'!G10<-1,0,IF('4136'!G10<1,1,2)) -> 1 | AM9: =IF('4136'!H10<-1,0,IF('4136'!H10<1,1,2)) -> 2 | AN9: =IF('4136'!I10<-1,0,IF('4136'!I10<1,1,2)) -> 0 | ... BJ9: =IF('4136'!AE10<-1,0,IF('4136'!AE10<1,1,2)) -> 2
A10: COL5A2 | B10: =IF('810'!B11<-1,0,IF('810'!B11<1,1,2)) -> 2 | C10: =IF('810'!C11<-1,0,IF('810'!C11<1,1,2)) -> 2 | D10: =IF('810'!D11<-1,0,IF('810'!D11<1,1,2)) -> 1 | E10: =IF('810'!E11<-1,0,IF('810'!E11<1,1,2)) -> 2 | F10: =IF('810'!F11<-1,0,IF('810'!F11<1,1,2)) -> 1 | G10: =IF('810'!G11<-1,0,IF('810'!G11<1,1,2)) -> 2 | H10: =IF('810'!H11<-1,0,IF('810'!H11<1,1,2)) -> 2 | I10: =IF('810'!I11<-1,0,IF('810'!I11<1,1,2)) -> 2 | ... AF10: =IF('810'!AF11<-1,0,IF('810'!AF11<1,1,2)) -> 0 | AG10: =IF('4136'!B11<-1,0,IF('4136'!B11<1,1,2)) -> 0 | AH10: =IF('4136'!C11<-1,0,IF('4136'!C11<1,1,2)) -> 2 | AI10: =IF('4136'!D11<-1,0,IF('4136'!D11<1,1,2)) -> 1 | AJ10: =IF('4136'!E11<-1,0,IF('4136'!E11<1,1,2)) -> 0 | AK10: =IF('4136'!F11<-1,0,IF('4136'!F11<1,1,2)) -> 1 | AL10: =IF('4136'!G11<-1,0,IF('4136'!G11<1,1,2)) -> 1 | AM10: =IF('4136'!H11<-1,0,IF('4136'!H11<1,1,2)) -> 1 | AN10: =IF('4136'!I11<-1,0,IF('4136'!I11<1,1,2)) -> 0 | ... BJ10: =IF('4136'!AE11<-1,0,IF('4136'!AE11<1,1,2)) -> 1
A11: CSNK1G3 | B11: =IF('810'!B12<-1,0,IF('810'!B12<1,1,2)) -> 1 | C11: =IF('810'!C12<-1,0,IF('810'!C12<1,1,2)) -> 1 | D11: =IF('810'!D12<-1,0,IF('810'!D12<1,1,2)) -> 2 | E11: =IF('810'!E12<-1,0,IF('810'!E12<1,1,2)) -> 1 | F11: =IF('810'!F12<-1,0,IF('810'!F12<1,1,2)) -> 2 | G11: =IF('810'!G12<-1,0,IF('810'!G12<1,1,2)) -> 2 | H11: =IF('810'!H12<-1,0,IF('810'!H12<1,1,2)) -> 2 | I11: =IF('810'!I12<-1,0,IF('810'!I12<1,1,2)) -> 1 | ... AF11: =IF('810'!AF12<-1,0,IF('810'!AF12<1,1,2)) -> 1 | AG11: =IF('4136'!B12<-1,0,IF('4136'!B12<1,1,2)) -> 1 | AH11: =IF('4136'!C12<-1,0,IF('4136'!C12<1,1,2)) -> 1 | AI11: =IF('4136'!D12<-1,0,IF('4136'!D12<1,1,2)) -> 1 | AJ11: =IF('4136'!E12<-1,0,IF('4136'!E12<1,1,2)) -> 1 | AK11: =IF('4136'!F12<-1,0,IF('4136'!F12<1,1,2)) -> 1 | AL11: =IF('4136'!G12<-1,0,IF('4136'!G12<1,1,2)) -> 1 | AM11: =IF('4136'!H12<-1,0,IF('4136'!H12<1,1,2)) -> 1 | AN11: =IF('4136'!I12<-1,0,IF('4136'!I12<1,1,2)) -> 1 | ... BJ11: =IF('4136'!AE12<-1,0,IF('4136'!AE12<1,1,2)) -> 1
A12: SART1 | B12: =IF('810'!B13<-1,0,IF('810'!B13<1,1,2)) -> 0 | C12: =IF('810'!C13<-1,0,IF('810'!C13<1,1,2)) -> 1 | D12: =IF('810'!D13<-1,0,IF('810'!D13<1,1,2)) -> 0 | E12: =IF('810'!E13<-1,0,IF('810'!E13<1,1,2)) -> 1 | F12: =IF('810'!F13<-1,0,IF('810'!F13<1,1,2)) -> 1 | G12: =IF('810'!G13<-1,0,IF('810'!G13<1,1,2)) -> 1 | H12: =IF('810'!H13<-1,0,IF('810'!H13<1,1,2)) -> 1 | I12: =IF('810'!I13<-1,0,IF('810'!I13<1,1,2)) -> 1 | ... AF12: =IF('810'!AF13<-1,0,IF('810'!AF13<1,1,2)) -> 1 | AG12: =IF('4136'!B13<-1,0,IF('4136'!B13<1,1,2)) -> 1 | AH12: =IF('4136'!C13<-1,0,IF('4136'!C13<1,1,2)) -> 1 | AI12: =IF('4136'!D13<-1,0,IF('4136'!D13<1,1,2)) -> 1 | AJ12: =IF('4136'!E13<-1,0,IF('4136'!E13<1,1,2)) -> 1 | AK12: =IF('4136'!F13<-1,0,IF('4136'!F13<1,1,2)) -> 1 | AL12: =IF('4136'!G13<-1,0,IF('4136'!G13<1,1,2)) -> 2 | AM12: =IF('4136'!H13<-1,0,IF('4136'!H13<1,1,2)) -> 1 | AN12: =IF('4136'!I13<-1,0,IF('4136'!I13<1,1,2)) -> 1 | ... BJ12: =IF('4136'!AE13<-1,0,IF('4136'!AE13<1,1,2)) -> 1
A13: ERF | B13: =IF('810'!B14<-1,0,IF('810'!B14<1,1,2)) -> 0 | C13: =IF('810'!C14<-1,0,IF('810'!C14<1,1,2)) -> 0 | D13: =IF('810'!D14<-1,0,IF('810'!D14<1,1,2)) -> 1 | E13: =IF('810'!E14<-1,0,IF('810'!E14<1,1,2)) -> 0 | F13: =IF('810'!F14<-1,0,IF('810'!F14<1,1,2)) -> 1 | G13: =IF('810'!G14<-1,0,IF('810'!G14<1,1,2)) -> 1 | H13: =IF('810'!H14<-1,0,IF('810'!H14<1,1,2)) -> 1 | I13: =IF('810'!I14<-1,0,IF('810'!I14<1,1,2)) -> 0 | ... AF13: =IF('810'!AF14<-1,0,IF('810'!AF14<1,1,2)) -> 1 | AG13: =IF('4136'!B14<-1,0,IF('4136'!B14<1,1,2)) -> 0 | AH13: =IF('4136'!C14<-1,0,IF('4136'!C14<1,1,2)) -> 0 | AI13: =IF('4136'!D14<-1,0,IF('4136'!D14<1,1,2)) -> 1 | AJ13: =IF('4136'!E14<-1,0,IF('4136'!E14<1,1,2)) -> 0 | AK13: =IF('4136'!F14<-1,0,IF('4136'!F14<1,1,2)) -> 1 | AL13: =IF('4136'!G14<-1,0,IF('4136'!G14<1,1,2)) -> 1 | AM13: =IF('4136'!H14<-1,0,IF('4136'!H14<1,1,2)) -> 1 | AN13: =IF('4136'!I14<-1,0,IF('4136'!I14<1,1,2)) -> 0 | ... BJ13: =IF('4136'!AE14<-1,0,IF('4136'!AE14<1,1,2)) -> 1
A14: MAPRE3 | B14: =IF('810'!B15<-1,0,IF('810'!B15<1,1,2)) -> 2 | C14: =IF('810'!C15<-1,0,IF('810'!C15<1,1,2)) -> 1 | D14: =IF('810'!D15<-1,0,IF('810'!D15<1,1,2)) -> 2 | E14: =IF('810'!E15<-1,0,IF('810'!E15<1,1,2)) -> 1 | F14: =IF('810'!F15<-1,0,IF('810'!F15<1,1,2)) -> 1 | G14: =IF('810'!G15<-1,0,IF('810'!G15<1,1,2)) -> 2 | H14: =IF('810'!H15<-1,0,IF('810'!H15<1,1,2)) -> 1 | I14: =IF('810'!I15<-1,0,IF('810'!I15<1,1,2)) -> 1 | ... AF14: =IF('810'!AF15<-1,0,IF('810'!AF15<1,1,2)) -> 1 | AG14: =IF('4136'!B15<-1,0,IF('4136'!B15<1,1,2)) -> 2 | AH14: =IF('4136'!C15<-1,0,IF('4136'!C15<1,1,2)) -> 1 | AI14: =IF('4136'!D15<-1,0,IF('4136'!D15<1,1,2)) -> 2 | AJ14: =IF('4136'!E15<-1,0,IF('4136'!E15<1,1,2)) -> 1 | AK14: =IF('4136'!F15<-1,0,IF('4136'!F15<1,1,2)) -> 1 | AL14: =IF('4136'!G15<-1,0,IF('4136'!G15<1,1,2)) -> 2 | AM14: =IF('4136'!H15<-1,0,IF('4136'!H15<1,1,2)) -> 1 | AN14: =IF('4136'!I15<-1,0,IF('4136'!I15<1,1,2)) -> 1 | ... BJ14: =IF('4136'!AE15<-1,0,IF('4136'!AE15<1,1,2)) -> 1
A15: SLC2A3 | B15: =IF('810'!B16<-1,0,IF('810'!B16<1,1,2)) -> 1 | C15: =IF('810'!C16<-1,0,IF('810'!C16<1,1,2)) -> 1 | D15: =IF('810'!D16<-1,0,IF('810'!D16<1,1,2)) -> 2 | E15: =IF('810'!E16<-1,0,IF('810'!E16<1,1,2)) -> 1 | F15: =IF('810'!F16<-1,0,IF('810'!F16<1,1,2)) -> 1 | G15: =IF('810'!G16<-1,0,IF('810'!G16<1,1,2)) -> 1 | H15: =IF('810'!H16<-1,0,IF('810'!H16<1,1,2)) -> 1 | I15: =IF('810'!I16<-1,0,IF('810'!I16<1,1,2)) -> 2 | ... AF15: =IF('810'!AF16<-1,0,IF('810'!AF16<1,1,2)) -> 1 | AG15: =IF('4136'!B16<-1,0,IF('4136'!B16<1,1,2)) -> 1 | AH15: =IF('4136'!C16<-1,0,IF('4136'!C16<1,1,2)) -> 1 | AI15: =IF('4136'!D16<-1,0,IF('4136'!D16<1,1,2)) -> 2 | AJ15: =IF('4136'!E16<-1,0,IF('4136'!E16<1,1,2)) -> 0 | AK15: =IF('4136'!F16<-1,0,IF('4136'!F16<1,1,2)) -> 1 | AL15: =IF('4136'!G16<-1,0,IF('4136'!G16<1,1,2)) -> 1 | AM15: =IF('4136'!H16<-1,0,IF('4136'!H16<1,1,2)) -> 1 | AN15: =IF('4136'!I16<-1,0,IF('4136'!I16<1,1,2)) -> 1 | ... BJ15: =IF('4136'!AE16<-1,0,IF('4136'!AE16<1,1,2)) -> 0
A16: FBXO21 | B16: =IF('810'!B17<-1,0,IF('810'!B17<1,1,2)) -> 1 | C16: =IF('810'!C17<-1,0,IF('810'!C17<1,1,2)) -> 2 | D16: =IF('810'!D17<-1,0,IF('810'!D17<1,1,2)) -> 2 | E16: =IF('810'!E17<-1,0,IF('810'!E17<1,1,2)) -> 1 | F16: =IF('810'!F17<-1,0,IF('810'!F17<1,1,2)) -> 1 | G16: =IF('810'!G17<-1,0,IF('810'!G17<1,1,2)) -> 1 | H16: =IF('810'!H17<-1,0,IF('810'!H17<1,1,2)) -> 1 | I16: =IF('810'!I17<-1,0,IF('810'!I17<1,1,2)) -> 1 | ... AF16: =IF('810'!AF17<-1,0,IF('810'!AF17<1,1,2)) -> 1 | AG16: =IF('4136'!B17<-1,0,IF('4136'!B17<1,1,2)) -> 1 | AH16: =IF('4136'!C17<-1,0,IF('4136'!C17<1,1,2)) -> 2 | AI16: =IF('4136'!D17<-1,0,IF('4136'!D17<1,1,2)) -> 1 | AJ16: =IF('4136'!E17<-1,0,IF('4136'!E17<1,1,2)) -> 1 | AK16: =IF('4136'!F17<-1,0,IF('4136'!F17<1,1,2)) -> 1 | AL16: =IF('4136'!G17<-1,0,IF('4136'!G17<1,1,2)) -> 1 | AM16: =IF('4136'!H17<-1,0,IF('4136'!H17<1,1,2)) -> 2 | AN16: =IF('4136'!I17<-1,0,IF('4136'!I17<1,1,2)) -> 1 | ... BJ16: =IF('4136'!AE17<-1,0,IF('4136'!AE17<1,1,2)) -> 1
... A54: RBMS1 | B54: =IF('810'!B55<-1,0,IF('810'!B55<1,1,2)) -> 2 | C54: =IF('810'!C55<-1,0,IF('810'!C55<1,1,2)) -> 1 | D54: =IF('810'!D55<-1,0,IF('810'!D55<1,1,2)) -> 1 | E54: =IF('810'!E55<-1,0,IF('810'!E55<1,1,2)) -> 1 | F54: =IF('810'!F55<-1,0,IF('810'!F55<1,1,2)) -> 1 | G54: =IF('810'!G55<-1,0,IF('810'!G55<1,1,2)) -> 1 | H54: =IF('810'!H55<-1,0,IF('810'!H55<1,1,2)) -> 1 | I54: =IF('810'!I55<-1,0,IF('810'!I55<1,1,2)) -> 2 | ... AF54: =IF('810'!AF55<-1,0,IF('810'!AF55<1,1,2)) -> 1 | AG54: =IF('4136'!B55<-1,0,IF('4136'!B55<1,1,2)) -> 1 | AH54: =IF('4136'!C55<-1,0,IF('4136'!C55<1,1,2)) -> 1 | AI54: =IF('4136'!D55<-1,0,IF('4136'!D55<1,1,2)) -> 2 | AJ54: =IF('4136'!E55<-1,0,IF('4136'!E55<1,1,2)) -> 0 | AK54: =IF('4136'!F55<-1,0,IF('4136'!F55<1,1,2)) -> 1 | AL54: =IF('4136'!G55<-1,0,IF('4136'!G55<1,1,2)) -> 1 | AM54: =IF('4136'!H55<-1,0,IF('4136'!H55<1,1,2)) -> 0 | AN54: =IF('4136'!I55<-1,0,IF('4136'!I55<1,1,2)) -> 1 | ... BJ54: =IF('4136'!AE55<-1,0,IF('4136'!AE55<1,1,2)) -> 1
