Workbook

Sheet 810
A1: IDENTIFIER | B1: GSM21215 | C1: GSM21217 | D1: GSM21218 | E1: GSM21219 | F1: GSM21220 | G1: GSM21221 | H1: GSM21226 | I1: GSM21231 | J1: GSM21232 | K1: GSM21204 | L1: GSM21205 | M1: GSM21216 | N1: GSM21222 | O1: GSM21225 | P1: GSM21228 | Q1: GSM21233 | R1: GSM21209 | S1: GSM21210 | T1: GSM21211 | U1: GSM21214 | V1: GSM21223 | W1: GSM21224 | X1: GSM21227 | Y1: GSM21230 | Z1: GSM21203 | AA1: GSM21206 | AB1: GSM21207 | AC1: GSM21208 | AD1: GSM21212 | AE1: GSM21213 | AF1: GSM21229
A2: age | B2: 85 | C2: 80 | D2: 92 | E2: 80 | F2: 75 | G2: 97 | H2: 95 | I2: 77 | J2: 87 | K2: 101 | L2: 95 | M2: 83 | N2: 88 | O2: 91 | P2: 88 | Q2: 97 | R2: 85 | S2: 89 | T2: 83 | U2: 82 | V2: 79 | W2: 81 | X2: 86 | Y2: 82 | Z2: 85 | AA2: 65 | AB2: 93 | AC2: 79 | AD2: 94 | AE2: 79 | AF2: 93
A3: sex | B3: M | C3: M | D3: F | E3: M | F3: M | G3: F | H3: M | I3: M | J3: M | K3: F | L3: F | M3: F | N3: F | O3: F | P3: M | Q3: F | R3: F | S3: F | T3: F | U3: F | V3: F | W3: M | X3: F | Y3: M | Z3: M | AA3: F | AB3: M | AC3: F | AD3: F | AE3: F | AF3: F
A4: group | B4: control | C4: control | D4: control | E4: control | F4: control | G4: control | H4: control | I4: control | J4: control | K4: incipient | L4: incipient | M4: incipient | N4: incipient | O4: incipient | P4: incipient | Q4: incipient | R4: moderate | S4: moderate | T4: moderate | U4: moderate | V4: moderate | W4: moderate | X4: moderate | Y4: moderate | Z4: severe | AA4: severe | AB4: severe | AC4: severe | AD4: severe | AE4: severe | AF4: severe
A5: Alzheimer | B5: 0 | C5: 0 | D5: 0 | E5: 0 | F5: 0 | G5: 0 | H5: 0 | I5: 0 | J5: 0 | K5: 1 | L5: 1 | M5: 1 | N5: 1 | O5: 1 | P5: 1 | Q5: 1 | R5: 1 | S5: 1 | T5: 1 | U5: 1 | V5: 1 | W5: 1 | X5: 1 | Y5: 1 | Z5: 1 | AA5: 1 | AB5: 1 | AC5: 1 | AD5: 1 | AE5: 1 | AF5: 1
A6: SIRT3 | B6: 1.2148282 | C6: -0.57183393 | D6: 0.44555583 | E6: -0.28471116 | F6: 0.57990762 | G6: 0.50514735 | H6: 0.24944556 | I6: -0.09293481 | J6: 1.6948108 | K6: -0.99872591 | L6: -1.8839308 | M6: 1.2061603 | N6: -0.33563482 | O6: 0.25486297 | P6: 1.1866576 | Q6: 1.0923947 | R6: 1.2982563 | S6: 1.0793929 | T6: -0.46565268 | U6: 1.3480965 | V6: 0.27544913 | W6: -0.34972009 | X6: -0.3551375 | Y6: -0.88821073 | Z6: -1.9716929 | AA6: -0.19586562 | AB6: -2.0031139 | AC6: -0.0051727536 | AD6: -0.98464064 | AE6: -0.79719823 | AF6: -0.24678928
A7: NEU3 | B7: -0.042475082 | C7: -0.7179785 | D7: -0.061631149 | E7: 0.074477748 | F7: -0.70285529 | G7: -0.13523077 | H7: 0.235792 | I7: 0.017009547 | J7: 0.037173828 | K7: 0.7882933 | L7: 0.45255802 | M7: -1.2634223 | N7: 0.17731558 | O7: -1.0033031 | P7: -0.26024932 | Q7: -0.16043613 | R7: -0.011220447 | S7: -0.83896418 | T7: -0.5606971 | U7: -1.8965807 | V7: -0.59900924 | W7: -0.83493133 | X7: -0.013236875 | Y7: 0.44045945 | Z7: -0.094902213 | AA7: -0.3741775 | AB7: 3.6022187 | AC7: 1.4476653 | AD7: -0.098935069 | AE7: 2.0294048 | AF7: 0.36786804
A8: UBE2D4 | B8: 1.1331856 | C8: 1.3651559 | D8: -0.30041039 | E8: 0.54588796 | F8: -0.082201059 | G8: -1.7074674 | H8: -0.59823664 | I8: -1.1413027 | J8: -0.46898201 | K8: 1.0712613 | L8: -0.55007332 | M8: -0.81546304 | N8: -0.69456328 | O8: -0.64050241 | P8: -0.43752841 | Q8: -0.54515869 | R8: -0.070897423 | S8: -0.3146628 | T8: 0.56751231 | U8: -0.298936 | V8: -0.42524185 | W8: 0.056391353 | X8: 0.79309357 | Y8: -0.30729086 | Z8: 2.077285 | AA8: -0.55695379 | AB8: 0.0028219457 | AC8: 2.2660066 | AD8: -1.090682 | AE8: 2.1824579 | AF8: -1.0145053
A9: SNX11 | B9: -0.86409381 | C9: 0.53707585 | D9: -1.0051557 | E9: 1.8667022 | F9: -0.66296252 | G9: -0.30592074 | H9: -1.9055219 | I9: -1.3925697 | J9: -1.0044808 | K9: 1.2302364 | L9: 0.80637579 | M9: 0.50602873 | N9: -1.2785053 | O9: 1.1013234 | P9: -0.16755861 | Q9: -0.4793796 | R9: 1.2970552 | S9: 1.0041324 | T9: -0.090615764 | U9: -0.42335981 | V9: -0.39366257 | W9: -1.8447776 | X9: 0.12401427 | Y9: -0.82292264 | Z9: 1.0871497 | AA9: 0.47430668 | AB9: 1.2795068 | AC9: 1.008857 | AD9: 0.15978594 | AE9: 0.62886731 | AF9: -0.46993048
A10: N4BP1 | B10: 0.1521499 | C10: 1.0936842 | D10: -0.26611033 | E10: 0.73959909 | F10: -1.2408541 | G10: -0.90068111 | H10: -0.31906602 | I10: -0.51293772 | J10: -1.0456361 | K10: 1.0191872 | L10: 0.19253984 | M10: -0.17186714 | N10: -0.87510081 | O10: -0.6601366 | P10: -0.88991046 | Q10: -0.9751781 | R10: 0.7315211 | S10: -0.55018621 | T10: 1.7776205 | U10: -0.035887689 | V10: -0.74495546 | W10: -0.91504197 | X10: -1.1739863 | Y10: 0.61663417 | Z10: 2.5917021 | AA10: -0.62468321 | AB10: 0.69696527 | AC10: 1.8907123 | AD10: 0.72119923 | AE10: 0.68036052 | AF10: -1.0016559
A11: FGF22 | B11: -0.19888536 | C11: -0.4985393 | D11: 0.45080681 | E11: -0.0053036096 | F11: -0.20684077 | G11: -0.026518048 | H11: 1.8058791 | I11: 0.60195968 | J11: -0.49058388 | K11: -0.45611042 | L11: -0.33677921 | M11: 1.7130659 | N11: -0.053036096 | O11: -1.2012676 | P11: -0.67886202 | Q11: 1.6361635 | R11: -0.93343528 | S11: -1.2834735 | T11: -0.98381957 | U11: 1.1986158 | V11: -0.074250534 | W11: -0.90956904 | X11: -0.074250534 | Y11: -0.52240554 | Z11: 2.3839725 | AA11: -1.0686773 | AB11: 0.090161362 | AC11: -0.98381957 | AD11: 0.52505735 | AE11: 1.6096455 | AF11: -1.0289003
A12: PEX16 | B12: -0.11272717 | C12: 0.24705663 | D12: -0.1048487 | E12: -0.70186221 | F12: -0.0094315823 | G12: 0.56394649 | H12: 1.7737305 | I12: -1.2638603 | J12: -1.1859509 | K12: 0.63835434 | L12: -1.050266 | M12: -0.35871075 | N12: 0.52455411 | O12: -0.47426175 | P12: -1.0528921 | Q12: 0.46152629 | R12: 0.53505874 | S12: 0.11574867 | T12: -0.57843273 | U12: -0.2011412 | V12: -0.39722775 | W12: -1.0467644 | X12: -1.3251373 | Y12: 0.26281358 | Z12: 2.470538 | AA12: -0.50227411 | AB12: 2.706017 | AC12: -0.87081178 | AD12: -0.38147079 | AE12: 1.0392813 | AF12: 0.27944592
A13: OR7C2 | B13: -0.5703671 | C13: -0.42396076 | D13: -0.41269874 | E13: 0.69097976 | F13: -0.44648482 | G13: -1.5163772 | H13: -0.87444178 | I13: -0.71677343 | J13: -0.1311481 | K13: 0.52204937 | L13: 3.7542507 | M13: -0.36765064 | N13: -0.018527848 | O13: 0.0039962026 | P13: 0.54457342 | Q13: -0.15367215 | R13: 0.47700127 | S13: -0.39017469 | T13: 0.21797469 | U13: -0.49153292 | V13: 0.87117216 | W13: -1.3023988 | X13: -0.7505595 | Y13: 1.0513646 | Z13: -0.42396076 | AA13: -0.84065571 | AB13: 1.7496101 | AC13: -0.53658102 | AD13: -0.68298735 | AE13: 0.74728988 | AF13: 0.42069114
A14: EPS8L1 | B14: -0.92983178 | C14: 0.40280418 | D14: -0.80571372 | E14: -0.82857758 | F14: -0.81877878 | G14: -0.31250777 | H14: 2.0261377 | I14: -0.55421135 | J14: -0.33863789 | K14: -0.55421135 | L14: 0.03371628 | M14: 0.51712344 | N14: -0.92983178 | O14: -0.8449089 | P14: 1.7844341 | Q14: 2.0196052 | R14: -0.81551252 | S14: -0.88083781 | T14: 0.81761979 | U14: -0.55747761 | V14: 0.0010536337 | W14: -0.80571372 | X14: 0.13823675 | Y14: 0.58898126 | Z14: -0.75998602 | AA14: -0.92329925 | AB14: 0.24928974 | AC14: 2.5683376 | AD14: 1.078921 | AE14: -0.47908726 | AF14: -0.087135511
A15: XCR1 | B15: -0.7996781 | C15: -0.91057061 | D15: -0.14263997 | E15: 0.55875518 | F15: 1.1076731 | G15: -0.59175464 | H15: -0.070559832 | I15: -0.0095689507 | J15: -0.43373281 | K15: -0.67215171 | L15: -0.47808982 | M15: -0.52244682 | N15: -0.65829015 | O15: -0.48917907 | P15: -0.28125561 | Q15: 0.60588449 | R15: 0.52548742 | S15: -0.76086572 | T15: -0.81353967 | U15: -0.37274193 | V15: -0.27848329 | W15: -0.80522273 | X15: 0.61974606 | Y15: -0.14263997 | Z15: 4.3401898 | AA15: -0.32561261 | AB15: 1.479163 | AC15: -0.045609017 | AD15: -0.22858166 | AE15: -0.023430515 | AF15: 0.61974606
A16: OBP2A | B16: -0.5017836 | C16: -0.66785433 | D16: -0.68169355 | E16: -0.64017587 | F16: 3.0410586 | G16: -0.57097974 | H16: 0.088690102 | I16: -0.45103976 | J16: -0.39106978 | K16: -0.47410514 | L16: 1.0482099 | M16: -0.26651673 | N16: -0.45565284 | O16: -0.48794437 | P16: -0.58481896 | Q16: -0.3864567 | R16: -0.10505908 | S16: -0.41413516 | T16: 2.7827264 | U16: -0.26190366 | V16: -0.22499905 | W16: -0.69553278 | X16: -0.53407513 | Y16: 2.3029665 | Z16: 0.13482086 | AA16: -0.58020589 | AB16: 1.0712752 | AC16: -0.52484898 | AD16: 0.010267814 | AE16: -0.07276755 | AF16: -0.50639667
... A25: PLLP | B25: -0.41473164 | C25: -0.76683551 | D25: -1.4652685 | E25: 0.63957809 | F25: -0.29061367 | G25: -0.67390103 | H25: 0.30487537 | I25: -0.222241 | J25: -0.4647792 | K25: -0.3372734 | L25: 1.3231508 | M25: -0.56341141 | N25: -0.59243899 | O25: 2.2403302 | P25: 0.56496872 | Q25: -1.0883719 | R25: 0.77593846 | S25: -0.018893888 | T25: -0.47671362 | U25: -0.5574057 | V25: -1.2191885 | W25: -0.058469963 | X25: 0.72897074 | Y25: 0.20085343 | Z25: -0.18489781 | AA25: -1.8286139 | AB25: 2.2166924 | AC25: -1.0996903 | AD25: 1.5807803 | AE25: 0.84023033 | AF25: 0.90737107

Sheet 4136
B1: GSM697332 | C1: GSM697312 | D1: GSM697327 | E1: GSM697334 | F1: GSM697336 | G1: GSM697309 | H1: GSM697311 | I1: GSM697328 | J1: GSM697326 | K1: GSM697330 | L1: GSM697318 | M1: GSM697325 | N1: GSM697308 | O1: GSM697323 | P1: GSM697331 | Q1: GSM697329 | R1: GSM697315 | S1: GSM697319 | T1: GSM697321 | U1: GSM697324 | V1: GSM697320 | W1: GSM697310 | X1: GSM697333 | Y1: GSM697337 | Z1: GSM697335 | AA1: GSM697314 | AB1: GSM697317 | AC1: GSM697313 | AD1: GSM697322 | AE1: GSM697316
B2: 65 | C2: 75 | D2: 79 | E2: 79 | F2: 79 | G2: 80 | H2: 80 | I2: 81 | J2: 82 | K2: 82 | L2: 83 | M2: 83 | N2: 85 | O2: 85 | P2: 85 | Q2: 86 | R2: 87 | S2: 88 | T2: 88 | U2: 89 | V2: 91 | W2: 92 | X2: 93 | Y2: 93 | Z2: 94 | AA2: 95 | AB2: 95 | AC2: 97 | AD2: 97 | AE2: 101
B3: F | C3: M | D3: F | E3: F | F3: F | G3: M | H3: M | I3: M | J3: F | K3: M | L3: F | M3: F | N3: M | O3: F | P3: M | Q3: F | R3: M | S3: M | T3: M | U3: F | V3: F | W3: F | X3: M | Y3: F | Z3: F | AA3: M | AB3: F | AC3: F | AD3: F | AE3: F
B4: Severe | C4: Control | D4: Moderate | E4: Severe | F4: Severe | G4: Control | H4: Control | I4: Moderate | J4: Moderate | K4: Moderate | L4: Incipient | M4: Moderate | N4: Control | O4: Moderate | P4: Severe | Q4: Moderate | R4: Control | S4: Incipient | T4: Incipient | U4: Moderate | V4: Incipient | W4: Control | X4: Severe | Y4: Severe | Z4: Severe | AA4: Control | AB4: Incipient | AC4: Control | AD4: Incipient | AE4: Incipient
B5: 1 | C5: 0 | D5: 1 | E5: 1 | F5: 1 | G5: 0 | H5: 0 | I5: 1 | J5: 1 | K5: 1 | L5: 1 | M5: 1 | N5: 0 | O5: 1 | P5: 1 | Q5: 1 | R5: 0 | S5: 1 | T5: 1 | U5: 1 | V5: 1 | W5: 0 | X5: 1 | Y5: 1 | Z5: 1 | AA5: 0 | AB5: 1 | AC5: 0 | AD5: 1 | AE5: 1
A6: SIRT3 | B6: 0.41705813 | C6: -0.34521945 | D6: 0.0857414 | E6: -0.55447212 | F6: -0.42173191 | G6: 0.59606168 | H6: 0.037698695 | I6: -0.19255042 | J6: 0.013677343 | K6: -0.32600237 | L6: 0.054246738 | M6: 0.089655991 | N6: 0.64926453 | O6: -0.062835113 | P6: -0.17867141 | Q6: -0.050379597 | R6: -0.46390273 | S6: 0.19481613 | T6: 0.34730724 | U6: -0.15909846 | V6: 0.091257414 | W6: 1.236987 | X6: 0.030937129 | Y6: -0.35963227 | Z6: -0.54112693 | AA6: -0.15180308 | AB6: -0.087924081 | AC6: -0.018529063 | AD6: 0.48147094 | AE6: -0.4123013 | AF6: 0.045837481
A7: NEU3 | B7: 0.40253293 | C7: -0.27147923 | D7: -0.36874367 | E7: 1.0355117 | F7: -0.46904762 | G7: -0.39457953 | H7: 0.10921986 | I7: -0.49032421 | J7: -0.51843972 | K7: -0.38850051 | L7: 0.20876393 | M7: -0.3322695 | N7: 0.77715299 | O7: 0.7345998 | P7: 0.95876393 | Q7: -0.25628166 | R7: -0.51919959 | S7: -0.49184397 | T7: -0.41813576 | U7: -0.29047619 | V7: -0.55567376 | W7: 0.41089159 | X7: 0.28855117 | Y7: -0.15369807 | Z7: 0.20496454 | AA7: -0.17117528 | AB7: 0.84782168 | AC7: 0.29614995 | AD7: -0.47056738 | AE7: 0.28551165 | AF7: -0.16286523
A8: UBE2D4 | B8: -2.1179779 | C8: -2.6148723 | D8: 1.5859558 | E8: 0.049723948 | F8: 0.36752933 | G8: -0.17491373 | H8: -1.3643547 | I8: 1.3488958 | J8: -1.7328847 | K8: 0.81783989 | L8: -0.63868185 | M8: -0.42439614 | N8: 1.3820221 | O8: 1.3364734 | P8: 0.24641132 | Q8: -1.5434438 | R8: -1.1935473 | S8: 0.51659765 | T8: -0.19768806 | U8: 2.2205314 | V8: 1.1584196 | W8: 1.9120428 | X8: 1.0735335 | Y8: 0.96794341 | Z8: -2.1221187 | AA8: 2.0486888 | AB8: -2.7318496 | AC8: 0.16877157 | AD8: -2.6335059 | AE8: 2.2888544 | AF8: -0.2498992
A9: SNX11 | B9: 0.27015774 | C9: -0.08387845 | D9: -0.27890281 | E9: 0.72092322 | F9: 0.78511946 | G9: -0.26324519 | H9: 0.18230109 | I9: -0.41634192 | J9: -0.15938297 | K9: 0.82252378 | L9: -0.23993273 | M9: -0.50924379 | N9: -0.11571561 | O9: -0.63659244 | P9: 0.013894688 | Q9: -0.37580608 | R9: -0.28899327 | S9: -0.0036766412 | T9: -0.4546161 | U9: -0.13293899 | V9: -0.38241707 | W9: 0.54955927 | X9: -0.099884018 | Y9: -0.096926467 | Z9: 1.0405126 | AA9: -0.22618882 | AB9: 0.23797263 | AC9: -0.25889585 | AD9: 0.12871723 | AE9: 0.27189747 | AF9: -0.011059999
A10: N4BP1 | B10: -22.514286 | C10: 6.0181818 | D10: 11.277922 | E10: -16.449351 | F10: -3.4103896 | G10: 11.368831 | H10: -17.696104 | I10: -12.150649 | J10: -13.462338 | K10: 18.862338 | L10: 8.7194805 | M10: -9.3844156 | N10: -19.215584 | O10: 14.225974 | P10: 13.511688 | Q10: -17.215584 | R10: 33.187013 | S10: -9.3454545 | T10: 3.9012987 | U10: -21.462338 | V10: -12.41039 | W10: -8.2415584 | X10: -8.0337662 | Y10: 13.511688 | Z10: 24.303896 | AA10: 15.927273 | AB10: -10.462338 | AC10: 5.7194805 | AD10: 39.212987 | AE10: -18.293506 | AF10: -0.2003862
A11: FGF22 | B11: 0.010500917 | C11: -1.0080236 | D11: 0.17767809 | E11: 0.67341155 | F11: 1.6977341 | G11: -0.97516796 | H11: 2.2263232 | I11: 0.32456208 | J11: -0.33158416 | K11: -0.45624229 | L11: 0.058818019 | M11: -1.1191529 | N11: -0.93748062 | O11: 1.866844 | P11: -1.0756675 | Q11: 0.59803688 | R11: -0.45334326 | S11: -0.93554794 | T11: 0.17477906 | U11: 0.17574541 | V11: -1.0070572 | W11: -0.83214934 | X11: -0.96840357 | Y11: 0.22696153 | Z11: 0.10810146 | AA11: -0.18373383 | AB11: 2.2069964 | AC11: -1.1259173 | AD11: -0.16633968 | AE11: 1.0493186 | AF11: -0.0014773389
A12: PEX16 | B12: -1.2412314 | C12: 1.120552 | D12: -1.256518 | E12: -1.2310403 | F12: 3.5409342 | G12: -0.74951168 | H12: 5.5243737 | I12: -0.9737155 | J12: -1.5112951 | K12: -1.1023779 | L12: 3.3498514 | M12: -1.1877282 | N12: -0.89091295 | O12: -1.3546072 | P12: -0.13167728 | Q12: -0.81320594 | R12: -1.5380467 | S12: -0.79027601 | T12: 0.7129087 | U12: 3.6670488 | V12: -0.8870913 | W12: -1.2132059 | X12: -0.48836518 | Y12: 0.76004246 | Z12: 2.3778769 | AA12: 0.19571125 | AB12: -1.3966454 | AC12: -1.4654352 | AD12: -1.0272187 | AE12: 0.00080679406 | AF12: -0.13872572
A13: OR7C2 | B13: -3.3036822 | C13: 31.196318 | D13: 9.9346899 | E13: 8.9114341 | F13: 3.6381783 | G13: -3.4839147 | H13: -2.3850775 | I13: -3.1292636 | J13: -1.5420543 | K13: -3.3792636 | L13: 0.2253876 | M13: -3.9839147 | N13: -2.2222868 | O13: 0.045155039 | P13: -3.7513566 | Q13: -3.1583333 | R13: -2.4781008 | S13: -2.7222868 | T13: -0.23391473 | U13: -3.8501938 | V13: -3.5071705 | W13: -3.0943798 | X13: -1.8967054 | Y13: -1.7222868 | Z13: 12.492829 | AA13: -4.0071705 | AB13: -3.4083333 | AC13: -3.3908915 | AD13: -2.7862403 | AE13: -3.0071705 | AF13: 0.71757378
A14: EPS8L1 | B14: -4.2815939 | C14: 5.1017078 | D14: -3.7882353 | E14: 6.9480076 | F14: -4.4618596 | G14: 2.0182163 | H14: 4.5931689 | I14: -0.6573055 | J14: -4.7616698 | K14: 0.771537 | L14: -4.1089184 | M14: 2.5381404 | N14: 2.9954459 | O14: -0.05199241 | P14: -4.3404175 | Q14: 6.4129032 | R14: -2.2721063 | S14: 3.0960152 | T14: -5.0557875 | U14: 0.88349146 | V14: -4.4504744 | W14: 2.113093 | X14: -0.09373814 | Y14: -4.6819734 | Z14: 5.1662239 | AA14: -4.5889943 | AB14: 11.06186 | AC14: -0.91537002 | AD14: -1.0064516 | AE14: -4.1829222 | AF14: 0.019861353
A15: XCR1 | B15: -0.35093966 | C15: -1.1461919 | D15: 0.56993076 | E15: 0.5066271 | F15: 2.3384768 | G15: -1.1293769 | H15: 0.79050445 | I15: 0.48288823 | J15: 0.25934718 | K15: -0.34104847 | L15: -0.19366963 | M15: -1.2065282 | N15: 0.04470821 | O15: -0.64569733 | P15: -0.75845697 | Q15: 3.0447082 | R15: -0.76439169 | S15: -1.2322453 | T15: -0.46073195 | U15: -0.075964392 | V15: -0.60019782 | W15: 1.5847676 | X15: -0.33412463 | Y15: -0.42215628 | Z15: 0.23857567 | AA15: -0.77725025 | AB15: -1.0512364 | AC15: -0.053214639 | AD15: 0.58575668 | AE15: 1.0971316 | AF15: 0.2557777
A16: OBP2A | B16: -0.051878788 | C16: 0.50084848 | D16: -0.00096969697 | E16: -0.25915152 | F16: 0.71175758 | G16: -0.011878788 | H16: 0.0099393939 | I16: 0.16630303 | J16: -0.062787879 | K16: -0.037333333 | L16: -0.73187879 | M16: -0.63006061 | N16: 2.8972121 | O16: 0.5190303 | P16: -0.22642424 | Q16: -0.46278788 | R16: -0.79733333 | S16: 1.2644848 | T16: -0.25915152 | U16: 0.053575758 | V16: -0.50642424 | W16: -0.45915152 | X16: -0.39006061 | Y16: -0.86642424 | Z16: 0.81721212 | AA16: -0.41551515 | AB16: 0.23175758 | AC16: -0.70278788 | AD16: -0.51006061 | AE16: 0.20993939 | AF16: 0.25286773
A17: PPA2 | B17: -0.35347848 | C17: 0.16452906 | D17: -1.1385066 | E17: -0.58411517 | F17: -0.32572807 | G17: 0.13986203 | H17: 2.7983507 | I17: -0.39726245 | J17: -1.0490886 | K17: -1.0700556 | L17: -0.74876756 | M17: 0.069561012 | N17: -0.99235444 | O17: -0.083374546 | P17: 0.47410023 | Q17: -0.51628084 | R17: -1.1033561 | S17: 0.55118469 | T17: -0.19314281 | U17: 0.47286688 | V17: -0.0081401184 | W17: 1.9578218 | X17: 0.050444067 | Y17: -0.084607898 | Z17: 2.7650502 | AA17: -0.86285255 | AB17: 0.069561012 | AC17: -0.46324674 | AD17: -0.24987697 | AE17: 0.71090368 | AF17: 0.046000895
... A25: PLLP | B25: -0.76625215 | C25: -0.29652001 | D25: -1.2610801 | E25: -0.90839785 | F25: -0.23924028 | G25: -1.2264057 | H25: -1.0101221 | I25: -0.95380018 | J25: -0.33655835 | K25: -0.37755455 | L25: 1.5151671 | M25: -1.4277469 | N25: 2.0873898 | O25: 0.59543466 | P25: -0.52678838 | Q25: 0.015740752 | R25: 0.73815507 | S25: -0.0011174976 | T25: -0.18540882 | U25: 0.27282906 | V25: 1.6144009 | W25: -0.61950875 | X25: 1.4257035 | Y25: 1.3310674 | Z25: 1.4172743 | AA25: -0.74594562 | AB25: -0.14307162 | AC25: -0.068167355 | AD25: 1.2228297 | AE25: -1.1423061 | AF25: 0.094445521

Sheet 29378
A1: ID_REF | B1: GSM726083 | C1: GSM726084 | D1: GSM726085 | E1: GSM726086 | F1: GSM726087 | G1: GSM726088 | H1: GSM726089 | I1: GSM726090 | J1: GSM726091 | K1: GSM726092 | L1: GSM726093 | M1: GSM726094 | N1: GSM726095 | O1: GSM726096 | P1: GSM726097 | Q1: GSM726098 | R1: GSM726099 | S1: GSM726100 | T1: GSM726101 | U1: GSM726102 | V1: GSM726103 | W1: GSM726104 | X1: GSM726105 | Y1: GSM726106 | Z1: GSM726107 | AA1: GSM726108 | AB1: GSM726109 | AC1: GSM726110 | AD1: GSM726111 | AE1: GSM726112 | AF1: GSM726113 | AG1: GSM726114 | AH1: GSM726115 | AI1: GSM726116 | AJ1: GSM726117 | AK1: GSM726118 | AL1: GSM726119 | AM1: GSM726120 | AN1: GSM726121 | AO1: GSM726122 | AP1: GSM726123 | AQ1: GSM726124 | AR1: GSM726125 | AS1: GSM726126 | AT1: GSM726127 | AU1: GSM726128 | AV1: GSM726129 | AW1: GSM726130 | AX1: GSM726131 | AY1: GSM726132 | AZ1: GSM726133 | BA1: GSM726134 | BB1: GSM726135 | BC1: GSM726136 | BD1: GSM726137 | BE1: GSM726138 | BF1: GSM726139 | BG1: GSM726140 | BH1: GSM726141 | BI1: GSM726142 | BJ1: GSM726143 | BK1: GSM726144 | BL1: GSM726145
A2: age | B2: 66 | C2: 81 | D2: 72 | E2: 86 | F2: 81 | G2: 90 | H2: 88 | I2: 90 | J2: 61 | K2: 72.5 | L2: 66 | M2: 67 | N2: 90 | O2: 68 | P2: 90 | Q2: 90 | R2: 74 | S2: 83 | T2: 83 | U2: 73 | V2: 73 | W2: 70 | X2: 85 | Y2: 79 | Z2: 90 | AA2: 80 | AB2: 85 | AC2: 75 | AD2: 84.6 | AE2: 90 | AF2: 72 | AG2: 81 | AH2: 81 | AI2: 70 | AJ2: 90 | AK2: 68 | AL2: 81 | AM2: 79 | AN2: 84 | AO2: 90 | AP2: 67.2 | AQ2: 75 | AR2: 85.4 | AS2: 79 | AT2: 79 | AU2: 90 | AV2: 74 | AW2: 80 | AX2: 86 | AY2: 85 | AZ2: 84 | BA2: 81 | BB2: 84.6 | BC2: 88 | BD2: 80 | BE2: 72 | BF2: 90 | BG2: 83 | BH2: 74 | BI2: 68 | BJ2: 61 | BK2: 74 | BL2: 68
A3: sex | B3: M | C3: M | D3: F | E3: M | F3: M | G3: M | H3: F | I3: M | J3: F | K3: M | L3: M | M3: M | N3: M | O3: M | P3: M | Q3: F | R3: F | S3: F | T3: M | U3: M | V3: M | W3: F | X3: M | Y3: F | Z3: F | AA3: F | AB3: M | AC3: M | AD3: F | AE3: M | AF3: F | AG3: M | AH3: M | AI3: F | AJ3: M | AK3: M | AL3: M | AM3: F | AN3: M | AO3: M | AP3: M | AQ3: M | AR3: M | AS3: F | AT3: F | AU3: M | AV3: F | AW3: M | AX3: M | AY3: M | AZ3: M | BA3: M | BB3: F | BC3: F | BD3: M | BE3: M | BF3: M | BG3: F | BH3: F | BI3: F | BJ3: F | BK3: F | BL3: F
A4: Group | B4: AD | C4: Control | D4: Control | E4: Control | F4: AD | G4: Control | H4: Control | I4: Control | J4: AD | K4: AD | L4: AD | M4: AD | N4: AD | O4: AD | P4: Control | Q4: AD | R4: Control | S4: Control | T4: AD | U4: Control | V4: Control | W4: Control | X4: Control | Y4: AD | Z4: AD | AA4: AD | AB4: Control | AC4: Control | AD4: AD | AE4: Control | AF4: Control | AG4: AD | AH4: AD | AI4: Control | AJ4: Control | AK4: AD | AL4: AD | AM4: AD | AN4: Control | AO4: AD | AP4: AD | AQ4: Control | AR4: Control | AS4: AD | AT4: AD | AU4: Control | AV4: AD | AW4: Control | AX4: Control | AY4: Control | AZ4: Control | BA4: Control | BB4: AD | BC4: Control | BD4: Control | BE4: AD | BF4: Control | BG4: Control | BH4: AD | BI4: AD | BJ4: AD | BK4: Control | BL4: AD
A5: Braak Stage | B5: NA | C5: 2 | D5: NA | E5: 1 | F5: 5 | G5: 1 | H5: NA | I5: 1 | J5: NA | K5: 5 | L5: NA | M5: 6 | N5: 6 | O5: 5 | P5: 2 | Q5: 6 | R5: 2 | S5: 1 | T5: 6 | U5: 2 | V5: 2 | W5: 1 | X5: 2 | Y5: 5 | Z5: 6 | AA5: 5 | AB5: 2 | AC5: 1 | AD5: 6 | AE5: 2 | AF5: NA | AG5: 5 | AH5: 5 | AI5: 1 | AJ5: 1 | AK5: 5 | AL5: 5 | AM5: 5 | AN5: NA | AO5: 5 | AP5: 6 | AQ5: 1 | AR5: 2 | AS5: 6 | AT5: 6 | AU5: NA | AV5: 4 | AW5: NA | AX5: 1 | AY5: 2 | AZ5: NA | BA5: NA | BB5: 6 | BC5: NA | BD5: NA | BE5: 5 | BF5: 1 | BG5: 1 | BH5: 4 | BI5: 5 | BJ5: NA | BK5: 2 | BL5: 5
A6: Alzheimer | B6: =IF('29378'!B4="AD","1","0") -> 1 | C6: =IF('29378'!C4="AD","1","0") -> 0 | D6: =IF('29378'!D4="AD","1","0") -> 0 | E6: =IF('29378'!E4="AD","1","0") -> 0 | F6: =IF('29378'!F4="AD","1","0") -> 1 | G6: =IF('29378'!G4="AD","1","0") -> 0 | H6: =IF('29378'!H4="AD","1","0") -> 0 | I6: =IF('29378'!I4="AD","1","0") -> 0 | ... BL6: =IF('29378'!BL4="AD","1","0") -> 1
A7: SIRT3 | B7: 0.22909975 | C7: -0.075075296 | D7: 1.4820515 | E7: -0.45047721 | F7: -0.46792738 | G7: -1.3768085 | H7: 0.18298607 | I7: 0.056491148 | J7: 0.47652406 | K7: 4.5436336 | L7: -0.3422584 | M7: 0.27553694 | N7: -0.464107 | O7: -0.6848611 | P7: -0.94082019 | Q7: -0.61013743 | R7: -0.94082019 | S7: 0.59945778 | T7: -0.61447515 | U7: 0.27553694 | V7: 0.52438673 | W7: -0.76370272 | X7: -0.14333718 | Y7: -1.2589092 | Z7: 0.50453559 | AA7: -0.22629121 | AB7: -0.68397208 | AC7: -0.87930311 | AD7: 0.92039801 | AE7: -0.028569345 | AF7: 0.087173889 | AG7: -0.058891283 | AH7: -1.0445527 | AI7: 1.9152838 | AJ7: -0.95858805 | AK7: -0.20675993 | AL7: -0.050373109 | AM7: -0.48799215 | AN7: 2.0805757 | AO7: -1.3928884 | AP7: -0.69114917 | AQ7: 0.092093361 | AR7: 1.1776707 | AS7: 1.6557689 | AT7: -0.12226315 | AU7: -1.3663607 | AV7: -1.3663607 | AW7: -0.00019658686 | AX7: -0.36462642 | AY7: -0.35934456 | AZ7: 2.1517078 | BA7: -0.33980368 | BB7: -0.12826406 | BC7: -0.21985713 | BD7: 0.15136868 | BE7: -0.53806492 | BF7: -0.45367286 | BG7: 0.98463741 | BH7: 0.44658716 | BI7: -0.48204496 | BJ7: 0.34829564 | BK7: 0.31351395 | BL7: 0.10859208
A8: NEU3 | B8: 0.26785956 | C8: -1.6292323 | D8: 0.05342649 | E8: -0.39037925 | F8: 2.1914064 | G8: -0.24358091 | H8: -0.98508457 | I8: 2.2184107 | J8: 0.3061291 | K8: 0.62152386 | L8: -0.45634953 | M8: -0.86045047 | N8: -0.73397731 | O8: 0.58800321 | P8: -0.18294142 | Q8: -1.1729772 | R8: -0.18294142 | S8: -0.83307632 | T8: 0.48644672 | U8: 0.17422327 | V8: -1.2782532 | W8: 2.1551792 | X8: -0.6709087 | Y8: -0.60249368 | Z8: -0.3073794 | AA8: 0.1906404 | AB8: -0.27353468 | AC8: 1.1870119 | AD8: -0.17571206 | AE8: 1.0309479 | AF8: 1.516476 | AG8: -0.21838181 | AH8: 0.86508334 | AI8: -1.1687577 | AJ8: 0.58040981 | AK8: -0.70660468 | AL8: 0.39660932 | AM8: 0.51447731 | AN8: 2.2171535 | AO8: -0.43207253 | AP8: 0.081818403 | AQ8: 0.36624517 | AR8: -1.0204084 | AS8: 0.73045814 | AT8: -1.2405779 | AU8: -0.57245165 | AV8: -0.57245165 | AW8: -0.56604761 | AX8: 2.1147737 | AY8: -1.6022924 | AZ8: -0.41198491 | BA8: -0.12516892 | BB8: 1.0525983 | BC8: -0.92410086 | BD8: -0.61870053 | BE8: -0.70061925 | BF8: 0.27666782 | BG8: 2.0043181 | BH8: -1.849809 | BI8: -0.89535629 | BJ8: 0.45232573 | BK8: -0.34349909 | BL8: 0.30793407
A9: UBE2D4 | B9: -0.80096226 | C9: 0.60235392 | D9: 1.5676311 | E9: -0.23821307 | F9: 0.26446523 | G9: -0.19451375 | H9: -1.3804737 | I9: -0.26839118 | J9: -0.20330732 | K9: -1.0719117 | L9: -1.5484444 | M9: 1.2477579 | N9: -1.404427 | O9: -0.88888595 | P9: 0.49368081 | Q9: -1.0965184 | R9: 0.49368081 | S9: 0.8063254 | T9: -1.0447932 | U9: 0.038018173 | V9: -0.79033611 | W9: -0.63134112 | X9: -0.64894107 | Y9: 1.1211301 | Z9: -0.07261842 | AA9: 0.46713225 | AB9: -0.76946634 | AC9: -0.22005765 | AD9: 1.1797103 | AE9: 1.1884891 | AF9: 1.6116054 | AG9: 1.4911247 | AH9: 1.3150797 | AI9: 1.1062697 | AJ9: -1.215743 | AK9: 0.3070453 | AL9: 1.9089551 | AM9: -0.27427235 | AN9: -1.3095654 | AO9: 0.97357254 | AP9: 1.3654294 | AQ9: -0.25591431 | AR9: -1.409497 | AS9: -1.8418165 | AT9: 0.41919125 | AU9: 1.4126011 | AV9: 1.4126011 | AW9: 0.26987943 | AX9: -0.36943576 | AY9: -0.45760171 | AZ9: -2.1031413 | BA9: 0.40272077 | BB9: -0.84500831 | BC9: -0.44027033 | BD9: 0.30242221 | BE9: -0.60930574 | BF9: -0.69113819 | BG9: 0.50788989 | BH9: 0.077989257 | BI9: -0.34383474 | BJ9: -0.31846606 | BK9: 1.9590324 | BL9: -0.55517088
A10: SNX11 | B10: -0.69521883 | C10: -0.93137512 | D10: 0.10306279 | E10: 0.11640977 | F10: -0.21570663 | G10: 0.41219052 | H10: -1.313468 | I10: -0.067172225 | J10: 0.50575848 | K10: -0.35477298 | L10: -1.5560341 | M10: -0.46833265 | N10: -2.2426715 | O10: 1.13716 | P10: 0.97238928 | Q10: -0.64467573 | R10: 0.97238928 | S10: -0.65886844 | T10: -2.0973455 | U10: 1.0842682 | V10: 0.93777203 | W10: 1.8294954 | X10: -1.3597046 | Y10: 1.5857387 | Z10: -0.51244011 | AA10: 0.2146609 | AB10: 0.72613387 | AC10: 1.0762913 | AD10: 0.35620505 | AE10: 2.005296 | AF10: 1.8576854 | AG10: 0.054039241 | AH10: -0.722177 | AI10: 1.6234378 | AJ10: -1.172212 | AK10: 0.18184271 | AL10: 0.53371349 | AM10: -1.1597243 | AN10: -1.5724232 | AO10: -0.94047729 | AP10: 0.56362258 | AQ10: -0.56446314 | AR10: 0.16392172 | AS10: -0.32270557 | AT10: -0.22498636 | AU10: -0.63736891 | AV10: -0.63736891 | AW10: -0.49394654 | AX10: -0.27256727 | AY10: 0.30432556 | AZ10: -1.2896195 | BA10: -0.3595221 | BB10: -0.60187399 | BC10: 1.8777367 | BD10: 0.6940029 | BE10: 0.45027115 | BF10: -0.50330905 | BG10: 0.89607309 | BH10: -0.76885916 | BI10: -0.042450972 | BJ10: 0.96331095 | BK10: 1.4890159 | BL10: -0.28437912
A11: N4BP1 | B11: -0.5622596 | C11: 1.1295897 | D11: 0.46392861 | E11: 0.011262396 | F11: -0.4731821 | G11: -0.70827907 | H11: 0.56318388 | I11: 0.63333789 | J11: -1.2268724 | K11: 3.5442647 | L11: -0.50227598 | M11: 0.51381312 | N11: -0.88422226 | O11: -1.2621801 | P11: 0.86457419 | Q11: 0.88807406 | R11: 0.86457419 | S11: -0.23927709 | T11: 0.45867578 | U11: 0.90900542 | V11: 0.9009644 | W11: -0.070042788 | X11: -1.1777903 | Y11: 1.7384225 | Z11: 0.76308142 | AA11: 0.80846399 | AB11: -1.5811036 | AC11: 1.7348987 | AD11: -0.41244658 | AE11: -0.47779171 | AF11: 0.2269632 | AG11: 0.51363491 | AH11: 0.27639426 | AI11: -0.54824479 | AJ11: -0.45007179 | AK11: -0.61223027 | AL11: -0.63325452 | AM11: -0.62524932 | AN11: -0.07604853 | AO11: -1.2676955 | AP11: 1.4006496 | AQ11: -0.63576283 | AR11: 0.39372068 | AS11: 0.65810092 | AT11: -0.62389484 | AU11: -0.86341048 | AV11: -0.86341048 | AW11: 0.1248527 | AX11: -0.20099241 | AY11: 1.9627445 | AZ11: 0.17194737 | BA11: -0.70144092 | BB11: -1.0478848 | BC11: 0.61886195 | BD11: -1.0984505 | BE11: 1.7974861 | BF11: -0.50916723 | BG11: -0.99153554 | BH11: -1.8611088 | BI11: 0.55652948 | BJ11: -1.27338 | BK11: -0.60668621 | BL11: -0.42435723
A12: FGF22 | B12: 0.80969261 | C12: 0.18923312 | D12: 2.013523 | E12: -0.39411716 | F12: 0.21457236 | G12: 1.1513082 | H12: 0.11915664 | I12: -0.2558581 | J12: 2.2901819 | K12: 0.33051289 | L12: 0.76289679 | M12: -0.62562726 | N12: 0.95778766 | O12: -0.47244451 | P12: -0.8135358 | Q12: 2.7575599 | R12: -0.8135358 | S12: -1.6975761 | T12: 1.8992777 | U12: 0.74079522 | V12: -1.6024865 | W12: -0.24635101 | X12: -0.67036355 | Y12: -1.4625561 | Z12: 0.2947543 | AA12: 0.13623349 | AB12: -0.59338186 | AC12: -0.39747823 | AD12: 0.18481711 | AE12: 0.34959912 | AF12: -0.61626019 | AG12: -0.38103886 | AH12: 0.65939729 | AI12: -1.1412665 | AJ12: 0.48657324 | AK12: 0.7242682 | AL12: -0.86039831 | AM12: -0.087123637 | AN12: -0.48550533 | AO12: -0.65020867 | AP12: 2.7379389 | AQ12: -0.14337844 | AR12: -1.2630186 | AS12: -2.017436 | AT12: -0.55138182 | AU12: 0.98352109 | AV12: 0.98352109 | AW12: -0.26492724 | AX12: -0.28160139 | AY12: 1.5517496 | AZ12: -1.2755715 | BA12: -0.3495764 | BB12: -0.30540057 | BC12: 0.089053972 | BD12: 0.085762857 | BE12: -0.89311119 | BF12: -0.6440684 | BG12: -0.78377927 | BH12: 0.0017872111 | BI12: 0.12328978 | BJ12: -0.21083703 | BK12: -0.16333643 | BL12: -0.21422757
A13: PEX16 | B13: 0.41278542 | C13: 1.2367297 | D13: -0.86619966 | E13: 0.56872312 | F13: -0.061177908 | G13: 0.72906379 | H13: 0.75054234 | I13: 0.73909728 | J13: 1.4231743 | K13: -2.3520607 | L13: -1.0287248 | M13: -0.53542932 | N13: 1.5355532 | O13: -0.20911876 | P13: 0.062243687 | Q13: -0.022797815 | R13: 0.062243687 | S13: -1.1787468 | T13: -0.68564845 | U13: -0.36544091 | V13: 0.16162466 | W13: -0.0064811075 | X13: 0.65605914 | Y13: 0.35668244 | Z13: -1.889651 | AA13: -0.30429755 | AB13: 0.99428617 | AC13: -0.055666325 | AD13: 1.2089976 | AE13: 1.1731894 | AF13: -1.6998108 | AG13: -1.4160144 | AH13: -0.14050663 | AI13: 1.8509153 | AJ13: 0.90982397 | AK13: 0.11196736 | AL13: -1.0395274 | AM13: -0.96629021 | AN13: 1.0884812 | AO13: 0.39216867 | AP13: -0.099085496 | AQ13: -0.6556839 | AR13: -1.1233798 | AS13: -0.70206384 | AT13: -0.35067163 | AU13: -1.7332157 | AV13: -1.7332157 | AW13: 0.28056233 | AX13: 0.32111369 | AY13: 0.49628386 | AZ13: -1.129649 | BA13: -0.18276419 | BB13: -0.64288496 | BC13: 2.98257 | BD13: 0.34791307 | BE13: -0.38275179 | BF13: 1.593084 | BG13: 0.34750979 | BH13: 0.17690934 | BI13: 0.25066497 | BJ13: -0.59017417 | BK13: 0.96103812 | BL13: -0.03287073
A14: OR7C2 | B14: -0.12554064 | C14: 0.18939945 | D14: 0.3448538 | E14: -1.0480234 | F14: -0.19766945 | G14: 0.16876602 | H14: -0.46421042 | I14: 0.98838387 | J14: -1.5320013 | K14: 5.2813565 | L14: -0.31821824 | M14: 0.32116378 | N14: -0.64236318 | O14: -1.1355977 | P14: -0.39757322 | Q14: 0.42383 | R14: -0.39757322 | S14: 0.78818475 | T14: -0.82531445 | U14: 0.3130723 | V14: -0.033497167 | W14: -0.14760906 | X14: 0.4359342 | Y14: 1.1172364 | Z14: -1.1300809 | AA14: -0.25875208 | AB14: 1.1442804 | AC14: -0.039226669 | AD14: -0.48202229 | AE14: 0.92863464 | AF14: 1.4591145 | AG14: 0.027894926 | AH14: -0.92083613 | AI14: -0.99439934 | AJ14: -0.097080268 | AK14: -0.43835519 | AL14: 1.0376757 | AM14: -0.41162011 | AN14: 0.21902304 | AO14: -1.8076001 | AP14: -0.51440479 | AQ14: -0.46161025 | AR14: 0.16380598 | AS14: 0.49291488 | AT14: -0.17887525 | AU14: -0.7943174 | AV14: -0.7943174 | AW14: 0.49093273 | AX14: -1.4878557 | AY14: 0.0012974652 | AZ14: 0.35814381 | BA14: -0.42010785 | BB14: 0.40579132 | BC14: -0.49795479 | BD14: 0.42150002 | BE14: -0.15089246 | BF14: 0.52078645 | BG14: 0.57624643 | BH14: 0.68339843 | BI14: -0.46747666 | BJ14: -1.0999438 | BK14: -0.43164946 | BL14: 1.8409486
A15: EPS8L1 | B15: -0.11915078 | C15: -0.51432721 | D15: -0.55307375 | E15: 1.3030252 | F15: -0.99845557 | G15: -1.2746177 | H15: 0.1606918 | I15: -0.33841449 | J15: 0.59632228 | K15: 0.24110833 | L15: -0.38583462 | M15: 1.0038425 | N15: -2.5446951 | O15: 0.64797679 | P15: 1.6741961 | Q15: 0.2772384 | R15: 1.6741961 | S15: -0.21501494 | T15: -0.60890381 | U15: -0.988158 | V15: 0.74135185 | W15: -0.35162022 | X15: 0.41227825 | Y15: -0.57148523 | Z15: 2.8044591 | AA15: -0.15845887 | AB15: 1.4730054 | AC15: 0.8339565 | AD15: 0.045463605 | AE15: -0.82824598 | AF15: 2.2865272 | AG15: 0.58772779 | AH15: -2.0346504 | AI15: 0.34685476 | AJ15: -0.0047709274 | AK15: 0.20764722 | AL15: 0.63247884 | AM15: -0.066078515 | AN15: 0.23142483 | AO15: 1.5583921 | AP15: -0.2401206 | AQ15: -0.26124928 | AR15: 0.67093874 | AS15: -1.16916 | AT15: 1.4352396 | AU15: -0.033917323 | AV15: -0.033917323 | AW15: 0.61912353 | AX15: -0.32007256 | AY15: 0.09515057 | AZ15: -0.84363124 | BA15: -0.30372026 | BB15: 0.29978975 | BC15: -0.092550274 | BD15: -0.87762405 | BE15: -1.5989993 | BF15: 0.2148006 | BG15: -2.0520573 | BH15: -0.64116792 | BI15: 0.10464572 | BJ15: -0.094075938 | BK15: -0.53354556 | BL15: -1.5280884
A16: XCR1 | B16: 0.34322328 | C16: 0.49768114 | D16: 1.0018782 | E16: -0.40324039 | F16: -0.10130542 | G16: 0.13098782 | H16: -1.145537 | I16: 0.091672443 | J16: 3.4753865 | K16: 3.1739035 | L16: 0.17486235 | M16: -1.6463377 | N16: -0.85077766 | O16: -0.48113703 | P16: -1.2717837 | Q16: -0.1104021 | R16: -1.2717837 | S16: 0.50651834 | T16: -0.74065114 | U16: 0.45008309 | V16: -0.34270317 | W16: 0.66067008 | X16: -0.050870332 | Y16: -0.47312902 | Z16: 0.8924421 | AA16: 0.32597028 | AB16: -1.2968266 | AC16: 0.19658082 | AD16: 0.41533977 | AE16: 2.1175183 | AF16: 0.026395064 | AG16: -1.451903 | AH16: -0.95057658 | AI16: -0.82287134 | AJ16: -0.28356241 | AK16: 0.23543244 | AL16: 0.51687265 | AM16: -0.70553298 | AN16: -0.99774962 | AO16: -1.0221903 | AP16: -0.085107577 | AQ16: 0.24794985 | AR16: 0.15360455 | AS16: -0.68176993 | AT16: 0.11553768 | AU16: 0.12317989 | AV16: 0.12317989 | AW16: 0.54431872 | AX16: -0.43222694 | AY16: 2.1486854 | AZ16: 0.97566917 | BA16: -0.68459951 | BB16: -0.2124548 | BC16: -1.2539807 | BD16: -0.54962453 | BE16: -0.81097893 | BF16: -0.446766 | BG16: -1.2448132 | BH16: 0.6475585 | BI16: 0.25738551 | BJ16: 0.11470321 | BK16: 1.2862365 | BL16: 0.85176645
A17: OBP2A | B17: -0.29409548 | C17: -1.2528851 | D17: 3.9633498 | E17: -0.43904377 | F17: -0.62198973 | G17: 0.69880636 | H17: 0.34345811 | I17: -0.65330294 | J17: 0.25329681 | K17: 3.1846518 | L17: -0.12039906 | M17: -0.048528728 | N17: -0.62370521 | O17: -0.38304974 | P17: -0.062323238 | Q17: -0.7601812 | R17: -0.062323238 | S17: 0.4753364 | T17: -0.49199295 | U17: -0.43512874 | V17: 0.76742293 | W17: 0.077085612 | X17: -0.92981348 | Y17: 2.0864702 | Z17: 0.71768951 | AA17: 0.79815528 | AB17: 1.4474894 | AC17: 0.22483011 | AD17: -0.75628871 | AE17: -0.35438284 | AF17: 0.83561865 | AG17: 0.18545887 | AH17: 0.0045339891 | AI17: -0.25221598 | AJ17: -0.97534612 | AK17: -0.045954298 | AL17: 0.49145499 | AM17: 0.47173747 | AN17: 0.61557425 | AO17: -0.99481549 | AP17: -1.9638426 | AQ17: -0.9996747 | AR17: 0.95683866 | AS17: -0.14924771 | AT17: 0.46357111 | AU17: -0.45035647 | AV17: -0.45035647 | AW17: -0.47892856 | AX17: -1.353235 | AY17: -1.1538808 | AZ17: 0.65100083 | BA17: -0.463711 | BB17: -1.7884961 | BC17: 0.10247043 | BD17: 0.23344377 | BE17: 0.057435312 | BF17: -0.39136219 | BG17: -0.58045954 | BH17: -1.0272594 | BI17: 0.016696364 | BJ17: -0.098328399 | BK17: 1.5133611 | BL17: 0.26966705
A18: PPA2 | B18: -1.2763029 | C18: -1.1371583 | D18: 1.2824914 | E18: -1.253526 | F18: -0.029383632 | G18: -1.6026442 | H18: -0.62584474 | I18: -0.34452439 | J18: 0.48815652 | K18: 1.6562283 | L18: -1.1371583 | M18: -1.6275727 | N18: -1.9377086 | O18: -0.6830465 | P18: 0.62154844 | Q18: 1.2673169 | R18: 0.62154844 | S18: 1.0485737 | T18: 0.3359764 | U18: 0.50480554 | V18: -0.25792354 | W18: -0.60198078 | X18: -1.3033162 | Y18: 0.8085945 | Z18: 0.23539023 | AA18: 0.94405339 | AB18: 0.70936258 | AC18: -0.70760875 | AD18: -1.326974 | AE18: 0.26645225 | AF18: 1.5702455 | AG18: 0.65641707 | AH18: 0.10609215 | AI18: -0.0010562993 | AJ18: -0.80653668 | AK18: -0.83394555 | AL18: -0.42978604 | AM18: -0.13608896 | AN18: 1.1768564 | AO18: 0.48815652 | AP18: 0.1479459 | AQ18: -0.40190491 | AR18: 1.2257107 | AS18: 1.6123833 | AT18: 2.413665 | AU18: -0.38620498 | AV18: -0.38620498 | AW18: 0.44950236 | AX18: -1.502288 | AY18: -1.3817395 | AZ18: 1.3683581 | BA18: -0.85707216 | BB18: -0.83713583 | BC18: -0.20392966 | BD18: -1.0521565 | BE18: 1.3947422 | BF18: -0.15213778 | BG18: 1.2922315 | BH18: 1.2005809 | BI18: -0.78382447 | BJ18: -0.058038742 | BK18: 0.4019487 | BL18: -0.23261046
... A26: PLLP | B26: 0.76379011 | C26: 0.22007744 | D26: 0.15767703 | E26: 0.65952532 | F26: 0.48808299 | G26: 0.36048047 | H26: 0.86426418 | I26: 3.2406907 | J26: 0.2518238 | K26: -0.27360645 | L26: 0.87029303 | M26: -0.87295663 | N26: 0.064517578 | O26: -1.3629071 | P26: -0.3107336 | Q26: -0.16882556 | R26: -0.3107336 | S26: -0.37111521 | T26: 0.062689109 | U26: -0.85845594 | V26: -0.87544668 | W26: -0.94623546 | X26: 1.2108991 | Y26: -0.93844904 | Z26: 0.47126653 | AA26: -0.48564279 | AB26: 1.491302 | AC26: 1.535749 | AD26: 0.12923355 | AE26: -0.098998781 | AF26: -0.3742555 | AG26: -0.51282149 | AH26: -0.44925958 | AI26: -1.0401682 | AJ26: 0.043402172 | AK26: -1.4445554 | AL26: -0.041486072 | AM26: -0.32414978 | AN26: 1.4596219 | AO26: -0.92314628 | AP26: -0.90535523 | AQ26: 0.62903897 | AR26: 2.6729797 | AS26: -0.74756576 | AT26: -1.0059195 | AU26: -1.0076322 | AV26: -1.0076322 | AW26: -0.468751 | AX26: 0.65515749 | AY26: -0.72943037 | AZ26: 2.389268 | BA26: 0.85141884 | BB26: 0.89574106 | BC26: -0.87295663 | BD26: -0.85334933 | BE26: -0.25980454 | BF26: 1.9997454 | BG26: -0.73403199 | BH26: 2.6075267e-05 | BI26: -0.53308843 | BJ26: -0.50976516 | BK26: -1.079341 | BL26: -0.74018904

Sheet 48350
A1: ID_REF | B1: GSM300166 | C1: GSM300167 | D1: GSM300168 | E1: GSM300169 | F1: GSM300170 | G1: GSM300171 | H1: GSM300172 | I1: GSM300173 | J1: GSM300174 | K1: GSM300175 | L1: GSM300176 | M1: GSM300177 | N1: GSM300178 | O1: GSM300179 | P1: GSM300180 | Q1: GSM300181 | R1: GSM300182 | S1: GSM300183 | T1: GSM300185 | U1: GSM300186 | V1: GSM300187 | W1: GSM300188 | X1: GSM300189 | Y1: GSM300190 | Z1: GSM300191 | AA1: GSM300192 | AB1: GSM300193 | AC1: GSM300194 | AD1: GSM300195 | AE1: GSM300196 | AF1: GSM300197 | AG1: GSM300198 | AH1: GSM300199 | AI1: GSM300200 | AJ1: GSM300201 | AK1: GSM300202 | AL1: GSM300203 | AM1: GSM300204 | AN1: GSM300205 | AO1: GSM300206 | AP1: GSM300207 | AQ1: GSM300208 | AR1: GSM300209 | AS1: GSM300210 | AT1: GSM300211 | AU1: GSM300212 | AV1: GSM300213 | AW1: GSM300214 | AX1: GSM300215 | AY1: GSM300216 | AZ1: GSM300217 | BA1: GSM300218 | BB1: GSM300219 | BC1: GSM300220 | BD1: GSM300221 | BE1: GSM300222 | BF1: GSM300223 | BG1: GSM300224 | BH1: GSM300225 | BI1: GSM300226 | BJ1: GSM300227 | BK1: GSM300228 | BL1: GSM300229 | BM1: GSM300230 | BN1: GSM300231 | BO1: GSM300232 | BP1: GSM300233 | BQ1: GSM300234 | BR1: GSM300235 | BS1: GSM300236 | BT1: GSM300237 | BU1: GSM300238 | BV1: GSM300239 | BW1: GSM300240 | BX1: GSM300241 | BY1: GSM300242 | BZ1: GSM300243 | CA1: GSM300244 | CB1: GSM300245 | CC1: GSM300246 | CD1: GSM300247 | CE1: GSM300248 | CF1: GSM300249 | CG1: GSM300250 | CH1: GSM300251 | CI1: GSM300252 | CJ1: GSM300253 | CK1: GSM300254 | CL1: GSM300255 | CM1: GSM300256 | CN1: GSM300258 | CO1: GSM300259 | CP1: GSM300260 | CQ1: GSM300261 | CR1: GSM300262 | CS1: GSM300263 | CT1: GSM300264 | CU1: GSM300265 | CV1: GSM300266 | CW1: GSM300267 | CX1: GSM300268 | CY1: GSM300269 | CZ1: GSM300270 | DA1: GSM300271 | DB1: GSM300272 | DC1: GSM300273 | DD1: GSM300274 | DE1: GSM300275 | DF1: GSM300276 | DG1: GSM300277 | DH1: GSM300278 | DI1: GSM300279 | DJ1: GSM300280 | DK1: GSM300281 | DL1: GSM300282 | DM1: GSM300283 | DN1: GSM300284 | DO1: GSM300285 | DP1: GSM300286 | DQ1: GSM300287 | DR1: GSM300288 | DS1: GSM300289 | DT1: GSM300290 | DU1: GSM300291 | DV1: GSM300292 | DW1: GSM300293 | DX1: GSM300294 | DY1: GSM300295 | DZ1: GSM300296 | EA1: GSM300297 | EB1: GSM300298 | EC1: GSM300299 | ED1: GSM300300 | EE1: GSM300301 | EF1: GSM300302 | EG1: GSM300303 | EH1: GSM300304 | EI1: GSM300305 | EJ1: GSM300306 | EK1: GSM300307 | EL1: GSM300308 | EM1: GSM300309 | EN1: GSM300310 | EO1: GSM300311 | EP1: GSM300312 | EQ1: GSM300313 | ER1: GSM300314 | ES1: GSM300315 | ET1: GSM300316 | EU1: GSM300317 | EV1: GSM300318 | EW1: GSM300319 | EX1: GSM300320 | EY1: GSM300321 | EZ1: GSM300322 | FA1: GSM300323 | FB1: GSM300324 | FC1: GSM300325 | FD1: GSM300326 | FE1: GSM300327 | FF1: GSM300328 | FG1: GSM300329 | FH1: GSM300330 | FI1: GSM300331 | FJ1: GSM300332 | FK1: GSM300333 | FL1: GSM300335 | FM1: GSM300338 | FN1: GSM300339 | FO1: GSM300340 | FP1: GSM300341 | FQ1: GSM318840 | FR1: GSM350078 | FS1: GSM1176196 | FT1: GSM1176197 | FU1: GSM1176198 | FV1: GSM1176199 | FW1: GSM1176200 | FX1: GSM1176201 | FY1: GSM1176202 | FZ1: GSM1176203 | GA1: GSM1176204 | GB1: GSM1176205 | GC1: GSM1176206 | GD1: GSM1176207 | GE1: GSM1176208 | GF1: GSM1176209 | GG1: GSM1176210 | GH1: GSM1176211 | GI1: GSM1176212 | GJ1: GSM1176213 | GK1: GSM1176214 | GL1: GSM1176215 | GM1: GSM1176216 | GN1: GSM1176217 | GO1: GSM1176218 | GP1: GSM1176219 | GQ1: GSM1176220 | GR1: GSM1176221 | GS1: GSM1176222 | GT1: GSM1176223 | GU1: GSM1176224 | GV1: GSM1176225 | GW1: GSM1176226 | GX1: GSM1176227 | GY1: GSM1176228 | GZ1: GSM1176229 | HA1: GSM1176230 | HB1: GSM1176231 | HC1: GSM1176232 | HD1: GSM1176233 | HE1: GSM1176234 | HF1: GSM1176235 | HG1: GSM1176236 | HH1: GSM1176237 | HI1: GSM1176238 | HJ1: GSM1176239 | HK1: GSM1176240 | HL1: GSM1176241 | HM1: GSM1176242 | HN1: GSM1176243 | HO1: GSM1176244 | HP1: GSM1176245 | HQ1: GSM1176246 | HR1: GSM1176247 | HS1: GSM1176248 | HT1: GSM1176249 | HU1: GSM1176250 | HV1: GSM1176251 | HW1: GSM1176252 | HX1: GSM1176253 | HY1: GSM1176254 | HZ1: GSM1176255 | IA1: GSM1176256 | IB1: GSM1176257 | IC1: GSM1176258 | ID1: GSM1176259 | IE1: GSM1176260 | IF1: GSM1176261 | IG1: GSM1176262 | IH1: GSM1176263 | II1: GSM1176264 | IJ1: GSM1176265 | IK1: GSM1176266 | IL1: GSM1176267 | IM1: GSM1176268 | IN1: GSM1176269 | IO1: GSM1176270 | IP1: GSM1176271 | IQ1: GSM1176272 | IR1: GSM1176273 | IS1: GSM1176274 | IT1: GSM1176275
A2: age | B2: 91 | C2: 91 | D2: 96 | E2: 82 | F2: 84 | G2: 87 | H2: 82 | I2: 45 | J2: 45 | K2: 45 | L2: 45 | M2: 95 | N2: 95 | O2: 95 | P2: 95 | Q2: 80 | R2: 80 | S2: 80 | T2: 91 | U2: 45 | V2: 45 | W2: 45 | X2: 74 | Y2: 74 | Z2: 74 | AA2: 99 | AB2: 99 | AC2: 99 | AD2: 99 | AE2: 74 | AF2: 74 | AG2: 74 | AH2: 74 | AI2: 92 | AJ2: 92 | AK2: 91 | AL2: 91 | AM2: 83 | AN2: 83 | AO2: 83 | AP2: 83 | AQ2: 28 | AR2: 28 | AS2: 28 | AT2: 28 | AU2: 74 | AV2: 74 | AW2: 97 | AX2: 97 | AY2: 97 | AZ2: 97 | BA2: 34 | BB2: 34 | BC2: 34 | BD2: 34 | BE2: 74 | BF2: 74 | BG2: 74 | BH2: 74 | BI2: 90 | BJ2: 91 | BK2: 44 | BL2: 44 | BM2: 37 | BN2: 37 | BO2: 37 | BP2: 37 | BQ2: 85 | BR2: 85 | BS2: 85 | BT2: 85 | BU2: 70 | BV2: 70 | BW2: 70 | BX2: 70 | BY2: 64 | BZ2: 64 | CA2: 64 | CB2: 64 | CC2: 70 | CD2: 70 | CE2: 85 | CF2: 85 | CG2: 85 | CH2: 91 | CI2: 21 | CJ2: 21 | CK2: 21 | CL2: 69 | CM2: 69 | CN2: 40 | CO2: 40 | CP2: 40 | CQ2: 52 | CR2: 52 | CS2: 52 | CT2: 52 | CU2: 75 | CV2: 75 | CW2: 86 | CX2: 86 | CY2: 86 | CZ2: 86 | DA2: 26 | DB2: 26 | DC2: 26 | DD2: 26 | DE2: 20 | DF2: 20 | DG2: 20 | DH2: 20 | DI2: 20 | DJ2: 20 | DK2: 20 | DL2: 20 | DM2: 36 | DN2: 36 | DO2: 69 | DP2: 69 | DQ2: 69 | DR2: 69 | DS2: 44 | DT2: 44 | DU2: 44 | DV2: 44 | DW2: 48 | DX2: 48 | DY2: 48 | DZ2: 48 | EA2: 30 | EB2: 30 | EC2: 30 | ED2: 20 | EE2: 20 | EF2: 20 | EG2: 20 | EH2: 33 | EI2: 33 | EJ2: 33 | EK2: 33 | EL2: 22 | EM2: 22 | EN2: 22 | EO2: 22 | EP2: 42 | EQ2: 42 | ER2: 42 | ES2: 42 | ET2: 45 | EU2: 45 | EV2: 45 | EW2: 45 | EX2: 47 | EY2: 47 | EZ2: 47 | FA2: 47 | FB2: 69 | FC2: 69 | FD2: 69 | FE2: 69 | FF2: 91 | FG2: 91 | FH2: 91 | FI2: 91 | FJ2: 75 | FK2: 75 | FL2: 75 | FM2: 82 | FN2: 82 | FO2: 82 | FP2: 82 | FQ2: 66 | FR2: 80 | FS2: 76 | FT2: 86 | FU2: 82 | FV2: 85 | FW2: 90 | FX2: 90 | FY2: 90 | FZ2: 91 | GA2: 76 | GB2: 85 | GC2: 85 | GD2: 86 | GE2: 87 | GF2: 94 | GG2: 94 | GH2: 60 | GI2: 74 | GJ2: 76 | GK2: 79 | GL2: 86 | GM2: 85 | GN2: 90 | GO2: 90 | GP2: 90 | GQ2: 91 | GR2: 76 | GS2: 76 | GT2: 79 | GU2: 80 | GV2: 85 | GW2: 86 | GX2: 87 | GY2: 94 | GZ2: 94 | HA2: 60 | HB2: 74 | HC2: 76 | HD2: 86 | HE2: 82 | HF2: 82 | HG2: 85 | HH2: 85 | HI2: 90 | HJ2: 90 | HK2: 90 | HL2: 90 | HM2: 91 | HN2: 94 | HO2: 95 | HP2: 76 | HQ2: 76 | HR2: 79 | HS2: 85 | HT2: 85 | HU2: 86 | HV2: 87 | HW2: 94 | HX2: 94 | HY2: 94 | HZ2: 74 | IA2: 76 | IB2: 86 | IC2: 82 | ID2: 85 | IE2: 85 | IF2: 88 | IG2: 90 | IH2: 90 | II2: 90 | IJ2: 90 | IK2: 91 | IL2: 94 | IM2: 95 | IN2: 76 | IO2: 85 | IP2: 85 | IQ2: 86 | IR2: 94 | IS2: 94 | IT2: 94
A3: sex | B3: F | C3: F | D3: F | E3: M | F3: M | G3: F | H3: F | I3: M | J3: M | K3: M | L3: M | M3: M | N3: M | O3: M | P3: M | Q3: M | R3: M | S3: M | T3: M | U3: F | V3: F | W3: F | X3: F | Y3: F | Z3: F | AA3: F | AB3: F | AC3: F | AD3: F | AE3: F | AF3: F | AG3: F | AH3: F | AI3: F | AJ3: F | AK3: F | AL3: F | AM3: M | AN3: M | AO3: M | AP3: M | AQ3: M | AR3: M | AS3: M | AT3: M | AU3: F | AV3: F | AW3: M | AX3: M | AY3: M | AZ3: M | BA3: F | BB3: F | BC3: F | BD3: F | BE3: F | BF3: F | BG3: F | BH3: F | BI3: F | BJ3: F | BK3: F | BL3: F | BM3: F | BN3: F | BO3: F | BP3: F | BQ3: M | BR3: M | BS3: M | BT3: M | BU3: F | BV3: F | BW3: F | BX3: F | BY3: F | BZ3: F | CA3: F | CB3: F | CC3: M | CD3: M | CE3: F | CF3: F | CG3: F | CH3: F | CI3: M | CJ3: M | CK3: M | CL3: M | CM3: M | CN3: M | CO3: M | CP3: M | CQ3: M | CR3: M | CS3: M | CT3: M | CU3: M | CV3: M | CW3: M | CX3: M | CY3: M | CZ3: M | DA3: F | DB3: F | DC3: F | DD3: F | DE3: M | DF3: M | DG3: M | DH3: M | DI3: M | DJ3: M | DK3: M | DL3: M | DM3: F | DN3: F | DO3: M | DP3: M | DQ3: M | DR3: M | DS3: F | DT3: F | DU3: F | DV3: F | DW3: F | DX3: F | DY3: F | DZ3: F | EA3: F | EB3: F | EC3: F | ED3: M | EE3: M | EF3: M | EG3: M | EH3: M | EI3: M | EJ3: M | EK3: M | EL3: M | EM3: M | EN3: M | EO3: M | EP3: M | EQ3: M | ER3: M | ES3: M | ET3: M | EU3: M | EV3: M | EW3: M | EX3: F | EY3: F | EZ3: F | FA3: F | FB3: M | FC3: M | FD3: M | FE3: M | FF3: F | FG3: F | FH3: F | FI3: F | FJ3: M | FK3: M | FL3: M | FM3: F | FN3: F | FO3: F | FP3: F | FQ3: M | FR3: M | FS3: F | FT3: F | FU3: F | FV3: F | FW3: F | FX3: F | FY3: F | FZ3: F | GA3: M | GB3: M | GC3: M | GD3: M | GE3: M | GF3: M | GG3: M | GH3: F | GI3: F | GJ3: F | GK3: F | GL3: F | GM3: F | GN3: F | GO3: F | GP3: F | GQ3: F | GR3: M | GS3: M | GT3: M | GU3: M | GV3: M | GW3: M | GX3: M | GY3: M | GZ3: M | HA3: F | HB3: F | HC3: F | HD3: F | HE3: F | HF3: F | HG3: F | HH3: F | HI3: F | HJ3: F | HK3: F | HL3: F | HM3: F | HN3: F | HO3: F | HP3: M | HQ3: M | HR3: M | HS3: M | HT3: M | HU3: M | HV3: M | HW3: M | HX3: M | HY3: M | HZ3: F | IA3: F | IB3: F | IC3: F | ID3: F | IE3: F | IF3: F | IG3: F | IH3: F | II3: F | IJ3: F | IK3: F | IL3: F | IM3: F | IN3: M | IO3: M | IP3: M | IQ3: M | IR3: M | IS3: M | IT3: M
A4: Group | B4: Control | C4: Control | D4: Control | E4: Control | F4: Control | G4: Control | H4: Control | I4: Control | J4: Control | K4: Control | L4: Control | M4: Control | N4: Control | O4: Control | P4: Control | Q4: Control | R4: Control | S4: Control | T4: Control | U4: Control | V4: Control | W4: Control | X4: Control | Y4: Control | Z4: Control | AA4: Control | AB4: Control | AC4: Control | AD4: Control | AE4: Control | AF4: Control | AG4: Control | AH4: Control | AI4: Control | AJ4: Control | AK4: Control | AL4: Control | AM4: Control | AN4: Control | AO4: Control | AP4: Control | AQ4: Control | AR4: Control | AS4: Control | AT4: Control | AU4: Control | AV4: Control | AW4: Control | AX4: Control | AY4: Control | AZ4: Control | BA4: Control | BB4: Control | BC4: Control | BD4: Control | BE4: Control | BF4: Control | BG4: Control | BH4: Control | BI4: Control | BJ4: Control | BK4: Control | BL4: Control | BM4: Control | BN4: Control | BO4: Control | BP4: Control | BQ4: Control | BR4: Control | BS4: Control | BT4: Control | BU4: Control | BV4: Control | BW4: Control | BX4: Control | BY4: Control | BZ4: Control | CA4: Control | CB4: Control | CC4: Control | CD4: Control | CE4: Control | CF4: Control | CG4: Control | CH4: Control | CI4: Control | CJ4: Control | CK4: Control | CL4: Control | CM4: Control | CN4: Control | CO4: Control | CP4: Control | CQ4: Control | CR4: Control | CS4: Control | CT4: Control | CU4: Control | CV4: Control | CW4: Control | CX4: Control | CY4: Control | CZ4: Control | DA4: Control | DB4: Control | DC4: Control | DD4: Control | DE4: Control | DF4: Control | DG4: Control | DH4: Control | DI4: Control | DJ4: Control | DK4: Control | DL4: Control | DM4: Control | DN4: Control | DO4: Control | DP4: Control | DQ4: Control | DR4: Control | DS4: Control | DT4: Control | DU4: Control | DV4: Control | DW4: Control | DX4: Control | DY4: Control | DZ4: Control | EA4: Control | EB4: Control | EC4: Control | ED4: Control | EE4: Control | EF4: Control | EG4: Control | EH4: Control | EI4: Control | EJ4: Control | EK4: Control | EL4: Control | EM4: Control | EN4: Control | EO4: Control | EP4: Control | EQ4: Control | ER4: Control | ES4: Control | ET4: Control | EU4: Control | EV4: Control | EW4: Control | EX4: Control | EY4: Control | EZ4: Control | FA4: Control | FB4: Control | FC4: Control | FD4: Control | FE4: Control | FF4: Control | FG4: Control | FH4: Control | FI4: Control | FJ4: Control | FK4: Control | FL4: Control | FM4: Control | FN4: Control | FO4: Control | FP4: Control | FQ4: Control | FR4: Control | FS4: Alzheimer | FT4: Alzheimer | FU4: Alzheimer | FV4: Alzheimer | FW4: Alzheimer | FX4: Alzheimer | FY4: Alzheimer | FZ4: Alzheimer | GA4: Alzheimer | GB4: Alzheimer | GC4: Alzheimer | GD4: Alzheimer | GE4: Alzheimer | GF4: Alzheimer | GG4: Alzheimer | GH4: Alzheimer | GI4: Alzheimer | GJ4: Alzheimer | GK4: Alzheimer | GL4: Alzheimer | GM4: Alzheimer | GN4: Alzheimer | GO4: Alzheimer | GP4: Alzheimer | GQ4: Alzheimer | GR4: Alzheimer | GS4: Alzheimer | GT4: Alzheimer | GU4: Alzheimer | GV4: Alzheimer | GW4: Alzheimer | GX4: Alzheimer | GY4: Alzheimer | GZ4: Alzheimer | HA4: Alzheimer | HB4: Alzheimer | HC4: Alzheimer | HD4: Alzheimer | HE4: Alzheimer | HF4: Alzheimer | HG4: Alzheimer | HH4: Alzheimer | HI4: Alzheimer | HJ4: Alzheimer | HK4: Alzheimer | HL4: Alzheimer | HM4: Alzheimer | HN4: Alzheimer | HO4: Alzheimer | HP4: Alzheimer | HQ4: Alzheimer | HR4: Alzheimer | HS4: Alzheimer | HT4: Alzheimer | HU4: Alzheimer | HV4: Alzheimer | HW4: Alzheimer | HX4: Alzheimer | HY4: Alzheimer | HZ4: Alzheimer | IA4: Alzheimer | IB4: Alzheimer | IC4: Alzheimer | ID4: Alzheimer | IE4: Alzheimer | IF4: Alzheimer | IG4: Alzheimer | IH4: Alzheimer | II4: Alzheimer | IJ4: Alzheimer | IK4: Alzheimer | IL4: Alzheimer | IM4: Alzheimer | IN4: Alzheimer | IO4: Alzheimer | IP4: Alzheimer | IQ4: Alzheimer | IR4: Alzheimer | IS4: Alzheimer | IT4: Alzheimer
A5: Braak Stage | B5: NA | C5: NA | D5: NA | E5: NA | F5: NA | G5: NA | H5: NA | I5: NA | J5: NA | K5: NA | L5: NA | M5: NA | N5: NA | O5: NA | P5: NA | Q5: NA | R5: NA | S5: NA | T5: NA | U5: NA | V5: NA | W5: NA | X5: NA | Y5: NA | Z5: NA | AA5: NA | AB5: NA | AC5: NA | AD5: NA | AE5: NA | AF5: NA | AG5: NA | AH5: NA | AI5: NA | AJ5: NA | AK5: NA | AL5: NA | AM5: NA | AN5: NA | AO5: NA | AP5: NA | AQ5: NA | AR5: NA | AS5: NA | AT5: NA | AU5: NA | AV5: NA | AW5: NA | AX5: NA | AY5: NA | AZ5: NA | BA5: NA | BB5: NA | BC5: NA | BD5: NA | BE5: NA | BF5: NA | BG5: NA | BH5: NA | BI5: NA | BJ5: NA | BK5: NA | BL5: NA | BM5: NA | BN5: NA | BO5: NA | BP5: NA | BQ5: NA | BR5: NA | BS5: NA | BT5: NA | BU5: NA | BV5: NA | BW5: NA | BX5: NA | BY5: NA | BZ5: NA | CA5: NA | CB5: NA | CC5: NA | CD5: NA | CE5: NA | CF5: NA | CG5: NA | CH5: NA | CI5: NA | CJ5: NA | CK5: NA | CL5: NA | CM5: NA | CN5: NA | CO5: NA | CP5: NA | CQ5: NA | CR5: NA | CS5: NA | CT5: NA | CU5: NA | CV5: NA | CW5: NA | CX5: NA | CY5: NA | CZ5: NA | DA5: NA | DB5: NA | DC5: NA | DD5: NA | DE5: NA | DF5: NA | DG5: NA | DH5: NA | DI5: NA | DJ5: NA | DK5: NA | DL5: NA | DM5: NA | DN5: NA | DO5: NA | DP5: NA | DQ5: NA | DR5: NA | DS5: NA | DT5: NA | DU5: NA | DV5: NA | DW5: NA | DX5: NA | DY5: NA | DZ5: NA | EA5: NA | EB5: NA | EC5: NA | ED5: NA | EE5: NA | EF5: NA | EG5: NA | EH5: NA | EI5: NA | EJ5: NA | EK5: NA | EL5: NA | EM5: NA | EN5: NA | EO5: NA | EP5: NA | EQ5: NA | ER5: NA | ES5: NA | ET5: NA | EU5: NA | EV5: NA | EW5: NA | EX5: NA | EY5: NA | EZ5: NA | FA5: NA | FB5: NA | FC5: NA | FD5: NA | FE5: NA | FF5: NA | FG5: NA | FH5: NA | FI5: NA | FJ5: NA | FK5: NA | FL5: NA | FM5: NA | FN5: NA | FO5: NA | FP5: NA | FQ5: NA | FR5: NA | FS5: 5 | FT5: 6 | FU5: 6 | FV5: 4 | FW5: 4 | FX5: 5 | FY5: 3 | FZ5: 5.5 | GA5: 3 | GB5: 3 | GC5: 2 | GD5: 4 | GE5: 5 | GF5: 6 | GG5: 5 | GH5: 6 | GI5: 6 | GJ5: 5 | GK5: 6 | GL5: 6 | GM5: 4 | GN5: 6 | GO5: 4 | GP5: 3 | GQ5: 5.5 | GR5: 5 | GS5: 3 | GT5: 6 | GU5: NA | GV5: 3 | GW5: 4 | GX5: 5 | GY5: 6 | GZ5: 6 | HA5: 6 | HB5: 6 | HC5: 5 | HD5: 6 | HE5: 6 | HF5: 6 | HG5: 4 | HH5: 5 | HI5: 6 | HJ5: 6 | HK5: 5 | HL5: 3 | HM5: 5.5 | HN5: 1 | HO5: NA | HP5: 5 | HQ5: 3 | HR5: 6 | HS5: 3 | HT5: 2 | HU5: 4 | HV5: 5 | HW5: 4 | HX5: 6 | HY5: 4 | HZ5: 6 | IA5: 5 | IB5: 6 | IC5: 6 | ID5: 4 | IE5: 5 | IF5: 4 | IG5: 6 | IH5: 4 | II5: 5 | IJ5: 3 | IK5: 5.5 | IL5: 1 | IM5: NA | IN5: 5 | IO5: 3 | IP5: 2 | IQ5: 4 | IR5: 4 | IS5: 6 | IT5: 4
A6: Brain Region | B6: Post-Central Gyrus | C6: Superior Frontal Gyrus | D6: Hippocampus | E6: Hippocampus | F6: Hippocampus | G6: Hippocampus | H6: Hippocampus | I6: EntorHippocampusinal Cortex | J6: Hippocampus | K6: Post-Central Gyrus | L6: Superior Frontal Gyrus | M6: EntorHippocampusinal Cortex | N6: Hippocampus | O6: Post-Central Gyrus | P6: Superior Frontal Gyrus | Q6: Entorhinal Cortex | R6: Hippocampus | S6: Post-Central Gyrus | T6: Hippocampus | U6: Entorhinal Cortex | V6: Hippocampus | W6: SFC | X6: Entorhinal Cortex | Y6: Hippocampus | Z6: SFC | AA6: Entorhinal Cortex | AB6: Hippocampus | AC6: Post-Central Gyrus | AD6: Superior Frontal Gyrus | AE6: Entorhinal Cortex | AF6: Hippocampus | AG6: Post-Central Gyrus | AH6: Superior Frontal Gyrus | AI6: Post-Central Gyrus | AJ6: SFC | AK6: Post-Central Gyrus | AL6: Superior Frontal Gyrus | AM6: Entorhinal Cortex | AN6: Hippocampus | AO6: Post-Central Gyrus | AP6: Superior Frontal Gyrus | AQ6: Entorhinal Cortex | AR6: Hippocampus | AS6: Post-Central Gyrus | AT6: Superior Frontal Gyrus | AU6: Post-Central Gyrus | AV6: Superior Frontal Gyrus | AW6: Entorhinal Cortex | AX6: Hippocampus | AY6: Post-Central Gyrus | AZ6: Superior Frontal Gyrus | BA6: Entorhinal Cortex | BB6: Hippocampus | BC6: Post-Central Gyrus | BD6: Superior Frontal Gyrus | BE6: Entorhinal Cortex | BF6: Hippocampus | BG6: Post-Central Gyrus | BH6: SFC | BI6: Post-Central Gyrus | BJ6: Hippocampus | BK6: Entorhinal Cortex | BL6: Superior Frontal Gyrus | BM6: Entorhinal Cortex | BN6: Hippocampus | BO6: Post-Central Gyrus | BP6: Superior Frontal Gyrus | BQ6: Entorhinal Cortex | BR6: Hippocampus | BS6: Post-Central Gyrus | BT6: Superior Frontal Gyrus | BU6: Entorhinal Cortex | BV6: Hippocampus | BW6: Post-Central Gyrus | BX6: Superior Frontal Gyrus | BY6: Entorhinal Cortex | BZ6: Hippocampus | CA6: Post-Central Gyrus | CB6: Superior Frontal Gyrus | CC6: Post-Central Gyrus | CD6: Superior Frontal Gyrus | CE6: Entorhinal Cortex | CF6: Post-Central Gyrus | CG6: Superior Frontal Gyrus | CH6: Superior Frontal Gyrus | CI6: Entorhinal Cortex | CJ6: Post-Central Gyrus | CK6: Superior Frontal Gyrus | CL6: Hippocampus | CM6: Post-Central Gyrus | CN6: Entorhinal Cortex | CO6: Post-Central Gyrus | CP6: Superior Frontal Gyrus | CQ6: Entorhinal Cortex | CR6: Hippocampus | CS6: Post-Central Gyrus | CT6: Superior Frontal Gyrus | CU6: Post-Central Gyrus | CV6: Superior Frontal Gyrus | CW6: Entorhinal Cortex | CX6: Hippocampus | CY6: Post-Central Gyrus | CZ6: Superior Frontal Gyrus | DA6: Entorhinal Cortex | DB6: Hippocampus | DC6: Post-Central Gyrus | DD6: Superior Frontal Gyrus | DE6: Entorhinal Cortex | DF6: Hippocampus | DG6: Post-Central Gyrus | DH6: Superior Frontal Gyrus | DI6: Entorhinal Cortex | DJ6: Hippocampus | DK6: Post-Central Gyrus | DL6: Superior Frontal Gyrus | DM6: Post-Central Gyrus | DN6: Superior Frontal Gyrus | DO6: Entorhinal Cortex | DP6: Hippocampus | DQ6: Post-Central Gyrus | DR6: Superior Frontal Gyrus | DS6: Entorhinal Cortex | DT6: Hippocampus | DU6: Post-Central Gyrus | DV6: Superior Frontal Gyrus | DW6: Entorhinal Cortex | DX6: Hippocampus | DY6: Post-Central Gyrus | DZ6: Superior Frontal Gyrus | EA6: Entorhinal Cortex | EB6: Hippocampus | EC6: Superior Frontal Gyrus | ED6: Entorhinal Cortex | EE6: Hippocampus | EF6: Post-Central Gyrus | EG6: Superior Frontal Gyrus | EH6: Entorhinal Cortex | EI6: Hippocampus | EJ6: Post-Central Gyrus | EK6: Superior Frontal Gyrus | EL6: Entorhinal Cortex | EM6: Hippocampus | EN6: Post-Central Gyrus | EO6: Superior Frontal Gyrus | EP6: Entorhinal Cortex | EQ6: Hippocampus | ER6: Post-Central Gyrus | ES6: Superior Frontal Gyrus | ET6: Entorhinal Cortex | EU6: Hippocampus | EV6: Post-Central Gyrus | EW6: Superior Frontal Gyrus | EX6: Entorhinal Cortex | EY6: Hippocampus | EZ6: Post-Central Gyrus | FA6: Superior Frontal Gyrus | FB6: Entorhinal Cortex | FC6: Hippocampus | FD6: Post-Central Gyrus | FE6: Superior Frontal Gyrus | FF6: Entorhinal Cortex | FG6: Hippocampus | FH6: Post-Central Gyrus | FI6: Superior Frontal Gyrus | FJ6: Entorhinal Cortex | FK6: Hippocampus | FL6: Superior Frontal Gyrus | FM6: Entorhinal Cortex | FN6: Hippocampus | FO6: Post-Central Gyrus | FP6: Superior Frontal Gyrus | FQ6: Superior Frontal Gyrus | FR6: Superior Frontal Gyrus | FS6: Entorhinal Cortex | FT6: Entorhinal Cortex | FU6: Entorhinal Cortex | FV6: Entorhinal Cortex | FW6: Entorhinal Cortex | FX6: Entorhinal Cortex | FY6: Entorhinal Cortex | FZ6: Entorhinal Cortex | GA6: Entorhinal Cortex | GB6: Entorhinal Cortex | GC6: Entorhinal Cortex | GD6: Entorhinal Cortex | GE6: Entorhinal Cortex | GF6: Entorhinal Cortex | GG6: Entorhinal Cortex | GH6: Hippocampus | GI6: Hippocampus | GJ6: Hippocampus | GK6: Hippocampus | GL6: Hippocampus | GM6: Hippocampus | GN6: Hippocampus | GO6: Hippocampus | GP6: Hippocampus | GQ6: Hippocampus | GR6: Hippocampus | GS6: Hippocampus | GT6: Hippocampus | GU6: Hippocampus | GV6: Hippocampus | GW6: Hippocampus | GX6: Hippocampus | GY6: Hippocampus | GZ6: Hippocampus | HA6: Post-Central Gyrus | HB6: Post-Central Gyrus | HC6: Post-Central Gyrus | HD6: Post-Central Gyrus | HE6: Post-Central Gyrus | HF6: Post-Central Gyrus | HG6: Post-Central Gyrus | HH6: Post-Central Gyrus | HI6: Post-Central Gyrus | HJ6: Post-Central Gyrus | HK6: Post-Central Gyrus | HL6: Post-Central Gyrus | HM6: Post-Central Gyrus | HN6: Post-Central Gyrus | HO6: Post-Central Gyrus | HP6: Post-Central Gyrus | HQ6: Post-Central Gyrus | HR6: Post-Central Gyrus | HS6: Post-Central Gyrus | HT6: Post-Central Gyrus | HU6: Post-Central Gyrus | HV6: Post-Central Gyrus | HW6: Post-Central Gyrus | HX6: Post-Central Gyrus | HY6: Post-Central Gyrus | HZ6: Superior Frontal Gyrus | IA6: Superior Frontal Gyrus | IB6: Superior Frontal Gyrus | IC6: Superior Frontal Gyrus | ID6: Superior Frontal Gyrus | IE6: Superior Frontal Gyrus | IF6: Superior Frontal Gyrus | IG6: Superior Frontal Gyrus | IH6: Superior Frontal Gyrus | II6: Superior Frontal Gyrus | IJ6: Superior Frontal Gyrus | IK6: Superior Frontal Gyrus | IL6: Superior Frontal Gyrus | IM6: Superior Frontal Gyrus | IN6: Superior Frontal Gyrus | IO6: Superior Frontal Gyrus | IP6: Superior Frontal Gyrus | IQ6: Superior Frontal Gyrus | IR6: Superior Frontal Gyrus | IS6: Superior Frontal Gyrus | IT6: Superior Frontal Gyrus
A7: Alzhimer | B7: =IF(B4="Alzheimer", "1", "0") -> 0 | C7: =IF(C4="Alzheimer", "1", "0") -> 0 | D7: =IF(D4="Alzheimer", "1", "0") -> 0 | E7: =IF(E4="Alzheimer", "1", "0") -> 0 | F7: =IF(F4="Alzheimer", "1", "0") -> 0 | G7: =IF(G4="Alzheimer", "1", "0") -> 0 | H7: =IF(H4="Alzheimer", "1", "0") -> 0 | I7: =IF(I4="Alzheimer", "1", "0") -> 0 | ... IT7: =IF(IT4="Alzheimer", "1", "0") -> 1
