Workbook

Sheet 810
A1: IDENTIFIER | B1: GSM21215 | C1: GSM21217 | D1: GSM21218 | E1: GSM21219 | F1: GSM21220 | G1: GSM21221 | H1: GSM21226 | I1: GSM21231 | J1: GSM21232 | K1: GSM21204 | L1: GSM21205 | M1: GSM21216 | N1: GSM21222 | O1: GSM21225 | P1: GSM21228 | Q1: GSM21233 | R1: GSM21209 | S1: GSM21210 | T1: GSM21211 | U1: GSM21214 | V1: GSM21223 | W1: GSM21224 | X1: GSM21227 | Y1: GSM21230 | Z1: GSM21203 | AA1: GSM21206 | AB1: GSM21207 | AC1: GSM21208 | AD1: GSM21212 | AE1: GSM21213 | AF1: GSM21229
A2: age | B2: 85 | C2: 80 | D2: 92 | E2: 80 | F2: 75 | G2: 97 | H2: 95 | I2: 77 | J2: 87 | K2: 101 | L2: 95 | M2: 83 | N2: 88 | O2: 91 | P2: 88 | Q2: 97 | R2: 85 | S2: 89 | T2: 83 | U2: 82 | V2: 79 | W2: 81 | X2: 86 | Y2: 82 | Z2: 85 | AA2: 65 | AB2: 93 | AC2: 79 | AD2: 94 | AE2: 79 | AF2: 93
A3: sex | B3: M | C3: M | D3: F | E3: M | F3: M | G3: F | H3: M | I3: M | J3: M | K3: F | L3: F | M3: F | N3: F | O3: F | P3: M | Q3: F | R3: F | S3: F | T3: F | U3: F | V3: F | W3: M | X3: F | Y3: M | Z3: M | AA3: F | AB3: M | AC3: F | AD3: F | AE3: F | AF3: F
A4: group | B4: control | C4: control | D4: control | E4: control | F4: control | G4: control | H4: control | I4: control | J4: control | K4: incipient | L4: incipient | M4: incipient | N4: incipient | O4: incipient | P4: incipient | Q4: incipient | R4: moderate | S4: moderate | T4: moderate | U4: moderate | V4: moderate | W4: moderate | X4: moderate | Y4: moderate | Z4: severe | AA4: severe | AB4: severe | AC4: severe | AD4: severe | AE4: severe | AF4: severe
A5: Alzheimer | B5: 0 | C5: 0 | D5: 0 | E5: 0 | F5: 0 | G5: 0 | H5: 0 | I5: 0 | J5: 0 | K5: 1 | L5: 1 | M5: 1 | N5: 1 | O5: 1 | P5: 1 | Q5: 1 | R5: 1 | S5: 1 | T5: 1 | U5: 1 | V5: 1 | W5: 1 | X5: 1 | Y5: 1 | Z5: 1 | AA5: 1 | AB5: 1 | AC5: 1 | AD5: 1 | AE5: 1 | AF5: 1
A6: SIRT3 | B6: 1.2148282 | C6: -0.57183393 | D6: 0.44555583 | E6: -0.28471116 | F6: 0.57990762 | G6: 0.50514735 | H6: 0.24944556 | I6: -0.09293481 | J6: 1.6948108 | K6: -0.99872591 | L6: -1.8839308 | M6: 1.2061603 | N6: -0.33563482 | O6: 0.25486297 | P6: 1.1866576 | Q6: 1.0923947 | R6: 1.2982563 | S6: 1.0793929 | T6: -0.46565268 | U6: 1.3480965 | V6: 0.27544913 | W6: -0.34972009 | X6: -0.3551375 | Y6: -0.88821073 | Z6: -1.9716929 | AA6: -0.19586562 | AB6: -2.0031139 | AC6: -0.0051727536 | AD6: -0.98464064 | AE6: -0.79719823 | AF6: -0.24678928
A7: NEU3 | B7: -0.042475082 | C7: -0.7179785 | D7: -0.061631149 | E7: 0.074477748 | F7: -0.70285529 | G7: -0.13523077 | H7: 0.235792 | I7: 0.017009547 | J7: 0.037173828 | K7: 0.7882933 | L7: 0.45255802 | M7: -1.2634223 | N7: 0.17731558 | O7: -1.0033031 | P7: -0.26024932 | Q7: -0.16043613 | R7: -0.011220447 | S7: -0.83896418 | T7: -0.5606971 | U7: -1.8965807 | V7: -0.59900924 | W7: -0.83493133 | X7: -0.013236875 | Y7: 0.44045945 | Z7: -0.094902213 | AA7: -0.3741775 | AB7: 3.6022187 | AC7: 1.4476653 | AD7: -0.098935069 | AE7: 2.0294048 | AF7: 0.36786804
A8: UBE2D4 | B8: 1.1331856 | C8: 1.3651559 | D8: -0.30041039 | E8: 0.54588796 | F8: -0.082201059 | G8: -1.7074674 | H8: -0.59823664 | I8: -1.1413027 | J8: -0.46898201 | K8: 1.0712613 | L8: -0.55007332 | M8: -0.81546304 | N8: -0.69456328 | O8: -0.64050241 | P8: -0.43752841 | Q8: -0.54515869 | R8: -0.070897423 | S8: -0.3146628 | T8: 0.56751231 | U8: -0.298936 | V8: -0.42524185 | W8: 0.056391353 | X8: 0.79309357 | Y8: -0.30729086 | Z8: 2.077285 | AA8: -0.55695379 | AB8: 0.0028219457 | AC8: 2.2660066 | AD8: -1.090682 | AE8: 2.1824579 | AF8: -1.0145053
A9: SNX11 | B9: -0.86409381 | C9: 0.53707585 | D9: -1.0051557 | E9: 1.8667022 | F9: -0.66296252 | G9: -0.30592074 | H9: -1.9055219 | I9: -1.3925697 | J9: -1.0044808 | K9: 1.2302364 | L9: 0.80637579 | M9: 0.50602873 | N9: -1.2785053 | O9: 1.1013234 | P9: -0.16755861 | Q9: -0.4793796 | R9: 1.2970552 | S9: 1.0041324 | T9: -0.090615764 | U9: -0.42335981 | V9: -0.39366257 | W9: -1.8447776 | X9: 0.12401427 | Y9: -0.82292264 | Z9: 1.0871497 | AA9: 0.47430668 | AB9: 1.2795068 | AC9: 1.008857 | AD9: 0.15978594 | AE9: 0.62886731 | AF9: -0.46993048
A10: N4BP1 | B10: 0.1521499 | C10: 1.0936842 | D10: -0.26611033 | E10: 0.73959909 | F10: -1.2408541 | G10: -0.90068111 | H10: -0.31906602 | I10: -0.51293772 | J10: -1.0456361 | K10: 1.0191872 | L10: 0.19253984 | M10: -0.17186714 | N10: -0.87510081 | O10: -0.6601366 | P10: -0.88991046 | Q10: -0.9751781 | R10: 0.7315211 | S10: -0.55018621 | T10: 1.7776205 | U10: -0.035887689 | V10: -0.74495546 | W10: -0.91504197 | X10: -1.1739863 | Y10: 0.61663417 | Z10: 2.5917021 | AA10: -0.62468321 | AB10: 0.69696527 | AC10: 1.8907123 | AD10: 0.72119923 | AE10: 0.68036052 | AF10: -1.0016559
A11: FGF22 | B11: -0.19888536 | C11: -0.4985393 | D11: 0.45080681 | E11: -0.0053036096 | F11: -0.20684077 | G11: -0.026518048 | H11: 1.8058791 | I11: 0.60195968 | J11: -0.49058388 | K11: -0.45611042 | L11: -0.33677921 | M11: 1.7130659 | N11: -0.053036096 | O11: -1.2012676 | P11: -0.67886202 | Q11: 1.6361635 | R11: -0.93343528 | S11: -1.2834735 | T11: -0.98381957 | U11: 1.1986158 | V11: -0.074250534 | W11: -0.90956904 | X11: -0.074250534 | Y11: -0.52240554 | Z11: 2.3839725 | AA11: -1.0686773 | AB11: 0.090161362 | AC11: -0.98381957 | AD11: 0.52505735 | AE11: 1.6096455 | AF11: -1.0289003
A12: PEX16 | B12: -0.11272717 | C12: 0.24705663 | D12: -0.1048487 | E12: -0.70186221 | F12: -0.0094315823 | G12: 0.56394649 | H12: 1.7737305 | I12: -1.2638603 | J12: -1.1859509 | K12: 0.63835434 | L12: -1.050266 | M12: -0.35871075 | N12: 0.52455411 | O12: -0.47426175 | P12: -1.0528921 | Q12: 0.46152629 | R12: 0.53505874 | S12: 0.11574867 | T12: -0.57843273 | U12: -0.2011412 | V12: -0.39722775 | W12: -1.0467644 | X12: -1.3251373 | Y12: 0.26281358 | Z12: 2.470538 | AA12: -0.50227411 | AB12: 2.706017 | AC12: -0.87081178 | AD12: -0.38147079 | AE12: 1.0392813 | AF12: 0.27944592
A13: OR7C2 | B13: -0.5703671 | C13: -0.42396076 | D13: -0.41269874 | E13: 0.69097976 | F13: -0.44648482 | G13: -1.5163772 | H13: -0.87444178 | I13: -0.71677343 | J13: -0.1311481 | K13: 0.52204937 | L13: 3.7542507 | M13: -0.36765064 | N13: -0.018527848 | O13: 0.0039962026 | P13: 0.54457342 | Q13: -0.15367215 | R13: 0.47700127 | S13: -0.39017469 | T13: 0.21797469 | U13: -0.49153292 | V13: 0.87117216 | W13: -1.3023988 | X13: -0.7505595 | Y13: 1.0513646 | Z13: -0.42396076 | AA13: -0.84065571 | AB13: 1.7496101 | AC13: -0.53658102 | AD13: -0.68298735 | AE13: 0.74728988 | AF13: 0.42069114
A14: EPS8L1 | B14: -0.92983178 | C14: 0.40280418 | D14: -0.80571372 | E14: -0.82857758 | F14: -0.81877878 | G14: -0.31250777 | H14: 2.0261377 | I14: -0.55421135 | J14: -0.33863789 | K14: -0.55421135 | L14: 0.03371628 | M14: 0.51712344 | N14: -0.92983178 | O14: -0.8449089 | P14: 1.7844341 | Q14: 2.0196052 | R14: -0.81551252 | S14: -0.88083781 | T14: 0.81761979 | U14: -0.55747761 | V14: 0.0010536337 | W14: -0.80571372 | X14: 0.13823675 | Y14: 0.58898126 | Z14: -0.75998602 | AA14: -0.92329925 | AB14: 0.24928974 | AC14: 2.5683376 | AD14: 1.078921 | AE14: -0.47908726 | AF14: -0.087135511
A15: XCR1 | B15: -0.7996781 | C15: -0.91057061 | D15: -0.14263997 | E15: 0.55875518 | F15: 1.1076731 | G15: -0.59175464 | H15: -0.070559832 | I15: -0.0095689507 | J15: -0.43373281 | K15: -0.67215171 | L15: -0.47808982 | M15: -0.52244682 | N15: -0.65829015 | O15: -0.48917907 | P15: -0.28125561 | Q15: 0.60588449 | R15: 0.52548742 | S15: -0.76086572 | T15: -0.81353967 | U15: -0.37274193 | V15: -0.27848329 | W15: -0.80522273 | X15: 0.61974606 | Y15: -0.14263997 | Z15: 4.3401898 | AA15: -0.32561261 | AB15: 1.479163 | AC15: -0.045609017 | AD15: -0.22858166 | AE15: -0.023430515 | AF15: 0.61974606
A16: OBP2A | B16: -0.5017836 | C16: -0.66785433 | D16: -0.68169355 | E16: -0.64017587 | F16: 3.0410586 | G16: -0.57097974 | H16: 0.088690102 | I16: -0.45103976 | J16: -0.39106978 | K16: -0.47410514 | L16: 1.0482099 | M16: -0.26651673 | N16: -0.45565284 | O16: -0.48794437 | P16: -0.58481896 | Q16: -0.3864567 | R16: -0.10505908 | S16: -0.41413516 | T16: 2.7827264 | U16: -0.26190366 | V16: -0.22499905 | W16: -0.69553278 | X16: -0.53407513 | Y16: 2.3029665 | Z16: 0.13482086 | AA16: -0.58020589 | AB16: 1.0712752 | AC16: -0.52484898 | AD16: 0.010267814 | AE16: -0.07276755 | AF16: -0.50639667
... A25: PLLP | B25: -0.41473164 | C25: -0.76683551 | D25: -1.4652685 | E25: 0.63957809 | F25: -0.29061367 | G25: -0.67390103 | H25: 0.30487537 | I25: -0.222241 | J25: -0.4647792 | K25: -0.3372734 | L25: 1.3231508 | M25: -0.56341141 | N25: -0.59243899 | O25: 2.2403302 | P25: 0.56496872 | Q25: -1.0883719 | R25: 0.77593846 | S25: -0.018893888 | T25: -0.47671362 | U25: -0.5574057 | V25: -1.2191885 | W25: -0.058469963 | X25: 0.72897074 | Y25: 0.20085343 | Z25: -0.18489781 | AA25: -1.8286139 | AB25: 2.2166924 | AC25: -1.0996903 | AD25: 1.5807803 | AE25: 0.84023033 | AF25: 0.90737107

Sheet 4136
B1: GSM697332 | C1: GSM697312 | D1: GSM697327 | E1: GSM697334 | F1: GSM697336 | G1: GSM697309 | H1: GSM697311 | I1: GSM697328 | J1: GSM697326 | K1: GSM697330 | L1: GSM697318 | M1: GSM697325 | N1: GSM697308 | O1: GSM697323 | P1: GSM697331 | Q1: GSM697329 | R1: GSM697315 | S1: GSM697319 | T1: GSM697321 | U1: GSM697324 | V1: GSM697320 | W1: GSM697310 | X1: GSM697333 | Y1: GSM697337 | Z1: GSM697335 | AA1: GSM697314 | AB1: GSM697317 | AC1: GSM697313 | AD1: GSM697322 | AE1: GSM697316
B2: 65 | C2: 75 | D2: 79 | E2: 79 | F2: 79 | G2: 80 | H2: 80 | I2: 81 | J2: 82 | K2: 82 | L2: 83 | M2: 83 | N2: 85 | O2: 85 | P2: 85 | Q2: 86 | R2: 87 | S2: 88 | T2: 88 | U2: 89 | V2: 91 | W2: 92 | X2: 93 | Y2: 93 | Z2: 94 | AA2: 95 | AB2: 95 | AC2: 97 | AD2: 97 | AE2: 101
B3: F | C3: M | D3: F | E3: F | F3: F | G3: M | H3: M | I3: M | J3: F | K3: M | L3: F | M3: F | N3: M | O3: F | P3: M | Q3: F | R3: M | S3: M | T3: M | U3: F | V3: F | W3: F | X3: M | Y3: F | Z3: F | AA3: M | AB3: F | AC3: F | AD3: F | AE3: F
B4: Severe | C4: Control | D4: Moderate | E4: Severe | F4: Severe | G4: Control | H4: Control | I4: Moderate | J4: Moderate | K4: Moderate | L4: Incipient | M4: Moderate | N4: Control | O4: Moderate | P4: Severe | Q4: Moderate | R4: Control | S4: Incipient | T4: Incipient | U4: Moderate | V4: Incipient | W4: Control | X4: Severe | Y4: Severe | Z4: Severe | AA4: Control | AB4: Incipient | AC4: Control | AD4: Incipient | AE4: Incipient
B5: 1 | C5: 0 | D5: 1 | E5: 1 | F5: 1 | G5: 0 | H5: 0 | I5: 1 | J5: 1 | K5: 1 | L5: 1 | M5: 1 | N5: 0 | O5: 1 | P5: 1 | Q5: 1 | R5: 0 | S5: 1 | T5: 1 | U5: 1 | V5: 1 | W5: 0 | X5: 1 | Y5: 1 | Z5: 1 | AA5: 0 | AB5: 1 | AC5: 0 | AD5: 1 | AE5: 1
A6: SIRT3 | B6: 0.41705813 | C6: -0.34521945 | D6: 0.0857414 | E6: -0.55447212 | F6: -0.42173191 | G6: 0.59606168 | H6: 0.037698695 | I6: -0.19255042 | J6: 0.013677343 | K6: -0.32600237 | L6: 0.054246738 | M6: 0.089655991 | N6: 0.64926453 | O6: -0.062835113 | P6: -0.17867141 | Q6: -0.050379597 | R6: -0.46390273 | S6: 0.19481613 | T6: 0.34730724 | U6: -0.15909846 | V6: 0.091257414 | W6: 1.236987 | X6: 0.030937129 | Y6: -0.35963227 | Z6: -0.54112693 | AA6: -0.15180308 | AB6: -0.087924081 | AC6: -0.018529063 | AD6: 0.48147094 | AE6: -0.4123013 | AF6: 0.045837481
A7: NEU3 | B7: 0.40253293 | C7: -0.27147923 | D7: -0.36874367 | E7: 1.0355117 | F7: -0.46904762 | G7: -0.39457953 | H7: 0.10921986 | I7: -0.49032421 | J7: -0.51843972 | K7: -0.38850051 | L7: 0.20876393 | M7: -0.3322695 | N7: 0.77715299 | O7: 0.7345998 | P7: 0.95876393 | Q7: -0.25628166 | R7: -0.51919959 | S7: -0.49184397 | T7: -0.41813576 | U7: -0.29047619 | V7: -0.55567376 | W7: 0.41089159 | X7: 0.28855117 | Y7: -0.15369807 | Z7: 0.20496454 | AA7: -0.17117528 | AB7: 0.84782168 | AC7: 0.29614995 | AD7: -0.47056738 | AE7: 0.28551165 | AF7: -0.16286523
A8: UBE2D4 | B8: -2.1179779 | C8: -2.6148723 | D8: 1.5859558 | E8: 0.049723948 | F8: 0.36752933 | G8: -0.17491373 | H8: -1.3643547 | I8: 1.3488958 | J8: -1.7328847 | K8: 0.81783989 | L8: -0.63868185 | M8: -0.42439614 | N8: 1.3820221 | O8: 1.3364734 | P8: 0.24641132 | Q8: -1.5434438 | R8: -1.1935473 | S8: 0.51659765 | T8: -0.19768806 | U8: 2.2205314 | V8: 1.1584196 | W8: 1.9120428 | X8: 1.0735335 | Y8: 0.96794341 | Z8: -2.1221187 | AA8: 2.0486888 | AB8: -2.7318496 | AC8: 0.16877157 | AD8: -2.6335059 | AE8: 2.2888544 | AF8: -0.2498992
A9: SNX11 | B9: 0.27015774 | C9: -0.08387845 | D9: -0.27890281 | E9: 0.72092322 | F9: 0.78511946 | G9: -0.26324519 | H9: 0.18230109 | I9: -0.41634192 | J9: -0.15938297 | K9: 0.82252378 | L9: -0.23993273 | M9: -0.50924379 | N9: -0.11571561 | O9: -0.63659244 | P9: 0.013894688 | Q9: -0.37580608 | R9: -0.28899327 | S9: -0.0036766412 | T9: -0.4546161 | U9: -0.13293899 | V9: -0.38241707 | W9: 0.54955927 | X9: -0.099884018 | Y9: -0.096926467 | Z9: 1.0405126 | AA9: -0.22618882 | AB9: 0.23797263 | AC9: -0.25889585 | AD9: 0.12871723 | AE9: 0.27189747 | AF9: -0.011059999
A10: N4BP1 | B10: -22.514286 | C10: 6.0181818 | D10: 11.277922 | E10: -16.449351 | F10: -3.4103896 | G10: 11.368831 | H10: -17.696104 | I10: -12.150649 | J10: -13.462338 | K10: 18.862338 | L10: 8.7194805 | M10: -9.3844156 | N10: -19.215584 | O10: 14.225974 | P10: 13.511688 | Q10: -17.215584 | R10: 33.187013 | S10: -9.3454545 | T10: 3.9012987 | U10: -21.462338 | V10: -12.41039 | W10: -8.2415584 | X10: -8.0337662 | Y10: 13.511688 | Z10: 24.303896 | AA10: 15.927273 | AB10: -10.462338 | AC10: 5.7194805 | AD10: 39.212987 | AE10: -18.293506 | AF10: -0.2003862
A11: FGF22 | B11: 0.010500917 | C11: -1.0080236 | D11: 0.17767809 | E11: 0.67341155 | F11: 1.6977341 | G11: -0.97516796 | H11: 2.2263232 | I11: 0.32456208 | J11: -0.33158416 | K11: -0.45624229 | L11: 0.058818019 | M11: -1.1191529 | N11: -0.93748062 | O11: 1.866844 | P11: -1.0756675 | Q11: 0.59803688 | R11: -0.45334326 | S11: -0.93554794 | T11: 0.17477906 | U11: 0.17574541 | V11: -1.0070572 | W11: -0.83214934 | X11: -0.96840357 | Y11: 0.22696153 | Z11: 0.10810146 | AA11: -0.18373383 | AB11: 2.2069964 | AC11: -1.1259173 | AD11: -0.16633968 | AE11: 1.0493186 | AF11: -0.0014773389
A12: PEX16 | B12: -1.2412314 | C12: 1.120552 | D12: -1.256518 | E12: -1.2310403 | F12: 3.5409342 | G12: -0.74951168 | H12: 5.5243737 | I12: -0.9737155 | J12: -1.5112951 | K12: -1.1023779 | L12: 3.3498514 | M12: -1.1877282 | N12: -0.89091295 | O12: -1.3546072 | P12: -0.13167728 | Q12: -0.81320594 | R12: -1.5380467 | S12: -0.79027601 | T12: 0.7129087 | U12: 3.6670488 | V12: -0.8870913 | W12: -1.2132059 | X12: -0.48836518 | Y12: 0.76004246 | Z12: 2.3778769 | AA12: 0.19571125 | AB12: -1.3966454 | AC12: -1.4654352 | AD12: -1.0272187 | AE12: 0.00080679406 | AF12: -0.13872572
A13: OR7C2 | B13: -3.3036822 | C13: 31.196318 | D13: 9.9346899 | E13: 8.9114341 | F13: 3.6381783 | G13: -3.4839147 | H13: -2.3850775 | I13: -3.1292636 | J13: -1.5420543 | K13: -3.3792636 | L13: 0.2253876 | M13: -3.9839147 | N13: -2.2222868 | O13: 0.045155039 | P13: -3.7513566 | Q13: -3.1583333 | R13: -2.4781008 | S13: -2.7222868 | T13: -0.23391473 | U13: -3.8501938 | V13: -3.5071705 | W13: -3.0943798 | X13: -1.8967054 | Y13: -1.7222868 | Z13: 12.492829 | AA13: -4.0071705 | AB13: -3.4083333 | AC13: -3.3908915 | AD13: -2.7862403 | AE13: -3.0071705 | AF13: 0.71757378
A14: EPS8L1 | B14: -4.2815939 | C14: 5.1017078 | D14: -3.7882353 | E14: 6.9480076 | F14: -4.4618596 | G14: 2.0182163 | H14: 4.5931689 | I14: -0.6573055 | J14: -4.7616698 | K14: 0.771537 | L14: -4.1089184 | M14: 2.5381404 | N14: 2.9954459 | O14: -0.05199241 | P14: -4.3404175 | Q14: 6.4129032 | R14: -2.2721063 | S14: 3.0960152 | T14: -5.0557875 | U14: 0.88349146 | V14: -4.4504744 | W14: 2.113093 | X14: -0.09373814 | Y14: -4.6819734 | Z14: 5.1662239 | AA14: -4.5889943 | AB14: 11.06186 | AC14: -0.91537002 | AD14: -1.0064516 | AE14: -4.1829222 | AF14: 0.019861353
A15: XCR1 | B15: -0.35093966 | C15: -1.1461919 | D15: 0.56993076 | E15: 0.5066271 | F15: 2.3384768 | G15: -1.1293769 | H15: 0.79050445 | I15: 0.48288823 | J15: 0.25934718 | K15: -0.34104847 | L15: -0.19366963 | M15: -1.2065282 | N15: 0.04470821 | O15: -0.64569733 | P15: -0.75845697 | Q15: 3.0447082 | R15: -0.76439169 | S15: -1.2322453 | T15: -0.46073195 | U15: -0.075964392 | V15: -0.60019782 | W15: 1.5847676 | X15: -0.33412463 | Y15: -0.42215628 | Z15: 0.23857567 | AA15: -0.77725025 | AB15: -1.0512364 | AC15: -0.053214639 | AD15: 0.58575668 | AE15: 1.0971316 | AF15: 0.2557777
A16: OBP2A | B16: -0.051878788 | C16: 0.50084848 | D16: -0.00096969697 | E16: -0.25915152 | F16: 0.71175758 | G16: -0.011878788 | H16: 0.0099393939 | I16: 0.16630303 | J16: -0.062787879 | K16: -0.037333333 | L16: -0.73187879 | M16: -0.63006061 | N16: 2.8972121 | O16: 0.5190303 | P16: -0.22642424 | Q16: -0.46278788 | R16: -0.79733333 | S16: 1.2644848 | T16: -0.25915152 | U16: 0.053575758 | V16: -0.50642424 | W16: -0.45915152 | X16: -0.39006061 | Y16: -0.86642424 | Z16: 0.81721212 | AA16: -0.41551515 | AB16: 0.23175758 | AC16: -0.70278788 | AD16: -0.51006061 | AE16: 0.20993939 | AF16: 0.25286773
A17: PPA2 | B17: -0.35347848 | C17: 0.16452906 | D17: -1.1385066 | E17: -0.58411517 | F17: -0.32572807 | G17: 0.13986203 | H17: 2.7983507 | I17: -0.39726245 | J17: -1.0490886 | K17: -1.0700556 | L17: -0.74876756 | M17: 0.069561012 | N17: -0.99235444 | O17: -0.083374546 | P17: 0.47410023 | Q17: -0.51628084 | R17: -1.1033561 | S17: 0.55118469 | T17: -0.19314281 | U17: 0.47286688 | V17: -0.0081401184 | W17: 1.9578218 | X17: 0.050444067 | Y17: -0.084607898 | Z17: 2.7650502 | AA17: -0.86285255 | AB17: 0.069561012 | AC17: -0.46324674 | AD17: -0.24987697 | AE17: 0.71090368 | AF17: 0.046000895
... A25: PLLP | B25: -0.76625215 | C25: -0.29652001 | D25: -1.2610801 | E25: -0.90839785 | F25: -0.23924028 | G25: -1.2264057 | H25: -1.0101221 | I25: -0.95380018 | J25: -0.33655835 | K25: -0.37755455 | L25: 1.5151671 | M25: -1.4277469 | N25: 2.0873898 | O25: 0.59543466 | P25: -0.52678838 | Q25: 0.015740752 | R25: 0.73815507 | S25: -0.0011174976 | T25: -0.18540882 | U25: 0.27282906 | V25: 1.6144009 | W25: -0.61950875 | X25: 1.4257035 | Y25: 1.3310674 | Z25: 1.4172743 | AA25: -0.74594562 | AB25: -0.14307162 | AC25: -0.068167355 | AD25: 1.2228297 | AE25: -1.1423061 | AF25: 0.094445521

Sheet 29378
A1: ID_REF | B1: GSM726083 | C1: GSM726084 | D1: GSM726085 | E1: GSM726086 | F1: GSM726087 | G1: GSM726088 | H1: GSM726089 | I1: GSM726090 | J1: GSM726091 | K1: GSM726092 | L1: GSM726093 | M1: GSM726094 | N1: GSM726095 | O1: GSM726096 | P1: GSM726097 | Q1: GSM726098 | R1: GSM726099 | S1: GSM726100 | T1: GSM726101 | U1: GSM726102 | V1: GSM726103 | W1: GSM726104 | X1: GSM726105 | Y1: GSM726106 | Z1: GSM726107 | AA1: GSM726108 | AB1: GSM726109 | AC1: GSM726110 | AD1: GSM726111 | AE1: GSM726112 | AF1: GSM726113 | AG1: GSM726114 | AH1: GSM726115 | AI1: GSM726116 | AJ1: GSM726117 | AK1: GSM726118 | AL1: GSM726119 | AM1: GSM726120 | AN1: GSM726121 | AO1: GSM726122 | AP1: GSM726123 | AQ1: GSM726124 | AR1: GSM726125 | AS1: GSM726126 | AT1: GSM726127 | AU1: GSM726128 | AV1: GSM726129 | AW1: GSM726130 | AX1: GSM726131 | AY1: GSM726132 | AZ1: GSM726133 | BA1: GSM726134 | BB1: GSM726135 | BC1: GSM726136 | BD1: GSM726137 | BE1: GSM726138 | BF1: GSM726139 | BG1: GSM726140 | BH1: GSM726141 | BI1: GSM726142 | BJ1: GSM726143 | BK1: GSM726144 | BL1: GSM726145
A2: age | B2: 66 | C2: 81 | D2: 72 | E2: 86 | F2: 81 | G2: 90 | H2: 88 | I2: 90 | J2: 61 | K2: 72.5 | L2: 66 | M2: 67 | N2: 90 | O2: 68 | P2: 90 | Q2: 90 | R2: 74 | S2: 83 | T2: 83 | U2: 73 | V2: 73 | W2: 70 | X2: 85 | Y2: 79 | Z2: 90 | AA2: 80 | AB2: 85 | AC2: 75 | AD2: 84.6 | AE2: 90 | AF2: 72 | AG2: 81 | AH2: 81 | AI2: 70 | AJ2: 90 | AK2: 68 | AL2: 81 | AM2: 79 | AN2: 84 | AO2: 90 | AP2: 67.2 | AQ2: 75 | AR2: 85.4 | AS2: 79 | AT2: 79 | AU2: 90 | AV2: 74 | AW2: 80 | AX2: 86 | AY2: 85 | AZ2: 84 | BA2: 81 | BB2: 84.6 | BC2: 88 | BD2: 80 | BE2: 72 | BF2: 90 | BG2: 83 | BH2: 74 | BI2: 68 | BJ2: 61 | BK2: 74 | BL2: 68
A3: sex | B3: M | C3: M | D3: F | E3: M | F3: M | G3: M | H3: F | I3: M | J3: F | K3: M | L3: M | M3: M | N3: M | O3: M | P3: M | Q3: F | R3: F | S3: F | T3: M | U3: M | V3: M | W3: F | X3: M | Y3: F | Z3: F | AA3: F | AB3: M | AC3: M | AD3: F | AE3: M | AF3: F | AG3: M | AH3: M | AI3: F | AJ3: M | AK3: M | AL3: M | AM3: F | AN3: M | AO3: M | AP3: M | AQ3: M | AR3: M | AS3: F | AT3: F | AU3: M | AV3: F | AW3: M | AX3: M | AY3: M | AZ3: M | BA3: M | BB3: F | BC3: F | BD3: M | BE3: M | BF3: M | BG3: F | BH3: F | BI3: F | BJ3: F | BK3: F | BL3: F
A4: Group | B4: AD | C4: Control | D4: Control | E4: Control | F4: AD | G4: Control | H4: Control | I4: Control | J4: AD | K4: AD | L4: AD | M4: AD | N4: AD | O4: AD | P4: Control | Q4: AD | R4: Control | S4: Control | T4: AD | U4: Control | V4: Control | W4: Control | X4: Control | Y4: AD | Z4: AD | AA4: AD | AB4: Control | AC4: Control | AD4: AD | AE4: Control | AF4: Control | AG4: AD | AH4: AD | AI4: Control | AJ4: Control | AK4: AD | AL4: AD | AM4: AD | AN4: Control | AO4: AD | AP4: AD | AQ4: Control | AR4: Control | AS4: AD | AT4: AD | AU4: Control | AV4: AD | AW4: Control | AX4: Control | AY4: Control | AZ4: Control | BA4: Control | BB4: AD | BC4: Control | BD4: Control | BE4: AD | BF4: Control | BG4: Control | BH4: AD | BI4: AD | BJ4: AD | BK4: Control | BL4: AD
A5: Braak Stage | B5: NA | C5: 2 | D5: NA | E5: 1 | F5: 5 | G5: 1 | H5: NA | I5: 1 | J5: NA | K5: 5 | L5: NA | M5: 6 | N5: 6 | O5: 5 | P5: 2 | Q5: 6 | R5: 2 | S5: 1 | T5: 6 | U5: 2 | V5: 2 | W5: 1 | X5: 2 | Y5: 5 | Z5: 6 | AA5: 5 | AB5: 2 | AC5: 1 | AD5: 6 | AE5: 2 | AF5: NA | AG5: 5 | AH5: 5 | AI5: 1 | AJ5: 1 | AK5: 5 | AL5: 5 | AM5: 5 | AN5: NA | AO5: 5 | AP5: 6 | AQ5: 1 | AR5: 2 | AS5: 6 | AT5: 6 | AU5: NA | AV5: 4 | AW5: NA | AX5: 1 | AY5: 2 | AZ5: NA | BA5: NA | BB5: 6 | BC5: NA | BD5: NA | BE5: 5 | BF5: 1 | BG5: 1 | BH5: 4 | BI5: 5 | BJ5: NA | BK5: 2 | BL5: 5
A6: Alzheimer | B6: =IF('29378'!B4="AD","1","0") -> 1 | C6: =IF('29378'!C4="AD","1","0") -> 0 | D6: =IF('29378'!D4="AD","1","0") -> 0 | E6: =IF('29378'!E4="AD","1","0") -> 0 | F6: =IF('29378'!F4="AD","1","0") -> 1 | G6: =IF('29378'!G4="AD","1","0") -> 0 | H6: =IF('29378'!H4="AD","1","0") -> 0 | I6: =IF('29378'!I4="AD","1","0") -> 0 | ... BL6: =IF('29378'!BL4="AD","1","0") -> 1
A7: SIRT3 | B7: 0.22909975 | C7: -0.075075296 | D7: 1.4820515 | E7: -0.45047721 | F7: -0.46792738 | G7: -1.3768085 | H7: 0.18298607 | I7: 0.056491148 | J7: 0.47652406 | K7: 4.5436336 | L7: -0.3422584 | M7: 0.27553694 | N7: -0.464107 | O7: -0.6848611 | P7: -0.94082019 | Q7: -0.61013743 | R7: -0.94082019 | S7: 0.59945778 | T7: -0.61447515 | U7: 0.27553694 | V7: 0.52438673 | W7: -0.76370272 | X7: -0.14333718 | Y7: -1.2589092 | Z7: 0.50453559 | AA7: -0.22629121 | AB7: -0.68397208 | AC7: -0.87930311 | AD7: 0.92039801 | AE7: -0.028569345 | AF7: 0.087173889 | AG7: -0.058891283 | AH7: -1.0445527 | AI7: 1.9152838 | AJ7: -0.95858805 | AK7: -0.20675993 | AL7: -0.050373109 | AM7: -0.48799215 | AN7: 2.0805757 | AO7: -1.3928884 | AP7: -0.69114917 | AQ7: 0.092093361 | AR7: 1.1776707 | AS7: 1.6557689 | AT7: -0.12226315 | AU7: -1.3663607 | AV7: -1.3663607 | AW7: -0.00019658686 | AX7: -0.36462642 | AY7: -0.35934456 | AZ7: 2.1517078 | BA7: -0.33980368 | BB7: -0.12826406 | BC7: -0.21985713 | BD7: 0.15136868 | BE7: -0.53806492 | BF7: -0.45367286 | BG7: 0.98463741 | BH7: 0.44658716 | BI7: -0.48204496 | BJ7: 0.34829564 | BK7: 0.31351395 | BL7: 0.10859208
A8: NEU3 | B8: 0.26785956 | C8: -1.6292323 | D8: 0.05342649 | E8: -0.39037925 | F8: 2.1914064 | G8: -0.24358091 | H8: -0.98508457 | I8: 2.2184107 | J8: 0.3061291 | K8: 0.62152386 | L8: -0.45634953 | M8: -0.86045047 | N8: -0.73397731 | O8: 0.58800321 | P8: -0.18294142 | Q8: -1.1729772 | R8: -0.18294142 | S8: -0.83307632 | T8: 0.48644672 | U8: 0.17422327 | V8: -1.2782532 | W8: 2.1551792 | X8: -0.6709087 | Y8: -0.60249368 | Z8: -0.3073794 | AA8: 0.1906404 | AB8: -0.27353468 | AC8: 1.1870119 | AD8: -0.17571206 | AE8: 1.0309479 | AF8: 1.516476 | AG8: -0.21838181 | AH8: 0.86508334 | AI8: -1.1687577 | AJ8: 0.58040981 | AK8: -0.70660468 | AL8: 0.39660932 | AM8: 0.51447731 | AN8: 2.2171535 | AO8: -0.43207253 | AP8: 0.081818403 | AQ8: 0.36624517 | AR8: -1.0204084 | AS8: 0.73045814 | AT8: -1.2405779 | AU8: -0.57245165 | AV8: -0.57245165 | AW8: -0.56604761 | AX8: 2.1147737 | AY8: -1.6022924 | AZ8: -0.41198491 | BA8: -0.12516892 | BB8: 1.0525983 | BC8: -0.92410086 | BD8: -0.61870053 | BE8: -0.70061925 | BF8: 0.27666782 | BG8: 2.0043181 | BH8: -1.849809 | BI8: -0.89535629 | BJ8: 0.45232573 | BK8: -0.34349909 | BL8: 0.30793407
A9: UBE2D4 | B9: -0.80096226 | C9: 0.60235392 | D9: 1.5676311 | E9: -0.23821307 | F9: 0.26446523 | G9: -0.19451375 | H9: -1.3804737 | I9: -0.26839118 | J9: -0.20330732 | K9: -1.0719117 | L9: -1.5484444 | M9: 1.2477579 | N9: -1.404427 | O9: -0.88888595 | P9: 0.49368081 | Q9: -1.0965184 | R9: 0.49368081 | S9: 0.8063254 | T9: -1.0447932 | U9: 0.038018173 | V9: -0.79033611 | W9: -0.63134112 | X9: -0.64894107 | Y9: 1.1211301 | Z9: -0.07261842 | AA9: 0.46713225 | AB9: -0.76946634 | AC9: -0.22005765 | AD9: 1.1797103 | AE9: 1.1884891 | AF9: 1.6116054 | AG9: 1.4911247 | AH9: 1.3150797 | AI9: 1.1062697 | AJ9: -1.215743 | AK9: 0.3070453 | AL9: 1.9089551 | AM9: -0.27427235 | AN9: -1.3095654 | AO9: 0.97357254 | AP9: 1.3654294 | AQ9: -0.25591431 | AR9: -1.409497 | AS9: -1.8418165 | AT9: 0.41919125 | AU9: 1.4126011 | AV9: 1.4126011 | AW9: 0.26987943 | AX9: -0.36943576 | AY9: -0.45760171 | AZ9: -2.1031413 | BA9: 0.40272077 | BB9: -0.84500831 | BC9: -0.44027033 | BD9: 0.30242221 | BE9: -0.60930574 | BF9: -0.69113819 | BG9: 0.50788989 | BH9: 0.077989257 | BI9: -0.34383474 | BJ9: -0.31846606 | BK9: 1.9590324 | BL9: -0.55517088
A10: SNX11 | B10: -0.69521883 | C10: -0.93137512 | D10: 0.10306279 | E10: 0.11640977 | F10: -0.21570663 | G10: 0.41219052 | H10: -1.313468 | I10: -0.067172225 | J10: 0.50575848 | K10: -0.35477298 | L10: -1.5560341 | M10: -0.46833265 | N10: -2.2426715 | O10: 1.13716 | P10: 0.97238928 | Q10: -0.64467573 | R10: 0.97238928 | S10: -0.65886844 | T10: -2.0973455 | U10: 1.0842682 | V10: 0.93777203 | W10: 1.8294954 | X10: -1.3597046 | Y10: 1.5857387 | Z10: -0.51244011 | AA10: 0.2146609 | AB10: 0.72613387 | AC10: 1.0762913 | AD10: 0.35620505 | AE10: 2.005296 | AF10: 1.8576854 | AG10: 0.054039241 | AH10: -0.722177 | AI10: 1.6234378 | AJ10: -1.172212 | AK10: 0.18184271 | AL10: 0.53371349 | AM10: -1.1597243 | AN10: -1.5724232 | AO10: -0.94047729 | AP10: 0.56362258 | AQ10: -0.56446314 | AR10: 0.16392172 | AS10: -0.32270557 | AT10: -0.22498636 | AU10: -0.63736891 | AV10: -0.63736891 | AW10: -0.49394654 | AX10: -0.27256727 | AY10: 0.30432556 | AZ10: -1.2896195 | BA10: -0.3595221 | BB10: -0.60187399 | BC10: 1.8777367 | BD10: 0.6940029 | BE10: 0.45027115 | BF10: -0.50330905 | BG10: 0.89607309 | BH10: -0.76885916 | BI10: -0.042450972 | BJ10: 0.96331095 | BK10: 1.4890159 | BL10: -0.28437912
A11: N4BP1 | B11: -0.5622596 | C11: 1.1295897 | D11: 0.46392861 | E11: 0.011262396 | F11: -0.4731821 | G11: -0.70827907 | H11: 0.56318388 | I11: 0.63333789 | J11: -1.2268724 | K11: 3.5442647 | L11: -0.50227598 | M11: 0.51381312 | N11: -0.88422226 | O11: -1.2621801 | P11: 0.86457419 | Q11: 0.88807406 | R11: 0.86457419 | S11: -0.23927709 | T11: 0.45867578 | U11: 0.90900542 | V11: 0.9009644 | W11: -0.070042788 | X11: -1.1777903 | Y11: 1.7384225 | Z11: 0.76308142 | AA11: 0.80846399 | AB11: -1.5811036 | AC11: 1.7348987 | AD11: -0.41244658 | AE11: -0.47779171 | AF11: 0.2269632 | AG11: 0.51363491 | AH11: 0.27639426 | AI11: -0.54824479 | AJ11: -0.45007179 | AK11: -0.61223027 | AL11: -0.63325452 | AM11: -0.62524932 | AN11: -0.07604853 | AO11: -1.2676955 | AP11: 1.4006496 | AQ11: -0.63576283 | AR11: 0.39372068 | AS11: 0.65810092 | AT11: -0.62389484 | AU11: -0.86341048 | AV11: -0.86341048 | AW11: 0.1248527 | AX11: -0.20099241 | AY11: 1.9627445 | AZ11: 0.17194737 | BA11: -0.70144092 | BB11: -1.0478848 | BC11: 0.61886195 | BD11: -1.0984505 | BE11: 1.7974861 | BF11: -0.50916723 | BG11: -0.99153554 | BH11: -1.8611088 | BI11: 0.55652948 | BJ11: -1.27338 | BK11: -0.60668621 | BL11: -0.42435723
A12: FGF22 | B12: 0.80969261 | C12: 0.18923312 | D12: 2.013523 | E12: -0.39411716 | F12: 0.21457236 | G12: 1.1513082 | H12: 0.11915664 | I12: -0.2558581 | J12: 2.2901819 | K12: 0.33051289 | L12: 0.76289679 | M12: -0.62562726 | N12: 0.95778766 | O12: -0.47244451 | P12: -0.8135358 | Q12: 2.7575599 | R12: -0.8135358 | S12: -1.6975761 | T12: 1.8992777 | U12: 0.74079522 | V12: -1.6024865 | W12: -0.24635101 | X12: -0.67036355 | Y12: -1.4625561 | Z12: 0.2947543 | AA12: 0.13623349 | AB12: -0.59338186 | AC12: -0.39747823 | AD12: 0.18481711 | AE12: 0.34959912 | AF12: -0.61626019 | AG12: -0.38103886 | AH12: 0.65939729 | AI12: -1.1412665 | AJ12: 0.48657324 | AK12: 0.7242682 | AL12: -0.86039831 | AM12: -0.087123637 | AN12: -0.48550533 | AO12: -0.65020867 | AP12: 2.7379389 | AQ12: -0.14337844 | AR12: -1.2630186 | AS12: -2.017436 | AT12: -0.55138182 | AU12: 0.98352109 | AV12: 0.98352109 | AW12: -0.26492724 | AX12: -0.28160139 | AY12: 1.5517496 | AZ12: -1.2755715 | BA12: -0.3495764 | BB12: -0.30540057 | BC12: 0.089053972 | BD12: 0.085762857 | BE12: -0.89311119 | BF12: -0.6440684 | BG12: -0.78377927 | BH12: 0.0017872111 | BI12: 0.12328978 | BJ12: -0.21083703 | BK12: -0.16333643 | BL12: -0.21422757
A13: PEX16 | B13: 0.41278542 | C13: 1.2367297 | D13: -0.86619966 | E13: 0.56872312 | F13: -0.061177908 | G13: 0.72906379 | H13: 0.75054234 | I13: 0.73909728 | J13: 1.4231743 | K13: -2.3520607 | L13: -1.0287248 | M13: -0.53542932 | N13: 1.5355532 | O13: -0.20911876 | P13: 0.062243687 | Q13: -0.022797815 | R13: 0.062243687 | S13: -1.1787468 | T13: -0.68564845 | U13: -0.36544091 | V13: 0.16162466 | W13: -0.0064811075 | X13: 0.65605914 | Y13: 0.35668244 | Z13: -1.889651 | AA13: -0.30429755 | AB13: 0.99428617 | AC13: -0.055666325 | AD13: 1.2089976 | AE13: 1.1731894 | AF13: -1.6998108 | AG13: -1.4160144 | AH13: -0.14050663 | AI13: 1.8509153 | AJ13: 0.90982397 | AK13: 0.11196736 | AL13: -1.0395274 | AM13: -0.96629021 | AN13: 1.0884812 | AO13: 0.39216867 | AP13: -0.099085496 | AQ13: -0.6556839 | AR13: -1.1233798 | AS13: -0.70206384 | AT13: -0.35067163 | AU13: -1.7332157 | AV13: -1.7332157 | AW13: 0.28056233 | AX13: 0.32111369 | AY13: 0.49628386 | AZ13: -1.129649 | BA13: -0.18276419 | BB13: -0.64288496 | BC13: 2.98257 | BD13: 0.34791307 | BE13: -0.38275179 | BF13: 1.593084 | BG13: 0.34750979 | BH13: 0.17690934 | BI13: 0.25066497 | BJ13: -0.59017417 | BK13: 0.96103812 | BL13: -0.03287073
A14: OR7C2 | B14: -0.12554064 | C14: 0.18939945 | D14: 0.3448538 | E14: -1.0480234 | F14: -0.19766945 | G14: 0.16876602 | H14: -0.46421042 | I14: 0.98838387 | J14: -1.5320013 | K14: 5.2813565 | L14: -0.31821824 | M14: 0.32116378 | N14: -0.64236318 | O14: -1.1355977 | P14: -0.39757322 | Q14: 0.42383 | R14: -0.39757322 | S14: 0.78818475 | T14: -0.82531445 | U14: 0.3130723 | V14: -0.033497167 | W14: -0.14760906 | X14: 0.4359342 | Y14: 1.1172364 | Z14: -1.1300809 | AA14: -0.25875208 | AB14: 1.1442804 | AC14: -0.039226669 | AD14: -0.48202229 | AE14: 0.92863464 | AF14: 1.4591145 | AG14: 0.027894926 | AH14: -0.92083613 | AI14: -0.99439934 | AJ14: -0.097080268 | AK14: -0.43835519 | AL14: 1.0376757 | AM14: -0.41162011 | AN14: 0.21902304 | AO14: -1.8076001 | AP14: -0.51440479 | AQ14: -0.46161025 | AR14: 0.16380598 | AS14: 0.49291488 | AT14: -0.17887525 | AU14: -0.7943174 | AV14: -0.7943174 | AW14: 0.49093273 | AX14: -1.4878557 | AY14: 0.0012974652 | AZ14: 0.35814381 | BA14: -0.42010785 | BB14: 0.40579132 | BC14: -0.49795479 | BD14: 0.42150002 | BE14: -0.15089246 | BF14: 0.52078645 | BG14: 0.57624643 | BH14: 0.68339843 | BI14: -0.46747666 | BJ14: -1.0999438 | BK14: -0.43164946 | BL14: 1.8409486
A15: EPS8L1 | B15: -0.11915078 | C15: -0.51432721 | D15: -0.55307375 | E15: 1.3030252 | F15: -0.99845557 | G15: -1.2746177 | H15: 0.1606918 | I15: -0.33841449 | J15: 0.59632228 | K15: 0.24110833 | L15: -0.38583462 | M15: 1.0038425 | N15: -2.5446951 | O15: 0.64797679 | P15: 1.6741961 | Q15: 0.2772384 | R15: 1.6741961 | S15: -0.21501494 | T15: -0.60890381 | U15: -0.988158 | V15: 0.74135185 | W15: -0.35162022 | X15: 0.41227825 | Y15: -0.57148523 | Z15: 2.8044591 | AA15: -0.15845887 | AB15: 1.4730054 | AC15: 0.8339565 | AD15: 0.045463605 | AE15: -0.82824598 | AF15: 2.2865272 | AG15: 0.58772779 | AH15: -2.0346504 | AI15: 0.34685476 | AJ15: -0.0047709274 | AK15: 0.20764722 | AL15: 0.63247884 | AM15: -0.066078515 | AN15: 0.23142483 | AO15: 1.5583921 | AP15: -0.2401206 | AQ15: -0.26124928 | AR15: 0.67093874 | AS15: -1.16916 | AT15: 1.4352396 | AU15: -0.033917323 | AV15: -0.033917323 | AW15: 0.61912353 | AX15: -0.32007256 | AY15: 0.09515057 | AZ15: -0.84363124 | BA15: -0.30372026 | BB15: 0.29978975 | BC15: -0.092550274 | BD15: -0.87762405 | BE15: -1.5989993 | BF15: 0.2148006 | BG15: -2.0520573 | BH15: -0.64116792 | BI15: 0.10464572 | BJ15: -0.094075938 | BK15: -0.53354556 | BL15: -1.5280884
A16: XCR1 | B16: 0.34322328 | C16: 0.49768114 | D16: 1.0018782 | E16: -0.40324039 | F16: -0.10130542 | G16: 0.13098782 | H16: -1.145537 | I16: 0.091672443 | J16: 3.4753865 | K16: 3.1739035 | L16: 0.17486235 | M16: -1.6463377 | N16: -0.85077766 | O16: -0.48113703 | P16: -1.2717837 | Q16: -0.1104021 | R16: -1.2717837 | S16: 0.50651834 | T16: -0.74065114 | U16: 0.45008309 | V16: -0.34270317 | W16: 0.66067008 | X16: -0.050870332 | Y16: -0.47312902 | Z16: 0.8924421 | AA16: 0.32597028 | AB16: -1.2968266 | AC16: 0.19658082 | AD16: 0.41533977 | AE16: 2.1175183 | AF16: 0.026395064 | AG16: -1.451903 | AH16: -0.95057658 | AI16: -0.82287134 | AJ16: -0.28356241 | AK16: 0.23543244 | AL16: 0.51687265 | AM16: -0.70553298 | AN16: -0.99774962 | AO16: -1.0221903 | AP16: -0.085107577 | AQ16: 0.24794985 | AR16: 0.15360455 | AS16: -0.68176993 | AT16: 0.11553768 | AU16: 0.12317989 | AV16: 0.12317989 | AW16: 0.54431872 | AX16: -0.43222694 | AY16: 2.1486854 | AZ16: 0.97566917 | BA16: -0.68459951 | BB16: -0.2124548 | BC16: -1.2539807 | BD16: -0.54962453 | BE16: -0.81097893 | BF16: -0.446766 | BG16: -1.2448132 | BH16: 0.6475585 | BI16: 0.25738551 | BJ16: 0.11470321 | BK16: 1.2862365 | BL16: 0.85176645
A17: OBP2A | B17: -0.29409548 | C17: -1.2528851 | D17: 3.9633498 | E17: -0.43904377 | F17: -0.62198973 | G17: 0.69880636 | H17: 0.34345811 | I17: -0.65330294 | J17: 0.25329681 | K17: 3.1846518 | L17: -0.12039906 | M17: -0.048528728 | N17: -0.62370521 | O17: -0.38304974 | P17: -0.062323238 | Q17: -0.7601812 | R17: -0.062323238 | S17: 0.4753364 | T17: -0.49199295 | U17: -0.43512874 | V17: 0.76742293 | W17: 0.077085612 | X17: -0.92981348 | Y17: 2.0864702 | Z17: 0.71768951 | AA17: 0.79815528 | AB17: 1.4474894 | AC17: 0.22483011 | AD17: -0.75628871 | AE17: -0.35438284 | AF17: 0.83561865 | AG17: 0.18545887 | AH17: 0.0045339891 | AI17: -0.25221598 | AJ17: -0.97534612 | AK17: -0.045954298 | AL17: 0.49145499 | AM17: 0.47173747 | AN17: 0.61557425 | AO17: -0.99481549 | AP17: -1.9638426 | AQ17: -0.9996747 | AR17: 0.95683866 | AS17: -0.14924771 | AT17: 0.46357111 | AU17: -0.45035647 | AV17: -0.45035647 | AW17: -0.47892856 | AX17: -1.353235 | AY17: -1.1538808 | AZ17: 0.65100083 | BA17: -0.463711 | BB17: -1.7884961 | BC17: 0.10247043 | BD17: 0.23344377 | BE17: 0.057435312 | BF17: -0.39136219 | BG17: -0.58045954 | BH17: -1.0272594 | BI17: 0.016696364 | BJ17: -0.098328399 | BK17: 1.5133611 | BL17: 0.26966705
A18: PPA2 | B18: -1.2763029 | C18: -1.1371583 | D18: 1.2824914 | E18: -1.253526 | F18: -0.029383632 | G18: -1.6026442 | H18: -0.62584474 | I18: -0.34452439 | J18: 0.48815652 | K18: 1.6562283 | L18: -1.1371583 | M18: -1.6275727 | N18: -1.9377086 | O18: -0.6830465 | P18: 0.62154844 | Q18: 1.2673169 | R18: 0.62154844 | S18: 1.0485737 | T18: 0.3359764 | U18: 0.50480554 | V18: -0.25792354 | W18: -0.60198078 | X18: -1.3033162 | Y18: 0.8085945 | Z18: 0.23539023 | AA18: 0.94405339 | AB18: 0.70936258 | AC18: -0.70760875 | AD18: -1.326974 | AE18: 0.26645225 | AF18: 1.5702455 | AG18: 0.65641707 | AH18: 0.10609215 | AI18: -0.0010562993 | AJ18: -0.80653668 | AK18: -0.83394555 | AL18: -0.42978604 | AM18: -0.13608896 | AN18: 1.1768564 | AO18: 0.48815652 | AP18: 0.1479459 | AQ18: -0.40190491 | AR18: 1.2257107 | AS18: 1.6123833 | AT18: 2.413665 | AU18: -0.38620498 | AV18: -0.38620498 | AW18: 0.44950236 | AX18: -1.502288 | AY18: -1.3817395 | AZ18: 1.3683581 | BA18: -0.85707216 | BB18: -0.83713583 | BC18: -0.20392966 | BD18: -1.0521565 | BE18: 1.3947422 | BF18: -0.15213778 | BG18: 1.2922315 | BH18: 1.2005809 | BI18: -0.78382447 | BJ18: -0.058038742 | BK18: 0.4019487 | BL18: -0.23261046
... A26: PLLP | B26: 0.76379011 | C26: 0.22007744 | D26: 0.15767703 | E26: 0.65952532 | F26: 0.48808299 | G26: 0.36048047 | H26: 0.86426418 | I26: 3.2406907 | J26: 0.2518238 | K26: -0.27360645 | L26: 0.87029303 | M26: -0.87295663 | N26: 0.064517578 | O26: -1.3629071 | P26: -0.3107336 | Q26: -0.16882556 | R26: -0.3107336 | S26: -0.37111521 | T26: 0.062689109 | U26: -0.85845594 | V26: -0.87544668 | W26: -0.94623546 | X26: 1.2108991 | Y26: -0.93844904 | Z26: 0.47126653 | AA26: -0.48564279 | AB26: 1.491302 | AC26: 1.535749 | AD26: 0.12923355 | AE26: -0.098998781 | AF26: -0.3742555 | AG26: -0.51282149 | AH26: -0.44925958 | AI26: -1.0401682 | AJ26: 0.043402172 | AK26: -1.4445554 | AL26: -0.041486072 | AM26: -0.32414978 | AN26: 1.4596219 | AO26: -0.92314628 | AP26: -0.90535523 | AQ26: 0.62903897 | AR26: 2.6729797 | AS26: -0.74756576 | AT26: -1.0059195 | AU26: -1.0076322 | AV26: -1.0076322 | AW26: -0.468751 | AX26: 0.65515749 | AY26: -0.72943037 | AZ26: 2.389268 | BA26: 0.85141884 | BB26: 0.89574106 | BC26: -0.87295663 | BD26: -0.85334933 | BE26: -0.25980454 | BF26: 1.9997454 | BG26: -0.73403199 | BH26: 2.6075267e-05 | BI26: -0.53308843 | BJ26: -0.50976516 | BK26: -1.079341 | BL26: -0.74018904

Sheet 48350
A1: ID_REF | B1: GSM300166 | C1: GSM300167 | D1: GSM300168 | E1: GSM300169 | F1: GSM300170 | G1: GSM300171 | H1: GSM300172 | I1: GSM300173 | J1: GSM300174 | K1: GSM300175 | L1: GSM300176 | M1: GSM300177 | N1: GSM300178 | O1: GSM300179 | P1: GSM300180 | Q1: GSM300181 | R1: GSM300182 | S1: GSM300183 | T1: GSM300185 | U1: GSM300186 | V1: GSM300187 | W1: GSM300188 | X1: GSM300189 | Y1: GSM300190 | Z1: GSM300191 | AA1: GSM300192 | AB1: GSM300193 | AC1: GSM300194 | AD1: GSM300195 | AE1: GSM300196 | AF1: GSM300197 | AG1: GSM300198 | AH1: GSM300199 | AI1: GSM300200 | AJ1: GSM300201 | AK1: GSM300202 | AL1: GSM300203 | AM1: GSM300204 | AN1: GSM300205 | AO1: GSM300206 | AP1: GSM300207 | AQ1: GSM300208 | AR1: GSM300209 | AS1: GSM300210 | AT1: GSM300211 | AU1: GSM300212 | AV1: GSM300213 | AW1: GSM300214 | AX1: GSM300215 | AY1: GSM300216 | AZ1: GSM300217 | BA1: GSM300218 | BB1: GSM300219 | BC1: GSM300220 | BD1: GSM300221 | BE1: GSM300222 | BF1: GSM300223 | BG1: GSM300224 | BH1: GSM300225 | BI1: GSM300226 | BJ1: GSM300227 | BK1: GSM300228 | BL1: GSM300229 | BM1: GSM300230 | BN1: GSM300231 | BO1: GSM300232 | BP1: GSM300233 | BQ1: GSM300234 | BR1: GSM300235 | BS1: GSM300236 | BT1: GSM300237 | BU1: GSM300238 | BV1: GSM300239 | BW1: GSM300240 | BX1: GSM300241 | BY1: GSM300242 | BZ1: GSM300243 | CA1: GSM300244 | CB1: GSM300245 | CC1: GSM300246 | CD1: GSM300247 | CE1: GSM300248 | CF1: GSM300249 | CG1: GSM300250 | CH1: GSM300251 | CI1: GSM300252 | CJ1: GSM300253 | CK1: GSM300254 | CL1: GSM300255 | CM1: GSM300256 | CN1: GSM300258 | CO1: GSM300259 | CP1: GSM300260 | CQ1: GSM300261 | CR1: GSM300262 | CS1: GSM300263 | CT1: GSM300264 | CU1: GSM300265 | CV1: GSM300266 | CW1: GSM300267 | CX1: GSM300268 | CY1: GSM300269 | CZ1: GSM300270 | DA1: GSM300271 | DB1: GSM300272 | DC1: GSM300273 | DD1: GSM300274 | DE1: GSM300275 | DF1: GSM300276 | DG1: GSM300277 | DH1: GSM300278 | DI1: GSM300279 | DJ1: GSM300280 | DK1: GSM300281 | DL1: GSM300282 | DM1: GSM300283 | DN1: GSM300284 | DO1: GSM300285 | DP1: GSM300286 | DQ1: GSM300287 | DR1: GSM300288 | DS1: GSM300289 | DT1: GSM300290 | DU1: GSM300291 | DV1: GSM300292 | DW1: GSM300293 | DX1: GSM300294 | DY1: GSM300295 | DZ1: GSM300296 | EA1: GSM300297 | EB1: GSM300298 | EC1: GSM300299 | ED1: GSM300300 | EE1: GSM300301 | EF1: GSM300302 | EG1: GSM300303 | EH1: GSM300304 | EI1: GSM300305 | EJ1: GSM300306 | EK1: GSM300307 | EL1: GSM300308 | EM1: GSM300309 | EN1: GSM300310 | EO1: GSM300311 | EP1: GSM300312 | EQ1: GSM300313 | ER1: GSM300314 | ES1: GSM300315 | ET1: GSM300316 | EU1: GSM300317 | EV1: GSM300318 | EW1: GSM300319 | EX1: GSM300320 | EY1: GSM300321 | EZ1: GSM300322 | FA1: GSM300323 | FB1: GSM300324 | FC1: GSM300325 | FD1: GSM300326 | FE1: GSM300327 | FF1: GSM300328 | FG1: GSM300329 | FH1: GSM300330 | FI1: GSM300331 | FJ1: GSM300332 | FK1: GSM300333 | FL1: GSM300335 | FM1: GSM300338 | FN1: GSM300339 | FO1: GSM300340 | FP1: GSM300341 | FQ1: GSM318840 | FR1: GSM350078 | FS1: GSM1176196 | FT1: GSM1176197 | FU1: GSM1176198 | FV1: GSM1176199 | FW1: GSM1176200 | FX1: GSM1176201 | FY1: GSM1176202 | FZ1: GSM1176203 | GA1: GSM1176204 | GB1: GSM1176205 | GC1: GSM1176206 | GD1: GSM1176207 | GE1: GSM1176208 | GF1: GSM1176209 | GG1: GSM1176210 | GH1: GSM1176211 | GI1: GSM1176212 | GJ1: GSM1176213 | GK1: GSM1176214 | GL1: GSM1176215 | GM1: GSM1176216 | GN1: GSM1176217 | GO1: GSM1176218 | GP1: GSM1176219 | GQ1: GSM1176220 | GR1: GSM1176221 | GS1: GSM1176222 | GT1: GSM1176223 | GU1: GSM1176224 | GV1: GSM1176225 | GW1: GSM1176226 | GX1: GSM1176227 | GY1: GSM1176228 | GZ1: GSM1176229 | HA1: GSM1176230 | HB1: GSM1176231 | HC1: GSM1176232 | HD1: GSM1176233 | HE1: GSM1176234 | HF1: GSM1176235 | HG1: GSM1176236 | HH1: GSM1176237 | HI1: GSM1176238 | HJ1: GSM1176239 | HK1: GSM1176240 | HL1: GSM1176241 | HM1: GSM1176242 | HN1: GSM1176243 | HO1: GSM1176244 | HP1: GSM1176245 | HQ1: GSM1176246 | HR1: GSM1176247 | HS1: GSM1176248 | HT1: GSM1176249 | HU1: GSM1176250 | HV1: GSM1176251 | HW1: GSM1176252 | HX1: GSM1176253 | HY1: GSM1176254 | HZ1: GSM1176255 | IA1: GSM1176256 | IB1: GSM1176257 | IC1: GSM1176258 | ID1: GSM1176259 | IE1: GSM1176260 | IF1: GSM1176261 | IG1: GSM1176262 | IH1: GSM1176263 | II1: GSM1176264 | IJ1: GSM1176265 | IK1: GSM1176266 | IL1: GSM1176267 | IM1: GSM1176268 | IN1: GSM1176269 | IO1: GSM1176270 | IP1: GSM1176271 | IQ1: GSM1176272 | IR1: GSM1176273 | IS1: GSM1176274 | IT1: GSM1176275
A2: age | B2: 91 | C2: 91 | D2: 96 | E2: 82 | F2: 84 | G2: 87 | H2: 82 | I2: 45 | J2: 45 | K2: 45 | L2: 45 | M2: 95 | N2: 95 | O2: 95 | P2: 95 | Q2: 80 | R2: 80 | S2: 80 | T2: 91 | U2: 45 | V2: 45 | W2: 45 | X2: 74 | Y2: 74 | Z2: 74 | AA2: 99 | AB2: 99 | AC2: 99 | AD2: 99 | AE2: 74 | AF2: 74 | AG2: 74 | AH2: 74 | AI2: 92 | AJ2: 92 | AK2: 91 | AL2: 91 | AM2: 83 | AN2: 83 | AO2: 83 | AP2: 83 | AQ2: 28 | AR2: 28 | AS2: 28 | AT2: 28 | AU2: 74 | AV2: 74 | AW2: 97 | AX2: 97 | AY2: 97 | AZ2: 97 | BA2: 34 | BB2: 34 | BC2: 34 | BD2: 34 | BE2: 74 | BF2: 74 | BG2: 74 | BH2: 74 | BI2: 90 | BJ2: 91 | BK2: 44 | BL2: 44 | BM2: 37 | BN2: 37 | BO2: 37 | BP2: 37 | BQ2: 85 | BR2: 85 | BS2: 85 | BT2: 85 | BU2: 70 | BV2: 70 | BW2: 70 | BX2: 70 | BY2: 64 | BZ2: 64 | CA2: 64 | CB2: 64 | CC2: 70 | CD2: 70 | CE2: 85 | CF2: 85 | CG2: 85 | CH2: 91 | CI2: 21 | CJ2: 21 | CK2: 21 | CL2: 69 | CM2: 69 | CN2: 40 | CO2: 40 | CP2: 40 | CQ2: 52 | CR2: 52 | CS2: 52 | CT2: 52 | CU2: 75 | CV2: 75 | CW2: 86 | CX2: 86 | CY2: 86 | CZ2: 86 | DA2: 26 | DB2: 26 | DC2: 26 | DD2: 26 | DE2: 20 | DF2: 20 | DG2: 20 | DH2: 20 | DI2: 20 | DJ2: 20 | DK2: 20 | DL2: 20 | DM2: 36 | DN2: 36 | DO2: 69 | DP2: 69 | DQ2: 69 | DR2: 69 | DS2: 44 | DT2: 44 | DU2: 44 | DV2: 44 | DW2: 48 | DX2: 48 | DY2: 48 | DZ2: 48 | EA2: 30 | EB2: 30 | EC2: 30 | ED2: 20 | EE2: 20 | EF2: 20 | EG2: 20 | EH2: 33 | EI2: 33 | EJ2: 33 | EK2: 33 | EL2: 22 | EM2: 22 | EN2: 22 | EO2: 22 | EP2: 42 | EQ2: 42 | ER2: 42 | ES2: 42 | ET2: 45 | EU2: 45 | EV2: 45 | EW2: 45 | EX2: 47 | EY2: 47 | EZ2: 47 | FA2: 47 | FB2: 69 | FC2: 69 | FD2: 69 | FE2: 69 | FF2: 91 | FG2: 91 | FH2: 91 | FI2: 91 | FJ2: 75 | FK2: 75 | FL2: 75 | FM2: 82 | FN2: 82 | FO2: 82 | FP2: 82 | FQ2: 66 | FR2: 80 | FS2: 76 | FT2: 86 | FU2: 82 | FV2: 85 | FW2: 90 | FX2: 90 | FY2: 90 | FZ2: 91 | GA2: 76 | GB2: 85 | GC2: 85 | GD2: 86 | GE2: 87 | GF2: 94 | GG2: 94 | GH2: 60 | GI2: 74 | GJ2: 76 | GK2: 79 | GL2: 86 | GM2: 85 | GN2: 90 | GO2: 90 | GP2: 90 | GQ2: 91 | GR2: 76 | GS2: 76 | GT2: 79 | GU2: 80 | GV2: 85 | GW2: 86 | GX2: 87 | GY2: 94 | GZ2: 94 | HA2: 60 | HB2: 74 | HC2: 76 | HD2: 86 | HE2: 82 | HF2: 82 | HG2: 85 | HH2: 85 | HI2: 90 | HJ2: 90 | HK2: 90 | HL2: 90 | HM2: 91 | HN2: 94 | HO2: 95 | HP2: 76 | HQ2: 76 | HR2: 79 | HS2: 85 | HT2: 85 | HU2: 86 | HV2: 87 | HW2: 94 | HX2: 94 | HY2: 94 | HZ2: 74 | IA2: 76 | IB2: 86 | IC2: 82 | ID2: 85 | IE2: 85 | IF2: 88 | IG2: 90 | IH2: 90 | II2: 90 | IJ2: 90 | IK2: 91 | IL2: 94 | IM2: 95 | IN2: 76 | IO2: 85 | IP2: 85 | IQ2: 86 | IR2: 94 | IS2: 94 | IT2: 94
A3: sex | B3: F | C3: F | D3: F | E3: M | F3: M | G3: F | H3: F | I3: M | J3: M | K3: M | L3: M | M3: M | N3: M | O3: M | P3: M | Q3: M | R3: M | S3: M | T3: M | U3: F | V3: F | W3: F | X3: F | Y3: F | Z3: F | AA3: F | AB3: F | AC3: F | AD3: F | AE3: F | AF3: F | AG3: F | AH3: F | AI3: F | AJ3: F | AK3: F | AL3: F | AM3: M | AN3: M | AO3: M | AP3: M | AQ3: M | AR3: M | AS3: M | AT3: M | AU3: F | AV3: F | AW3: M | AX3: M | AY3: M | AZ3: M | BA3: F | BB3: F | BC3: F | BD3: F | BE3: F | BF3: F | BG3: F | BH3: F | BI3: F | BJ3: F | BK3: F | BL3: F | BM3: F | BN3: F | BO3: F | BP3: F | BQ3: M | BR3: M | BS3: M | BT3: M | BU3: F | BV3: F | BW3: F | BX3: F | BY3: F | BZ3: F | CA3: F | CB3: F | CC3: M | CD3: M | CE3: F | CF3: F | CG3: F | CH3: F | CI3: M | CJ3: M | CK3: M | CL3: M | CM3: M | CN3: M | CO3: M | CP3: M | CQ3: M | CR3: M | CS3: M | CT3: M | CU3: M | CV3: M | CW3: M | CX3: M | CY3: M | CZ3: M | DA3: F | DB3: F | DC3: F | DD3: F | DE3: M | DF3: M | DG3: M | DH3: M | DI3: M | DJ3: M | DK3: M | DL3: M | DM3: F | DN3: F | DO3: M | DP3: M | DQ3: M | DR3: M | DS3: F | DT3: F | DU3: F | DV3: F | DW3: F | DX3: F | DY3: F | DZ3: F | EA3: F | EB3: F | EC3: F | ED3: M | EE3: M | EF3: M | EG3: M | EH3: M | EI3: M | EJ3: M | EK3: M | EL3: M | EM3: M | EN3: M | EO3: M | EP3: M | EQ3: M | ER3: M | ES3: M | ET3: M | EU3: M | EV3: M | EW3: M | EX3: F | EY3: F | EZ3: F | FA3: F | FB3: M | FC3: M | FD3: M | FE3: M | FF3: F | FG3: F | FH3: F | FI3: F | FJ3: M | FK3: M | FL3: M | FM3: F | FN3: F | FO3: F | FP3: F | FQ3: M | FR3: M | FS3: F | FT3: F | FU3: F | FV3: F | FW3: F | FX3: F | FY3: F | FZ3: F | GA3: M | GB3: M | GC3: M | GD3: M | GE3: M | GF3: M | GG3: M | GH3: F | GI3: F | GJ3: F | GK3: F | GL3: F | GM3: F | GN3: F | GO3: F | GP3: F | GQ3: F | GR3: M | GS3: M | GT3: M | GU3: M | GV3: M | GW3: M | GX3: M | GY3: M | GZ3: M | HA3: F | HB3: F | HC3: F | HD3: F | HE3: F | HF3: F | HG3: F | HH3: F | HI3: F | HJ3: F | HK3: F | HL3: F | HM3: F | HN3: F | HO3: F | HP3: M | HQ3: M | HR3: M | HS3: M | HT3: M | HU3: M | HV3: M | HW3: M | HX3: M | HY3: M | HZ3: F | IA3: F | IB3: F | IC3: F | ID3: F | IE3: F | IF3: F | IG3: F | IH3: F | II3: F | IJ3: F | IK3: F | IL3: F | IM3: F | IN3: M | IO3: M | IP3: M | IQ3: M | IR3: M | IS3: M | IT3: M
A4: Group | B4: Control | C4: Control | D4: Control | E4: Control | F4: Control | G4: Control | H4: Control | I4: Control | J4: Control | K4: Control | L4: Control | M4: Control | N4: Control | O4: Control | P4: Control | Q4: Control | R4: Control | S4: Control | T4: Control | U4: Control | V4: Control | W4: Control | X4: Control | Y4: Control | Z4: Control | AA4: Control | AB4: Control | AC4: Control | AD4: Control | AE4: Control | AF4: Control | AG4: Control | AH4: Control | AI4: Control | AJ4: Control | AK4: Control | AL4: Control | AM4: Control | AN4: Control | AO4: Control | AP4: Control | AQ4: Control | AR4: Control | AS4: Control | AT4: Control | AU4: Control | AV4: Control | AW4: Control | AX4: Control | AY4: Control | AZ4: Control | BA4: Control | BB4: Control | BC4: Control | BD4: Control | BE4: Control | BF4: Control | BG4: Control | BH4: Control | BI4: Control | BJ4: Control | BK4: Control | BL4: Control | BM4: Control | BN4: Control | BO4: Control | BP4: Control | BQ4: Control | BR4: Control | BS4: Control | BT4: Control | BU4: Control | BV4: Control | BW4: Control | BX4: Control | BY4: Control | BZ4: Control | CA4: Control | CB4: Control | CC4: Control | CD4: Control | CE4: Control | CF4: Control | CG4: Control | CH4: Control | CI4: Control | CJ4: Control | CK4: Control | CL4: Control | CM4: Control | CN4: Control | CO4: Control | CP4: Control | CQ4: Control | CR4: Control | CS4: Control | CT4: Control | CU4: Control | CV4: Control | CW4: Control | CX4: Control | CY4: Control | CZ4: Control | DA4: Control | DB4: Control | DC4: Control | DD4: Control | DE4: Control | DF4: Control | DG4: Control | DH4: Control | DI4: Control | DJ4: Control | DK4: Control | DL4: Control | DM4: Control | DN4: Control | DO4: Control | DP4: Control | DQ4: Control | DR4: Control | DS4: Control | DT4: Control | DU4: Control | DV4: Control | DW4: Control | DX4: Control | DY4: Control | DZ4: Control | EA4: Control | EB4: Control | EC4: Control | ED4: Control | EE4: Control | EF4: Control | EG4: Control | EH4: Control | EI4: Control | EJ4: Control | EK4: Control | EL4: Control | EM4: Control | EN4: Control | EO4: Control | EP4: Control | EQ4: Control | ER4: Control | ES4: Control | ET4: Control | EU4: Control | EV4: Control | EW4: Control | EX4: Control | EY4: Control | EZ4: Control | FA4: Control | FB4: Control | FC4: Control | FD4: Control | FE4: Control | FF4: Control | FG4: Control | FH4: Control | FI4: Control | FJ4: Control | FK4: Control | FL4: Control | FM4: Control | FN4: Control | FO4: Control | FP4: Control | FQ4: Control | FR4: Control | FS4: Alzheimer | FT4: Alzheimer | FU4: Alzheimer | FV4: Alzheimer | FW4: Alzheimer | FX4: Alzheimer | FY4: Alzheimer | FZ4: Alzheimer | GA4: Alzheimer | GB4: Alzheimer | GC4: Alzheimer | GD4: Alzheimer | GE4: Alzheimer | GF4: Alzheimer | GG4: Alzheimer | GH4: Alzheimer | GI4: Alzheimer | GJ4: Alzheimer | GK4: Alzheimer | GL4: Alzheimer | GM4: Alzheimer | GN4: Alzheimer | GO4: Alzheimer | GP4: Alzheimer | GQ4: Alzheimer | GR4: Alzheimer | GS4: Alzheimer | GT4: Alzheimer | GU4: Alzheimer | GV4: Alzheimer | GW4: Alzheimer | GX4: Alzheimer | GY4: Alzheimer | GZ4: Alzheimer | HA4: Alzheimer | HB4: Alzheimer | HC4: Alzheimer | HD4: Alzheimer | HE4: Alzheimer | HF4: Alzheimer | HG4: Alzheimer | HH4: Alzheimer | HI4: Alzheimer | HJ4: Alzheimer | HK4: Alzheimer | HL4: Alzheimer | HM4: Alzheimer | HN4: Alzheimer | HO4: Alzheimer | HP4: Alzheimer | HQ4: Alzheimer | HR4: Alzheimer | HS4: Alzheimer | HT4: Alzheimer | HU4: Alzheimer | HV4: Alzheimer | HW4: Alzheimer | HX4: Alzheimer | HY4: Alzheimer | HZ4: Alzheimer | IA4: Alzheimer | IB4: Alzheimer | IC4: Alzheimer | ID4: Alzheimer | IE4: Alzheimer | IF4: Alzheimer | IG4: Alzheimer | IH4: Alzheimer | II4: Alzheimer | IJ4: Alzheimer | IK4: Alzheimer | IL4: Alzheimer | IM4: Alzheimer | IN4: Alzheimer | IO4: Alzheimer | IP4: Alzheimer | IQ4: Alzheimer | IR4: Alzheimer | IS4: Alzheimer | IT4: Alzheimer
A5: Braak Stage | B5: NA | C5: NA | D5: NA | E5: NA | F5: NA | G5: NA | H5: NA | I5: NA | J5: NA | K5: NA | L5: NA | M5: NA | N5: NA | O5: NA | P5: NA | Q5: NA | R5: NA | S5: NA | T5: NA | U5: NA | V5: NA | W5: NA | X5: NA | Y5: NA | Z5: NA | AA5: NA | AB5: NA | AC5: NA | AD5: NA | AE5: NA | AF5: NA | AG5: NA | AH5: NA | AI5: NA | AJ5: NA | AK5: NA | AL5: NA | AM5: NA | AN5: NA | AO5: NA | AP5: NA | AQ5: NA | AR5: NA | AS5: NA | AT5: NA | AU5: NA | AV5: NA | AW5: NA | AX5: NA | AY5: NA | AZ5: NA | BA5: NA | BB5: NA | BC5: NA | BD5: NA | BE5: NA | BF5: NA | BG5: NA | BH5: NA | BI5: NA | BJ5: NA | BK5: NA | BL5: NA | BM5: NA | BN5: NA | BO5: NA | BP5: NA | BQ5: NA | BR5: NA | BS5: NA | BT5: NA | BU5: NA | BV5: NA | BW5: NA | BX5: NA | BY5: NA | BZ5: NA | CA5: NA | CB5: NA | CC5: NA | CD5: NA | CE5: NA | CF5: NA | CG5: NA | CH5: NA | CI5: NA | CJ5: NA | CK5: NA | CL5: NA | CM5: NA | CN5: NA | CO5: NA | CP5: NA | CQ5: NA | CR5: NA | CS5: NA | CT5: NA | CU5: NA | CV5: NA | CW5: NA | CX5: NA | CY5: NA | CZ5: NA | DA5: NA | DB5: NA | DC5: NA | DD5: NA | DE5: NA | DF5: NA | DG5: NA | DH5: NA | DI5: NA | DJ5: NA | DK5: NA | DL5: NA | DM5: NA | DN5: NA | DO5: NA | DP5: NA | DQ5: NA | DR5: NA | DS5: NA | DT5: NA | DU5: NA | DV5: NA | DW5: NA | DX5: NA | DY5: NA | DZ5: NA | EA5: NA | EB5: NA | EC5: NA | ED5: NA | EE5: NA | EF5: NA | EG5: NA | EH5: NA | EI5: NA | EJ5: NA | EK5: NA | EL5: NA | EM5: NA | EN5: NA | EO5: NA | EP5: NA | EQ5: NA | ER5: NA | ES5: NA | ET5: NA | EU5: NA | EV5: NA | EW5: NA | EX5: NA | EY5: NA | EZ5: NA | FA5: NA | FB5: NA | FC5: NA | FD5: NA | FE5: NA | FF5: NA | FG5: NA | FH5: NA | FI5: NA | FJ5: NA | FK5: NA | FL5: NA | FM5: NA | FN5: NA | FO5: NA | FP5: NA | FQ5: NA | FR5: NA | FS5: 5 | FT5: 6 | FU5: 6 | FV5: 4 | FW5: 4 | FX5: 5 | FY5: 3 | FZ5: 5.5 | GA5: 3 | GB5: 3 | GC5: 2 | GD5: 4 | GE5: 5 | GF5: 6 | GG5: 5 | GH5: 6 | GI5: 6 | GJ5: 5 | GK5: 6 | GL5: 6 | GM5: 4 | GN5: 6 | GO5: 4 | GP5: 3 | GQ5: 5.5 | GR5: 5 | GS5: 3 | GT5: 6 | GU5: NA | GV5: 3 | GW5: 4 | GX5: 5 | GY5: 6 | GZ5: 6 | HA5: 6 | HB5: 6 | HC5: 5 | HD5: 6 | HE5: 6 | HF5: 6 | HG5: 4 | HH5: 5 | HI5: 6 | HJ5: 6 | HK5: 5 | HL5: 3 | HM5: 5.5 | HN5: 1 | HO5: NA | HP5: 5 | HQ5: 3 | HR5: 6 | HS5: 3 | HT5: 2 | HU5: 4 | HV5: 5 | HW5: 4 | HX5: 6 | HY5: 4 | HZ5: 6 | IA5: 5 | IB5: 6 | IC5: 6 | ID5: 4 | IE5: 5 | IF5: 4 | IG5: 6 | IH5: 4 | II5: 5 | IJ5: 3 | IK5: 5.5 | IL5: 1 | IM5: NA | IN5: 5 | IO5: 3 | IP5: 2 | IQ5: 4 | IR5: 4 | IS5: 6 | IT5: 4
A6: Brain Region | B6: Post-Central Gyrus | C6: Superior Frontal Gyrus | D6: Hippocampus | E6: Hippocampus | F6: Hippocampus | G6: Hippocampus | H6: Hippocampus | I6: EntorHippocampusinal Cortex | J6: Hippocampus | K6: Post-Central Gyrus | L6: Superior Frontal Gyrus | M6: EntorHippocampusinal Cortex | N6: Hippocampus | O6: Post-Central Gyrus | P6: Superior Frontal Gyrus | Q6: Entorhinal Cortex | R6: Hippocampus | S6: Post-Central Gyrus | T6: Hippocampus | U6: Entorhinal Cortex | V6: Hippocampus | W6: SFC | X6: Entorhinal Cortex | Y6: Hippocampus | Z6: SFC | AA6: Entorhinal Cortex | AB6: Hippocampus | AC6: Post-Central Gyrus | AD6: Superior Frontal Gyrus | AE6: Entorhinal Cortex | AF6: Hippocampus | AG6: Post-Central Gyrus | AH6: Superior Frontal Gyrus | AI6: Post-Central Gyrus | AJ6: SFC | AK6: Post-Central Gyrus | AL6: Superior Frontal Gyrus | AM6: Entorhinal Cortex | AN6: Hippocampus | AO6: Post-Central Gyrus | AP6: Superior Frontal Gyrus | AQ6: Entorhinal Cortex | AR6: Hippocampus | AS6: Post-Central Gyrus | AT6: Superior Frontal Gyrus | AU6: Post-Central Gyrus | AV6: Superior Frontal Gyrus | AW6: Entorhinal Cortex | AX6: Hippocampus | AY6: Post-Central Gyrus | AZ6: Superior Frontal Gyrus | BA6: Entorhinal Cortex | BB6: Hippocampus | BC6: Post-Central Gyrus | BD6: Superior Frontal Gyrus | BE6: Entorhinal Cortex | BF6: Hippocampus | BG6: Post-Central Gyrus | BH6: SFC | BI6: Post-Central Gyrus | BJ6: Hippocampus | BK6: Entorhinal Cortex | BL6: Superior Frontal Gyrus | BM6: Entorhinal Cortex | BN6: Hippocampus | BO6: Post-Central Gyrus | BP6: Superior Frontal Gyrus | BQ6: Entorhinal Cortex | BR6: Hippocampus | BS6: Post-Central Gyrus | BT6: Superior Frontal Gyrus | BU6: Entorhinal Cortex | BV6: Hippocampus | BW6: Post-Central Gyrus | BX6: Superior Frontal Gyrus | BY6: Entorhinal Cortex | BZ6: Hippocampus | CA6: Post-Central Gyrus | CB6: Superior Frontal Gyrus | CC6: Post-Central Gyrus | CD6: Superior Frontal Gyrus | CE6: Entorhinal Cortex | CF6: Post-Central Gyrus | CG6: Superior Frontal Gyrus | CH6: Superior Frontal Gyrus | CI6: Entorhinal Cortex | CJ6: Post-Central Gyrus | CK6: Superior Frontal Gyrus | CL6: Hippocampus | CM6: Post-Central Gyrus | CN6: Entorhinal Cortex | CO6: Post-Central Gyrus | CP6: Superior Frontal Gyrus | CQ6: Entorhinal Cortex | CR6: Hippocampus | CS6: Post-Central Gyrus | CT6: Superior Frontal Gyrus | CU6: Post-Central Gyrus | CV6: Superior Frontal Gyrus | CW6: Entorhinal Cortex | CX6: Hippocampus | CY6: Post-Central Gyrus | CZ6: Superior Frontal Gyrus | DA6: Entorhinal Cortex | DB6: Hippocampus | DC6: Post-Central Gyrus | DD6: Superior Frontal Gyrus | DE6: Entorhinal Cortex | DF6: Hippocampus | DG6: Post-Central Gyrus | DH6: Superior Frontal Gyrus | DI6: Entorhinal Cortex | DJ6: Hippocampus | DK6: Post-Central Gyrus | DL6: Superior Frontal Gyrus | DM6: Post-Central Gyrus | DN6: Superior Frontal Gyrus | DO6: Entorhinal Cortex | DP6: Hippocampus | DQ6: Post-Central Gyrus | DR6: Superior Frontal Gyrus | DS6: Entorhinal Cortex | DT6: Hippocampus | DU6: Post-Central Gyrus | DV6: Superior Frontal Gyrus | DW6: Entorhinal Cortex | DX6: Hippocampus | DY6: Post-Central Gyrus | DZ6: Superior Frontal Gyrus | EA6: Entorhinal Cortex | EB6: Hippocampus | EC6: Superior Frontal Gyrus | ED6: Entorhinal Cortex | EE6: Hippocampus | EF6: Post-Central Gyrus | EG6: Superior Frontal Gyrus | EH6: Entorhinal Cortex | EI6: Hippocampus | EJ6: Post-Central Gyrus | EK6: Superior Frontal Gyrus | EL6: Entorhinal Cortex | EM6: Hippocampus | EN6: Post-Central Gyrus | EO6: Superior Frontal Gyrus | EP6: Entorhinal Cortex | EQ6: Hippocampus | ER6: Post-Central Gyrus | ES6: Superior Frontal Gyrus | ET6: Entorhinal Cortex | EU6: Hippocampus | EV6: Post-Central Gyrus | EW6: Superior Frontal Gyrus | EX6: Entorhinal Cortex | EY6: Hippocampus | EZ6: Post-Central Gyrus | FA6: Superior Frontal Gyrus | FB6: Entorhinal Cortex | FC6: Hippocampus | FD6: Post-Central Gyrus | FE6: Superior Frontal Gyrus | FF6: Entorhinal Cortex | FG6: Hippocampus | FH6: Post-Central Gyrus | FI6: Superior Frontal Gyrus | FJ6: Entorhinal Cortex | FK6: Hippocampus | FL6: Superior Frontal Gyrus | FM6: Entorhinal Cortex | FN6: Hippocampus | FO6: Post-Central Gyrus | FP6: Superior Frontal Gyrus | FQ6: Superior Frontal Gyrus | FR6: Superior Frontal Gyrus | FS6: Entorhinal Cortex | FT6: Entorhinal Cortex | FU6: Entorhinal Cortex | FV6: Entorhinal Cortex | FW6: Entorhinal Cortex | FX6: Entorhinal Cortex | FY6: Entorhinal Cortex | FZ6: Entorhinal Cortex | GA6: Entorhinal Cortex | GB6: Entorhinal Cortex | GC6: Entorhinal Cortex | GD6: Entorhinal Cortex | GE6: Entorhinal Cortex | GF6: Entorhinal Cortex | GG6: Entorhinal Cortex | GH6: Hippocampus | GI6: Hippocampus | GJ6: Hippocampus | GK6: Hippocampus | GL6: Hippocampus | GM6: Hippocampus | GN6: Hippocampus | GO6: Hippocampus | GP6: Hippocampus | GQ6: Hippocampus | GR6: Hippocampus | GS6: Hippocampus | GT6: Hippocampus | GU6: Hippocampus | GV6: Hippocampus | GW6: Hippocampus | GX6: Hippocampus | GY6: Hippocampus | GZ6: Hippocampus | HA6: Post-Central Gyrus | HB6: Post-Central Gyrus | HC6: Post-Central Gyrus | HD6: Post-Central Gyrus | HE6: Post-Central Gyrus | HF6: Post-Central Gyrus | HG6: Post-Central Gyrus | HH6: Post-Central Gyrus | HI6: Post-Central Gyrus | HJ6: Post-Central Gyrus | HK6: Post-Central Gyrus | HL6: Post-Central Gyrus | HM6: Post-Central Gyrus | HN6: Post-Central Gyrus | HO6: Post-Central Gyrus | HP6: Post-Central Gyrus | HQ6: Post-Central Gyrus | HR6: Post-Central Gyrus | HS6: Post-Central Gyrus | HT6: Post-Central Gyrus | HU6: Post-Central Gyrus | HV6: Post-Central Gyrus | HW6: Post-Central Gyrus | HX6: Post-Central Gyrus | HY6: Post-Central Gyrus | HZ6: Superior Frontal Gyrus | IA6: Superior Frontal Gyrus | IB6: Superior Frontal Gyrus | IC6: Superior Frontal Gyrus | ID6: Superior Frontal Gyrus | IE6: Superior Frontal Gyrus | IF6: Superior Frontal Gyrus | IG6: Superior Frontal Gyrus | IH6: Superior Frontal Gyrus | II6: Superior Frontal Gyrus | IJ6: Superior Frontal Gyrus | IK6: Superior Frontal Gyrus | IL6: Superior Frontal Gyrus | IM6: Superior Frontal Gyrus | IN6: Superior Frontal Gyrus | IO6: Superior Frontal Gyrus | IP6: Superior Frontal Gyrus | IQ6: Superior Frontal Gyrus | IR6: Superior Frontal Gyrus | IS6: Superior Frontal Gyrus | IT6: Superior Frontal Gyrus
A7: Alzhimer | B7: =IF(B4="Alzheimer", "1", "0") -> 0 | C7: =IF(C4="Alzheimer", "1", "0") -> 0 | D7: =IF(D4="Alzheimer", "1", "0") -> 0 | E7: =IF(E4="Alzheimer", "1", "0") -> 0 | F7: =IF(F4="Alzheimer", "1", "0") -> 0 | G7: =IF(G4="Alzheimer", "1", "0") -> 0 | H7: =IF(H4="Alzheimer", "1", "0") -> 0 | I7: =IF(I4="Alzheimer", "1", "0") -> 0 | ... IT7: =IF(IT4="Alzheimer", "1", "0") -> 1
A8: SIRT3 | B8: -1.5116669 | C8: -0.87018334 | D8: 1.5849304 | E8: 0.23093586 | F8: 1.2654568 | G8: 0.66298132 | H8: 0.24100546 | I8: 0.60505533 | J8: 0.63616574 | K8: 1.1513048 | L8: 0.33102334 | M8: 0.93415324 | N8: -0.52122565 | O8: 0.78714978 | P8: 0.30409322 | Q8: -0.63532414 | R8: -0.063010995 | S8: 0.15305492 | T8: 0.18257308 | U8: -1.587696 | V8: -1.1018114 | W8: 0.21092401 | X8: -2.2158828 | Y8: -2.2576757 | Z8: -0.03168372 | AA8: 1.6308453 | AB8: -0.80922042 | AC8: -0.14321677 | AD8: -0.0077349886 | AE8: 1.7841435 | AF8: 0.42873679 | AG8: 1.0098142 | AH8: -0.49077083 | AI8: -0.49077083 | AJ8: 0.24863583 | AK8: -2.0518599 | AL8: 0.61935117 | AM8: 0.1836985 | AN8: 0.51982094 | AO8: -0.057206226 | AP8: 1.6953599 | AQ8: -1.3183432 | AR8: -0.27493008 | AS8: 0.076521683 | AT8: 1.5931086 | AU8: -1.5866011 | AV8: -1.5706786 | AW8: -1.0968 | AX8: -1.0770504 | AY8: -0.81304401 | AZ8: -0.3240571 | BA8: 0.16729763 | BB8: -0.31626569 | BC8: 0.17653909 | BD8: 1.3464751 | BE8: 0.74799568 | BF8: -0.069038548 | BG8: 0.59182688 | BH8: 1.2347627 | BI8: -0.53720755 | BJ8: 0.1200501 | BK8: -1.5651042 | BL8: 0.095174626 | BM8: -0.094994907 | BN8: -0.85280008 | BO8: -0.80829394 | BP8: 0.42936713 | BQ8: -0.55755811 | BR8: 0.26059908 | BS8: -0.58319591 | BT8: 0.90027695 | BU8: -0.16124717 | BV8: -0.43962277 | BW8: -0.016795591 | BX8: 1.0705984 | BY8: 0.6233604 | BZ8: -1.4041755 | CA8: 1.0782593 | CB8: 0.99743654 | CC8: 0.76070494 | CD8: 0.75310244 | CE8: -1.4954021 | CF8: -0.56316259 | CG8: -1.2749894 | CH8: -1.4854719 | CI8: -0.92402724 | CJ8: 1.1801176 | CK8: 1.6669208 | CL8: -1.0208826 | CM8: -0.8611227 | CN8: 1.7365787 | CO8: 1.0159179 | CP8: 1.4363924 | CQ8: -0.93614082 | CR8: 0.39512726 | CS8: 0.5079142 | CT8: -0.0030588767 | CU8: 0.05642092 | CV8: 0.98805305 | CW8: -2.1020631 | CX8: -0.35155374 | CY8: -0.091198933 | CZ8: 1.1255671 | DA8: 0.20232948 | DB8: -1.4466782 | DC8: -0.72578097 | DD8: 1.0749347 | DE8: 0.90683655 | DF8: -0.26483072 | DG8: 1.4398018 | DH8: 1.9831486 | DI8: 0.68037272 | DJ8: -0.2407251 | DK8: 0.19729694 | DL8: 2.3150433 | DM8: -0.55971438 | DN8: -0.87069033 | DO8: -0.1095349 | DP8: -0.37425686 | DQ8: -0.26252073 | DR8: -0.81066383 | DS8: 1.2622708 | DT8: -0.43362691 | DU8: 1.1837346 | DV8: 1.8197126 | DW8: 0.78758646 | DX8: 1.1523601 | DY8: 0.67987915 | DZ8: 1.4084114 | EA8: 1.604249 | EB8: 1.2800608 | EC8: 1.5393787 | ED8: -0.85692701 | EE8: 0.032084868 | EF8: -0.44491483 | EG8: 1.1510881 | EH8: 1.5107776 | EI8: -0.96055615 | EJ8: 1.0650192 | EK8: 1.6933913 | EL8: -0.89656711 | EM8: 0.86946872 | EN8: 0.53439446 | EO8: -0.61369632 | EP8: 0.25439554 | EQ8: 1.0052561 | ER8: 1.1531016 | ES8: 1.3126067 | ET8: 0.90343242 | EU8: 1.0906513 | EV8: 1.8189983 | EW8: 1.2868973 | EX8: 1.2256817 | EY8: -0.050250646 | EZ8: 1.6279442 | FA8: 1.0145499 | FB8: -0.36911706 | FC8: -1.669688 | FD8: -1.1411132 | FE8: 0.3091721 | FF8: -0.71383671 | FG8: -0.63577476 | FH8: 0.10232488 | FI8: 0.81991836 | FJ8: -1.1787395 | FK8: -0.81820202 | FL8: 0.031192296 | FM8: 0.2268283 | FN8: 0.088966448 | FO8: 0.80210046 | FP8: 1.5565885 | FQ8: -0.79610237 | FR8: 1.4074808 | FS8: -0.76864275 | FT8: -0.30797979 | FU8: -0.30417029 | FV8: -0.59190634 | FW8: 2.7210364 | FX8: -0.40514459 | FY8: -1.1588946 | FZ8: -1.4376188 | GA8: -1.0023419 | GB8: 0.9857019 | GC8: -2.087232 | GD8: -0.34216556 | GE8: -0.17282321 | GF8: -1.0754655 | GG8: -1.2929838 | GH8: 2.8777556 | GI8: 0.58949244 | GJ8: -0.83943368 | GK8: 3.1476452 | GL8: -0.27496678 | GM8: -0.99880491 | GN8: -0.47301485 | GO8: -0.88029816 | GP8: -1.4381485 | GQ8: -1.8689142 | GR8: 1.5080116 | GS8: -1.3046001 | GT8: 1.4380446 | GU8: -0.47670981 | GV8: -0.43030076 | GW8: -0.3104336 | GX8: -1.5507616 | GY8: -1.2300621 | GZ8: -1.3420169 | HA8: -0.68968394 | HB8: -0.13389051 | HC8: 0.47054997 | HD8: 2.1904979 | HE8: 0.49980706 | HF8: -3.362677 | HG8: 0.68761892 | HH8: 0.95856158 | HI8: 0.74066238 | HJ8: 10.26537 | HK8: 0.38146355 | HL8: 0.031385941 | HM8: -1.4673468 | HN8: 4.6907667 | HO8: 8.1957386 | HP8: 7.4120537 | HQ8: 0.692505 | HR8: 0.92998144 | HS8: 3.4788894 | HT8: 0.75795625 | HU8: 0.4584589 | HV8: 0.44252634 | HW8: 6.5261917 | HX8: 1.954743 | HY8: 0.96095741 | HZ8: -0.032825484 | IA8: -0.89599851 | IB8: -0.89105832 | IC8: 0.16236696 | ID8: -0.80817096 | IE8: 1.6975964 | IF8: 4.3614632 | IG8: -1.1384185 | IH8: 3.4882361 | II8: 0.857426 | IJ8: 0.857426 | IK8: -0.62211714 | IL8: 1.8973858 | IM8: 3.2315797 | IN8: 3.3585293 | IO8: -0.43026018 | IP8: 0.10023676 | IQ8: -0.73757553 | IR8: -0.71005536 | IS8: 0.39197102 | IT8: 0.68555201
A9: NEU3 | B9: 0.31975363 | C9: 0.16493989 | D9: -3.0395505 | E9: -3.0931537 | F9: -3.0423011 | G9: -3.0838996 | H9: -2.9328513 | I9: -0.017118521 | J9: -0.1341718 | K9: 0.045788644 | L9: 0.47955942 | M9: -0.26455905 | N9: -0.6722473 | O9: -0.2784149 | P9: 0.030637003 | Q9: -0.89067109 | R9: -0.46010008 | S9: -0.10039256 | T9: -3.2056708 | U9: 0.092497842 | V9: -0.8077969 | W9: 0.115089 | X9: -0.14062994 | Y9: -0.48707941 | Z9: 0.19337446 | AA9: -0.036539408 | AB9: -0.77962275 | AC9: -0.19694243 | AD9: 0.063874202 | AE9: -0.00041130363 | AF9: -0.33490867 | AG9: 0.011164446 | AH9: 0.21146452 | AI9: 0.21146452 | AJ9: 0.015932782 | AK9: -0.15747542 | AL9: 0.10947778 | AM9: 0.23953682 | AN9: 0.60637626 | AO9: -0.094008263 | AP9: 0.054621569 | AQ9: -0.11163601 | AR9: -0.44230462 | AS9: -0.17096578 | AT9: 0.26708573 | AU9: 0.13102371 | AV9: 0.079652807 | AW9: -0.39898028 | AX9: -0.67466221 | AY9: 0.1828627 | AZ9: 0.15266819 | BA9: 2.7645853 | BB9: -0.7314429 | BC9: -0.10039337 | BD9: 0.21718837 | BE9: 0.63831242 | BF9: -0.55547604 | BG9: 4.4930114 | BH9: 0.27576913 | BI9: -0.26610596 | BJ9: -3.0515355 | BK9: -0.18558433 | BL9: 0.20288769 | BM9: -0.22035603 | BN9: -0.34446128 | BO9: -0.3168794 | BP9: 0.27576798 | BQ9: -0.15866238 | BR9: 1.1292005 | BS9: -0.097656318 | BT9: 0.34870427 | BU9: -0.27071715 | BV9: -0.84970248 | BW9: -0.15657556 | BX9: 0.42365481 | BY9: 3.6409737 | BZ9: -0.55464874 | CA9: 1.3862155 | CB9: 0.33012834 | CC9: -0.14484838 | CD9: 1.7907664 | CE9: -0.82693507 | CF9: -0.17635364 | CG9: 0.30482137 | CH9: -0.38863364 | CI9: -0.28387977 | CJ9: 0.60147947 | CK9: 0.8499404 | CL9: -1.3750373 | CM9: -0.074801559 | CN9: 0.23564052 | CO9: 3.6559914 | CP9: 1.6318574 | CQ9: -0.31619038 | CR9: -1.3974541 | CS9: 0.73244981 | CT9: 0.44355198 | CU9: 1.7743088 | CV9: 2.826925 | CW9: -0.3998339 | CX9: -0.589279 | CY9: -0.12856492 | CZ9: 0.41868989 | DA9: 0.021019276 | DB9: -0.67868633 | DC9: -0.2985609 | DD9: 0.55534794 | DE9: -0.0050574797 | DF9: -0.68109812 | DG9: 0.42986903 | DH9: 3.2723145 | DI9: -0.0087716956 | DJ9: -0.45925431 | DK9: 0.033591126 | DL9: 0.6414932 | DM9: -0.16197502 | DN9: 0.20574367 | DO9: -0.98032891 | DP9: -0.4252916 | DQ9: -2.3975927 | DR9: 0.15172543 | DS9: 0.14582873 | DT9: 0.076280131 | DU9: 1.4160824 | DV9: 1.1265426 | DW9: -0.11981079 | DX9: 0.61056607 | DY9: 0.8099119 | DZ9: 1.7882781 | EA9: 0.22493733 | EB9: -0.41761429 | EC9: 0.32622788 | ED9: 2.1652679 | EE9: -0.64557937 | EF9: -0.19873038 | EG9: 0.46852982 | EH9: 0.048175497 | EI9: -0.98856374 | EJ9: -0.66682746 | EK9: 0.38999328 | EL9: 0.24344121 | EM9: -0.60321857 | EN9: 0.27535635 | EO9: -0.15270564 | EP9: -0.052202839 | EQ9: -0.81481047 | ER9: 1.0059962 | ES9: 0.52490858 | ET9: 2.8286939 | EU9: -0.69794707 | EV9: 0.80017022 | EW9: 2.4545179 | EX9: 0.046296682 | EY9: -0.60730971 | EZ9: -0.055522691 | FA9: 3.2343716 | FB9: -0.32401646 | FC9: -0.74017341 | FD9: -0.44987409 | FE9: 0.22579152 | FF9: -0.26719882 | FG9: -0.7788372 | FH9: -0.23253565 | FI9: 0.15738572 | FJ9: -0.30311823 | FK9: -1.1471188 | FL9: -0.65912203 | FM9: -0.0852094 | FN9: 0.27918367 | FO9: -0.10858952 | FP9: 3.0769008 | FQ9: -0.12693284 | FR9: 0.30482137 | FS9: -1.5181657 | FT9: 2.189372 | FU9: -0.48868608 | FV9: 0.3621765 | FW9: -0.9127153 | FX9: -0.22382604 | FY9: -2.025302 | FZ9: -1.0687351 | GA9: 0.70697306 | GB9: 2.1106002 | GC9: -2.0504012 | GD9: -1.4387362 | GE9: 2.1398666 | GF9: 5.880071 | GG9: 1.0904788 | GH9: -1.1143363 | GI9: -1.9631325 | GJ9: -2.1337698 | GK9: -1.7211763 | GL9: -1.0588159 | GM9: -2.3209437 | GN9: -1.2362763 | GO9: -1.6082867 | GP9: -1.8817472 | GQ9: -1.725594 | GR9: -1.5242715 | GS9: -1.2717489 | GT9: -1.6550772 | GU9: -1.7401132 | GV9: -1.1919806 | GW9: -1.8782844 | GX9: -2.1908615 | GY9: -2.1560799 | GZ9: -1.0938143 | HA9: -1.5399797 | HB9: -1.5198319 | HC9: 1.9826874 | HD9: 1.8177189 | HE9: 2.6918413 | HF9: -1.9115834 | HG9: 3.3368186 | HH9: -0.11864231 | HI9: 1.9022829 | HJ9: 2.4904489 | HK9: 1.9996171 | HL9: 1.5323421 | HM9: -0.33582372 | HN9: 1.9138939 | HO9: 0.25123877 | HP9: 1.0953768 | HQ9: 2.3728907 | HR9: 2.7641783 | HS9: 2.5232444 | HT9: 0.19078508 | HU9: 4.2563647 | HV9: 4.5198162 | HW9: 1.6604143 | HX9: 2.8152176 | HY9: 3.6822783 | HZ9: -1.4522214 | IA9: -0.38121109 | IB9: 6.0532073 | IC9: 0.52673504 | ID9: 6.8355504 | IE9: 1.8319053 | IF9: -0.10704058 | IG9: 0.27171984 | IH9: 2.6356789 | II9: 0.94918033 | IJ9: 0.94918033 | IK9: -0.22848983 | IL9: 4.5875278 | IM9: -0.22232121 | IN9: -0.36853383 | IO9: -0.34902865 | IP9: -0.024448924 | IQ9: 1.5952072 | IR9: 1.0282627 | IS9: 3.9578673 | IT9: 1.6547896
A10: UBE2D4 | B10: -0.22255574 | C10: -0.24570585 | D10: -1.0877146 | E10: -0.44872694 | F10: 1.1133348 | G10: -0.58666492 | H10: 0.10609678 | I10: -0.56026229 | J10: -0.29509637 | K10: 2.6383998 | L10: 1.2015782 | M10: -0.27168611 | N10: -1.1041413 | O10: -0.0096913168 | P10: 0.33679722 | Q10: -0.96071077 | R10: -1.0438024 | S10: -0.081444677 | T10: 0.8667026 | U10: -1.3124796 | V10: -0.83977437 | W10: 1.120578 | X10: -1.6513916 | Y10: -1.7183348 | Z10: 0.59258144 | AA10: 0.19149574 | AB10: -0.076300742 | AC10: 1.6986831 | AD10: 0.37744902 | AE10: -0.3352725 | AF10: 0.1412388 | AG10: 0.80071694 | AH10: 1.6083273 | AI10: 1.6083273 | AJ10: -0.82290728 | AK10: -0.82245077 | AL10: -0.52823178 | AM10: -0.44519495 | AN10: -0.81311881 | AO10: 0.75490338 | AP10: 1.3161801 | AQ10: -1.3440121 | AR10: -0.38581257 | AS10: 0.29329806 | AT10: 0.87061302 | AU10: 0.78818313 | AV10: 0.61438855 | AW10: -1.4149984 | AX10: -0.48676457 | AY10: -0.096366818 | AZ10: 0.14827756 | BA10: -0.86836303 | BB10: -0.9402828 | BC10: -0.56914669 | BD10: 1.2558222 | BE10: -0.59480241 | BF10: -0.70009012 | BG10: 0.1833844 | BH10: 0.48778723 | BI10: 1.4170901 | BJ10: -0.24470269 | BK10: -1.5392993 | BL10: 1.0578718 | BM10: -0.83610004 | BN10: -0.99948428 | BO10: 0.40760043 | BP10: 1.0707893 | BQ10: -0.66456585 | BR10: 0.092546494 | BS10: 0.54340943 | BT10: -0.35685468 | BU10: -0.42001114 | BV10: -0.81980176 | BW10: -0.42096314 | BX10: 0.21124423 | BY10: -0.84198798 | BZ10: -1.5345899 | CA10: 0.31233055 | CB10: -0.014002342 | CC10: 0.3400525 | CD10: 0.41938781 | CE10: -0.74221956 | CF10: 0.50565777 | CG10: 2.1891571 | CH10: -0.91624235 | CI10: -0.99265018 | CJ10: 0.36022412 | CK10: 1.8421485 | CL10: -1.2618756 | CM10: 1.0442959 | CN10: 0.30246724 | CO10: 2.4528264 | CP10: 2.0290987 | CQ10: -0.97919646 | CR10: -0.2967775 | CS10: 0.14913001 | CT10: 0.35188362 | CU10: 0.035151889 | CV10: 0.99370423 | CW10: -1.1306916 | CX10: -0.76302969 | CY10: 1.7793734 | CZ10: 0.49652092 | DA10: 0.42080032 | DB10: -0.10444773 | DC10: 0.49577069 | DD10: 1.5766188 | DE10: 0.27307842 | DF10: -1.2078794 | DG10: 1.3259878 | DH10: 1.703233 | DI10: -0.35599234 | DJ10: -0.62527251 | DK10: 1.2125968 | DL10: 1.2258728 | DM10: 0.3477274 | DN10: -1.4867762 | DO10: -0.94141456 | DP10: -0.43821324 | DQ10: 1.0098499 | DR10: -0.033246396 | DS10: -1.1874222 | DT10: -0.18701289 | DU10: 0.82481373 | DV10: 1.5171456 | DW10: 0.52896866 | DX10: 0.70934274 | DY10: 1.4112822 | DZ10: 2.4005175 | EA10: -0.45894126 | EB10: -0.10795571 | EC10: 1.1021298 | ED10: -0.4589404 | EE10: 0.73724346 | EF10: 1.8486191 | EG10: 0.52086113 | EH10: -0.68373764 | EI10: 0.17273615 | EJ10: 1.629804 | EK10: 1.2669563 | EL10: -0.75727097 | EM10: 0.19695845 | EN10: 0.59953226 | EO10: 0.44144499 | EP10: -0.74071082 | EQ10: 0.25520361 | ER10: 1.0355712 | ES10: 1.9281655 | ET10: -0.77451117 | EU10: -0.51962618 | EV10: 1.8299997 | EW10: 0.59332407 | EX10: -0.2088906 | EY10: -0.17407349 | EZ10: 0.87544626 | FA10: 0.30581523 | FB10: -0.73013741 | FC10: -0.91214436 | FD10: -0.80689303 | FE10: -0.24737252 | FF10: -1.3170012 | FG10: -1.121297 | FH10: 0.38724244 | FI10: 0.88624475 | FJ10: -1.162546 | FK10: -0.14026439 | FL10: 1.3465859 | FM10: -1.3369558 | FN10: -0.8079154 | FO10: -1.4796514 | FP10: -1.1785026 | FQ10: -0.47476396 | FR10: 0.49652329 | FS10: 1.5309774 | FT10: 1.416153 | FU10: 2.2057958 | FV10: 3.9289405 | FW10: 1.270475 | FX10: 0.25232392 | FY10: 1.7646369 | FZ10: -0.75259805 | GA10: 0.52719816 | GB10: -1.2444424 | GC10: 0.51132824 | GD10: -0.68816534 | GE10: 0.012730524 | GF10: 5.8064697 | GG10: 5.3437248 | GH10: 2.1384205 | GI10: -0.2986352 | GJ10: 8.343982 | GK10: 0.61685604 | GL10: 2.6784411 | GM10: 0.54778911 | GN10: 1.9631915 | GO10: 1.6984863 | GP10: 1.6705375 | GQ10: -0.041065063 | GR10: 1.2293064 | GS10: -0.74282383 | GT10: 13.32907 | GU10: -1.5274325 | GV10: 1.1030664 | GW10: 1.4313834 | GX10: 1.488846 | GY10: 7.7447173 | GZ10: 1.1899202 | HA10: 0.70505055 | HB10: 0.14471325 | HC10: -0.88682324 | HD10: -1.8170535 | HE10: -2.8699727 | HF10: 3.546891 | HG10: -1.0132794 | HH10: 1.3781916 | HI10: -2.0357426 | HJ10: -1.8842294 | HK10: -0.038337511 | HL10: -0.86421327 | HM10: -2.1754428 | HN10: -0.94527935 | HO10: -2.5114476 | HP10: -2.2043241 | HQ10: -1.3168326 | HR10: -1.2734367 | HS10: -2.5386501 | HT10: -2.0167898 | HU10: -1.949669 | HV10: 0.091327962 | HW10: -2.8238635 | HX10: -1.5385137 | HY10: -2.9702769 | HZ10: -0.34415333 | IA10: 1.6255465 | IB10: 0.55985081 | IC10: -0.20584213 | ID10: -1.3519808 | IE10: 1.493085 | IF10: 5.8103397 | IG10: -0.57824346 | IH10: -0.0191797 | II10: -1.2598888 | IJ10: -1.2598888 | IK10: -1.4554824 | IL10: 0.61896268 | IM10: -0.54520061 | IN10: 0.81428339 | IO10: -0.39119431 | IP10: -1.4530429 | IQ10: -1.3615425 | IR10: -1.841559 | IS10: -0.75006038 | IT10: -3.0084159
A11: SNX11 | B11: -2.3682878 | C11: 0.50848328 | D11: 1.5574585 | E11: 0.87466686 | F11: 1.8628732 | G11: 2.3181658 | H11: 1.1007047 | I11: -0.51117866 | J11: 0.59417629 | K11: 1.0568151 | L11: -0.086420482 | M11: -0.51932228 | N11: -0.86975869 | O11: -1.180296 | P11: 0.63402827 | Q11: -0.16696113 | R11: -0.89575034 | S11: -0.28666865 | T11: 3.5986074 | U11: 1.1475375 | V11: 0.84875263 | W11: 1.7670744 | X11: 0.34202688 | Y11: 0.68767842 | Z11: 2.6699792 | AA11: 0.34842869 | AB11: -0.55920965 | AC11: -0.96171939 | AD11: -0.70085334 | AE11: 0.97561005 | AF11: 0.64807126 | AG11: 0.31712954 | AH11: 1.2436476 | AI11: 1.2436476 | AJ11: 0.74202267 | AK11: -0.88799412 | AL11: 0.96160141 | AM11: -0.48301799 | AN11: -1.8243654 | AO11: -0.94030971 | AP11: 0.92446261 | AQ11: 0.4247619 | AR11: -1.0274951 | AS11: -0.13157095 | AT11: 0.38665091 | AU11: 4.0357223 | AV11: 0.026302077 | AW11: -1.2264862 | AX11: -0.51401801 | AY11: -1.166229 | AZ11: -1.2173317 | BA11: -1.4818466 | BB11: 2.1674154 | BC11: -0.31976386 | BD11: 0.71735871 | BE11: -0.33218924 | BF11: 0.39314051 | BG11: -1.3834511 | BH11: 0.16071288 | BI11: 1.3507205 | BJ11: 0.80852333 | BK11: -1.5020331 | BL11: 1.7513341 | BM11: -0.4993892 | BN11: -0.15525428 | BO11: -0.2961446 | BP11: 0.18004318 | BQ11: -0.50845948 | BR11: -0.02380229 | BS11: -0.52378087 | BT11: 0.13538316 | BU11: 0.38270491 | BV11: 0.28936255 | BW11: -0.34421217 | BX11: -0.39867175 | BY11: -1.2164511 | BZ11: 1.0453533 | CA11: -0.40294598 | CB11: -0.9424875 | CC11: -0.98547474 | CD11: -0.24777283 | CE11: 1.2482353 | CF11: 1.0448021 | CG11: 0.95462054 | CH11: 1.2777984 | CI11: -0.067976325 | CJ11: 1.3872912 | CK11: 2.072977 | CL11: 0.43598701 | CM11: 0.11367665 | CN11: 0.57718731 | CO11: 0.19727917 | CP11: -0.44767007 | CQ11: -0.63722234 | CR11: 0.5180083 | CS11: -0.69076311 | CT11: 0.52796025 | CU11: -0.37506857 | CV11: -0.45037752 | CW11: -0.91695304 | CX11: -0.32419622 | CY11: 0.088128016 | CZ11: -0.77386945 | DA11: 0.11215174 | DB11: 0.20415535 | DC11: 0.98865577 | DD11: -0.33627575 | DE11: 0.82328823 | DF11: 1.3369534 | DG11: 0.40494686 | DH11: 2.6374598 | DI11: -1.5349668 | DJ11: 0.70131628 | DK11: 1.1990334 | DL11: -0.28429353 | DM11: -1.4540276 | DN11: -0.53445795 | DO11: 0.66900515 | DP11: 0.25343802 | DQ11: 0.50867357 | DR11: 0.17902192 | DS11: -0.36029577 | DT11: 1.3976166 | DU11: 0.58805147 | DV11: 0.26115226 | DW11: 0.017805948 | DX11: -1.0950811 | DY11: -0.44448089 | DZ11: -0.56274561 | EA11: -1.4029776 | EB11: -0.32608279 | EC11: 0.29850589 | ED11: -0.49029711 | EE11: 0.2135566 | EF11: 1.2323025 | EG11: 1.1123894 | EH11: -0.98525337 | EI11: 0.90378772 | EJ11: 0.17030442 | EK11: 0.13740496 | EL11: -1.5626665 | EM11: 0.78958125 | EN11: 0.97439795 | EO11: 1.4462068 | EP11: -0.48938981 | EQ11: 0.45283096 | ER11: 0.2863991 | ES11: 1.2424371 | ET11: -0.78309076 | EU11: 0.54409537 | EV11: 0.27900383 | EW11: 0.94968219 | EX11: -0.5157048 | EY11: -1.1014628 | EZ11: 0.44719414 | FA11: -0.20055775 | FB11: -0.3640362 | FC11: -0.95635115 | FD11: 0.333094 | FE11: -0.27775731 | FF11: -1.2526156 | FG11: -1.6698291 | FH11: -1.3476736 | FI11: 0.24669107 | FJ11: -0.061043055 | FK11: -0.31096293 | FL11: -0.004324771 | FM11: -1.4294469 | FN11: -1.5264115 | FO11: 0.22752216 | FP11: -0.70170688 | FQ11: -0.17964785 | FR11: 2.3493133 | FS11: 0.81433355 | FT11: 0.5210857 | FU11: -0.3168907 | FV11: 1.403881 | FW11: -0.34976366 | FX11: -0.1128407 | FY11: 2.0862038 | FZ11: 0.44781845 | GA11: 0.20531074 | GB11: 0.3103924 | GC11: -1.2470516 | GD11: 1.1295987 | GE11: 1.8527255 | GF11: -0.75138322 | GG11: -0.22366905 | GH11: -0.065904801 | GI11: -1.046197 | GJ11: -0.20586001 | GK11: -0.13789627 | GL11: 0.53843347 | GM11: 2.8138322 | GN11: -0.59693983 | GO11: 0.50311417 | GP11: 1.8136014 | GQ11: -1.339267 | GR11: -0.99175245 | GS11: -0.36753563 | GT11: -0.41448408 | GU11: 1.1715695 | GV11: 0.57285473 | GW11: -1.1039406 | GX11: -0.26160229 | GY11: 2.647192 | GZ11: -0.69758477 | HA11: 0.60341342 | HB11: -0.98243926 | HC11: -1.0036444 | HD11: 0.72062423 | HE11: 0.62132988 | HF11: 3.4848922 | HG11: 0.73681496 | HH11: 0.15200629 | HI11: 0.4186856 | HJ11: 1.18013 | HK11: 3.2892986 | HL11: 0.46321748 | HM11: 0.089871625 | HN11: 0.019961878 | HO11: -1.515408 | HP11: -0.96770168 | HQ11: 0.69789318 | HR11: 1.5144937 | HS11: 0.97880632 | HT11: 0.59330389 | HU11: 1.4670676 | HV11: 0.65393709 | HW11: 1.7973174 | HX11: -0.0037382426 | HY11: 1.2171456 | HZ11: 0.053077532 | IA11: -0.19774916 | IB11: 2.6910707 | IC11: -0.23839797 | ID11: -0.63179751 | IE11: 0.87058619 | IF11: -1.4412267 | IG11: -1.1944938 | IH11: 0.46686086 | II11: -0.32446121 | IJ11: -0.32446121 | IK11: -1.3702475 | IL11: -1.8563703 | IM11: 0.63066406 | IN11: -1.8576515 | IO11: -0.71711572 | IP11: -1.6577678 | IQ11: 0.63509206 | IR11: -0.63103705 | IS11: -1.7191262 | IT11: -0.8499044
A12: N4BP1 | B12: -0.3688244 | C12: -0.3018992 | D12: -0.99722457 | E12: -0.14978176 | F12: 0.050855961 | G12: 2.8929615 | H12: 0.14563985 | I12: 0.67539427 | J12: -0.74067251 | K12: -0.81966281 | L12: -0.043343325 | M12: -0.38214307 | N12: -0.70481519 | O12: -0.73134284 | P12: -0.64574955 | Q12: -0.273957 | R12: -0.66122617 | S12: 0.062545676 | T12: 2.8204672 | U12: 0.29486374 | V12: -0.24772489 | W12: -0.50023795 | X12: 1.1666808 | Y12: 3.474183 | Z12: 0.53755639 | AA12: -0.15958268 | AB12: -0.67278091 | AC12: -0.15100848 | AD12: -0.83278557 | AE12: 1.4243112 | AF12: 1.1718481 | AG12: 1.3664268 | AH12: 2.0322197 | AI12: 2.0322197 | AJ12: -0.022952507 | AK12: 0.078907 | AL12: -0.38794206 | AM12: 0.24190094 | AN12: -0.82504046 | AO12: -0.86628759 | AP12: 0.50562985 | AQ12: 1.3396691 | AR12: -0.98654361 | AS12: -0.77974387 | AT12: -0.3464185 | AU12: 3.5169537 | AV12: 0.33179506 | AW12: 1.6433873 | AX12: -0.67772438 | AY12: -0.057121932 | AZ12: -0.21336583 | BA12: -0.58029532 | BB12: -1.5755007 | BC12: -0.96106369 | BD12: -1.1653873 | BE12: -1.0058777 | BF12: -0.61552749 | BG12: -0.77412758 | BH12: -0.60078542 | BI12: -0.0052351856 | BJ12: 2.9179726 | BK12: -0.001844479 | BL12: -0.28608303 | BM12: -0.082740446 | BN12: -0.63136928 | BO12: -0.33704724 | BP12: -0.21336725 | BQ12: -0.47156238 | BR12: -0.90775155 | BS12: -0.022272369 | BT12: -0.52871675 | BU12: 0.93281278 | BV12: -0.74958892 | BW12: 0.099196106 | BX12: -0.2471997 | BY12: -0.90909871 | BZ12: 1.9607653 | CA12: -0.2737417 | CB12: -0.14135205 | CC12: -0.029828978 | CD12: -0.5145004 | CE12: -0.21256877 | CF12: -0.10754051 | CG12: -0.41027776 | CH12: 1.0594158 | CI12: -0.073402457 | CJ12: 0.10307066 | CK12: -0.72473728 | CL12: -1.8877874 | CM12: -0.71345275 | CN12: 0.80708335 | CO12: -0.70121707 | CP12: -0.76528056 | CQ12: -0.074336874 | CR12: -1.9996986 | CS12: -0.051486439 | CT12: -0.017375474 | CU12: 0.41745817 | CV12: 0.0031265611 | CW12: -0.14117429 | CX12: -0.69334283 | CY12: -0.29791562 | CZ12: -0.89308558 | DA12: -0.87083401 | DB12: -0.76575442 | DC12: -0.11125394 | DD12: -0.28344281 | DE12: -0.039632749 | DF12: -0.27478971 | DG12: -0.19956868 | DH12: 0.2891945 | DI12: 0.020968883 | DJ12: -1.0359665 | DK12: 0.78830566 | DL12: 0.067017664 | DM12: 0.022341991 | DN12: -0.20710913 | DO12: -0.56684651 | DP12: -1.4666236 | DQ12: -2.3077384 | DR12: -0.67008174 | DS12: -0.54236703 | DT12: -1.0495445 | DU12: -0.74996173 | DV12: -0.41113233 | DW12: 0.10259014 | DX12: -1.0720725 | DY12: -0.14732547 | DZ12: -0.28784084 | EA12: 1.1120012 | EB12: -0.38329089 | EC12: 0.89780875 | ED12: 0.10259062 | EE12: -0.70890472 | EF12: -0.15469149 | EG12: -0.3594357 | EH12: -0.87945431 | EI12: 1.4525438 | EJ12: -0.12423264 | EK12: -0.33946361 | EL12: -0.2936501 | EM12: -0.67030798 | EN12: 0.78391399 | EO12: 1.2463419 | EP12: -0.48701258 | EQ12: -0.58704056 | ER12: -0.4654535 | ES12: -0.79759494 | ET12: 0.23296314 | EU12: -0.61051339 | EV12: -0.34147717 | EW12: -0.70652856 | EX12: -0.28560565 | EY12: -0.61469231 | EZ12: -0.46200795 | FA12: -0.42909176 | FB12: -0.11529199 | FC12: -0.73742372 | FD12: -0.52280797 | FE12: -1.447131 | FF12: 0.34734364 | FG12: 0.037294085 | FH12: -0.49036598 | FI12: 0.31987246 | FJ12: 0.35850959 | FK12: 1.0017629 | FL12: 1.445011 | FM12: -0.96545041 | FN12: -0.66039774 | FO12: -1.4376336 | FP12: -1.5590224 | FQ12: 0.78023621 | FR12: 0.57694068 | FS12: -0.20051546 | FT12: -0.27821891 | FU12: -0.067560689 | FV12: -0.85292134 | FW12: -0.33876969 | FX12: -0.053631415 | FY12: -0.12987098 | FZ12: -0.84940326 | GA12: -0.31926671 | GB12: 0.21833947 | GC12: -1.5246898 | GD12: -0.17952245 | GE12: -0.59517013 | GF12: 0.7533425 | GG12: -0.20325074 | GH12: 0.14560088 | GI12: -0.7099418 | GJ12: -1.3959929 | GK12: -0.12184004 | GL12: -0.78930496 | GM12: -0.55269148 | GN12: -0.35796487 | GO12: -0.23710267 | GP12: -0.9806256 | GQ12: -1.842598 | GR12: -0.83558615 | GS12: 0.087127586 | GT12: -0.34723267 | GU12: -0.8347929 | GV12: 0.0016902399 | GW12: -1.1523289 | GX12: -0.73845386 | GY12: -0.89503711 | GZ12: -1.0187516 | HA12: -0.9255309 | HB12: -0.27537384 | HC12: -0.69861644 | HD12: -1.3189686 | HE12: 0.39670233 | HF12: -2.1026802 | HG12: 0.16005202 | HH12: -1.4177164 | HI12: -0.042850926 | HJ12: 1.5989697 | HK12: -1.2091908 | HL12: -0.16279563 | HM12: -1.2922555 | HN12: -0.020213421 | HO12: -0.01443344 | HP12: 0.40019523 | HQ12: -0.99381262 | HR12: 0.73381861 | HS12: 0.36139459 | HT12: -1.8857215 | HU12: -0.12684245 | HV12: -0.23044103 | HW12: 0.50468593 | HX12: 1.960051 | HY12: -0.67731359 | HZ12: -0.95170526 | IA12: -1.6736073 | IB12: 0.15109236 | IC12: 0.5201038 | ID12: -0.23593109 | IE12: -0.66912043 | IF12: -0.71872275 | IG12: -1.0296378 | IH12: 0.44578298 | II12: -0.79406164 | IJ12: -0.79406164 | IK12: -2.7770036 | IL12: -0.94261442 | IM12: -0.30908984 | IN12: -1.1488041 | IO12: -2.6024806 | IP12: -1.6779626 | IQ12: -1.7199912 | IR12: -0.68777958 | IS12: -0.9576476 | IT12: -0.86453074
A13: FGF22 | B13: 0.25716025 | C13: -1.1678234 | D13: -2.5405919 | E13: -2.7376649 | F13: -2.5436031 | G13: -3.3676797 | H13: -2.2140417 | I13: -0.065300694 | J13: 0.25667544 | K13: 0.36147166 | L13: -0.71737549 | M13: -0.24686823 | N13: -0.13669089 | O13: -0.26760466 | P13: -1.4711391 | Q13: 0.63659483 | R13: 0.15331206 | S13: 1.9713308 | T13: -2.6016161 | U13: 1.3837011 | V13: -0.27732868 | W13: -1.3058501 | X13: 0.83882354 | Y13: 0.40098088 | Z13: -1.1650065 | AA13: 1.041711 | AB13: -0.37139898 | AC13: -0.11085741 | AD13: -1.370496 | AE13: 1.1887181 | AF13: 1.710814 | AG13: 0.4774306 | AH13: -1.1283233 | AI13: -1.1283233 | AJ13: -1.3910068 | AK13: 1.467542 | AL13: -1.0629866 | AM13: 0.85692429 | AN13: 0.36469323 | AO13: -0.038803854 | AP13: -1.4440729 | AQ13: 0.82436401 | AR13: 0.78995992 | AS13: 0.33570859 | AT13: -1.0358315 | AU13: 0.87957212 | AV13: -1.2726156 | AW13: 0.37643921 | AX13: -0.059743246 | AY13: 0.14563743 | AZ13: -0.70096098 | BA13: 1.0509506 | BB13: 0.62000904 | BC13: 0.01066321 | BD13: -0.5044376 | BE13: 1.9071364 | BF13: 0.1533161 | BG13: 0.27757993 | BH13: -1.0301051 | BI13: -0.23712242 | BJ13: -2.6596871 | BK13: 3.1167602 | BL13: -1.0957238 | BM13: 0.66674237 | BN13: 0.061131163 | BO13: -0.24354942 | BP13: -1.032971 | BQ13: 0.78291617 | BR13: 0.17355541 | BS13: 0.055432287 | BT13: -0.8811328 | BU13: 0.46813873 | BV13: -0.10730416 | BW13: 0.028874315 | BX13: -1.0042723 | BY13: 1.1512944 | BZ13: 0.13144078 | CA13: -0.089628706 | CB13: -0.94367417 | CC13: -0.091265314 | CD13: -0.91319475 | CE13: 1.0991343 | CF13: 0.21475348 | CG13: 1.0776913 | CH13: -1.1297367 | CI13: 0.56076207 | CJ13: 0.21983298 | CK13: -0.45840475 | CL13: -0.84019619 | CM13: 0.43572593 | CN13: 3.6405381 | CO13: 0.45829224 | CP13: 0.29716557 | CQ13: 0.56427597 | CR13: -0.89007907 | CS13: -0.1936274 | CT13: -0.80484004 | CU13: -0.066716183 | CV13: -0.59118714 | CW13: 2.6279861 | CX13: 0.15331408 | CY13: -0.12388935 | CZ13: -0.34220936 | DA13: 1.1606373 | DB13: -0.066318733 | DC13: -0.23390852 | DD13: -0.63949171 | DE13: 1.0620512 | DF13: -0.18544597 | DG13: 0.34771886 | DH13: -0.20696459 | DI13: 2.0916382 | DJ13: 0.4113731 | DK13: 0.12718564 | DL13: -0.56389197 | DM13: 0.1004239 | DN13: -1.0843531 | DO13: 0.4126637 | DP13: -0.09748471 | DQ13: 3.0552764 | DR13: -1.145276 | DS13: 1.4700901 | DT13: 0.45481526 | DU13: 0.24526538 | DV13: -0.5151383 | DW13: -0.54315736 | DX13: 0.47749193 | DY13: 0.26736727 | DZ13: -0.49984251 | EA13: 2.1737461 | EB13: 0.48272658 | EC13: -1.0672633 | ED13: 0.35236783 | EE13: 0.00959776 | EF13: 0.030530091 | EG13: -0.7337565 | EH13: 1.2394687 | EI13: 0.33369612 | EJ13: 0.11881859 | EK13: -0.90300569 | EL13: 0.53445588 | EM13: 0.05780085 | EN13: 0.065405472 | EO13: -0.90591899 | EP13: 0.89505897 | EQ13: 0.11129669 | ER13: 0.18097745 | ES13: -0.68002078 | ET13: 1.1774736 | EU13: -0.23231791 | EV13: 0.31001654 | EW13: -0.65039497 | EX13: 1.2037296 | EY13: 0.34229679 | EZ13: 0.10376268 | FA13: -0.71737185 | FB13: 0.46292204 | FC13: -0.056454292 | FD13: -0.54478065 | FE13: -1.101404 | FF13: 0.58362597 | FG13: -0.26128177 | FH13: -0.16450013 | FI13: -1.272617 | FJ13: 0.55023205 | FK13: -0.25485719 | FL13: -1.0042759 | FM13: 0.95528605 | FN13: 0.17018253 | FO13: 0.045460917 | FP13: -0.92191446 | FQ13: -1.6735867 | FR13: -1.0615568 | FS13: 12.288094 | FT13: 12.769578 | FU13: 12.439375 | FV13: 10.804618 | FW13: 11.794117 | FX13: 14.130612 | FY13: 12.741192 | FZ13: 13.592482 | GA13: 11.262593 | GB13: 13.693812 | GC13: 12.680489 | GD13: 13.927792 | GE13: 12.948871 | GF13: 11.833703 | GG13: 13.49158 | GH13: 11.439164 | GI13: 11.520546 | GJ13: 9.8523735 | GK13: 7.8533726 | GL13: 11.276623 | GM13: 8.9812122 | GN13: 10.304688 | GO13: 12.13947 | GP13: 10.275872 | GQ13: 11.539727 | GR13: 10.808644 | GS13: 11.216102 | GT13: 10.519509 | GU13: 11.061854 | GV13: 10.790156 | GW13: 10.675911 | GX13: 9.5314332 | GY13: 8.6723453 | GZ13: 8.0682253 | HA13: 10.950822 | HB13: 12.032521 | HC13: 11.532746 | HD13: 13.007629 | HE13: 12.824816 | HF13: 10.708857 | HG13: 11.55923 | HH13: 10.498322 | HI13: 11.636352 | HJ13: 12.590735 | HK13: 9.2090099 | HL13: 10.510727 | HM13: 11.498327 | HN13: 11.833475 | HO13: 11.010462 | HP13: 13.417887 | HQ13: 10.774191 | HR13: 11.13404 | HS13: 13.081654 | HT13: 9.471285 | HU13: 11.338498 | HV13: 9.2090039 | HW13: 10.755773 | HX13: 10.400396 | HY13: 11.907409 | HZ13: 9.6124856 | IA13: 12.220535 | IB13: 11.709134 | IC13: 13.28932 | ID13: 11.223952 | IE13: 15.26653 | IF13: 14.578612 | IG13: 9.866279 | IH13: 15.905294 | II13: 11.325327 | IJ13: 11.325327 | IK13: 12.820181 | IL13: 12.772227 | IM13: 15.082615 | IN13: 10.767975 | IO13: 12.298482 | IP13: 12.506423 | IQ13: 7.5207286 | IR13: 13.122349 | IS13: 10.945026 | IT13: 13.27706
A14: PEX16 | B14: -0.31887437 | C14: -0.22614182 | D14: 1.6474142 | E14: 1.4192672 | F14: 2.1943615 | G14: 1.4858126 | H14: 5.6046696 | I14: 1.1356699 | J14: -0.42243399 | K14: 1.0930606 | L14: 0.22961983 | M14: -0.54099401 | N14: -1.0328539 | O14: -0.64706453 | P14: -0.24546405 | Q14: -0.19007418 | R14: -0.903762 | S14: -0.30486427 | T14: 3.4849303 | U14: -0.1069837 | V14: -0.22185294 | W14: -0.19163008 | X14: -0.17354759 | Y14: -0.7324398 | Z14: -0.11321927 | AA14: -0.2448179 | AB14: -1.2245028 | AC14: 1.4396157 | AD14: 0.16614861 | AE14: 1.9195233 | AF14: -0.62323229 | AG14: 0.54340506 | AH14: 0.065940125 | AI14: 0.065940125 | AJ14: -0.14819863 | AK14: -0.45395958 | AL14: -0.19270949 | AM14: -0.37518441 | AN14: -0.81190716 | AO14: -0.43817183 | AP14: 0.43472535 | AQ14: -0.35062996 | AR14: -0.67204601 | AS14: -0.34572168 | AT14: 0.92307256 | AU14: 7.0319576 | AV14: -0.31894186 | AW14: -0.25026363 | AX14: -1.171559 | AY14: -0.42868092 | AZ14: -0.20351323 | BA14: 0.46454202 | BB14: -0.62833558 | BC14: 2.2619649 | BD14: 0.40842264 | BE14: -0.10251832 | BF14: -0.90956681 | BG14: -0.013907152 | BH14: 0.016445721 | BI14: -0.59711945 | BJ14: 1.5862695 | BK14: 0.46209395 | BL14: 0.56173279 | BM14: -0.4207994 | BN14: -0.96919967 | BO14: -0.3242526 | BP14: -0.0059197339 | BQ14: -0.41022131 | BR14: -0.87754482 | BS14: -0.40646258 | BT14: 0.25169681 | BU14: 1.4883246 | BV14: -1.0148845 | BW14: -0.42867843 | BX14: 0.29374032 | BY14: -0.18236824 | BZ14: -0.92791678 | CA14: -0.48957576 | CB14: 0.07159035 | CC14: -0.45500882 | CD14: 0.091972868 | CE14: -0.26439969 | CF14: -0.29946582 | CG14: 0.049022418 | CH14: -0.11212244 | CI14: -0.52753909 | CJ14: -0.29838563 | CK14: 0.46474356 | CL14: 3.1983235 | CM14: -0.27673678 | CN14: 0.10653114 | CO14: 0.041918621 | CP14: 0.84236904 | CQ14: -0.56678213 | CR14: 3.105983 | CS14: -0.42234084 | CT14: 0.19261182 | CU14: -0.4465981 | CV14: 1.4289584 | CW14: -0.6616466 | CX14: -0.91150371 | CY14: -0.51873632 | CZ14: 0.19261462 | DA14: 0.44621522 | DB14: -0.42137122 | DC14: -0.62367861 | DD14: 0.31133699 | DE14: -0.17795978 | DF14: -0.13004678 | DG14: 0.043061635 | DH14: 0.64160542 | DI14: 2.2294622 | DJ14: -0.72843754 | DK14: 0.81141682 | DL14: 0.44431423 | DM14: -0.40328142 | DN14: -0.044859369 | DO14: 1.1925961 | DP14: -1.0545218 | DQ14: 2.6637072 | DR14: -0.10773591 | DS14: -0.035142033 | DT14: -0.69326192 | DU14: -0.27022828 | DV14: 0.4048471 | DW14: 4.5797964 | DX14: 0.35847849 | DY14: 1.4171215 | DZ14: 0.59970934 | EA14: 0.058175245 | EB14: -0.689227 | EC14: 0.37629366 | ED14: -0.63326174 | EE14: -0.94523866 | EF14: -0.43606572 | EG14: 0.27034428 | EH14: -0.17244314 | EI14: -0.78026634 | EJ14: -0.30594166 | EK14: 0.132948 | EL14: -0.56575186 | EM14: -0.92309341 | EN14: -0.44238838 | EO14: 0.13066399 | EP14: -0.44189106 | EQ14: -0.65074395 | ER14: -0.32532812 | ES14: 0.27034895 | ET14: -0.2317261 | EU14: 1.8643911 | EV14: 0.45357001 | EW14: 0.30634598 | EX14: -0.16029546 | EY14: -0.80895056 | EZ14: -0.33714394 | FA14: 0.2820332 | FB14: -0.47442608 | FC14: -1.0901115 | FD14: -0.83053395 | FE14: -0.14601757 | FF14: -0.65051224 | FG14: -1.1586901 | FH14: -0.54154203 | FI14: -0.14928582 | FJ14: -0.55132422 | FK14: -1.1448681 | FL14: 0.063683021 | FM14: -0.075661516 | FN14: -0.89406582 | FO14: -0.3905431 | FP14: 0.69373249 | FQ14: -0.43519361 | FR14: 0.71369761 | FS14: 20.559608 | FT14: 7.8188804 | FU14: 12.465008 | FV14: 21.747747 | FW14: 11.687088 | FX14: 29.904514 | FY14: 30.082384 | FZ14: 12.559379 | GA14: 25.70801 | GB14: 7.246426 | GC14: 18.885529 | GD14: 16.10416 | GE14: 17.484701 | GF14: 11.624844 | GG14: 16.584911 | GH14: 10.028812 | GI14: 23.430468 | GJ14: 35.586766 | GK14: 9.7469939 | GL14: 9.7770497 | GM14: 20.313484 | GN14: 12.691279 | GO14: 36.889409 | GP14: 22.15543 | GQ14: 21.155718 | GR14: 13.6494 | GS14: 15.702996 | GT14: 24.132396 | GU14: 12.389348 | GV14: 11.742806 | GW14: 20.191474 | GX14: 20.520735 | GY14: 15.597624 | GZ14: 16.988754 | HA14: 22.148708 | HB14: 25.050902 | HC14: 11.412331 | HD14: 2.2690447 | HE14: 5.9344435 | HF14: 8.2097924 | HG14: 7.1710718 | HH14: 19.173189 | HI14: 18.94797 | HJ14: 2.5868224 | HK14: 11.354304 | HL14: 8.731199 | HM14: 8.3005515 | HN14: 7.6225937 | HO14: 9.1762345 | HP14: 3.9532808 | HQ14: 12.25096 | HR14: 7.8614279 | HS14: 6.0841589 | HT14: 10.387749 | HU14: 7.4333921 | HV14: 6.0684548 | HW14: 4.6605239 | HX14: 7.9192449 | HY14: 15.661433 | HZ14: 22.736691 | IA14: 10.895268 | IB14: 2.9815115 | IC14: 2.8298731 | ID14: 6.8445504 | IE14: 20.704036 | IF14: 6.6672597 | IG14: 14.083724 | IH14: 4.2040318 | II14: 7.8804874 | IJ14: 7.8804874 | IK14: 8.9794976 | IL14: 8.1807398 | IM14: 11.106533 | IN14: 9.2688338 | IO14: 4.920433 | IP14: 11.033904 | IQ14: 7.5372054 | IR14: 6.7629533 | IS14: 7.3311982 | IT14: 12.35075
A15: OR7C2 | B15: 0.28717801 | C15: 0.34989375 | D15: -4.5804739 | E15: -4.7236881 | F15: -4.6104045 | G15: -4.6583154 | H15: -4.4221315 | I15: 0.14571429 | J15: -0.63703959 | K15: 0.47032022 | L15: 0.79808118 | M15: -0.31690217 | N15: -0.89019669 | O15: -0.026475945 | P15: 0.1006506 | Q15: -0.20232738 | R15: -0.76483943 | S15: 0.34918775 | T15: -4.6069103 | U15: 0.3152464 | V15: -1.0369924 | W15: 0.24948748 | X15: -0.073581473 | Y15: -0.53634765 | Z15: 0.37413422 | AA15: 2.271512 | AB15: -1.0985396 | AC15: 0.077543977 | AD15: 0.20885379 | AE15: 0.15699215 | AF15: -0.39099644 | AG15: 0.5056983 | AH15: 0.63107922 | AI15: 0.63107922 | AJ15: 0.13931107 | AK15: 0.22994009 | AL15: 0.23966033 | AM15: -0.040693304 | AN15: -0.65093665 | AO15: 0.17879778 | AP15: 0.1393143 | AQ15: -0.079047885 | AR15: -0.48220239 | AS15: 0.38547533 | AT15: 0.47185439 | AU15: 0.91962709 | AV15: 0.22424674 | AW15: -0.45299994 | AX15: -0.89384648 | AY15: 0.18304258 | AZ15: 0.33141503 | BA15: 0.079798775 | BB15: -0.40802229 | BC15: 0.20858706 | BD15: 1.0241454 | BE15: 0.25069017 | BF15: -0.7660774 | BG15: 0.31451179 | BH15: 0.49792589 | BI15: 0.75332531 | BJ15: -4.6230212 | BK15: -0.10224098 | BL15: 0.4013129 | BM15: -0.19426371 | BN15: -0.79825699 | BO15: -0.023716711 | BP15: 0.51535573 | BQ15: -0.13349689 | BR15: -0.52220666 | BS15: 0.23136908 | BT15: 0.58107033 | BU15: -0.43093704 | BV15: -0.90721609 | BW15: 0.16182657 | BX15: 0.54887783 | BY15: 0.16404824 | BZ15: -0.73872641 | CA15: 0.11956836 | CB15: 0.57813341 | CC15: 0.1561786 | CD15: 0.61339125 | CE15: 0.0075430651 | CF15: 2.669281 | CG15: 0.66064972 | CH15: 0.7935647 | CI15: -0.26916787 | CJ15: 0.35208616 | CK15: 1.0894403 | CL15: 1.4923518 | CM15: 0.48799162 | CN15: 0.48273301 | CO15: 0.52641202 | CP15: 1.2088846 | CQ15: -0.30632235 | CR15: 0.57112336 | CS15: 0.20006434 | CT15: 0.71861902 | CU15: 0.14912166 | CV15: 0.8555355 | CW15: -0.44911115 | CX15: -0.75117297 | CY15: 0.10553578 | CZ15: 0.73206069 | DA15: 0.16828808 | DB15: -0.87191243 | DC15: -0.042979938 | DD15: 0.91797762 | DE15: 0.10917826 | DF15: -0.64209535 | DG15: 0.48651208 | DH15: 1.3075827 | DI15: 0.12320826 | DJ15: -0.54918013 | DK15: 0.24277794 | DL15: 1.00095 | DM15: 0.2199729 | DN15: 0.41709068 | DO15: -0.40227624 | DP15: -0.91813062 | DQ15: 2.6901526 | DR15: 0.32573587 | DS15: 0.34845895 | DT15: -0.49771665 | DU15: 0.29292364 | DV15: 1.0055856 | DW15: -0.096792426 | DX15: -0.48866864 | DY15: 0.29148669 | DZ15: 1.034995 | EA15: 0.57455116 | EB15: -0.49513274 | EC15: 0.49502512 | ED15: -0.40227774 | EE15: -0.7945517 | EF15: 1.2092738 | EG15: 0.81466842 | EH15: 0.20085875 | EI15: -0.59134218 | EJ15: 0.34629536 | EK15: 0.57667066 | EL15: -0.29705104 | EM15: -0.84377607 | EN15: 0.24992136 | EO15: 0.59427537 | EP15: -0.0062696692 | EQ15: -0.75241675 | ER15: 0.34919033 | ES15: 0.83886566 | ET15: 0.18384322 | EU15: -1.0548066 | EV15: 0.4102439 | EW15: 0.88098835 | EX15: 0.20227612 | EY15: -0.62183981 | EZ15: 0.31884284 | FA15: 0.78002494 | FB15: -0.36694247 | FC15: -0.91934278 | FD15: -0.31795149 | FE15: 0.39844719 | FF15: -0.25718079 | FG15: -1.0536222 | FH15: 0.042711631 | FI15: 0.29458172 | FJ15: -0.27847316 | FK15: -1.034615 | FL15: 0.4906747 | FM15: 0.013078097 | FN15: -0.7524146 | FO15: 0.19154959 | FP15: 0.58400079 | FQ15: -0.081628361 | FR15: 0.71116842 | FS15: 13.740801 | FT15: 14.641236 | FU15: 15.071951 | FV15: 14.025106 | FW15: 14.406442 | FX15: 17.617978 | FY15: 11.268966 | FZ15: 14.247257 | GA15: 12.926852 | GB15: 13.876269 | GC15: 13.912272 | GD15: 13.335649 | GE15: 15.893227 | GF15: 17.252547 | GG15: 10.339457 | GH15: 15.556793 | GI15: 9.3166938 | GJ15: 8.8145538 | GK15: 12.571666 | GL15: 13.37559 | GM15: 13.256768 | GN15: 13.92296 | GO15: 12.304192 | GP15: 10.712983 | GQ15: 12.174706 | GR15: 13.40302 | GS15: 12.663831 | GT15: 9.7378925 | GU15: 19.14022 | GV15: 11.98387 | GW15: 13.730965 | GX15: 10.614304 | GY15: 9.8389187 | GZ15: 11.429605 | HA15: 14.499086 | HB15: 11.013316 | HC15: 12.972361 | HD15: 16.628919 | HE15: 12.865209 | HF15: 14.841098 | HG15: 13.437563 | HH15: 16.619788 | HI15: 12.518019 | HJ15: 14.861723 | HK15: 13.642508 | HL15: 10.796618 | HM15: 12.19497 | HN15: 18.477258 | HO15: 9.6383101 | HP15: 14.787467 | HQ15: 13.725033 | HR15: 14.139347 | HS15: 13.772724 | HT15: 14.235476 | HU15: 15.149163 | HV15: 14.511457 | HW15: 12.793189 | HX15: 12.543648 | HY15: 13.944578 | HZ15: 13.598212 | IA15: 11.16037 | IB15: 13.814885 | IC15: 14.852794 | ID15: 11.498746 | IE15: 11.905376 | IF15: 8.4190113 | IG15: 12.624427 | IH15: 14.688461 | II15: 16.819985 | IJ15: 16.819985 | IK15: 13.85195 | IL15: 15.98286 | IM15: 10.911701 | IN15: 16.353187 | IO15: 17.129701 | IP15: 14.497834 | IQ15: 15.113401 | IR15: 15.862157 | IS15: 14.090133 | IT15: 12.717112
A16: EPS8L1 | B16: 0.11922243 | C16: 1.5896923 | D16: -2.0496525 | E16: -2.102164 | F16: -2.0362366 | G16: -2.1051553 | H16: -1.8652168 | I16: -0.54164271 | J16: -0.55931956 | K16: -0.36373866 | L16: 2.5655744 | M16: -1.1505765 | N16: -0.71656348 | O16: -0.46772323 | P16: 0.43675341 | Q16: -0.67713006 | R16: -0.77811555 | S16: -0.28407144 | T16: -2.0264252 | U16: -0.457437 | V16: -1.0645559 | W16: 0.39697337 | X16: -0.48882417 | Y16: -0.51470233 | Z16: 1.3611697 | AA16: -0.22659499 | AB16: -0.7404565 | AC16: -0.41544787 | AD16: 1.0256253 | AE16: -0.31317419 | AF16: -0.4575997 | AG16: -0.11268979 | AH16: 0.86284363 | AI16: 0.86284363 | AJ16: 0.37528269 | AK16: 0.1515296 | AL16: 1.2987461 | AM16: -0.46405089 | AN16: -0.46473901 | AO16: -0.17129865 | AP16: 0.80803819 | AQ16: -0.57253897 | AR16: -0.14849132 | AS16: -0.3393813 | AT16: 1.4091956 | AU16: -0.24751131 | AV16: 1.4981364 | AW16: -0.87422301 | AX16: -0.66051388 | AY16: -0.2905715 | AZ16: 1.0810821 | BA16: -0.51785525 | BB16: -0.59737432 | BC16: -0.56783913 | BD16: 1.6392553 | BE16: -0.45131836 | BF16: -0.57646397 | BG16: -0.14810596 | BH16: 1.444907 | BI16: -0.44324762 | BJ16: -2.1614177 | BK16: -0.28514503 | BL16: 0.85167205 | BM16: -0.54952458 | BN16: -0.49563735 | BO16: -0.53488791 | BP16: 2.3103251 | BQ16: -0.19603556 | BR16: -0.49513264 | BS16: -0.61097042 | BT16: 1.7163805 | BU16: -1.0140247 | BV16: -0.79068583 | BW16: -0.28678045 | BX16: 1.0944687 | BY16: -0.46810895 | BZ16: -0.94735257 | CA16: 0.13533773 | CB16: 1.5993855 | CC16: -0.5343925 | CD16: 1.8837074 | CE16: -0.96991416 | CF16: -0.10002296 | CG16: 2.6039127 | CH16: 2.7565669 | CI16: -0.64795694 | CJ16: 0.11613059 | CK16: 1.8725012 | CL16: 1.3795296 | CM16: 0.18668568 | CN16: -0.21940136 | CO16: -0.22546145 | CP16: 2.0009913 | CQ16: -0.49485749 | CR16: 0.74447548 | CS16: -0.20324693 | CT16: 2.0105668 | CU16: -0.3931078 | CV16: 1.6983337 | CW16: -0.65881923 | CX16: -0.59009998 | CY16: -0.50402152 | CZ16: 1.6812546 | DA16: -0.92868363 | DB16: -0.6467778 | DC16: -0.63631348 | DD16: 1.7381222 | DE16: -0.71289038 | DF16: -1.0538375 | DG16: -0.093671808 | DH16: 1.9372859 | DI16: -0.32868768 | DJ16: -0.51370351 | DK16: -0.33086131 | DL16: 2.560269 | DM16: -0.12873331 | DN16: 2.0163215 | DO16: -0.84213287 | DP16: -0.65436608 | DQ16: -0.41926635 | DR16: 1.5949783 | DS16: -0.20607107 | DT16: -0.80541612 | DU16: -0.5020189 | DV16: 1.9240763 | DW16: -0.2486212 | DX16: -0.50167154 | DY16: -0.45959008 | DZ16: 1.9212502 | EA16: -0.45182869 | EB16: -0.48958654 | EC16: 1.1301045 | ED16: -0.7091987 | EE16: -0.50769603 | EF16: -0.33405898 | EG16: 1.4860629 | EH16: -0.42052304 | EI16: -0.18245137 | EJ16: -0.3303262 | EK16: 1.1500311 | EL16: -0.53274835 | EM16: -0.50518575 | EN16: -0.054104289 | EO16: 1.2649882 | EP16: -0.52828948 | EQ16: -0.60607767 | ER16: -0.28244333 | ES16: 2.3133747 | ET16: -0.34782923 | EU16: -0.74182801 | EV16: -0.36057383 | EW16: 1.5710202 | EX16: -0.36315227 | EY16: -0.53859122 | EZ16: -0.33778584 | FA16: 1.6206109 | FB16: -1.1418515 | FC16: -0.57206599 | FD16: -0.75748663 | FE16: 1.1885509 | FF16: -0.69855533 | FG16: -0.82182174 | FH16: -0.08266377 | FI16: 1.0225268 | FJ16: -0.53027212 | FK16: -0.78126328 | FL16: 0.9533304 | FM16: 0.040819813 | FN16: -0.64677729 | FO16: -0.27646937 | FP16: 1.8715678 | FQ16: 0.79629041 | FR16: 0.87254755 | FS16: 1.3223101 | FT16: -1.0063825 | FU16: -1.2285648 | FV16: -0.42425357 | FW16: -1.0140766 | FX16: -0.13013258 | FY16: -0.56967767 | FZ16: -0.31056004 | GA16: -0.70926063 | GB16: -0.26673871 | GC16: -0.41904384 | GD16: -0.82025342 | GE16: -0.76449803 | GF16: -0.83219318 | GG16: -1.3449699 | GH16: -0.64506662 | GI16: 0.13248178 | GJ16: 0.25417033 | GK16: -0.96793701 | GL16: -1.2163987 | GM16: 2.5774024 | GN16: -0.85345521 | GO16: -1.1308332 | GP16: 1.3096402 | GQ16: -0.50773547 | GR16: -1.0334733 | GS16: -0.46325293 | GT16: -0.57285181 | GU16: 1.1097677 | GV16: -0.26353879 | GW16: -1.4164968 | GX16: -0.80989635 | GY16: -0.28351776 | GZ16: -0.60273551 | HA16: 1.8424971 | HB16: -0.23544883 | HC16: 0.78176297 | HD16: -0.034175987 | HE16: -0.87849948 | HF16: 1.9090622 | HG16: 0.41202775 | HH16: -0.73142477 | HI16: 0.17403687 | HJ16: -0.21845191 | HK16: 0.34522655 | HL16: 0.12474179 | HM16: 0.78771046 | HN16: -0.86076817 | HO16: -0.67203749 | HP16: -0.48849618 | HQ16: 0.24519349 | HR16: -0.45250566 | HS16: 0.11793491 | HT16: 0.30412888 | HU16: 0.40081958 | HV16: 0.29334209 | HW16: -0.49352717 | HX16: -0.62702503 | HY16: 0.19864374 | HZ16: -0.29293963 | IA16: 0.7828495 | IB16: -0.32348386 | IC16: -0.55779143 | ID16: -0.4644077 | IE16: -1.0690966 | IF16: -0.98886965 | IG16: 0.41392243 | IH16: -0.92783816 | II16: -0.70727911 | IJ16: -0.70727911 | IK16: -0.40850672 | IL16: -1.4471789 | IM16: -1.2825873 | IN16: -0.61172125 | IO16: 2.4247238 | IP16: -0.80777609 | IQ16: 1.4909219 | IR16: -0.78147592 | IS16: -0.61029637 | IT16: -0.48592498
A17: XCR1 | B17: -0.0084399318 | C17: 0.42232016 | D17: -4.0886715 | E17: -4.1879423 | F17: -4.1019037 | G17: -4.1947832 | H17: -3.9435855 | I17: 0.18788933 | J17: -0.41909646 | K17: -0.19240573 | L17: 0.86975019 | M17: -0.22672353 | N17: -0.69538632 | O17: -0.59675391 | P17: 0.084634727 | Q17: -0.084798798 | R17: -0.4741951 | S17: 0.31602271 | T17: -4.1299356 | U17: 2.8409853 | V17: -0.94110577 | W17: 0.27062038 | X17: 0.075452812 | Y17: -0.32178612 | Z17: 0.43675551 | AA17: 0.17116096 | AB17: -0.88037181 | AC17: -0.47690423 | AD17: 0.21441692 | AE17: 0.26432538 | AF17: -0.11023221 | AG17: 0.70749401 | AH17: 0.47362284 | AI17: 0.47362284 | AJ17: 0.17889023 | AK17: 0.22339822 | AL17: 0.45252957 | AM17: 0.14806486 | AN17: -0.37892706 | AO17: -0.32613381 | AP17: 0.17762755 | AQ17: 0.031250281 | AR17: -0.1164094 | AS17: -0.10415447 | AT17: 3.3057109 | AU17: 0.24806208 | AV17: 0.35709245 | AW17: -0.34779449 | AX17: -0.66718786 | AY17: -0.28547227 | AZ17: 0.35838956 | BA17: 0.1775906 | BB17: -0.23751111 | BC17: -0.37364286 | BD17: 1.090332 | BE17: 0.38654971 | BF17: -0.5714565 | BG17: -0.063307783 | BH17: 0.58270796 | BI17: -0.63655923 | BJ17: -4.1309745 | BK17: 0.27344926 | BL17: 0.50670524 | BM17: 0.68158934 | BN17: -0.57834617 | BO17: -0.56815655 | BP17: 0.59746696 | BQ17: 0.029991669 | BR17: -0.48585323 | BS17: -0.22882405 | BT17: 0.72073401 | BU17: -0.26052152 | BV17: -0.71336517 | BW17: -0.31300563 | BX17: 2.3691761 | BY17: 0.32582639 | BZ17: -0.61495118 | CA17: -0.45241526 | CB17: 0.63382203 | CC17: -0.45358488 | CD17: 0.73850993 | CE17: 0.04637027 | CF17: -0.18387982 | CG17: 0.77144859 | CH17: 0.62842853 | CI17: -0.13409149 | CJ17: -0.25781219 | CK17: 1.2190719 | CL17: 1.4162624 | CM17: -0.10168599 | CN17: 0.74540909 | CO17: -0.043406962 | CP17: 1.3395735 | CQ17: -0.10209379 | CR17: 1.1932667 | CS17: -0.35468281 | CT17: 0.8823015 | CU17: -0.42900789 | CV17: 0.95806665 | CW17: -0.23398154 | CX17: -0.52996135 | CY17: -0.49433213 | CZ17: 0.82667143 | DA17: 0.29566225 | DB17: -0.61837241 | DC17: -0.6422255 | DD17: 1.2351266 | DE17: 0.23572512 | DF17: -0.77030356 | DG17: -0.13616436 | DH17: 1.363301 | DI17: 0.35876254 | DJ17: -0.3694451 | DK17: -0.31539749 | DL17: 1.9943659 | DM17: -0.21306663 | DN17: 0.4987506 | DO17: -0.33591021 | DP17: -0.70325835 | DQ17: 2.6201897 | DR17: 0.43150323 | DS17: 0.55424254 | DT17: -0.39195426 | DU17: 0.37934935 | DV17: 1.0731398 | DW17: -0.015166332 | DX17: -0.31220801 | DY17: -0.33685214 | DZ17: 1.1537144 | EA17: 0.64988781 | EB17: -0.29301794 | EC17: 0.53594429 | ED17: -0.28455162 | EE17: -0.58980949 | EF17: -0.37009201 | EG17: 0.96511651 | EH17: 0.34293606 | EI17: -0.44025551 | EJ17: -0.32613265 | EK17: 0.6001552 | EL17: -0.14022496 | EM17: -0.59667556 | EN17: -0.34399156 | EO17: 0.64733441 | EP17: 0.23961684 | EQ17: -0.55304933 | ER17: -0.23487414 | ES17: 0.88509884 | ET17: 0.43577219 | EU17: -0.87055131 | EV17: -0.12633263 | EW17: 0.91132542 | EX17: 0.36404771 | EY17: -0.38485295 | EZ17: -0.30583389 | FA17: 3.8360621 | FB17: 0.25651177 | FC17: -0.15948235 | FD17: -0.8185251 | FE17: 0.46570631 | FF17: -0.11318587 | FG17: -0.90865017 | FH17: -0.50245063 | FI17: 0.32987539 | FJ17: -0.12671954 | FK17: -0.78473195 | FL17: 0.29889835 | FM17: 0.18660189 | FN17: -0.49050948 | FO17: -0.34399118 | FP17: 0.69210086 | FQ17: -0.095136214 | FR17: 0.46702896 | FS17: 12.934398 | FT17: 14.195158 | FU17: 13.43154 | FV17: 11.882963 | FW17: 12.699571 | FX17: 13.487688 | FY17: 14.026901 | FZ17: 14.464065 | GA17: 13.450487 | GB17: 15.608325 | GC17: 14.313364 | GD17: 15.102309 | GE17: 14.352912 | GF17: 13.837326 | GG17: 15.320709 | GH17: 13.192612 | GI17: 12.935229 | GJ17: 10.844787 | GK17: 9.8764341 | GL17: 15.727827 | GM17: 10.807079 | GN17: 11.813321 | GO17: 24.258077 | GP17: 11.515549 | GQ17: 13.39224 | GR17: 12.612055 | GS17: 12.06992 | GT17: 11.510542 | GU17: 16.073189 | GV17: 12.750947 | GW17: 12.340853 | GX17: 10.848088 | GY17: 11.113859 | GZ17: 11.653451 | HA17: 12.323558 | HB17: 11.739344 | HC17: 12.249181 | HD17: 13.803276 | HE17: 19.406648 | HF17: 20.525281 | HG17: 12.173684 | HH17: 11.200969 | HI17: 12.894415 | HJ17: 14.030609 | HK17: 9.1870142 | HL17: 11.405989 | HM17: 11.812309 | HN17: 12.78048 | HO17: 13.700368 | HP17: 14.553514 | HQ17: 12.103604 | HR17: 11.811136 | HS17: 14.204505 | HT17: 9.4771929 | HU17: 12.082387 | HV17: 12.039107 | HW17: 9.9743856 | HX17: 11.930034 | HY17: 11.753214 | HZ17: 12.942666 | IA17: 14.009577 | IB17: 13.158576 | IC17: 15.029843 | ID17: 12.472803 | IE17: 18.444217 | IF17: 16.126766 | IG17: 13.875958 | IH17: 15.70385 | II17: 13.229239 | IJ17: 13.229239 | IK17: 14.647388 | IL17: 14.353297 | IM17: 15.536903 | IN17: 13.413183 | IO17: 14.036401 | IP17: 14.694826 | IQ17: 12.275054 | IR17: 14.643441 | IS17: 12.312207 | IT17: 14.861675
A18: OBP2A | B18: -0.58997296 | C18: 0.51744192 | D18: -2.3938332 | E18: -2.4720511 | F18: -2.3247279 | G18: -2.5470441 | H18: -2.1328434 | I18: -0.94735716 | J18: 0.97891485 | K18: -0.47530297 | L18: 0.8833197 | M18: -1.1389973 | N18: 0.93971142 | O18: -0.7969995 | P18: 0.25999216 | Q18: -1.1364012 | R18: 0.87695695 | S18: -0.47332146 | T18: -2.3640269 | U18: -0.81393516 | V18: 0.50558148 | W18: 0.43460512 | X18: -1.0348755 | Y18: 1.09147 | Z18: 0.53716386 | AA18: -0.93743251 | AB18: 0.55885636 | AC18: -0.69644966 | AD18: 0.16525085 | AE18: -0.86829485 | AF18: 1.2532786 | AG18: -0.40447375 | AH18: 0.49432371 | AI18: 0.49432371 | AJ18: 0.29563046 | AK18: -0.56860493 | AL18: 0.31353099 | AM18: -1.0118153 | AN18: 1.0260145 | AO18: -0.62089818 | AP18: -0.18868979 | AQ18: -1.0162566 | AR18: 1.1745101 | AS18: -0.48223466 | AT18: 0.61784687 | AU18: -0.11147427 | AV18: 0.40496772 | AW18: -1.293792 | AX18: 0.71411713 | AY18: -0.63821371 | AZ18: 0.44604917 | BA18: -0.92929609 | BB18: 1.274439 | BC18: -0.57930142 | BD18: 1.6957504 | BE18: -0.7869931 | BF18: 0.90199092 | BG18: -0.4335212 | BH18: 0.50125138 | BI18: -0.76901001 | BJ18: -2.4762335 | BK18: -1.0322215 | BL18: 0.48394742 | BM18: -1.1060028 | BN18: 0.83338325 | BO18: -0.79978701 | BP18: 0.64969832 | BQ18: -1.065742 | BR18: 0.91705404 | BS18: -0.59191027 | BT18: 0.70672194 | BU18: -1.2652775 | BV18: 0.75567098 | BW18: -0.647805 | BX18: 0.66746676 | BY18: -0.87653378 | BZ18: 0.77778474 | CA18: -0.67075336 | CB18: 0.70194866 | CC18: -0.63533014 | CD18: 3.9536875 | CE18: -1.0091451 | CF18: -0.4950864 | CG18: 0.70791449 | CH18: 0.57094873 | CI18: -1.1640207 | CJ18: -0.49508603 | CK18: 2.2318583 | CL18: 1.5742117 | CM18: -0.49113312 | CN18: -0.65292709 | CO18: -0.35604781 | CP18: 1.2875206 | CQ18: -1.1914719 | CR18: 1.3608559 | CS18: -0.56276231 | CT18: 1.1726814 | CU18: -0.61607956 | CV18: 0.95233402 | CW18: -1.3029786 | CX18: 1.3356186 | CY18: -0.72767349 | CZ18: 0.82837804 | DA18: -0.85085514 | DB18: 0.78393624 | DC18: -0.80350469 | DD18: 1.0070638 | DE18: -0.92024038 | DF18: 1.2387713 | DG18: -0.42752396 | DH18: 1.2979335 | DI18: -0.78419792 | DJ18: 1.1237853 | DK18: -0.55008005 | DL18: 1.0371073 | DM18: -0.64108887 | DN18: 0.5662759 | DO18: -1.282073 | DP18: 0.71533465 | DQ18: -1.1116582 | DR18: 0.50356101 | DS18: -0.74019364 | DT18: 1.126378 | DU18: -0.49607222 | DV18: 1.0584704 | DW18: -1.0073672 | DX18: 1.1549586 | DY18: -0.5637351 | DZ18: 3.0230323 | EA18: -0.65579435 | EB18: 1.1380559 | EC18: 0.68527781 | ED18: -1.2509506 | EE18: 0.77778169 | EF18: -0.61608017 | EG18: 1.0723246 | EH18: -0.84717397 | EI18: 1.0695784 | EJ18: -0.53540386 | EK18: 0.72823789 | EL18: -1.157992 | EM18: 0.8284243 | EN18: -0.59772452 | EO18: 0.70433378 | EP18: -0.98148433 | EQ18: 0.86822188 | ER18: -0.5039613 | ES18: 1.2124711 | ET18: -0.84533656 | EU18: 0.78886657 | EV18: -0.39542778 | EW18: 0.93347043 | EX18: -0.83427438 | EY18: 1.0107042 | EZ18: -0.54812356 | FA18: 1.0950672 | FB18: -1.200872 | FC18: 0.71411713 | FD18: -1.0823675 | FE18: 0.5336775 | FF18: -1.182052 | FG18: 0.56956685 | FH18: -0.41550707 | FI18: 0.4954773 | FJ18: -1.1060028 | FK18: 0.5683749 | FL18: 0.57679159 | FM18: -0.96265483 | FN18: 0.87446531 | FO18: -0.57638608 | FP18: 0.73782036 | FQ18: 0.098966803 | FR18: 0.58147112 | FS18: -2.8238708 | FT18: -2.7674803 | FU18: -2.8189411 | FV18: -3.0594293 | FW18: -2.9239501 | FX18: -2.9601712 | FY18: -2.7484414 | FZ18: -2.8051932 | GA18: -2.9381896 | GB18: -2.6704741 | GC18: -2.8145483 | GD18: -2.756296 | GE18: -2.7741708 | GF18: -2.8593953 | GG18: -2.6842783 | GH18: -3.2113982 | GI18: -3.068308 | GJ18: -3.1338847 | GK18: -3.5386839 | GL18: -2.9310804 | GM18: -3.1991463 | GN18: -3.1378073 | GO18: -2.8991613 | GP18: -3.0963287 | GQ18: -2.9922911 | GR18: -2.9331959 | GS18: -3.0389722 | GT18: -3.3154712 | GU18: -3.0026193 | GV18: -3.0231602 | GW18: -2.9589754 | GX18: -3.1992816 | GY18: -3.4964807 | GZ18: -3.0195751 | HA18: -2.9843434 | HB18: -3.0540591 | HC18: -2.9933482 | HD18: -2.7250928 | HE18: -2.8830176 | HF18: -3.1275037 | HG18: -3.0003611 | HH18: -3.130587 | HI18: -2.9918001 | HJ18: -2.8471936 | HK18: -3.3381779 | HL18: -3.0515349 | HM18: -2.8498963 | HN18: -2.9710737 | HO18: -2.4955547 | HP18: -2.7873251 | HQ18: -2.7057682 | HR18: -3.0915384 | HS18: -2.7633712 | HT18: -3.0941148 | HU18: -3.0292259 | HV18: -3.0366958 | HW18: -2.9990175 | HX18: -3.0351704 | HY18: -2.9938642 | HZ18: -2.7862535 | IA18: -2.6660213 | IB18: -2.8157818 | IC18: -2.5538512 | ID18: -2.7578878 | IE18: -2.665727 | IF18: -2.6212006 | IG18: -2.7105526 | IH18: -2.6380475 | II18: -2.8004551 | IJ18: -2.8004551 | IK18: -2.5924662 | IL18: -2.6294611 | IM18: -2.7016813 | IN18: -2.8445857 | IO18: -2.7066338 | IP18: -2.6127516 | IQ18: -2.7350764 | IR18: -2.5971138 | IS18: -2.9044857 | IT18: -2.5544399
A19: PPA2 | B19: -0.52240572 | C19: 0.21575131 | D19: -0.81355214 | E19: -1.1539499 | F19: -0.91530366 | G19: 9.7221921 | H19: -0.89697305 | I19: -0.10475755 | J19: -0.679347 | K19: -0.26290778 | L19: 0.46896905 | M19: -0.45442686 | N19: -0.95654264 | O19: -0.68055534 | P19: 0.11305195 | Q19: -0.37057708 | R19: -0.5413986 | S19: -0.34473163 | T19: -0.86888315 | U19: 0.077480035 | V19: -1.0285191 | W19: 0.10063016 | X19: 0.34804651 | Y19: -0.32130062 | Z19: 0.20440659 | AA19: -0.061825913 | AB19: -0.96612132 | AC19: -0.72276376 | AD19: 0.052418336 | AE19: 0.00124518 | AF19: 0.45183883 | AG19: -0.25215907 | AH19: 0.2587975 | AI19: 0.2587975 | AJ19: -0.013761875 | AK19: -0.52355128 | AL19: 0.080811132 | AM19: 0.59022589 | AN19: -0.68716168 | AO19: -0.61892211 | AP19: 0.040116803 | AQ19: -0.20785113 | AR19: -0.46658856 | AS19: -0.45796831 | AT19: 3.9816186 | AU19: 0.096645152 | AV19: 0.065987733 | AW19: -0.54056817 | AX19: -0.85442177 | AY19: -0.51897515 | AZ19: 0.16420839 | BA19: -0.093744673 | BB19: 0.32908054 | BC19: -0.47529686 | BD19: 0.77790611 | BE19: 0.043627887 | BF19: -0.19558506 | BG19: -0.40803 | BH19: 0.31234556 | BI19: -0.69502651 | BJ19: -1.0728204 | BK19: -0.27368543 | BL19: 0.15419391 | BM19: -0.30693932 | BN19: -0.50353311 | BO19: -0.65373657 | BP19: 0.30595019 | BQ19: -0.25937774 | BR19: -0.67934516 | BS19: -0.44406992 | BT19: 0.36502568 | BU19: 2.8084256 | BV19: 1.4227117 | BW19: -0.53041466 | BX19: 0.31363034 | BY19: 0.014926279 | BZ19: 1.2074645 | CA19: -0.54867373 | CB19: 0.71126197 | CC19: -0.52240633 | CD19: 0.4441383 | CE19: -0.1437633 | CF19: -0.45912692 | CG19: 0.47027585 | CH19: 0.17298233 | CI19: -0.39164766 | CJ19: -0.36590168 | CK19: 1.1103588 | CL19: 1.0671087 | CM19: -0.28197546 | CN19: 0.28165757 | CO19: -0.18968237 | CP19: 0.89218359 | CQ19: -0.42892773 | CR19: 1.056888 | CS19: -0.47645037 | CT19: 0.55456245 | CU19: -0.44871047 | CV19: 0.61443433 | CW19: -0.54968414 | CX19: -0.76148251 | CY19: -0.69947137 | CZ19: 0.52415881 | DA19: -0.030985449 | DB19: -0.81851597 | DC19: -0.6916897 | DD19: 0.67480051 | DE19: -0.079031753 | DF19: -0.71611584 | DG19: -0.25216091 | DH19: 1.0790067 | DI19: -0.042102693 | DJ19: -0.2136994 | DK19: 0.74141836 | DL19: 0.75880398 | DM19: -0.60087014 | DN19: 0.21322904 | DO19: -0.53257981 | DP19: -0.91805993 | DQ19: 3.7144465 | DR19: 0.30467132 | DS19: 0.18774173 | DT19: -0.7283232 | DU19: 1.7338576 | DV19: 0.79843143 | DW19: 0.74344755 | DX19: -0.48393219 | DY19: -0.41501955 | DZ19: 0.73703588 | EA19: 0.32454497 | EB19: 0.85443653 | EC19: 0.32387496 | ED19: -0.53258104 | EE19: -0.76919365 | EF19: -0.51553684 | EG19: 0.59042239 | EH19: 0.022405041 | EI19: -0.60285001 | EJ19: 0.23169948 | EK19: 0.40901258 | EL19: -0.43937109 | EM19: -0.74713568 | EN19: -0.47068241 | EO19: 0.43501641 | EP19: -0.17407542 | EQ19: -0.71389382 | ER19: 0.88808974 | ES19: 0.64925368 | ET19: 0.0049713115 | EU19: -0.96292904 | EV19: -0.27364364 | EW19: 0.66504082 | EX19: 0.032382838 | EY19: -0.70054436 | EZ19: 0.40369714 | FA19: 0.53340218 | FB19: -0.46021011 | FC19: -0.86525772 | FD19: -0.9909266 | FE19: 0.12798318 | FF19: -0.42427781 | FG19: -1.1213379 | FH19: -0.64364768 | FI19: 0.10559887 | FJ19: -0.41613739 | FK19: -1.0211535 | FL19: 0.34827888 | FM19: -0.1474081 | FN19: -0.33432475 | FO19: -0.46259561 | FP19: 0.85343549 | FQ19: -0.21073562 | FR19: 0.33799451 | FS19: 12.799283 | FT19: 14.345567 | FU19: 13.966189 | FV19: 8.7549247 | FW19: 12.351277 | FX19: 12.611485 | FY19: 17.393724 | FZ19: 14.184379 | GA19: 12.581188 | GB19: 18.315295 | GC19: 16.160533 | GD19: 14.575737 | GE19: 14.32584 | GF19: 12.768335 | GG19: 14.723898 | GH19: 13.146357 | GI19: 12.096851 | GJ19: 10.472093 | GK19: 22.433078 | GL19: 13.25509 | GM19: 10.823605 | GN19: 11.677568 | GO19: 13.679897 | GP19: 10.93316 | GQ19: 12.714668 | GR19: 12.34228 | GS19: 10.820856 | GT19: 11.550515 | GU19: 12.627254 | GV19: 14.267055 | GW19: 11.826721 | GX19: 14.972923 | GY19: 10.48863 | GZ19: 10.867015 | HA19: 14.554402 | HB19: 13.699925 | HC19: 14.65167 | HD19: 16.127178 | HE19: 17.984465 | HF19: 12.798598 | HG19: 14.590367 | HH19: 13.855401 | HI19: 26.733274 | HJ19: 16.522557 | HK19: 12.718268 | HL19: 14.184061 | HM19: 14.579655 | HN19: 14.480054 | HO19: 14.399233 | HP19: 16.243179 | HQ19: 13.539805 | HR19: 14.351721 | HS19: 16.316525 | HT19: 14.094116 | HU19: 18.51116 | HV19: 14.847936 | HW19: 13.593032 | HX19: 14.807483 | HY19: 11.905005 | HZ19: 11.336393 | IA19: 12.677275 | IB19: 14.129888 | IC19: 13.843821 | ID19: 14.621121 | IE19: 16.268408 | IF19: 18.75088 | IG19: 12.386528 | IH19: 16.999718 | II19: 14.905308 | IJ19: 14.905308 | IK19: 13.15105 | IL19: 13.041536 | IM19: 16.208508 | IN19: 11.804464 | IO19: 12.390047 | IP19: 13.132761 | IQ19: 10.747915 | IR19: 13.261175 | IS19: 13.427415 | IT19: 13.39414
... A27: PLLP | B27: -0.21353472 | C27: -0.19262474 | D27: 0.72336502 | E27: 0.17366926 | F27: 0.09375472 | G27: 0.3867931 | H27: -0.16577595 | I27: -0.88466471 | J27: -0.063498561 | K27: -0.67455915 | L27: -0.2742319 | M27: -0.7140337 | N27: 0.73380074 | O27: -0.59761418 | P27: 0.61804571 | Q27: 0.00061472121 | R27: 0.10297922 | S27: 0.41043963 | T27: 0.23340057 | U27: 1.2429091 | V27: 2.1699428 | W27: -0.70434032 | X27: -0.35452572 | Y27: 0.37192158 | Z27: -1.0527268 | AA27: -1.0493655 | AB27: 0.74106474 | AC27: -0.35322028 | AD27: -0.52837574 | AE27: -0.74335505 | AF27: -0.84168209 | AG27: -1.0767172 | AH27: -0.70304817 | AI27: -0.70304817 | AJ27: 0.12494767 | AK27: -0.25938661 | AL27: -0.13593705 | AM27: -0.72246403 | AN27: -0.73342761 | AO27: -0.75569965 | AP27: -0.44783263 | AQ27: 2.9647218 | AR27: 0.50679832 | AS27: 0.66506161 | AT27: -0.94682173 | AU27: 3.5613612 | AV27: 0.32444839 | AW27: 0.08618797 | AX27: 1.5206749 | AY27: -0.012523621 | AZ27: -0.66257598 | BA27: -1.0083277 | BB27: 2.677532 | BC27: 0.031402951 | BD27: -1.0515213 | BE27: -0.54945029 | BF27: 1.1259474 | BG27: -0.37251412 | BH27: -0.71636605 | BI27: -0.42786661 | BJ27: 1.6885452 | BK27: -0.19313859 | BL27: -0.87352055 | BM27: -0.5957244 | BN27: 1.7779201 | BO27: -0.017551337 | BP27: -1.0017487 | BQ27: -0.49680777 | BR27: 0.52586873 | BS27: -0.16689793 | BT27: -0.35990806 | BU27: -0.0056681331 | BV27: 0.31558478 | BW27: -0.83983478 | BX27: -0.71393836 | BY27: -0.44689172 | BZ27: 5.6959699 | CA27: -0.84217585 | CB27: -0.95240708 | CC27: -0.32938413 | CD27: -0.75047362 | CE27: 0.77968981 | CF27: 0.69993644 | CG27: -0.71245584 | CH27: 1.8834873 | CI27: 0.32286195 | CJ27: 0.041118026 | CK27: -0.6512919 | CL27: -0.23281191 | CM27: -0.20399925 | CN27: -0.81520979 | CO27: -0.36474058 | CP27: -0.69893801 | CQ27: 1.3095229 | CR27: 0.079059965 | CS27: -0.20806762 | CT27: -0.015228568 | CU27: 0.31598403 | CV27: -0.56368826 | CW27: -0.077570014 | CX27: 1.5122002 | CY27: -0.12042653 | CZ27: -0.47213455 | DA27: -0.75054742 | DB27: 1.2488535 | DC27: 0.26372603 | DD27: -0.85926289 | DE27: -0.77107225 | DF27: 1.7012983 | DG27: -0.93675761 | DH27: -0.98475348 | DI27: -0.96140179 | DJ27: 1.7063816 | DK27: -0.048705311 | DL27: -0.82738649 | DM27: 0.28046156 | DN27: 1.2846344 | DO27: -0.15929926 | DP27: 0.3458205 | DQ27: -0.78030928 | DR27: 1.1623553 | DS27: -0.7846289 | DT27: 3.8047237 | DU27: -0.44482167 | DV27: -0.83059448 | DW27: -0.71198769 | DX27: -0.5205213 | DY27: 0.042868478 | DZ27: -0.56675495 | EA27: -1.063369 | EB27: 0.10350393 | EC27: -0.51977622 | ED27: -0.59455503 | EE27: 0.16136701 | EF27: -0.26420912 | EG27: -0.46396168 | EH27: -1.0083276 | EI27: 4.8722625 | EJ27: -0.7465472 | EK27: -0.21644877 | EL27: -0.72563262 | EM27: -0.14836171 | EN27: 0.11696767 | EO27: 1.8823114 | EP27: 0.056037791 | EQ27: -0.30562721 | ER27: -0.17529782 | ES27: -0.76895362 | ET27: -0.63579166 | EU27: -0.059334536 | EV27: -0.56309508 | EW27: -0.22497897 | EX27: -0.55785289 | EY27: 1.8881503 | EZ27: -0.02944339 | FA27: 1.1223102 | FB27: -0.38079156 | FC27: 0.86375489 | FD27: 1.6811973 | FE27: -0.41493926 | FF27: -0.22894832 | FG27: -0.50077128 | FH27: -0.76312556 | FI27: -0.17466346 | FJ27: -0.0073533787 | FK27: -0.50313883 | FL27: -0.42837593 | FM27: -0.60883847 | FN27: -0.48536 | FO27: 1.1561327 | FP27: -0.29334055 | FQ27: -0.13231047 | FR27: -0.052554788 | FS27: -0.77661543 | FT27: -0.39726388 | FU27: -0.28464612 | FV27: -0.53470168 | FW27: -0.36039691 | FX27: -0.38947539 | FY27: -0.65679012 | FZ27: -0.67244391 | GA27: -0.30368514 | GB27: -0.27270224 | GC27: -0.39960189 | GD27: -0.37319677 | GE27: -0.21343654 | GF27: 0.36471194 | GG27: -0.10913682 | GH27: -0.14927775 | GI27: -0.52300487 | GJ27: -0.75649708 | GK27: -0.48679448 | GL27: -0.48312454 | GM27: -0.93393723 | GN27: -0.14216333 | GO27: -0.38838748 | GP27: -0.9246865 | GQ27: -0.35050526 | GR27: -0.33949224 | GS27: -0.47902323 | GT27: -0.44818773 | GU27: -0.7010765 | GV27: -0.16673349 | GW27: -0.32181886 | GX27: -0.082104945 | GY27: -0.60157247 | GZ27: -0.024618666 | HA27: -0.69003476 | HB27: -0.55821552 | HC27: -0.30738524 | HD27: -0.46210244 | HE27: 0.03378113 | HF27: -0.75390422 | HG27: -0.39120504 | HH27: -0.26613069 | HI27: -0.28539531 | HJ27: -0.4747046 | HK27: -0.51134826 | HL27: -0.60242327 | HM27: -0.54925823 | HN27: -0.35309039 | HO27: -0.21347267 | HP27: -0.59492219 | HQ27: -0.31326443 | HR27: -0.22633734 | HS27: -0.25264788 | HT27: -0.33821681 | HU27: -0.39782872 | HV27: 0.051826467 | HW27: -0.42920009 | HX27: -0.30090439 | HY27: -0.42044491 | HZ27: -0.42194774 | IA27: -0.47493842 | IB27: -0.17577744 | IC27: -0.17890386 | ID27: -0.40519392 | IE27: 0.047515913 | IF27: 0.61517822 | IG27: -0.62476909 | IH27: -0.40271876 | II27: -0.18653013 | IJ27: -0.18653013 | IK27: -0.46345133 | IL27: -0.12902647 | IM27: -0.079116209 | IN27: -0.4571867 | IO27: -0.60566402 | IP27: -0.23073828 | IQ27: -0.52706387 | IR27: -0.34967834 | IS27: 0.046519176 | IT27: -0.16030137
