Workbook

Sheet Original
A1: ID_REF | B1: GSM225652 | C1: GSM225662 | D1: GSM225664 | E1: GSM225665 | F1: GSM225666 | G1: GSM225667 | H1: GSM225668 | I1: GSM225669 | J1: GSM225670 | K1: GSM225671 | L1: GSM225672 | M1: GSM225673 | N1: GSM225674 | O1: GSM225675 | P1: GSM225676 | Q1: GSM225677 | R1: GSM225678 | S1: GSM225679 | T1: GSM225680 | U1: GSM225681 | V1: GSM225682 | W1: GSM225683 | X1: GSM225684 | Y1: GSM225685 | Z1: GSM225686 | AA1: GSM225687 | AB1: GSM225688 | AC1: GSM225689 | AD1: GSM225690 | AE1: GSM225691 | AF1: GSM225692 | AG1: GSM225693 | AH1: GSM225695 | AI1: GSM225696 | AJ1: GSM225697 | AK1: GSM225698 | AL1: GSM225699 | AM1: GSM225700 | AN1: GSM225701 | AO1: GSM225702 | AP1: GSM225703 | AQ1: GSM225704 | AR1: GSM225705 | AS1: GSM225706 | AT1: GSM225707 | AU1: GSM225708 | AV1: GSM225709 | AW1: GSM225711 | AX1: GSM225713 | AY1: GSM225714 | AZ1: GSM225715 | BA1: GSM225717 | BB1: GSM225718 | BC1: GSM225719 | BD1: GSM225720 | BE1: GSM225721 | BF1: GSM225722 | BG1: GSM225723 | BH1: GSM225724 | BI1: GSM225725 | BJ1: GSM225726 | BK1: GSM225727 | BL1: GSM225728 | BM1: GSM225729 | BN1: GSM225730 | BO1: GSM225731 | BP1: GSM225732 | BQ1: GSM225733 | BR1: GSM225734 | BS1: GSM225735 | BT1: GSM225736 | BU1: GSM225737 | BV1: GSM225739 | BW1: GSM225741 | BX1: GSM225742 | BY1: GSM225743 | BZ1: GSM225744 | CA1: GSM225745 | CB1: GSM225746 | CC1: GSM225747 | CD1: GSM225748 | CE1: GSM225749 | CF1: GSM225751 | CG1: GSM225752 | CH1: GSM225753 | CI1: GSM225754 | CJ1: GSM225755 | CK1: GSM225756 | CL1: GSM225757 | CM1: GSM225758 | CN1: GSM225759 | CO1: GSM225760 | CP1: GSM225761 | CQ1: GSM225762 | CR1: GSM225763 | CS1: GSM225764 | CT1: GSM225915 | CU1: GSM225916 | CV1: GSM225917 | CW1: GSM225918 | CX1: GSM225919 | CY1: GSM225920 | CZ1: GSM225921 | DA1: GSM225922 | DB1: GSM225923 | DC1: GSM225924 | DD1: GSM225925 | DE1: GSM225926 | DF1: GSM225927 | DG1: GSM225928 | DH1: GSM225929 | DI1: GSM225930 | DJ1: GSM225931 | DK1: GSM225932 | DL1: GSM225933 | DM1: GSM225934 | DN1: GSM225935 | DO1: GSM225936 | DP1: GSM225937 | DQ1: GSM225938 | DR1: GSM225939 | DS1: GSM225940 | DT1: GSM225941 | DU1: GSM225942 | DV1: GSM225943 | DW1: GSM225944 | DX1: GSM225945 | DY1: GSM225946 | DZ1: GSM225947 | EA1: GSM225948 | EB1: GSM225949 | EC1: GSM225950 | ED1: GSM225951 | EE1: GSM225952 | EF1: GSM225953 | EG1: GSM225954 | EH1: GSM225955 | EI1: GSM225956 | EJ1: GSM225957 | EK1: GSM225958 | EL1: GSM225959 | EM1: GSM225961 | EN1: GSM225962 | EO1: GSM225963 | EP1: GSM225964 | EQ1: GSM225965 | ER1: GSM226034 | ES1: GSM226035 | ET1: GSM226037 | EU1: GSM226038 | EV1: GSM226039 | EW1: GSM226040 | EX1: GSM226041 | EY1: GSM226042 | EZ1: GSM226044 | FA1: GSM226045 | FB1: GSM226046 | FC1: GSM226047 | FD1: GSM226048 | FE1: GSM226049 | FF1: GSM226050 | FG1: GSM226051 | FH1: GSM226052 | FI1: GSM226053 | FJ1: GSM226055 | FK1: GSM226056 | FL1: GSM226082 | FM1: GSM226145 | FN1: GSM226146 | FO1: GSM226147 | FP1: GSM226148 | FQ1: GSM226149 | FR1: GSM226150 | FS1: GSM226151 | FT1: GSM226154 | FU1: GSM226155 | FV1: GSM226156 | FW1: GSM226157 | FX1: GSM226158 | FY1: GSM226159 | FZ1: GSM226160 | GA1: GSM226162 | GB1: GSM226163 | GC1: GSM226164 | GD1: GSM226165 | GE1: GSM226167 | GF1: GSM226168 | GG1: GSM388217 | GH1: GSM388218 | GI1: GSM388219 | GJ1: GSM388220 | GK1: GSM388221 | GL1: GSM388222 | GM1: GSM388223 | GN1: GSM388224 | GO1: GSM388225 | GP1: GSM388226 | GQ1: GSM388228 | GR1: GSM388229 | GS1: GSM388230 | GT1: GSM388231 | GU1: GSM388232 | GV1: GSM388233 | GW1: GSM388234 | GX1: GSM388235 | GY1: GSM388236 | GZ1: GSM388237 | HA1: GSM388238 | HB1: GSM388239 | HC1: GSM388240 | HD1: GSM388241 | HE1: GSM388242 | HF1: GSM388243 | HG1: GSM388244 | HH1: GSM388245 | HI1: GSM388246 | HJ1: GSM388247 | HK1: GSM388248 | HL1: GSM388249 | HM1: GSM388250 | HN1: GSM388251 | HO1: GSM388252 | HP1: GSM388253 | HQ1: GSM388254 | HR1: GSM388255 | HS1: GSM388256 | HT1: GSM388257 | HU1: GSM388258 | HV1: GSM388259 | HW1: GSM388260 | HX1: GSM388261 | HY1: GSM388262 | HZ1: GSM388263 | IA1: GSM388264 | IB1: GSM388265 | IC1: GSM388266 | ID1: GSM388267 | IE1: GSM388268 | IF1: GSM388269 | IG1: GSM388270 | IH1: GSM388271 | II1: GSM388272 | IJ1: GSM388273 | IK1: GSM388274 | IL1: GSM388275 | IM1: GSM388276 | IN1: GSM388277 | IO1: GSM388278 | IP1: GSM388279 | IQ1: GSM388281 | IR1: GSM388282 | IS1: GSM388284 | IT1: GSM388285 | IU1: GSM388286 | IV1: GSM388287 | IW1: GSM388288 | IX1: GSM388289 | IY1: GSM388290 | IZ1: GSM388291 | JA1: GSM388292 | JB1: GSM388294 | JC1: GSM388295 | JD1: GSM388296 | JE1: GSM388297 | JF1: GSM388298 | JG1: GSM388299 | JH1: GSM388300 | JI1: GSM388301 | JJ1: GSM388302 | JK1: GSM388303 | JL1: GSM388304 | JM1: GSM388305 | JN1: GSM388306 | JO1: GSM388307 | JP1: GSM388308 | JQ1: GSM388309 | JR1: GSM388310 | JS1: GSM388311 | JT1: GSM388312 | JU1: GSM388313 | JV1: GSM388314 | JW1: GSM388315 | JX1: GSM388316 | JY1: GSM388317 | JZ1: GSM388318 | KA1: GSM388319 | KB1: GSM388320 | KC1: GSM388321 | KD1: GSM388322 | KE1: GSM388323 | KF1: GSM388324 | KG1: GSM388325 | KH1: GSM388326 | KI1: GSM388327 | KJ1: GSM388328 | KK1: GSM388329 | KL1: GSM388330 | KM1: GSM388331 | KN1: GSM388332 | KO1: GSM388333 | KP1: GSM388334 | KQ1: GSM388335 | KR1: GSM388336 | KS1: GSM388337 | KT1: GSM388338 | KU1: GSM388339 | KV1: GSM388340 | KW1: GSM388341 | KX1: GSM388342 | KY1: GSM388343 | KZ1: GSM388345 | LA1: GSM388346 | LB1: GSM388347 | LC1: GSM388348 | LD1: GSM388349 | LE1: GSM388350 | LF1: GSM388351 | LG1: GSM388352 | LH1: GSM388353 | LI1: GSM388354 | LJ1: GSM388355 | LK1: GSM388356 | LL1: GSM388357 | LM1: GSM388358 | LN1: GSM388359 | LO1: GSM388360 | LP1: GSM388361 | LQ1: GSM388362 | LR1: GSM388363 | LS1: GSM388364 | LT1: GSM388365 | LU1: GSM388366 | LV1: GSM388367 | LW1: GSM388368 | LX1: GSM388369 | LY1: GSM388370 | LZ1: GSM388371 | MA1: GSM388372 | MB1: GSM388373 | MC1: GSM388374 | MD1: GSM388375 | ME1: GSM388376 | MF1: GSM388377 | MG1: GSM388378 | MH1: GSM388379 | MI1: GSM388380 | MJ1: GSM388381 | MK1: GSM388382 | ML1: GSM388383 | MM1: GSM388384 | MN1: GSM388385 | MO1: GSM388386 | MP1: GSM388387 | MQ1: GSM388388 | MR1: GSM388389 | MS1: GSM388390 | MT1: GSM388391 | MU1: GSM388392 | MV1: GSM388393 | MW1: GSM388394 | MX1: GSM388395 | MY1: GSM388396 | MZ1: GSM388397 | NA1: AVG | NB1: SD
A2: !Sample_source_name_ch1 | B2: neuropathologically normal frozen temporal cortex | C2: neuropathologically normal frozen temporal cortex | D2: neuropathologically normal frozen temporal cortex | E2: neuropathologically normal frozen temporal cortex | F2: neuropathologically normal frozen temporal cortex | G2: neuropathologically normal frozen temporal cortex | H2: neuropathologically normal frozen temporal cortex | I2: neuropathologically normal frozen temporal cortex | J2: neuropathologically normal frozen temporal cortex | K2: neuropathologically normal frozen temporal cortex | L2: neuropathologically normal frozen temporal cortex | M2: neuropathologically normal frozen temporal cortex | N2: neuropathologically normal frozen temporal cortex | O2: neuropathologically normal frozen temporal cortex | P2: neuropathologically normal frozen temporal cortex | Q2: neuropathologically normal frozen temporal cortex | R2: neuropathologically normal frozen temporal cortex | S2: neuropathologically normal frozen temporal cortex | T2: neuropathologically normal frozen temporal cortex | U2: neuropathologically normal frozen temporal cortex | V2: neuropathologically normal frozen temporal cortex | W2: neuropathologically normal frozen frontal cortex | X2: neuropathologically normal frozen frontal cortex | Y2: neuropathologically normal frozen frontal cortex | Z2: neuropathologically normal frozen frontal cortex | AA2: neuropathologically normal frozen temporal cortex | AB2: neuropathologically normal frozen temporal cortex | AC2: neuropathologically normal frozen temporal cortex | AD2: neuropathologically normal frozen temporal cortex | AE2: neuropathologically normal frozen temporal cortex | AF2: neuropathologically normal frozen temporal cortex | AG2: neuropathologically normal frozen temporal cortex | AH2: neuropathologically normal frozen temporal cortex | AI2: neuropathologically normal frozen temporal cortex | AJ2: neuropathologically normal frozen temporal cortex | AK2: neuropathologically normal frozen temporal cortex | AL2: neuropathologically normal frozen temporal cortex | AM2: neuropathologically normal frozen temporal cortex | AN2: neuropathologically normal frozen temporal cortex | AO2: neuropathologically normal frozen temporal cortex | AP2: neuropathologically normal frozen temporal cortex | AQ2: neuropathologically normal frozen temporal cortex | AR2: neuropathologically normal frozen temporal cortex | AS2: neuropathologically normal frozen temporal cortex | AT2: neuropathologically normal frozen temporal cortex | AU2: neuropathologically normal frozen temporal cortex | AV2: neuropathologically normal frozen temporal cortex | AW2: neuropathologically normal frozen temporal cortex | AX2: neuropathologically normal frozen temporal cortex | AY2: neuropathologically normal frozen temporal cortex | AZ2: neuropathologically normal frozen temporal cortex | BA2: neuropathologically normal frozen temporal cortex | BB2: neuropathologically normal frozen temporal cortex | BC2: neuropathologically normal frozen temporal cortex | BD2: neuropathologically normal frozen frontal cortex | BE2: neuropathologically normal frozen frontal cortex | BF2: neuropathologically normal frozen temporal cortex | BG2: neuropathologically normal frozen temporal cortex | BH2: neuropathologically normal frozen temporal cortex | BI2: neuropathologically normal frozen temporal cortex | BJ2: neuropathologically normal frozen temporal cortex | BK2: neuropathologically normal frozen temporal cortex | BL2: neuropathologically normal frozen temporal cortex | BM2: neuropathologically normal frozen temporal cortex | BN2: neuropathologically normal frozen temporal cortex | BO2: neuropathologically normal frozen temporal cortex | BP2: neuropathologically normal frozen temporal cortex | BQ2: neuropathologically normal frozen temporal cortex | BR2: neuropathologically normal frozen temporal cortex | BS2: neuropathologically normal frozen temporal cortex | BT2: neuropathologically normal frozen temporal cortex | BU2: neuropathologically normal frozen temporal cortex | BV2: neuropathologically normal frozen temporal cortex | BW2: neuropathologically normal frozen temporal cortex | BX2: neuropathologically normal frozen temporal cortex | BY2: neuropathologically normal frozen temporal cortex | BZ2: neuropathologically normal frozen temporal cortex | CA2: neuropathologically normal frozen temporal cortex | CB2: neuropathologically normal frozen temporal cortex | CC2: neuropathologically normal frozen temporal cortex | CD2: neuropathologically normal frozen temporal cortex | CE2: neuropathologically normal frozen temporal cortex | CF2: neuropathologically normal frozen temporal cortex | CG2: neuropathologically normal frozen temporal cortex | CH2: neuropathologically normal frozen temporal cortex | CI2: neuropathologically normal frozen temporal cortex | CJ2: neuropathologically normal frozen temporal cortex | CK2: neuropathologically normal frozen temporal cortex | CL2: neuropathologically normal frozen temporal cortex | CM2: neuropathologically normal frozen temporal cortex | CN2: neuropathologically normal frozen temporal cortex | CO2: neuropathologically normal frozen temporal cortex | CP2: neuropathologically normal frozen temporal cortex | CQ2: neuropathologically normal frozen temporal cortex | CR2: neuropathologically normal frozen temporal cortex | CS2: neuropathologically normal frozen temporal cortex | CT2: neuropathologically normal frozen temporal cortex | CU2: neuropathologically normal frozen temporal cortex | CV2: neuropathologically normal frozen temporal cortex | CW2: neuropathologically normal frozen temporal cortex | CX2: neuropathologically normal frozen temporal cortex | CY2: neuropathologically normal frozen temporal cortex | CZ2: neuropathologically normal frozen temporal cortex | DA2: neuropathologically normal frozen temporal cortex | DB2: neuropathologically normal frozen temporal cortex | DC2: neuropathologically normal frozen temporal cortex | DD2: neuropathologically normal frozen temporal cortex | DE2: neuropathologically normal frozen temporal cortex | DF2: neuropathologically normal frozen temporal cortex | DG2: neuropathologically normal frozen temporal cortex | DH2: neuropathologically normal frozen temporal cortex | DI2: neuropathologically normal frozen temporal cortex | DJ2: neuropathologically normal frozen temporal cortex | DK2: neuropathologically normal frozen temporal cortex | DL2: neuropathologically normal frozen temporal cortex | DM2: neuropathologically normal frozen temporal cortex | DN2: neuropathologically normal frozen temporal cortex | DO2: neuropathologically normal frozen temporal cortex | DP2: neuropathologically normal frozen temporal cortex | DQ2: neuropathologically normal frozen temporal cortex | DR2: neuropathologically normal frozen temporal cortex | DS2: neuropathologically normal frozen temporal cortex | DT2: neuropathologically normal frozen frontal cortex | DU2: neuropathologically normal frozen frontal cortex | DV2: neuropathologically normal frozen frontal cortex | DW2: neuropathologically normal frozen frontal cortex | DX2: neuropathologically normal frozen temporal cortex | DY2: neuropathologically normal frozen temporal cortex | DZ2: neuropathologically normal frozen temporal cortex | EA2: neuropathologically normal frozen temporal cortex | EB2: neuropathologically normal frozen frontal cortex | EC2: neuropathologically normal frozen frontal cortex | ED2: neuropathologically normal frozen frontal cortex | EE2: neuropathologically normal frozen frontal cortex | EF2: neuropathologically normal frozen frontal cortex | EG2: neuropathologically normal frozen frontal cortex | EH2: neuropathologically normal frozen frontal cortex | EI2: neuropathologically normal frozen frontal cortex | EJ2: neuropathologically normal frozen frontal cortex | EK2: neuropathologically normal frozen frontal cortex | EL2: neuropathologically normal frozen frontal cortex | EM2: neuropathologically normal frozen frontal cortex | EN2: neuropathologically normal frozen temporal cortex | EO2: neuropathologically normal frozen frontal temporal cortex | EP2: neuropathologically normal frozen frontal temporal cortex | EQ2: neuropathologically normal frozen frontal cortex | ER2: neuropathologically normal frozen frontal cortex | ES2: neuropathologically normal frozen parietal cortex | ET2: neuropathologically normal frozen frontal cortex | EU2: neuropathologically normal frozen frontal temporal cortex | EV2: neuropathologically normal frozen frontal cortex | EW2: neuropathologically normal frozen unknown cortex | EX2: neuropathologically normal frozen unknown cortex | EY2: neuropathologically normal frozen unknown region cortex | EZ2: neuropathologically normal frozen unknown region cortex | FA2: neuropathologically normal frozen unknown region cortex | FB2: neuropathologically normal frozen unknown region cortex | FC2: neuropathologically normal frozen frontal cortex | FD2: neuropathologically normal frozen frontal cortex | FE2: neuropathologically normal frozen frontal cortex | FF2: neuropathologically normal frozen frontal cortex | FG2: neuropathologically normal frozen frontal cortex | FH2: neuropathologically normal frozen frontal cortex | FI2: neuropathologically normal frozen frontal cortex | FJ2: neuropathologically normal frozen frontal cortex | FK2: neuropathologically normal frozen frontal cortex | FL2: neuropathologically normal frozen frontal cortex | FM2: neuropathologically normal frozen frontal cortex | FN2: neuropathologically normal frozen frontal cortex | FO2: neuropathologically normal frozen frontal cortex | FP2: neuropathologically normal frozen frontal cortex | FQ2: neuropathologically normal frozen temporal cortex | FR2: neuropathologically normal frozen temporal cortex | FS2: neuropathologically normal frozen temporal cortex | FT2: neuropathologically normal frozen temporal cortex | FU2: neuropathologically normal frozen temporal cortex | FV2: neuropathologically normal frozen temporal cortex | FW2: neuropathologically normal frozen temporal cortex | FX2: neuropathologically normal frozen temporal cortex | FY2: neuropathologically normal frozen temporal cortex | FZ2: neuropathologically normal frozen temporal cortex | GA2: neuropathologically normal frozen temporal cortex | GB2: neuropathologically normal frozen temporal cortex | GC2: neuropathologically normal frozen temporal cortex | GD2: neuropathologically normal frozen temporal cortex | GE2: neuropathologically normal frozen parietal cortex | GF2: neuropathologically normal frozen parietal cortex | GG2: Alzheimer's Disease frozen cortical tissue | GH2: Alzheimer's Disease frozen cortical tissue | GI2: Alzheimer's Disease frozen cortical tissue | GJ2: Alzheimer's Disease frozen cortical tissue | GK2: Alzheimer's Disease frozen cortical tissue | GL2: Alzheimer's Disease frozen cortical tissue | GM2: Alzheimer's Disease frozen cortical tissue | GN2: Alzheimer's Disease frozen cortical tissue | GO2: Alzheimer's Disease frozen cortical tissue | GP2: Alzheimer's Disease frozen cortical tissue | GQ2: Alzheimer's Disease frozen cortical tissue | GR2: Alzheimer's Disease frozen cortical tissue | GS2: Alzheimer's Disease frozen cortical tissue | GT2: Alzheimer's Disease frozen cortical tissue | GU2: Alzheimer's Disease frozen cortical tissue | GV2: Alzheimer's Disease frozen cortical tissue | GW2: Alzheimer's Disease frozen cortical tissue | GX2: Alzheimer's Disease frozen cortical tissue | GY2: Alzheimer's Disease frozen cortical tissue | GZ2: Alzheimer's Disease frozen cortical tissue | HA2: Alzheimer's Disease frozen cortical tissue | HB2: Alzheimer's Disease frozen cortical tissue | HC2: Alzheimer's Disease frozen cortical tissue | HD2: Alzheimer's Disease frozen cortical tissue | HE2: Alzheimer's Disease frozen cortical tissue | HF2: Alzheimer's Disease frozen cortical tissue | HG2: Alzheimer's Disease frozen cortical tissue | HH2: Alzheimer's Disease frozen cortical tissue | HI2: Alzheimer's Disease frozen cortical tissue | HJ2: Alzheimer's Disease frozen cortical tissue | HK2: Alzheimer's Disease frozen cortical tissue | HL2: Alzheimer's Disease frozen cortical tissue | HM2: Alzheimer's Disease frozen cortical tissue | HN2: Alzheimer's Disease frozen cortical tissue | HO2: Alzheimer's Disease frozen cortical tissue | HP2: Alzheimer's Disease frozen cortical tissue | HQ2: Alzheimer's Disease frozen cortical tissue | HR2: Alzheimer's Disease frozen cortical tissue | HS2: Alzheimer's Disease frozen cortical tissue | HT2: Alzheimer's Disease frozen cortical tissue | HU2: Alzheimer's Disease frozen cortical tissue | HV2: Alzheimer's Disease frozen cortical tissue | HW2: Alzheimer's Disease frozen cortical tissue | HX2: Alzheimer's Disease frozen cortical tissue | HY2: Alzheimer's Disease frozen cortical tissue | HZ2: Alzheimer's Disease frozen cortical tissue | IA2: Alzheimer's Disease frozen cortical tissue | IB2: Alzheimer's Disease frozen cortical tissue | IC2: Alzheimer's Disease frozen cortical tissue | ID2: Alzheimer's Disease frozen cortical tissue | IE2: Alzheimer's Disease frozen cortical tissue | IF2: Alzheimer's Disease frozen cortical tissue | IG2: Alzheimer's Disease frozen cortical tissue | IH2: Alzheimer's Disease frozen cortical tissue | II2: Alzheimer's Disease frozen cortical tissue | IJ2: Alzheimer's Disease frozen cortical tissue | IK2: Alzheimer's Disease frozen cortical tissue | IL2: Alzheimer's Disease frozen cortical tissue | IM2: Alzheimer's Disease frozen cortical tissue | IN2: Alzheimer's Disease frozen cortical tissue | IO2: Alzheimer's Disease frozen cortical tissue | IP2: Alzheimer's Disease frozen cortical tissue | IQ2: Alzheimer's Disease frozen cortical tissue | IR2: Alzheimer's Disease frozen cortical tissue | IS2: Alzheimer's Disease frozen cortical tissue | IT2: Alzheimer's Disease frozen cortical tissue | IU2: Alzheimer's Disease frozen cortical tissue | IV2: Alzheimer's Disease frozen cortical tissue | IW2: Alzheimer's Disease frozen cortical tissue | IX2: Alzheimer's Disease frozen cortical tissue | IY2: Alzheimer's Disease frozen cortical tissue | IZ2: Alzheimer's Disease frozen cortical tissue | JA2: Alzheimer's Disease frozen cortical tissue | JB2: Alzheimer's Disease frozen cortical tissue | JC2: Alzheimer's Disease frozen cortical tissue | JD2: Alzheimer's Disease frozen cortical tissue | JE2: Alzheimer's Disease frozen cortical tissue | JF2: Alzheimer's Disease frozen cortical tissue | JG2: Alzheimer's Disease frozen cortical tissue | JH2: Alzheimer's Disease frozen cortical tissue | JI2: Alzheimer's Disease frozen cortical tissue | JJ2: Alzheimer's Disease frozen cortical tissue | JK2: Alzheimer's Disease frozen cortical tissue | JL2: Alzheimer's Disease frozen cortical tissue | JM2: Alzheimer's Disease frozen cortical tissue | JN2: Alzheimer's Disease frozen cortical tissue | JO2: Alzheimer's Disease frozen cortical tissue | JP2: Alzheimer's Disease frozen cortical tissue | JQ2: Alzheimer's Disease frozen cortical tissue | JR2: Alzheimer's Disease frozen cortical tissue | JS2: Alzheimer's Disease frozen cortical tissue | JT2: Alzheimer's Disease frozen cortical tissue | JU2: Alzheimer's Disease frozen cortical tissue | JV2: Alzheimer's Disease frozen cortical tissue | JW2: Alzheimer's Disease frozen cortical tissue | JX2: Alzheimer's Disease frozen cortical tissue | JY2: Alzheimer's Disease frozen cortical tissue | JZ2: Alzheimer's Disease frozen cortical tissue | KA2: Alzheimer's Disease frozen cortical tissue | KB2: Alzheimer's Disease frozen cortical tissue | KC2: Alzheimer's Disease frozen cortical tissue | KD2: Alzheimer's Disease frozen cortical tissue | KE2: Alzheimer's Disease frozen cortical tissue | KF2: Alzheimer's Disease frozen cortical tissue | KG2: Alzheimer's Disease frozen cortical tissue | KH2: Alzheimer's Disease frozen cortical tissue | KI2: Alzheimer's Disease frozen cortical tissue | KJ2: Alzheimer's Disease frozen cortical tissue | KK2: Alzheimer's Disease frozen cortical tissue | KL2: Alzheimer's Disease frozen cortical tissue | KM2: Alzheimer's Disease frozen cortical tissue | KN2: Alzheimer's Disease frozen cortical tissue | KO2: Alzheimer's Disease frozen cortical tissue | KP2: Alzheimer's Disease frozen cortical tissue | KQ2: Alzheimer's Disease frozen cortical tissue | KR2: Alzheimer's Disease frozen cortical tissue | KS2: Alzheimer's Disease frozen cortical tissue | KT2: Alzheimer's Disease frozen cortical tissue | KU2: Alzheimer's Disease frozen cortical tissue | KV2: Alzheimer's Disease frozen cortical tissue | KW2: Alzheimer's Disease frozen cortical tissue | KX2: Alzheimer's Disease frozen cortical tissue | KY2: Alzheimer's Disease frozen cortical tissue | KZ2: Alzheimer's Disease frozen cortical tissue | LA2: Alzheimer's Disease frozen cortical tissue | LB2: Alzheimer's Disease frozen cortical tissue | LC2: Alzheimer's Disease frozen cortical tissue | LD2: Alzheimer's Disease frozen cortical tissue | LE2: Alzheimer's Disease frozen cortical tissue | LF2: Alzheimer's Disease frozen cortical tissue | LG2: Alzheimer's Disease frozen cortical tissue | LH2: Alzheimer's Disease frozen cortical tissue | LI2: Alzheimer's Disease frozen cortical tissue | LJ2: Alzheimer's Disease frozen cortical tissue | LK2: Alzheimer's Disease frozen cortical tissue | LL2: Alzheimer's Disease frozen cortical tissue | LM2: Alzheimer's Disease frozen cortical tissue | LN2: Alzheimer's Disease frozen cortical tissue | LO2: Alzheimer's Disease frozen cortical tissue | LP2: Alzheimer's Disease frozen cortical tissue | LQ2: Alzheimer's Disease frozen cortical tissue | LR2: Alzheimer's Disease frozen cortical tissue | LS2: Alzheimer's Disease frozen cortical tissue | LT2: Alzheimer's Disease frozen cortical tissue | LU2: Alzheimer's Disease frozen cortical tissue | LV2: Alzheimer's Disease frozen cortical tissue | LW2: Alzheimer's Disease frozen cortical tissue | LX2: Alzheimer's Disease frozen cortical tissue | LY2: Alzheimer's Disease frozen cortical tissue | LZ2: Alzheimer's Disease frozen cortical tissue | MA2: Alzheimer's Disease frozen cortical tissue | MB2: Alzheimer's Disease frozen cortical tissue | MC2: Alzheimer's Disease frozen cortical tissue | MD2: Alzheimer's Disease frozen cortical tissue | ME2: Alzheimer's Disease frozen cortical tissue | MF2: Alzheimer's Disease frozen cortical tissue | MG2: Alzheimer's Disease frozen cortical tissue | MH2: Alzheimer's Disease frozen cortical tissue | MI2: Alzheimer's Disease frozen cortical tissue | MJ2: Alzheimer's Disease frozen cortical tissue | MK2: Alzheimer's Disease frozen cortical tissue | ML2: Alzheimer's Disease frozen cortical tissue | MM2: Alzheimer's Disease frozen cortical tissue | MN2: Alzheimer's Disease frozen cortical tissue | MO2: Alzheimer's Disease frozen cortical tissue | MP2: Alzheimer's Disease frozen cortical tissue | MQ2: Alzheimer's Disease frozen cortical tissue | MR2: Alzheimer's Disease frozen cortical tissue | MS2: Alzheimer's Disease frozen cortical tissue | MT2: Alzheimer's Disease frozen cortical tissue | MU2: Alzheimer's Disease frozen cortical tissue | MV2: Alzheimer's Disease frozen cortical tissue | MW2: Alzheimer's Disease frozen cortical tissue | MX2: Alzheimer's Disease frozen cortical tissue | MY2: Alzheimer's Disease frozen cortical tissue | MZ2: Alzheimer's Disease frozen cortical tissue
A3: Alzheimer | B3: Normal | C3: Normal | D3: Normal | E3: Normal | F3: Normal | G3: Normal | H3: Normal | I3: Normal | J3: Normal | K3: Normal | L3: Normal | M3: Normal | N3: Normal | O3: Normal | P3: Normal | Q3: Normal | R3: Normal | S3: Normal | T3: Normal | U3: Normal | V3: Normal | W3: Normal | X3: Normal | Y3: Normal | Z3: Normal | AA3: Normal | AB3: Normal | AC3: Normal | AD3: Normal | AE3: Normal | AF3: Normal | AG3: Normal | AH3: Normal | AI3: Normal | AJ3: Normal | AK3: Normal | AL3: Normal | AM3: Normal | AN3: Normal | AO3: Normal | AP3: Normal | AQ3: Normal | AR3: Normal | AS3: Normal | AT3: Normal | AU3: Normal | AV3: Normal | AW3: Normal | AX3: Normal | AY3: Normal | AZ3: Normal | BA3: Normal | BB3: Normal | BC3: Normal | BD3: Normal | BE3: Normal | BF3: Normal | BG3: Normal | BH3: Normal | BI3: Normal | BJ3: Normal | BK3: Normal | BL3: Normal | BM3: Normal | BN3: Normal | BO3: Normal | BP3: Normal | BQ3: Normal | BR3: Normal | BS3: Normal | BT3: Normal | BU3: Normal | BV3: Normal | BW3: Normal | BX3: Normal | BY3: Normal | BZ3: Normal | CA3: Normal | CB3: Normal | CC3: Normal | CD3: Normal | CE3: Normal | CF3: Normal | CG3: Normal | CH3: Normal | CI3: Normal | CJ3: Normal | CK3: Normal | CL3: Normal | CM3: Normal | CN3: Normal | CO3: Normal | CP3: Normal | CQ3: Normal | CR3: Normal | CS3: Normal | CT3: Normal | CU3: Normal | CV3: Normal | CW3: Normal | CX3: Normal | CY3: Normal | CZ3: Normal | DA3: Normal | DB3: Normal | DC3: Normal | DD3: Normal | DE3: Normal | DF3: Normal | DG3: Normal | DH3: Normal | DI3: Normal | DJ3: Normal | DK3: Normal | DL3: Normal | DM3: Normal | DN3: Normal | DO3: Normal | DP3: Normal | DQ3: Normal | DR3: Normal | DS3: Normal | DT3: Normal | DU3: Normal | DV3: Alzheimer | DW3: Normal | DX3: Normal | DY3: Normal | DZ3: Normal | EA3: Normal | EB3: Normal | EC3: Normal | ED3: Normal | EE3: Normal | EF3: Normal | EG3: Normal | EH3: Normal | EI3: Normal | EJ3: Normal | EK3: Normal | EL3: Normal | EM3: Normal | EN3: Normal | EO3: Normal | EP3: Normal | EQ3: Normal | ER3: Normal | ES3: Normal | ET3: Normal | EU3: Normal | EV3: Normal | EW3: Normal | EX3: Normal | EY3: Normal | EZ3: Normal | FA3: Normal | FB3: Normal | FC3: Normal | FD3: Normal | FE3: Normal | FF3: Normal | FG3: Normal | FH3: Normal | FI3: Normal | FJ3: Normal | FK3: Normal | FL3: Normal | FM3: Normal | FN3: Normal | FO3: Normal | FP3: Normal | FQ3: Normal | FR3: Normal | FS3: Normal | FT3: Normal | FU3: Normal | FV3: Normal | FW3: Normal | FX3: Normal | FY3: Normal | FZ3: Normal | GA3: Normal | GB3: Normal | GC3: Normal | GD3: Normal | GE3: Normal | GF3: Normal | GG3: Alzheimer | GH3: Alzheimer | GI3: Alzheimer | GJ3: Alzheimer | GK3: Alzheimer | GL3: Alzheimer | GM3: Alzheimer | GN3: Alzheimer | GO3: Alzheimer | GP3: Alzheimer | GQ3: Alzheimer | GR3: Alzheimer | GS3: Alzheimer | GT3: Alzheimer | GU3: Alzheimer | GV3: Alzheimer | GW3: Alzheimer | GX3: Alzheimer | GY3: Alzheimer | GZ3: Alzheimer | HA3: Alzheimer | HB3: Alzheimer | HC3: Alzheimer | HD3: Alzheimer | HE3: Alzheimer | HF3: Alzheimer | HG3: Alzheimer | HH3: Alzheimer | HI3: Alzheimer | HJ3: Alzheimer | HK3: Alzheimer | HL3: Alzheimer | HM3: Alzheimer | HN3: Alzheimer | HO3: Alzheimer | HP3: Alzheimer | HQ3: Alzheimer | HR3: Alzheimer | HS3: Alzheimer | HT3: Alzheimer | HU3: Alzheimer | HV3: Alzheimer | HW3: Alzheimer | HX3: Alzheimer | HY3: Alzheimer | HZ3: Alzheimer | IA3: Alzheimer | IB3: Alzheimer | IC3: Alzheimer | ID3: Alzheimer | IE3: Alzheimer | IF3: Alzheimer | IG3: Alzheimer | IH3: Alzheimer | II3: Alzheimer | IJ3: Alzheimer | IK3: Alzheimer | IL3: Alzheimer | IM3: Alzheimer | IN3: Alzheimer | IO3: Alzheimer | IP3: Alzheimer | IQ3: Alzheimer | IR3: Alzheimer | IS3: Alzheimer | IT3: Alzheimer | IU3: Alzheimer | IV3: Alzheimer | IW3: Alzheimer | IX3: Alzheimer | IY3: Alzheimer | IZ3: Alzheimer | JA3: Alzheimer | JB3: Alzheimer | JC3: Alzheimer | JD3: Alzheimer | JE3: Alzheimer | JF3: Alzheimer | JG3: Alzheimer | JH3: Alzheimer | JI3: Alzheimer | JJ3: Alzheimer | JK3: Alzheimer | JL3: Alzheimer | JM3: Alzheimer | JN3: Alzheimer | JO3: Alzheimer | JP3: Alzheimer | JQ3: Alzheimer | JR3: Alzheimer | JS3: Alzheimer | JT3: Alzheimer | JU3: Alzheimer | JV3: Alzheimer | JW3: Alzheimer | JX3: Alzheimer | JY3: Alzheimer | JZ3: Alzheimer | KA3: Alzheimer | KB3: Alzheimer | KC3: Alzheimer | KD3: Alzheimer | KE3: Alzheimer | KF3: Alzheimer | KG3: Alzheimer | KH3: Alzheimer | KI3: Alzheimer | KJ3: Alzheimer | KK3: Alzheimer | KL3: Alzheimer | KM3: Alzheimer | KN3: Alzheimer | KO3: Alzheimer | KP3: Alzheimer | KQ3: Alzheimer | KR3: Alzheimer | KS3: Alzheimer | KT3: Alzheimer | KU3: Alzheimer | KV3: Alzheimer | KW3: Alzheimer | KX3: Alzheimer | KY3: Alzheimer | KZ3: Alzheimer | LA3: Alzheimer | LB3: Alzheimer | LC3: Alzheimer | LD3: Alzheimer | LE3: Alzheimer | LF3: Alzheimer | LG3: Alzheimer | LH3: Alzheimer | LI3: Alzheimer | LJ3: Alzheimer | LK3: Alzheimer | LL3: Alzheimer | LM3: Alzheimer | LN3: Alzheimer | LO3: Alzheimer | LP3: Alzheimer | LQ3: Alzheimer | LR3: Alzheimer | LS3: Alzheimer | LT3: Alzheimer | LU3: Alzheimer | LV3: Alzheimer | LW3: Alzheimer | LX3: Alzheimer | LY3: Alzheimer | LZ3: Alzheimer | MA3: Alzheimer | MB3: Alzheimer | MC3: Alzheimer | MD3: Alzheimer | ME3: Alzheimer | MF3: Alzheimer | MG3: Alzheimer | MH3: Alzheimer | MI3: Alzheimer | MJ3: Alzheimer | MK3: Alzheimer | ML3: Alzheimer | MM3: Alzheimer | MN3: Alzheimer | MO3: Alzheimer | MP3: Alzheimer | MQ3: Alzheimer | MR3: Alzheimer | MS3: Alzheimer | MT3: Alzheimer | MU3: Alzheimer | MV3: Alzheimer | MW3: Alzheimer | MX3: Alzheimer | MY3: Alzheimer | MZ3: Alzheimer
A4: Sex | B4: male | C4: male | D4: male | E4: female | F4: female | G4: male | H4: male | I4: male | J4: male | K4: male | L4: female | M4: male | N4: male | O4: female | P4: male | Q4: male | R4: male | S4: female | T4: female | U4: male | V4: male | W4: male | X4: female | Y4: female | Z4: male | AA4: male | AB4: male | AC4: female | AD4: male | AE4: male | AF4: female | AG4: female | AH4: male | AI4: male | AJ4: male | AK4: male | AL4: male | AM4: female | AN4: male | AO4: female | AP4: female | AQ4: female | AR4: female | AS4: female | AT4: female | AU4: female | AV4: female | AW4: male | AX4: female | AY4: male | AZ4: male | BA4: male | BB4: female | BC4: male | BD4: male | BE4: male | BF4: female | BG4: female | BH4: male | BI4: male | BJ4: male | BK4: female | BL4: female | BM4: male | BN4: male | BO4: female | BP4: female | BQ4: male | BR4: male | BS4: female | BT4: female | BU4: female | BV4: male | BW4: male | BX4: female | BY4: female | BZ4: female | CA4: female | CB4: female | CC4: female | CD4: male | CE4: male | CF4: female | CG4: female | CH4: male | CI4: male | CJ4: female | CK4: male | CL4: male | CM4: female | CN4: male | CO4: male | CP4: female | CQ4: male | CR4: female | CS4: male | CT4: female | CU4: male | CV4: female | CW4: female | CX4: male | CY4: male | CZ4: male | DA4: male | DB4: male | DC4: male | DD4: male | DE4: female | DF4: female | DG4: male | DH4: male | DI4: female | DJ4: male | DK4: male | DL4: female | DM4: male | DN4: female | DO4: female | DP4: male | DQ4: male | DR4: female | DS4: female | DT4: male | DU4: male | DV4: female | DW4: male | DX4: female | DY4: male | DZ4: female | EA4: male | EB4: female | EC4: female | ED4: male | EE4: male | EF4: female | EG4: female | EH4: female | EI4: male | EJ4: female | EK4: female | EL4: male | EM4: female | EN4: female | EO4: male | EP4: female | EQ4: female | ER4: male | ES4: male | ET4: male | EU4: male | EV4: male | EW4: female | EX4: female | EY4: female | EZ4: female | FA4: female | FB4: female | FC4: male | FD4: male | FE4: male | FF4: male | FG4: female | FH4: female | FI4: male | FJ4: male | FK4: male | FL4: male | FM4: male | FN4: female | FO4: female | FP4: female | FQ4: female | FR4: male | FS4: male | FT4: male | FU4: male | FV4: male | FW4: female | FX4: male | FY4: female | FZ4: male | GA4: male | GB4: female | GC4: male | GD4: female | GE4: female | GF4: male | GG4: Female | GH4: Female | GI4: male | GJ4: Female | GK4: Female | GL4: Female | GM4: male | GN4: Female | GO4: male | GP4: male | GQ4: Female | GR4: male | GS4: Female | GT4: Female | GU4: Female | GV4: male | GW4: male | GX4: male | GY4: male | GZ4: male | HA4: Female | HB4: Female | HC4: male | HD4: Female | HE4: male | HF4: Female | HG4: Female | HH4: male | HI4: male | HJ4: Female | HK4: Female | HL4: Female | HM4: Female | HN4: male | HO4: Female | HP4: Female | HQ4: male | HR4: Female | HS4: Female | HT4: Female | HU4: male | HV4: male | HW4: male | HX4: Female | HY4: male | HZ4: male | IA4: male | IB4: male | IC4: Female | ID4: Female | IE4: male | IF4: Female | IG4: Female | IH4: male | II4: Female | IJ4: male | IK4: Female | IL4: Female | IM4: Female | IN4: Female | IO4: Female | IP4: Female | IQ4: Female | IR4: male | IS4: male | IT4: male | IU4: male | IV4: male | IW4: male | IX4: male | IY4: Female | IZ4: Female | JA4: Female | JB4: male | JC4: male | JD4: male | JE4: Female | JF4: male | JG4: male | JH4: Female | JI4: Female | JJ4: male | JK4: Female | JL4: Female | JM4: male | JN4: male | JO4: male | JP4: Female | JQ4: male | JR4: Female | JS4: male | JT4: male | JU4: male | JV4: Female | JW4: Female | JX4: male | JY4: Female | JZ4: Female | KA4: male | KB4: male | KC4: Female | KD4: Female | KE4: Female | KF4: male | KG4: male | KH4: Female | KI4: Female | KJ4: male | KK4: male | KL4: male | KM4: male | KN4: male | KO4: Female | KP4: male | KQ4: male | KR4: Female | KS4: male | KT4: Female | KU4: Female | KV4: Female | KW4: male | KX4: male | KY4: male | KZ4: Female | LA4: Female | LB4: male | LC4: male | LD4: Female | LE4: Female | LF4: Female | LG4: male | LH4: Female | LI4: Female | LJ4: Female | LK4: male | LL4: male | LM4: Female | LN4: male | LO4: Female | LP4: male | LQ4: Female | LR4: male | LS4: Female | LT4: Female | LU4: male | LV4: Female | LW4: Female | LX4: male | LY4: male | LZ4: Female | MA4: Female | MB4: male | MC4: Female | MD4: Female | ME4: male | MF4: Female | MG4: male | MH4: male | MI4: male | MJ4: male | MK4: male | ML4: Female | MM4: Female | MN4: male | MO4: Female | MP4: male | MQ4: male | MR4: male | MS4: Female | MT4: Female | MU4: Female | MV4: male | MW4: male | MX4: Female | MY4: male | MZ4: male
A5: Age | B5: 85 | C5: 85 | D5: 79 | E5: 85 | F5: 73 | G5: 81 | H5: 79 | I5: 77 | J5: 69 | K5: 86 | L5: 83 | M5: 78 | N5: 94 | O5: 81 | P5: 76 | Q5: 83 | R5: 68 | S5: 82 | T5: 70 | U5: 86 | V5: 78 | W5: 82 | X5: 94 | Y5: 87 | Z5: 74 | AA5: 85 | AB5: 75 | AC5: 86 | AD5: 75 | AE5: 81 | AF5: 72 | AG5: 81 | AH5: 81 | AI5: 81 | AJ5: 91 | AK5: 84 | AL5: 96 | AM5: 97 | AN5: 90 | AO5: 67 | AP5: 83 | AQ5: 82 | AR5: 66 | AS5: 72 | AT5: 65 | AU5: 75 | AV5: 74 | AW5: 68 | AX5: 80 | AY5: 80 | AZ5: 66 | BA5: 88 | BB5: 91 | BC5: 73 | BD5: 76 | BE5: 75 | BF5: 86 | BG5: 72 | BH5: 97 | BI5: 86 | BJ5: 82 | BK5: 95 | BL5: 76 | BM5: 76 | BN5: 69 | BO5: 80 | BP5: 99 | BQ5: 68 | BR5: 70 | BS5: 87 | BT5: 99 | BU5: 88 | BV5: 65 | BW5: 82 | BX5: 78 | BY5: 85 | BZ5: 100 | CA5: 87 | CB5: 85 | CC5: 97 | CD5: 65 | CE5: 65 | CF5: 87 | CG5: 85 | CH5: 68 | CI5: 71 | CJ5: 83 | CK5: 76 | CL5: 67 | CM5: 100 | CN5: 79 | CO5: 74 | CP5: 88 | CQ5: 70 | CR5: 97 | CS5: 69 | CT5: 99 | CU5: 81 | CV5: 85 | CW5: 82 | CX5: 70 | CY5: 73 | CZ5: 83 | DA5: 74 | DB5: 77 | DC5: 81 | DD5: 65 | DE5: 73 | DF5: 85 | DG5: 69 | DH5: 72 | DI5: 76 | DJ5: 73 | DK5: 66 | DL5: 85 | DM5: 87 | DN5: 86 | DO5: 73 | DP5: 86 | DQ5: 72 | DR5: 69 | DS5: 88 | DT5: 77 | DU5: 96 | DV5: 78 | DW5: 77 | DX5: 99 | DY5: 78 | DZ5: 76 | EA5: 78 | EB5: 97 | EC5: 86 | ED5: 77 | EE5: 87 | EF5: 72 | EG5: 91 | EH5: 85 | EI5: 88 | EJ5: 86 | EK5: 93 | EL5: 82 | EM5: 72 | EN5: 85 | EO5: 70 | EP5: 67 | EQ5: 74 | ER5: 69 | ES5: 85 | ET5: 89 | EU5: 86 | EV5: 90 | EW5: 94 | EX5: 91 | EY5: 91 | EZ5: 95 | FA5: 95 | FB5: 91 | FC5: 80 | FD5: 83 | FE5: 67 | FF5: 76 | FG5: 86 | FH5: 86 | FI5: 83 | FJ5: 84 | FK5: 80 | FL5: 72 | FM5: 67 | FN5: 96 | FO5: 75 | FP5: 89 | FQ5: 86 | FR5: 67 | FS5: 77 | FT5: 65 | FU5: 69 | FV5: 84 | FW5: 85 | FX5: 94 | FY5: 89 | FZ5: 87 | GA5: 90 | GB5: 88 | GC5: 94 | GD5: 86 | GE5: 93 | GF5: 91 | GG5: 97 | GH5: 101.1 | GI5: 84 | GJ5: 95.3 | GK5: 97.6 | GL5: 102.3 | GM5: 87 | GN5: 77 | GO5: 87 | GP5: 84 | GQ5: 92.5 | GR5: 93 | GS5: 93.9 | GT5: 87 | GU5: 90 | GV5: 75 | GW5: 92 | GX5: 83.6 | GY5: 88.9 | GZ5: 89 | HA5: 74.8 | HB5: 79.6 | HC5: 80.6 | HD5: 97.3 | HE5: 87 | HF5: 89.7 | HG5: 90.1 | HH5: 90.7 | HI5: 78 | HJ5: 80 | HK5: 79 | HL5: 87 | HM5: 88 | HN5: 86 | HO5: 74 | HP5: 72 | HQ5: 81 | HR5: 68 | HS5: 81 | HT5: 82 | HU5: 78 | HV5: 74 | HW5: 88 | HX5: 78 | HY5: 83 | HZ5: 83 | IA5: 80 | IB5: 84 | IC5: 79 | ID5: 86 | IE5: 92 | IF5: 81 | IG5: 79 | IH5: 74 | II5: 73 | IJ5: 87 | IK5: 86 | IL5: 86 | IM5: 87 | IN5: 92 | IO5: 78 | IP5: 94 | IQ5: 94 | IR5: 76 | IS5: 91 | IT5: 86 | IU5: 77 | IV5: 82 | IW5: 78 | IX5: 79 | IY5: 84 | IZ5: 87 | JA5: 86 | JB5: 83.7 | JC5: 83 | JD5: 81 | JE5: 93 | JF5: 71 | JG5: 78 | JH5: 75 | JI5: 84 | JJ5: 73 | JK5: 89 | JL5: NA | JM5: 69 | JN5: 83 | JO5: 71 | JP5: 86 | JQ5: 82 | JR5: NA | JS5: 88 | JT5: 77 | JU5: 85 | JV5: 81 | JW5: 86 | JX5: 89 | JY5: 73 | JZ5: 96 | KA5: 73 | KB5: 81 | KC5: 84 | KD5: 93 | KE5: 82 | KF5: 76 | KG5: 77 | KH5: 86 | KI5: 85 | KJ5: 83 | KK5: 76 | KL5: 81 | KM5: 79 | KN5: 81 | KO5: 78 | KP5: 80 | KQ5: 84 | KR5: 85 | KS5: 75 | KT5: 80 | KU5: 97 | KV5: 82 | KW5: 82 | KX5: 77 | KY5: 81 | KZ5: 96 | LA5: 90 | LB5: 86 | LC5: 88 | LD5: 90 | LE5: 90 | LF5: 84 | LG5: 84 | LH5: 91 | LI5: 81 | LJ5: 84 | LK5: 80 | LL5: 81 | LM5: 87 | LN5: 85 | LO5: 90 | LP5: 79 | LQ5: 87 | LR5: 75 | LS5: 92 | LT5: 84 | LU5: 75 | LV5: 76 | LW5: 86 | LX5: 82 | LY5: 76 | LZ5: 81 | MA5: 80 | MB5: 83 | MC5: 83 | MD5: 84 | ME5: 93 | MF5: 92 | MG5: 78 | MH5: 90 | MI5: 83 | MJ5: 79 | MK5: 84 | ML5: 90 | MM5: 88 | MN5: 77 | MO5: 80 | MP5: 87 | MQ5: 86 | MR5: 74.8 | MS5: 86 | MT5: 81.9 | MU5: 73.1 | MV5: 83 | MW5: 86.4 | MX5: 86.5 | MY5: 78 | MZ5: 83
A6: Region | B6: temporal cortex | C6: temporal cortex | D6: temporal cortex | E6: temporal cortex | F6: temporal cortex | G6: temporal cortex | H6: temporal cortex | I6: temporal cortex | J6: temporal cortex | K6: temporal cortex | L6: temporal cortex | M6: temporal cortex | N6: temporal cortex | O6: temporal cortex | P6: temporal cortex | Q6: temporal cortex | R6: temporal cortex | S6: temporal cortex | T6: temporal cortex | U6: temporal cortex | V6: temporal cortex | W6: frontal cortex | X6: frontal cortex | Y6: frontal cortex | Z6: frontal cortex | AA6: temporal cortex | AB6: temporal cortex | AC6: temporal cortex | AD6: temporal cortex | AE6: temporal cortex | AF6: temporal cortex | AG6: temporal cortex | AH6: temporal cortex | AI6: temporal cortex | AJ6: temporal cortex | AK6: temporal cortex | AL6: temporal cortex | AM6: temporal cortex | AN6: temporal cortex | AO6: temporal cortex | AP6: temporal cortex | AQ6: temporal cortex | AR6: temporal cortex | AS6: temporal cortex | AT6: temporal cortex | AU6: temporal cortex | AV6: temporal cortex | AW6: temporal cortex | AX6: temporal cortex | AY6: temporal cortex | AZ6: temporal cortex | BA6: temporal cortex | BB6: temporal cortex | BC6: temporal cortex | BD6: frontal cortex | BE6: frontal cortex | BF6: temporal cortex | BG6: temporal cortex | BH6: temporal cortex | BI6: temporal cortex | BJ6: temporal cortex | BK6: temporal cortex | BL6: temporal cortex | BM6: temporal cortex | BN6: temporal cortex | BO6: temporal cortex | BP6: temporal cortex | BQ6: temporal cortex | BR6: temporal cortex | BS6: temporal cortex | BT6: temporal cortex | BU6: temporal cortex | BV6: temporal cortex | BW6: temporal cortex | BX6: temporal cortex | BY6: temporal cortex | BZ6: temporal cortex | CA6: temporal cortex | CB6: temporal cortex | CC6: temporal cortex | CD6: temporal cortex | CE6: temporal cortex | CF6: temporal cortex | CG6: temporal cortex | CH6: temporal cortex | CI6: temporal cortex | CJ6: temporal cortex | CK6: temporal cortex | CL6: temporal cortex | CM6: temporal cortex | CN6: temporal cortex | CO6: temporal cortex | CP6: temporal cortex | CQ6: temporal cortex | CR6: temporal cortex | CS6: temporal cortex | CT6: temporal cortex | CU6: temporal cortex | CV6: temporal cortex | CW6: temporal cortex | CX6: temporal cortex | CY6: temporal cortex | CZ6: temporal cortex | DA6: temporal cortex | DB6: temporal cortex | DC6: temporal cortex | DD6: temporal cortex | DE6: temporal cortex | DF6: temporal cortex | DG6: temporal cortex | DH6: temporal cortex | DI6: temporal cortex | DJ6: temporal cortex | DK6: temporal cortex | DL6: temporal cortex | DM6: temporal cortex | DN6: temporal cortex | DO6: temporal cortex | DP6: temporal cortex | DQ6: temporal cortex | DR6: temporal cortex | DS6: temporal cortex | DT6: frontal cortex | DU6: frontal cortex | DV6: frontal cortex | DW6: frontal cortex | DX6: temporal cortex | DY6: temporal cortex | DZ6: temporal cortex | EA6: temporal cortex | EB6: frontal cortex | EC6: frontal cortex | ED6: frontal cortex | EE6: frontal cortex | EF6: frontal cortex | EG6: frontal cortex | EH6: frontal cortex | EI6: frontal cortex | EJ6: frontal cortex | EK6: frontal cortex | EL6: frontal cortex | EM6: frontal cortex | EN6: temporal cortex | EO6: frontal temporal cortex | EP6: frontal temporal cortex | EQ6: frontal cortex | ER6: frontal cortex | ES6: parietal cortex | ET6: frontal cortex | EU6: frontal temporal cortex | EV6: frontal cortex | EW6: unknown cortex | EX6: unknown cortex | EY6: unknown region cortex | EZ6: unknown region cortex | FA6: unknown region cortex | FB6: unknown region cortex | FC6: frontal cortex | FD6: frontal cortex | FE6: frontal cortex | FF6: frontal cortex | FG6: frontal cortex | FH6: frontal cortex | FI6: frontal cortex | FJ6: frontal cortex | FK6: frontal cortex | FL6: frontal cortex | FM6: frontal cortex | FN6: frontal cortex | FO6: frontal cortex | FP6: frontal cortex | FQ6: temporal cortex | FR6: temporal cortex | FS6: temporal cortex | FT6: temporal cortex | FU6: temporal cortex | FV6: temporal cortex | FW6: temporal cortex | FX6: temporal cortex | FY6: temporal cortex | FZ6: temporal cortex | GA6: temporal cortex | GB6: temporal cortex | GC6: temporal cortex | GD6: temporal cortex | GE6: parietal cortex | GF6: parietal cortex | GG6: cortical tissue | GH6: cortical tissue | GI6: cortical tissue | GJ6: cortical tissue | GK6: cortical tissue | GL6: cortical tissue | GM6: cortical tissue | GN6: cortical tissue | GO6: cortical tissue | GP6: cortical tissue | GQ6: cortical tissue | GR6: cortical tissue | GS6: cortical tissue | GT6: cortical tissue | GU6: cortical tissue | GV6: cortical tissue | GW6: cortical tissue | GX6: cortical tissue | GY6: cortical tissue | GZ6: cortical tissue | HA6: cortical tissue | HB6: cortical tissue | HC6: cortical tissue | HD6: cortical tissue | HE6: cortical tissue | HF6: cortical tissue | HG6: cortical tissue | HH6: cortical tissue | HI6: cortical tissue | HJ6: cortical tissue | HK6: cortical tissue | HL6: cortical tissue | HM6: cortical tissue | HN6: cortical tissue | HO6: cortical tissue | HP6: cortical tissue | HQ6: cortical tissue | HR6: cortical tissue | HS6: cortical tissue | HT6: cortical tissue | HU6: cortical tissue | HV6: cortical tissue | HW6: cortical tissue | HX6: cortical tissue | HY6: cortical tissue | HZ6: cortical tissue | IA6: cortical tissue | IB6: cortical tissue | IC6: cortical tissue | ID6: cortical tissue | IE6: cortical tissue | IF6: cortical tissue | IG6: cortical tissue | IH6: cortical tissue | II6: cortical tissue | IJ6: cortical tissue | IK6: cortical tissue | IL6: cortical tissue | IM6: cortical tissue | IN6: cortical tissue | IO6: cortical tissue | IP6: cortical tissue | IQ6: cortical tissue | IR6: cortical tissue | IS6: cortical tissue | IT6: cortical tissue | IU6: cortical tissue | IV6: cortical tissue | IW6: cortical tissue | IX6: cortical tissue | IY6: cortical tissue | IZ6: cortical tissue | JA6: cortical tissue | JB6: cortical tissue | JC6: cortical tissue | JD6: cortical tissue | JE6: cortical tissue | JF6: cortical tissue | JG6: cortical tissue | JH6: cortical tissue | JI6: cortical tissue | JJ6: cortical tissue | JK6: cortical tissue | JL6: cortical tissue | JM6: cortical tissue | JN6: cortical tissue | JO6: cortical tissue | JP6: cortical tissue | JQ6: cortical tissue | JR6: cortical tissue | JS6: cortical tissue | JT6: cortical tissue | JU6: cortical tissue | JV6: cortical tissue | JW6: cortical tissue | JX6: cortical tissue | JY6: cortical tissue | JZ6: cortical tissue | KA6: cortical tissue | KB6: cortical tissue | KC6: cortical tissue | KD6: cortical tissue | KE6: cortical tissue | KF6: cortical tissue | KG6: cortical tissue | KH6: cortical tissue | KI6: cortical tissue | KJ6: cortical tissue | KK6: cortical tissue | KL6: cortical tissue | KM6: cortical tissue | KN6: cortical tissue | KO6: cortical tissue | KP6: cortical tissue | KQ6: cortical tissue | KR6: cortical tissue | KS6: cortical tissue | KT6: cortical tissue | KU6: cortical tissue | KV6: cortical tissue | KW6: cortical tissue | KX6: cortical tissue | KY6: cortical tissue | KZ6: cortical tissue | LA6: cortical tissue | LB6: cortical tissue | LC6: cortical tissue | LD6: cortical tissue | LE6: cortical tissue | LF6: cortical tissue | LG6: cortical tissue | LH6: cortical tissue | LI6: cortical tissue | LJ6: cortical tissue | LK6: cortical tissue | LL6: cortical tissue | LM6: cortical tissue | LN6: cortical tissue | LO6: cortical tissue | LP6: cortical tissue | LQ6: cortical tissue | LR6: cortical tissue | LS6: cortical tissue | LT6: cortical tissue | LU6: cortical tissue | LV6: cortical tissue | LW6: cortical tissue | LX6: cortical tissue | LY6: cortical tissue | LZ6: cortical tissue | MA6: cortical tissue | MB6: cortical tissue | MC6: cortical tissue | MD6: cortical tissue | ME6: cortical tissue | MF6: cortical tissue | MG6: cortical tissue | MH6: cortical tissue | MI6: cortical tissue | MJ6: cortical tissue | MK6: cortical tissue | ML6: cortical tissue | MM6: cortical tissue | MN6: cortical tissue | MO6: cortical tissue | MP6: cortical tissue | MQ6: cortical tissue | MR6: cortical tissue | MS6: cortical tissue | MT6: cortical tissue | MU6: cortical tissue | MV6: cortical tissue | MW6: cortical tissue | MX6: cortical tissue | MY6: cortical tissue | MZ6: cortical tissue
A7: PSEN1 | B7: 9.9 | C7: 26.3 | D7: 6.8 | E7: 18.8 | F7: 4.9 | G7: 9.2 | H7: 4.2 | I7: 2.3 | J7: 8.5 | K7: 12 | L7: 25.1 | M7: 16.3 | N7: 9.8 | O7: 1.3 | P7: 10 | Q7: 12.1 | R7: 13.6 | S7: 1 | T7: 15 | U7: 9.5 | V7: 14.3 | W7: 17 | X7: 7 | Y7: 0.8 | Z7: 8.8 | AA7: 18.5 | AB7: 15.5 | AC7: 2.8 | AD7: 10 | AE7: 6.3 | AF7: 22.3 | AG7: 9.9 | AH7: 8.2 | AI7: 28.8 | AJ7: 9.5 | AK7: 19.2 | AL7: 12.9 | AM7: 20.7 | AN7: 11.4 | AO7: 23.8 | AP7: 18.5 | AQ7: 16.6 | AR7: 12.1 | AS7: 5.1 | AT7: -5.4 | AU7: 6.4 | AV7: 6.5 | AW7: 15.4 | AX7: 1.1 | AY7: 3.5 | AZ7: 13.7 | BA7: 4.7 | BB7: 9.6 | BC7: -1.4 | BD7: 13.2 | BE7: 7.3 | BF7: 7.1 | BG7: 5.2 | BH7: 14.2 | BI7: 9 | BJ7: 7.6 | BK7: 8.4 | BL7: 23.2 | BM7: 4.1 | BN7: 19.5 | BO7: 11.5 | BP7: 7.6 | BQ7: 3.2 | BR7: 19.5 | BS7: 3.4 | BT7: 7.4 | BU7: 8.6 | BV7: 7.5 | BW7: 1.8 | BX7: -2 | BY7: 28.1 | BZ7: 3.6 | CA7: 9.9 | CB7: 0.2 | CC7: 6.4 | CD7: 4.1 | CE7: 13.6 | CF7: 19.8 | CG7: 4.4 | CH7: 26.1 | CI7: 4 | CJ7: 9.1 | CK7: 5 | CL7: 5.9 | CM7: 11.2 | CN7: 4.2 | CO7: 6.2 | CP7: 10 | CQ7: 6 | CR7: 7.7 | CS7: 10.6 | CT7: 11 | CU7: 4.2 | CV7: 6.4 | CW7: 9.2 | CX7: 3.7 | CY7: 3.1 | CZ7: 14.1 | DA7: 3.6 | DB7: -5.6 | DC7: 4.8 | DD7: 23.1 | DE7: -9.4 | DF7: -5.7 | DG7: 4.4 | DH7: 8.1 | DI7: 4.8 | DJ7: 26.7 | DK7: 6.8 | DL7: 10.9 | DM7: 21.1 | DN7: -1.1 | DO7: 23.1 | DP7: 13.5 | DQ7: 16.5 | DR7: 5.1 | DS7: 13.9 | DT7: 17.5 | DU7: 8.5 | DV7: 5.1 | DW7: 7.7 | DX7: 5.2 | DY7: 21.5 | DZ7: 9.8 | EA7: 13.2 | EB7: -1.8 | EC7: -0.1 | ED7: 5.6 | EE7: 12.1 | EF7: 6.2 | EG7: -1 | EH7: -0.2 | EI7: 9.4 | EJ7: 1.7 | EK7: 7.1 | EL7: 7.6 | EM7: 12.1 | EN7: 9.1 | EO7: 30 | EP7: 1.3 | EQ7: 8.9 | ER7: 9.6 | ES7: 11.1 | ET7: 6.1 | EU7: 12.2 | EV7: 2.8 | EW7: 4.9 | EX7: 13.8 | EY7: 0.2 | EZ7: 6.9 | FA7: 12.8 | FB7: 1.3 | FC7: 6 | FD7: 7.1 | FE7: 17.3 | FF7: 6.3 | FG7: 9 | FH7: 6.3 | FI7: 6.5 | FJ7: 26.2 | FK7: 8.4 | FL7: 10.7 | FM7: 3.4 | FN7: 8.4 | FO7: 1.8 | FP7: 2.9 | FQ7: 6.8 | FR7: 10.5 | FS7: 2.6 | FT7: 5 | FU7: 2.6 | FV7: 18.1 | FW7: 9 | FX7: 16 | FY7: 6.4 | FZ7: 5.5 | GA7: 12.4 | GB7: 8 | GC7: 15.9 | GD7: 4 | GE7: 12.2 | GF7: 5.7 | GG7: 20.4 | GH7: 0.8 | GI7: 11.9 | GJ7: 8 | GK7: 5.1 | GL7: 10.4 | GM7: 8.8 | GN7: 9.6 | GO7: 18.2 | GP7: 9.3 | GQ7: 19.7 | GR7: 17.1 | GS7: 8.1 | GT7: 7.4 | GU7: 3.2 | GV7: 5.4 | GW7: -2.2 | GX7: 5 | GY7: 6.1 | GZ7: 8.8 | HA7: 9.4 | HB7: 7.9 | HC7: 18.8 | HD7: 12 | HE7: 6.8 | HF7: 9.9 | HG7: 22.1 | HH7: 5.1 | HI7: 8.2 | HJ7: 16.7 | HK7: 7.2 | HL7: 6.8 | HM7: 18 | HN7: 7 | HO7: 5.5 | HP7: 39.1 | HQ7: 5.5 | HR7: 21.9 | HS7: -10.5 | HT7: 9.8 | HU7: 8 | HV7: 8.3 | HW7: 11.8 | HX7: 13.7 | HY7: 4.4 | HZ7: 5 | IA7: 5.1 | IB7: 2 | IC7: 18.6 | ID7: 14.9 | IE7: 20.6 | IF7: 12.6 | IG7: 1.6 | IH7: 10.6 | II7: 14.4 | IJ7: 10.9 | IK7: 1.8 | IL7: 10.4 | IM7: 14.9 | IN7: 20.2 | IO7: 7.4 | IP7: 14.8 | IQ7: 12.2 | IR7: 11.7 | IS7: 24.2 | IT7: 8.2 | IU7: 14.2 | IV7: 10 | IW7: 11.6 | IX7: 31.5 | IY7: 22.3 | IZ7: 12.4 | JA7: 35.7 | JB7: 7.4 | JC7: 5 | JD7: 5.9 | JE7: 10.1 | JF7: 9.5 | JG7: 7.9 | JH7: 10.7 | JI7: 17.6 | JJ7: 4.7 | JK7: 11 | JL7: 14 | JM7: -0.4 | JN7: 11.1 | JO7: 26.2 | JP7: 10.1 | JQ7: 4.5 | JR7: 3.6 | JS7: 2 | JT7: 11 | JU7: 4.5 | JV7: 6.9 | JW7: 15.5 | JX7: 5.3 | JY7: 7.4 | JZ7: 11.8 | KA7: 14.7 | KB7: 9.6 | KC7: 4.7 | KD7: 23.9 | KE7: 3.4 | KF7: 11 | KG7: 7.8 | KH7: 16.8 | KI7: 26.5 | KJ7: -4.2 | KK7: 2.2 | KL7: 1.3 | KM7: 3.5 | KN7: -2 | KO7: 19.1 | KP7: 8.2 | KQ7: -4.1 | KR7: 25.8 | KS7: 7 | KT7: 23.9 | KU7: 13.9 | KV7: 24.9 | KW7: 6.5 | KX7: 15.6 | KY7: 5.3 | KZ7: 16.7 | LA7: 8.9 | LB7: 5.2 | LC7: 15.9 | LD7: 3.6 | LE7: 7.2 | LF7: 19.6 | LG7: 11.6 | LH7: 6.7 | LI7: 16.6 | LJ7: 9.4 | LK7: 11.2 | LL7: 13.1 | LM7: 13.4 | LN7: 21.8 | LO7: 15.7 | LP7: -1.6 | LQ7: 0.8 | LR7: 2.5 | LS7: 6 | LT7: 2.9 | LU7: 7.8 | LV7: 10.6 | LW7: 22.5 | LX7: 10.5 | LY7: 10.4 | LZ7: 13.8 | MA7: 16.5 | MB7: 7.9 | MC7: -14.4 | MD7: 29 | ME7: 16 | MF7: 9.3 | MG7: 22.6 | MH7: 14.9 | MI7: 4.4 | MJ7: 17.7 | MK7: -0.9 | ML7: 18.5 | MM7: 10.9 | MN7: 25 | MO7: 1.9 | MP7: 11.8 | MQ7: 12.9 | MR7: 11.4 | MS7: 9 | MT7: 5.3 | MU7: 5.4 | MV7: 4.7 | MW7: 8.4 | MX7: 16.6 | MY7: 4.6 | MZ7: -2.7 | NA7: =AVERAGE(B7:MZ7) -> 9.922865 | NB7: =STDEV(B7:MZ7) -> 7.4875477
A8: APP | B8: 569.5 | C8: 708.1 | D8: 702 | E8: 466.1 | F8: 336 | G8: 633.2 | H8: 447.6 | I8: 250 | J8: 602.7 | K8: 756.9 | L8: 431 | M8: 575.3 | N8: 536.5 | O8: 509.9 | P8: 377.5 | Q8: 735 | R8: 562.8 | S8: 346.2 | T8: 592.6 | U8: 1195.6 | V8: 787.1 | W8: 939.2 | X8: 650.1 | Y8: 544.7 | Z8: 843.8 | AA8: 769.2 | AB8: 688 | AC8: 710.9 | AD8: 651.2 | AE8: 745.6 | AF8: 753.6 | AG8: 827 | AH8: 832.2 | AI8: 981.8 | AJ8: 1808.5 | AK8: 935 | AL8: 970.2 | AM8: 758.2 | AN8: 1954.7 | AO8: 488.3 | AP8: 1005.2 | AQ8: 1439 | AR8: 941.4 | AS8: 771.2 | AT8: 730.6 | AU8: 758.8 | AV8: 1175.9 | AW8: 263.5 | AX8: 554.7 | AY8: 733.2 | AZ8: 349.9 | BA8: 666 | BB8: 712.9 | BC8: 646 | BD8: 1076.9 | BE8: 694.1 | BF8: 1148.1 | BG8: 626.4 | BH8: 497.7 | BI8: 437.1 | BJ8: 660.2 | BK8: 788.3 | BL8: 740.8 | BM8: 1434.3 | BN8: 1214.9 | BO8: 820.5 | BP8: 1011.4 | BQ8: 1045.2 | BR8: 793.9 | BS8: 839.3 | BT8: 986.5 | BU8: 820.8 | BV8: 1380.2 | BW8: 746.2 | BX8: 708.2 | BY8: 955.7 | BZ8: 631.1 | CA8: 756.4 | CB8: 956.6 | CC8: 482.1 | CD8: 617.2 | CE8: 784.1 | CF8: 650.3 | CG8: 841.1 | CH8: 545 | CI8: 1106.4 | CJ8: 816.1 | CK8: 1060 | CL8: 2195.1 | CM8: 1085 | CN8: 986.6 | CO8: 924.1 | CP8: 1076.4 | CQ8: 1015.1 | CR8: 527 | CS8: 1974.1 | CT8: 980.2 | CU8: 791.9 | CV8: 962.4 | CW8: 664 | CX8: 935.2 | CY8: 867.2 | CZ8: 182.3 | DA8: 574.7 | DB8: 872.9 | DC8: 1083.3 | DD8: 801 | DE8: 846.5 | DF8: 701.4 | DG8: 772.6 | DH8: 767.7 | DI8: 723.8 | DJ8: 187.7 | DK8: 684.3 | DL8: 1597.1 | DM8: 1618.2 | DN8: 735.7 | DO8: 1711.7 | DP8: 797.5 | DQ8: 582.6 | DR8: 894.9 | DS8: 405.8 | DT8: 534.8 | DU8: 574 | DV8: 514.9 | DW8: 498.7 | DX8: 514.9 | DY8: 407.9 | DZ8: 620.7 | EA8: 410.9 | EB8: 863.9 | EC8: 686.1 | ED8: 357.9 | EE8: 918.2 | EF8: 930.9 | EG8: 828.8 | EH8: 943.9 | EI8: 961.9 | EJ8: 721.2 | EK8: 904.9 | EL8: 1006.3 | EM8: 593.2 | EN8: 878.3 | EO8: 413 | EP8: 524 | EQ8: 714.5 | ER8: 662.2 | ES8: 354.4 | ET8: 322 | EU8: 565.2 | EV8: 265.4 | EW8: 361.8 | EX8: 295.1 | EY8: 299 | EZ8: 382.1 | FA8: 370.1 | FB8: 384.8 | FC8: 620.1 | FD8: 966.5 | FE8: 1632 | FF8: 972 | FG8: 725.6 | FH8: 682 | FI8: 768.8 | FJ8: 1405.1 | FK8: 920.1 | FL8: 885.1 | FM8: 679.2 | FN8: 2606.1 | FO8: 1219.4 | FP8: 1986.7 | FQ8: 637.4 | FR8: 731.4 | FS8: 667.3 | FT8: 874.7 | FU8: 830.7 | FV8: 952.1 | FW8: 672.7 | FX8: 864.3 | FY8: 992.3 | FZ8: 603.9 | GA8: 1027.9 | GB8: 561.1 | GC8: 845.7 | GD8: 775 | GE8: 587.8 | GF8: 675 | GG8: 856.8 | GH8: 643.5 | GI8: 852.2 | GJ8: 848.3 | GK8: 345.3 | GL8: 1247.1 | GM8: 721.1 | GN8: 559.9 | GO8: 680.7 | GP8: 655.5 | GQ8: 598.5 | GR8: 530.9 | GS8: 767.6 | GT8: 541.7 | GU8: 622.4 | GV8: 570.9 | GW8: 476.8 | GX8: 685.5 | GY8: 703.7 | GZ8: 679.4 | HA8: 747.8 | HB8: 576 | HC8: 675.5 | HD8: 590.6 | HE8: 781.2 | HF8: 554.9 | HG8: 533.7 | HH8: 693.5 | HI8: 346.8 | HJ8: 352.8 | HK8: 407 | HL8: 508.8 | HM8: 484.2 | HN8: 526.5 | HO8: 1252.1 | HP8: 535.8 | HQ8: 398.6 | HR8: 368.7 | HS8: 704.7 | HT8: 759.1 | HU8: 1074.6 | HV8: 948.2 | HW8: 505.2 | HX8: 662 | HY8: 581 | HZ8: 351.4 | IA8: 427.7 | IB8: 556.9 | IC8: 859.8 | ID8: 929.9 | IE8: 818.5 | IF8: 485.8 | IG8: 724.2 | IH8: 1037.1 | II8: 386.8 | IJ8: 443.5 | IK8: 933.4 | IL8: 372.7 | IM8: 563.6 | IN8: 470.6 | IO8: 551.8 | IP8: 483.7 | IQ8: 914.3 | IR8: 800.6 | IS8: 920.4 | IT8: 791.7 | IU8: 1212.8 | IV8: 777.8 | IW8: 678.7 | IX8: 228.1 | IY8: 417 | IZ8: 414.3 | JA8: 322.3 | JB8: 564.7 | JC8: 737.7 | JD8: 685.2 | JE8: 1049.3 | JF8: 752.3 | JG8: 1005.1 | JH8: 640.5 | JI8: 904.2 | JJ8: 594.5 | JK8: 1052.7 | JL8: 925.7 | JM8: 857.4 | JN8: 724 | JO8: 647.7 | JP8: 584.8 | JQ8: 1030.8 | JR8: 766.4 | JS8: 840.7 | JT8: 592.6 | JU8: 557.5 | JV8: 808.4 | JW8: 706.5 | JX8: 1074.9 | JY8: 744.8 | JZ8: 2362.5 | KA8: 281.2 | KB8: 415.6 | KC8: 635.1 | KD8: 272.5 | KE8: 592.2 | KF8: 621.3 | KG8: 317.7 | KH8: 379.1 | KI8: 1713.6 | KJ8: 1115.2 | KK8: 1353.9 | KL8: 507.9 | KM8: 346.1 | KN8: 483.2 | KO8: 564.2 | KP8: 1031.7 | KQ8: 889.8 | KR8: 661.2 | KS8: 888.7 | KT8: 470.8 | KU8: 473.4 | KV8: 331.4 | KW8: 489.8 | KX8: 432.5 | KY8: 1105.1 | KZ8: 1305.1 | LA8: 649.8 | LB8: 287.1 | LC8: 222.1 | LD8: 433.4 | LE8: 356.4 | LF8: 537.8 | LG8: 900 | LH8: 823.3 | LI8: 575.9 | LJ8: 296.7 | LK8: 807.5 | LL8: 927.8 | LM8: 497.9 | LN8: 372.9 | LO8: 620.3 | LP8: 506.6 | LQ8: 649.2 | LR8: 397.7 | LS8: 488.4 | LT8: 532.2 | LU8: 485.1 | LV8: 404 | LW8: 335.2 | LX8: 632.7 | LY8: 643.5 | LZ8: 515.4 | MA8: 468 | MB8: 307.4 | MC8: 368.8 | MD8: 342.7 | ME8: 801.3 | MF8: 674.7 | MG8: 547.2 | MH8: 330.7 | MI8: 306.7 | MJ8: 602.6 | MK8: 643.9 | ML8: 563.8 | MM8: 780.2 | MN8: 233 | MO8: 469.9 | MP8: 442.5 | MQ8: 500.7 | MR8: 513.1 | MS8: 302.2 | MT8: 578.1 | MU8: 229.1 | MV8: 707.6 | MW8: 878.7 | MX8: 814.6 | MY8: 399.8 | MZ8: 238.3 | NA8: =AVERAGE(B8:MZ8) -> 721.05041 | NB8: =STDEV(B8:MZ8) -> 335.55443
