Workbook

Sheet Original
A1: ID_REF | B1: GSM225652 | C1: GSM225662 | D1: GSM225664 | E1: GSM225665 | F1: GSM225666 | G1: GSM225667 | H1: GSM225668 | I1: GSM225669 | J1: GSM225670 | K1: GSM225671 | L1: GSM225672 | M1: GSM225673 | N1: GSM225674 | O1: GSM225675 | P1: GSM225676 | Q1: GSM225677 | R1: GSM225678 | S1: GSM225679 | T1: GSM225680 | U1: GSM225681 | V1: GSM225682 | W1: GSM225683 | X1: GSM225684 | Y1: GSM225685 | Z1: GSM225686 | AA1: GSM225687 | AB1: GSM225688 | AC1: GSM225689 | AD1: GSM225690 | AE1: GSM225691 | AF1: GSM225692 | AG1: GSM225693 | AH1: GSM225695 | AI1: GSM225696 | AJ1: GSM225697 | AK1: GSM225698 | AL1: GSM225699 | AM1: GSM225700 | AN1: GSM225701 | AO1: GSM225702 | AP1: GSM225703 | AQ1: GSM225704 | AR1: GSM225705 | AS1: GSM225706 | AT1: GSM225707 | AU1: GSM225708 | AV1: GSM225709 | AW1: GSM225711 | AX1: GSM225713 | AY1: GSM225714 | AZ1: GSM225715 | BA1: GSM225717 | BB1: GSM225718 | BC1: GSM225719 | BD1: GSM225720 | BE1: GSM225721 | BF1: GSM225722 | BG1: GSM225723 | BH1: GSM225724 | BI1: GSM225725 | BJ1: GSM225726 | BK1: GSM225727 | BL1: GSM225728 | BM1: GSM225729 | BN1: GSM225730 | BO1: GSM225731 | BP1: GSM225732 | BQ1: GSM225733 | BR1: GSM225734 | BS1: GSM225735 | BT1: GSM225736 | BU1: GSM225737 | BV1: GSM225739 | BW1: GSM225741 | BX1: GSM225742 | BY1: GSM225743 | BZ1: GSM225744 | CA1: GSM225745 | CB1: GSM225746 | CC1: GSM225747 | CD1: GSM225748 | CE1: GSM225749 | CF1: GSM225751 | CG1: GSM225752 | CH1: GSM225753 | CI1: GSM225754 | CJ1: GSM225755 | CK1: GSM225756 | CL1: GSM225757 | CM1: GSM225758 | CN1: GSM225759 | CO1: GSM225760 | CP1: GSM225761 | CQ1: GSM225762 | CR1: GSM225763 | CS1: GSM225764 | CT1: GSM225915 | CU1: GSM225916 | CV1: GSM225917 | CW1: GSM225918 | CX1: GSM225919 | CY1: GSM225920 | CZ1: GSM225921 | DA1: GSM225922 | DB1: GSM225923 | DC1: GSM225924 | DD1: GSM225925 | DE1: GSM225926 | DF1: GSM225927 | DG1: GSM225928 | DH1: GSM225929 | DI1: GSM225930 | DJ1: GSM225931 | DK1: GSM225932 | DL1: GSM225933 | DM1: GSM225934 | DN1: GSM225935 | DO1: GSM225936 | DP1: GSM225937 | DQ1: GSM225938 | DR1: GSM225939 | DS1: GSM225940 | DT1: GSM225941 | DU1: GSM225942 | DV1: GSM225943 | DW1: GSM225944 | DX1: GSM225945 | DY1: GSM225946 | DZ1: GSM225947 | EA1: GSM225948 | EB1: GSM225949 | EC1: GSM225950 | ED1: GSM225951 | EE1: GSM225952 | EF1: GSM225953 | EG1: GSM225954 | EH1: GSM225955 | EI1: GSM225956 | EJ1: GSM225957 | EK1: GSM225958 | EL1: GSM225959 | EM1: GSM225961 | EN1: GSM225962 | EO1: GSM225963 | EP1: GSM225964 | EQ1: GSM225965 | ER1: GSM226034 | ES1: GSM226035 | ET1: GSM226037 | EU1: GSM226038 | EV1: GSM226039 | EW1: GSM226040 | EX1: GSM226041 | EY1: GSM226042 | EZ1: GSM226044 | FA1: GSM226045 | FB1: GSM226046 | FC1: GSM226047 | FD1: GSM226048 | FE1: GSM226049 | FF1: GSM226050 | FG1: GSM226051 | FH1: GSM226052 | FI1: GSM226053 | FJ1: GSM226055 | FK1: GSM226056 | FL1: GSM226082 | FM1: GSM226145 | FN1: GSM226146 | FO1: GSM226147 | FP1: GSM226148 | FQ1: GSM226149 | FR1: GSM226150 | FS1: GSM226151 | FT1: GSM226154 | FU1: GSM226155 | FV1: GSM226156 | FW1: GSM226157 | FX1: GSM226158 | FY1: GSM226159 | FZ1: GSM226160 | GA1: GSM226162 | GB1: GSM226163 | GC1: GSM226164 | GD1: GSM226165 | GE1: GSM226167 | GF1: GSM226168 | GG1: GSM388217 | GH1: GSM388218 | GI1: GSM388219 | GJ1: GSM388220 | GK1: GSM388221 | GL1: GSM388222 | GM1: GSM388223 | GN1: GSM388224 | GO1: GSM388225 | GP1: GSM388226 | GQ1: GSM388228 | GR1: GSM388229 | GS1: GSM388230 | GT1: GSM388231 | GU1: GSM388232 | GV1: GSM388233 | GW1: GSM388234 | GX1: GSM388235 | GY1: GSM388236 | GZ1: GSM388237 | HA1: GSM388238 | HB1: GSM388239 | HC1: GSM388240 | HD1: GSM388241 | HE1: GSM388242 | HF1: GSM388243 | HG1: GSM388244 | HH1: GSM388245 | HI1: GSM388246 | HJ1: GSM388247 | HK1: GSM388248 | HL1: GSM388249 | HM1: GSM388250 | HN1: GSM388251 | HO1: GSM388252 | HP1: GSM388253 | HQ1: GSM388254 | HR1: GSM388255 | HS1: GSM388256 | HT1: GSM388257 | HU1: GSM388258 | HV1: GSM388259 | HW1: GSM388260 | HX1: GSM388261 | HY1: GSM388262 | HZ1: GSM388263 | IA1: GSM388264 | IB1: GSM388265 | IC1: GSM388266 | ID1: GSM388267 | IE1: GSM388268 | IF1: GSM388269 | IG1: GSM388270 | IH1: GSM388271 | II1: GSM388272 | IJ1: GSM388273 | IK1: GSM388274 | IL1: GSM388275 | IM1: GSM388276 | IN1: GSM388277 | IO1: GSM388278 | IP1: GSM388279 | IQ1: GSM388281 | IR1: GSM388282 | IS1: GSM388284 | IT1: GSM388285 | IU1: GSM388286 | IV1: GSM388287 | IW1: GSM388288 | IX1: GSM388289 | IY1: GSM388290 | IZ1: GSM388291 | JA1: GSM388292 | JB1: GSM388294 | JC1: GSM388295 | JD1: GSM388296 | JE1: GSM388297 | JF1: GSM388298 | JG1: GSM388299 | JH1: GSM388300 | JI1: GSM388301 | JJ1: GSM388302 | JK1: GSM388303 | JL1: GSM388304 | JM1: GSM388305 | JN1: GSM388306 | JO1: GSM388307 | JP1: GSM388308 | JQ1: GSM388309 | JR1: GSM388310 | JS1: GSM388311 | JT1: GSM388312 | JU1: GSM388313 | JV1: GSM388314 | JW1: GSM388315 | JX1: GSM388316 | JY1: GSM388317 | JZ1: GSM388318 | KA1: GSM388319 | KB1: GSM388320 | KC1: GSM388321 | KD1: GSM388322 | KE1: GSM388323 | KF1: GSM388324 | KG1: GSM388325 | KH1: GSM388326 | KI1: GSM388327 | KJ1: GSM388328 | KK1: GSM388329 | KL1: GSM388330 | KM1: GSM388331 | KN1: GSM388332 | KO1: GSM388333 | KP1: GSM388334 | KQ1: GSM388335 | KR1: GSM388336 | KS1: GSM388337 | KT1: GSM388338 | KU1: GSM388339 | KV1: GSM388340 | KW1: GSM388341 | KX1: GSM388342 | KY1: GSM388343 | KZ1: GSM388345 | LA1: GSM388346 | LB1: GSM388347 | LC1: GSM388348 | LD1: GSM388349 | LE1: GSM388350 | LF1: GSM388351 | LG1: GSM388352 | LH1: GSM388353 | LI1: GSM388354 | LJ1: GSM388355 | LK1: GSM388356 | LL1: GSM388357 | LM1: GSM388358 | LN1: GSM388359 | LO1: GSM388360 | LP1: GSM388361 | LQ1: GSM388362 | LR1: GSM388363 | LS1: GSM388364 | LT1: GSM388365 | LU1: GSM388366 | LV1: GSM388367 | LW1: GSM388368 | LX1: GSM388369 | LY1: GSM388370 | LZ1: GSM388371 | MA1: GSM388372 | MB1: GSM388373 | MC1: GSM388374 | MD1: GSM388375 | ME1: GSM388376 | MF1: GSM388377 | MG1: GSM388378 | MH1: GSM388379 | MI1: GSM388380 | MJ1: GSM388381 | MK1: GSM388382 | ML1: GSM388383 | MM1: GSM388384 | MN1: GSM388385 | MO1: GSM388386 | MP1: GSM388387 | MQ1: GSM388388 | MR1: GSM388389 | MS1: GSM388390 | MT1: GSM388391 | MU1: GSM388392 | MV1: GSM388393 | MW1: GSM388394 | MX1: GSM388395 | MY1: GSM388396 | MZ1: GSM388397 | NA1: AVG | NB1: SD
A2: !Sample_source_name_ch1 | B2: neuropathologically normal frozen temporal cortex | C2: neuropathologically normal frozen temporal cortex | D2: neuropathologically normal frozen temporal cortex | E2: neuropathologically normal frozen temporal cortex | F2: neuropathologically normal frozen temporal cortex | G2: neuropathologically normal frozen temporal cortex | H2: neuropathologically normal frozen temporal cortex | I2: neuropathologically normal frozen temporal cortex | J2: neuropathologically normal frozen temporal cortex | K2: neuropathologically normal frozen temporal cortex | L2: neuropathologically normal frozen temporal cortex | M2: neuropathologically normal frozen temporal cortex | N2: neuropathologically normal frozen temporal cortex | O2: neuropathologically normal frozen temporal cortex | P2: neuropathologically normal frozen temporal cortex | Q2: neuropathologically normal frozen temporal cortex | R2: neuropathologically normal frozen temporal cortex | S2: neuropathologically normal frozen temporal cortex | T2: neuropathologically normal frozen temporal cortex | U2: neuropathologically normal frozen temporal cortex | V2: neuropathologically normal frozen temporal cortex | W2: neuropathologically normal frozen frontal cortex | X2: neuropathologically normal frozen frontal cortex | Y2: neuropathologically normal frozen frontal cortex | Z2: neuropathologically normal frozen frontal cortex | AA2: neuropathologically normal frozen temporal cortex | AB2: neuropathologically normal frozen temporal cortex | AC2: neuropathologically normal frozen temporal cortex | AD2: neuropathologically normal frozen temporal cortex | AE2: neuropathologically normal frozen temporal cortex | AF2: neuropathologically normal frozen temporal cortex | AG2: neuropathologically normal frozen temporal cortex | AH2: neuropathologically normal frozen temporal cortex | AI2: neuropathologically normal frozen temporal cortex | AJ2: neuropathologically normal frozen temporal cortex | AK2: neuropathologically normal frozen temporal cortex | AL2: neuropathologically normal frozen temporal cortex | AM2: neuropathologically normal frozen temporal cortex | AN2: neuropathologically normal frozen temporal cortex | AO2: neuropathologically normal frozen temporal cortex | AP2: neuropathologically normal frozen temporal cortex | AQ2: neuropathologically normal frozen temporal cortex | AR2: neuropathologically normal frozen temporal cortex | AS2: neuropathologically normal frozen temporal cortex | AT2: neuropathologically normal frozen temporal cortex | AU2: neuropathologically normal frozen temporal cortex | AV2: neuropathologically normal frozen temporal cortex | AW2: neuropathologically normal frozen temporal cortex | AX2: neuropathologically normal frozen temporal cortex | AY2: neuropathologically normal frozen temporal cortex | AZ2: neuropathologically normal frozen temporal cortex | BA2: neuropathologically normal frozen temporal cortex | BB2: neuropathologically normal frozen temporal cortex | BC2: neuropathologically normal frozen temporal cortex | BD2: neuropathologically normal frozen frontal cortex | BE2: neuropathologically normal frozen frontal cortex | BF2: neuropathologically normal frozen temporal cortex | BG2: neuropathologically normal frozen temporal cortex | BH2: neuropathologically normal frozen temporal cortex | BI2: neuropathologically normal frozen temporal cortex | BJ2: neuropathologically normal frozen temporal cortex | BK2: neuropathologically normal frozen temporal cortex | BL2: neuropathologically normal frozen temporal cortex | BM2: neuropathologically normal frozen temporal cortex | BN2: neuropathologically normal frozen temporal cortex | BO2: neuropathologically normal frozen temporal cortex | BP2: neuropathologically normal frozen temporal cortex | BQ2: neuropathologically normal frozen temporal cortex | BR2: neuropathologically normal frozen temporal cortex | BS2: neuropathologically normal frozen temporal cortex | BT2: neuropathologically normal frozen temporal cortex | BU2: neuropathologically normal frozen temporal cortex | BV2: neuropathologically normal frozen temporal cortex | BW2: neuropathologically normal frozen temporal cortex | BX2: neuropathologically normal frozen temporal cortex | BY2: neuropathologically normal frozen temporal cortex | BZ2: neuropathologically normal frozen temporal cortex | CA2: neuropathologically normal frozen temporal cortex | CB2: neuropathologically normal frozen temporal cortex | CC2: neuropathologically normal frozen temporal cortex | CD2: neuropathologically normal frozen temporal cortex | CE2: neuropathologically normal frozen temporal cortex | CF2: neuropathologically normal frozen temporal cortex | CG2: neuropathologically normal frozen temporal cortex | CH2: neuropathologically normal frozen temporal cortex | CI2: neuropathologically normal frozen temporal cortex | CJ2: neuropathologically normal frozen temporal cortex | CK2: neuropathologically normal frozen temporal cortex | CL2: neuropathologically normal frozen temporal cortex | CM2: neuropathologically normal frozen temporal cortex | CN2: neuropathologically normal frozen temporal cortex | CO2: neuropathologically normal frozen temporal cortex | CP2: neuropathologically normal frozen temporal cortex | CQ2: neuropathologically normal frozen temporal cortex | CR2: neuropathologically normal frozen temporal cortex | CS2: neuropathologically normal frozen temporal cortex | CT2: neuropathologically normal frozen temporal cortex | CU2: neuropathologically normal frozen temporal cortex | CV2: neuropathologically normal frozen temporal cortex | CW2: neuropathologically normal frozen temporal cortex | CX2: neuropathologically normal frozen temporal cortex | CY2: neuropathologically normal frozen temporal cortex | CZ2: neuropathologically normal frozen temporal cortex | DA2: neuropathologically normal frozen temporal cortex | DB2: neuropathologically normal frozen temporal cortex | DC2: neuropathologically normal frozen temporal cortex | DD2: neuropathologically normal frozen temporal cortex | DE2: neuropathologically normal frozen temporal cortex | DF2: neuropathologically normal frozen temporal cortex | DG2: neuropathologically normal frozen temporal cortex | DH2: neuropathologically normal frozen temporal cortex | DI2: neuropathologically normal frozen temporal cortex | DJ2: neuropathologically normal frozen temporal cortex | DK2: neuropathologically normal frozen temporal cortex | DL2: neuropathologically normal frozen temporal cortex | DM2: neuropathologically normal frozen temporal cortex | DN2: neuropathologically normal frozen temporal cortex | DO2: neuropathologically normal frozen temporal cortex | DP2: neuropathologically normal frozen temporal cortex | DQ2: neuropathologically normal frozen temporal cortex | DR2: neuropathologically normal frozen temporal cortex | DS2: neuropathologically normal frozen temporal cortex | DT2: neuropathologically normal frozen frontal cortex | DU2: neuropathologically normal frozen frontal cortex | DV2: neuropathologically normal frozen frontal cortex | DW2: neuropathologically normal frozen frontal cortex | DX2: neuropathologically normal frozen temporal cortex | DY2: neuropathologically normal frozen temporal cortex | DZ2: neuropathologically normal frozen temporal cortex | EA2: neuropathologically normal frozen temporal cortex | EB2: neuropathologically normal frozen frontal cortex | EC2: neuropathologically normal frozen frontal cortex | ED2: neuropathologically normal frozen frontal cortex | EE2: neuropathologically normal frozen frontal cortex | EF2: neuropathologically normal frozen frontal cortex | EG2: neuropathologically normal frozen frontal cortex | EH2: neuropathologically normal frozen frontal cortex | EI2: neuropathologically normal frozen frontal cortex | EJ2: neuropathologically normal frozen frontal cortex | EK2: neuropathologically normal frozen frontal cortex | EL2: neuropathologically normal frozen frontal cortex | EM2: neuropathologically normal frozen frontal cortex | EN2: neuropathologically normal frozen temporal cortex | EO2: neuropathologically normal frozen frontal temporal cortex | EP2: neuropathologically normal frozen frontal temporal cortex | EQ2: neuropathologically normal frozen frontal cortex | ER2: neuropathologically normal frozen frontal cortex | ES2: neuropathologically normal frozen parietal cortex | ET2: neuropathologically normal frozen frontal cortex | EU2: neuropathologically normal frozen frontal temporal cortex | EV2: neuropathologically normal frozen frontal cortex | EW2: neuropathologically normal frozen unknown cortex | EX2: neuropathologically normal frozen unknown cortex | EY2: neuropathologically normal frozen unknown region cortex | EZ2: neuropathologically normal frozen unknown region cortex | FA2: neuropathologically normal frozen unknown region cortex | FB2: neuropathologically normal frozen unknown region cortex | FC2: neuropathologically normal frozen frontal cortex | FD2: neuropathologically normal frozen frontal cortex | FE2: neuropathologically normal frozen frontal cortex | FF2: neuropathologically normal frozen frontal cortex | FG2: neuropathologically normal frozen frontal cortex | FH2: neuropathologically normal frozen frontal cortex | FI2: neuropathologically normal frozen frontal cortex | FJ2: neuropathologically normal frozen frontal cortex | FK2: neuropathologically normal frozen frontal cortex | FL2: neuropathologically normal frozen frontal cortex | FM2: neuropathologically normal frozen frontal cortex | FN2: neuropathologically normal frozen frontal cortex | FO2: neuropathologically normal frozen frontal cortex | FP2: neuropathologically normal frozen frontal cortex | FQ2: neuropathologically normal frozen temporal cortex | FR2: neuropathologically normal frozen temporal cortex | FS2: neuropathologically normal frozen temporal cortex | FT2: neuropathologically normal frozen temporal cortex | FU2: neuropathologically normal frozen temporal cortex | FV2: neuropathologically normal frozen temporal cortex | FW2: neuropathologically normal frozen temporal cortex | FX2: neuropathologically normal frozen temporal cortex | FY2: neuropathologically normal frozen temporal cortex | FZ2: neuropathologically normal frozen temporal cortex | GA2: neuropathologically normal frozen temporal cortex | GB2: neuropathologically normal frozen temporal cortex | GC2: neuropathologically normal frozen temporal cortex | GD2: neuropathologically normal frozen temporal cortex | GE2: neuropathologically normal frozen parietal cortex | GF2: neuropathologically normal frozen parietal cortex | GG2: Alzheimer's Disease frozen cortical tissue | GH2: Alzheimer's Disease frozen cortical tissue | GI2: Alzheimer's Disease frozen cortical tissue | GJ2: Alzheimer's Disease frozen cortical tissue | GK2: Alzheimer's Disease frozen cortical tissue | GL2: Alzheimer's Disease frozen cortical tissue | GM2: Alzheimer's Disease frozen cortical tissue | GN2: Alzheimer's Disease frozen cortical tissue | GO2: Alzheimer's Disease frozen cortical tissue | GP2: Alzheimer's Disease frozen cortical tissue | GQ2: Alzheimer's Disease frozen cortical tissue | GR2: Alzheimer's Disease frozen cortical tissue | GS2: Alzheimer's Disease frozen cortical tissue | GT2: Alzheimer's Disease frozen cortical tissue | GU2: Alzheimer's Disease frozen cortical tissue | GV2: Alzheimer's Disease frozen cortical tissue | GW2: Alzheimer's Disease frozen cortical tissue | GX2: Alzheimer's Disease frozen cortical tissue | GY2: Alzheimer's Disease frozen cortical tissue | GZ2: Alzheimer's Disease frozen cortical tissue | HA2: Alzheimer's Disease frozen cortical tissue | HB2: Alzheimer's Disease frozen cortical tissue | HC2: Alzheimer's Disease frozen cortical tissue | HD2: Alzheimer's Disease frozen cortical tissue | HE2: Alzheimer's Disease frozen cortical tissue | HF2: Alzheimer's Disease frozen cortical tissue | HG2: Alzheimer's Disease frozen cortical tissue | HH2: Alzheimer's Disease frozen cortical tissue | HI2: Alzheimer's Disease frozen cortical tissue | HJ2: Alzheimer's Disease frozen cortical tissue | HK2: Alzheimer's Disease frozen cortical tissue | HL2: Alzheimer's Disease frozen cortical tissue | HM2: Alzheimer's Disease frozen cortical tissue | HN2: Alzheimer's Disease frozen cortical tissue | HO2: Alzheimer's Disease frozen cortical tissue | HP2: Alzheimer's Disease frozen cortical tissue | HQ2: Alzheimer's Disease frozen cortical tissue | HR2: Alzheimer's Disease frozen cortical tissue | HS2: Alzheimer's Disease frozen cortical tissue | HT2: Alzheimer's Disease frozen cortical tissue | HU2: Alzheimer's Disease frozen cortical tissue | HV2: Alzheimer's Disease frozen cortical tissue | HW2: Alzheimer's Disease frozen cortical tissue | HX2: Alzheimer's Disease frozen cortical tissue | HY2: Alzheimer's Disease frozen cortical tissue | HZ2: Alzheimer's Disease frozen cortical tissue | IA2: Alzheimer's Disease frozen cortical tissue | IB2: Alzheimer's Disease frozen cortical tissue | IC2: Alzheimer's Disease frozen cortical tissue | ID2: Alzheimer's Disease frozen cortical tissue | IE2: Alzheimer's Disease frozen cortical tissue | IF2: Alzheimer's Disease frozen cortical tissue | IG2: Alzheimer's Disease frozen cortical tissue | IH2: Alzheimer's Disease frozen cortical tissue | II2: Alzheimer's Disease frozen cortical tissue | IJ2: Alzheimer's Disease frozen cortical tissue | IK2: Alzheimer's Disease frozen cortical tissue | IL2: Alzheimer's Disease frozen cortical tissue | IM2: Alzheimer's Disease frozen cortical tissue | IN2: Alzheimer's Disease frozen cortical tissue | IO2: Alzheimer's Disease frozen cortical tissue | IP2: Alzheimer's Disease frozen cortical tissue | IQ2: Alzheimer's Disease frozen cortical tissue | IR2: Alzheimer's Disease frozen cortical tissue | IS2: Alzheimer's Disease frozen cortical tissue | IT2: Alzheimer's Disease frozen cortical tissue | IU2: Alzheimer's Disease frozen cortical tissue | IV2: Alzheimer's Disease frozen cortical tissue | IW2: Alzheimer's Disease frozen cortical tissue | IX2: Alzheimer's Disease frozen cortical tissue | IY2: Alzheimer's Disease frozen cortical tissue | IZ2: Alzheimer's Disease frozen cortical tissue | JA2: Alzheimer's Disease frozen cortical tissue | JB2: Alzheimer's Disease frozen cortical tissue | JC2: Alzheimer's Disease frozen cortical tissue | JD2: Alzheimer's Disease frozen cortical tissue | JE2: Alzheimer's Disease frozen cortical tissue | JF2: Alzheimer's Disease frozen cortical tissue | JG2: Alzheimer's Disease frozen cortical tissue | JH2: Alzheimer's Disease frozen cortical tissue | JI2: Alzheimer's Disease frozen cortical tissue | JJ2: Alzheimer's Disease frozen cortical tissue | JK2: Alzheimer's Disease frozen cortical tissue | JL2: Alzheimer's Disease frozen cortical tissue | JM2: Alzheimer's Disease frozen cortical tissue | JN2: Alzheimer's Disease frozen cortical tissue | JO2: Alzheimer's Disease frozen cortical tissue | JP2: Alzheimer's Disease frozen cortical tissue | JQ2: Alzheimer's Disease frozen cortical tissue | JR2: Alzheimer's Disease frozen cortical tissue | JS2: Alzheimer's Disease frozen cortical tissue | JT2: Alzheimer's Disease frozen cortical tissue | JU2: Alzheimer's Disease frozen cortical tissue | JV2: Alzheimer's Disease frozen cortical tissue | JW2: Alzheimer's Disease frozen cortical tissue | JX2: Alzheimer's Disease frozen cortical tissue | JY2: Alzheimer's Disease frozen cortical tissue | JZ2: Alzheimer's Disease frozen cortical tissue | KA2: Alzheimer's Disease frozen cortical tissue | KB2: Alzheimer's Disease frozen cortical tissue | KC2: Alzheimer's Disease frozen cortical tissue | KD2: Alzheimer's Disease frozen cortical tissue | KE2: Alzheimer's Disease frozen cortical tissue | KF2: Alzheimer's Disease frozen cortical tissue | KG2: Alzheimer's Disease frozen cortical tissue | KH2: Alzheimer's Disease frozen cortical tissue | KI2: Alzheimer's Disease frozen cortical tissue | KJ2: Alzheimer's Disease frozen cortical tissue | KK2: Alzheimer's Disease frozen cortical tissue | KL2: Alzheimer's Disease frozen cortical tissue | KM2: Alzheimer's Disease frozen cortical tissue | KN2: Alzheimer's Disease frozen cortical tissue | KO2: Alzheimer's Disease frozen cortical tissue | KP2: Alzheimer's Disease frozen cortical tissue | KQ2: Alzheimer's Disease frozen cortical tissue | KR2: Alzheimer's Disease frozen cortical tissue | KS2: Alzheimer's Disease frozen cortical tissue | KT2: Alzheimer's Disease frozen cortical tissue | KU2: Alzheimer's Disease frozen cortical tissue | KV2: Alzheimer's Disease frozen cortical tissue | KW2: Alzheimer's Disease frozen cortical tissue | KX2: Alzheimer's Disease frozen cortical tissue | KY2: Alzheimer's Disease frozen cortical tissue | KZ2: Alzheimer's Disease frozen cortical tissue | LA2: Alzheimer's Disease frozen cortical tissue | LB2: Alzheimer's Disease frozen cortical tissue | LC2: Alzheimer's Disease frozen cortical tissue | LD2: Alzheimer's Disease frozen cortical tissue | LE2: Alzheimer's Disease frozen cortical tissue | LF2: Alzheimer's Disease frozen cortical tissue | LG2: Alzheimer's Disease frozen cortical tissue | LH2: Alzheimer's Disease frozen cortical tissue | LI2: Alzheimer's Disease frozen cortical tissue | LJ2: Alzheimer's Disease frozen cortical tissue | LK2: Alzheimer's Disease frozen cortical tissue | LL2: Alzheimer's Disease frozen cortical tissue | LM2: Alzheimer's Disease frozen cortical tissue | LN2: Alzheimer's Disease frozen cortical tissue | LO2: Alzheimer's Disease frozen cortical tissue | LP2: Alzheimer's Disease frozen cortical tissue | LQ2: Alzheimer's Disease frozen cortical tissue | LR2: Alzheimer's Disease frozen cortical tissue | LS2: Alzheimer's Disease frozen cortical tissue | LT2: Alzheimer's Disease frozen cortical tissue | LU2: Alzheimer's Disease frozen cortical tissue | LV2: Alzheimer's Disease frozen cortical tissue | LW2: Alzheimer's Disease frozen cortical tissue | LX2: Alzheimer's Disease frozen cortical tissue | LY2: Alzheimer's Disease frozen cortical tissue | LZ2: Alzheimer's Disease frozen cortical tissue | MA2: Alzheimer's Disease frozen cortical tissue | MB2: Alzheimer's Disease frozen cortical tissue | MC2: Alzheimer's Disease frozen cortical tissue | MD2: Alzheimer's Disease frozen cortical tissue | ME2: Alzheimer's Disease frozen cortical tissue | MF2: Alzheimer's Disease frozen cortical tissue | MG2: Alzheimer's Disease frozen cortical tissue | MH2: Alzheimer's Disease frozen cortical tissue | MI2: Alzheimer's Disease frozen cortical tissue | MJ2: Alzheimer's Disease frozen cortical tissue | MK2: Alzheimer's Disease frozen cortical tissue | ML2: Alzheimer's Disease frozen cortical tissue | MM2: Alzheimer's Disease frozen cortical tissue | MN2: Alzheimer's Disease frozen cortical tissue | MO2: Alzheimer's Disease frozen cortical tissue | MP2: Alzheimer's Disease frozen cortical tissue | MQ2: Alzheimer's Disease frozen cortical tissue | MR2: Alzheimer's Disease frozen cortical tissue | MS2: Alzheimer's Disease frozen cortical tissue | MT2: Alzheimer's Disease frozen cortical tissue | MU2: Alzheimer's Disease frozen cortical tissue | MV2: Alzheimer's Disease frozen cortical tissue | MW2: Alzheimer's Disease frozen cortical tissue | MX2: Alzheimer's Disease frozen cortical tissue | MY2: Alzheimer's Disease frozen cortical tissue | MZ2: Alzheimer's Disease frozen cortical tissue
A3: Alzheimer | B3: Normal | C3: Normal | D3: Normal | E3: Normal | F3: Normal | G3: Normal | H3: Normal | I3: Normal | J3: Normal | K3: Normal | L3: Normal | M3: Normal | N3: Normal | O3: Normal | P3: Normal | Q3: Normal | R3: Normal | S3: Normal | T3: Normal | U3: Normal | V3: Normal | W3: Normal | X3: Normal | Y3: Normal | Z3: Normal | AA3: Normal | AB3: Normal | AC3: Normal | AD3: Normal | AE3: Normal | AF3: Normal | AG3: Normal | AH3: Normal | AI3: Normal | AJ3: Normal | AK3: Normal | AL3: Normal | AM3: Normal | AN3: Normal | AO3: Normal | AP3: Normal | AQ3: Normal | AR3: Normal | AS3: Normal | AT3: Normal | AU3: Normal | AV3: Normal | AW3: Normal | AX3: Normal | AY3: Normal | AZ3: Normal | BA3: Normal | BB3: Normal | BC3: Normal | BD3: Normal | BE3: Normal | BF3: Normal | BG3: Normal | BH3: Normal | BI3: Normal | BJ3: Normal | BK3: Normal | BL3: Normal | BM3: Normal | BN3: Normal | BO3: Normal | BP3: Normal | BQ3: Normal | BR3: Normal | BS3: Normal | BT3: Normal | BU3: Normal | BV3: Normal | BW3: Normal | BX3: Normal | BY3: Normal | BZ3: Normal | CA3: Normal | CB3: Normal | CC3: Normal | CD3: Normal | CE3: Normal | CF3: Normal | CG3: Normal | CH3: Normal | CI3: Normal | CJ3: Normal | CK3: Normal | CL3: Normal | CM3: Normal | CN3: Normal | CO3: Normal | CP3: Normal | CQ3: Normal | CR3: Normal | CS3: Normal | CT3: Normal | CU3: Normal | CV3: Normal | CW3: Normal | CX3: Normal | CY3: Normal | CZ3: Normal | DA3: Normal | DB3: Normal | DC3: Normal | DD3: Normal | DE3: Normal | DF3: Normal | DG3: Normal | DH3: Normal | DI3: Normal | DJ3: Normal | DK3: Normal | DL3: Normal | DM3: Normal | DN3: Normal | DO3: Normal | DP3: Normal | DQ3: Normal | DR3: Normal | DS3: Normal | DT3: Normal | DU3: Normal | DV3: Alzheimer | DW3: Normal | DX3: Normal | DY3: Normal | DZ3: Normal | EA3: Normal | EB3: Normal | EC3: Normal | ED3: Normal | EE3: Normal | EF3: Normal | EG3: Normal | EH3: Normal | EI3: Normal | EJ3: Normal | EK3: Normal | EL3: Normal | EM3: Normal | EN3: Normal | EO3: Normal | EP3: Normal | EQ3: Normal | ER3: Normal | ES3: Normal | ET3: Normal | EU3: Normal | EV3: Normal | EW3: Normal | EX3: Normal | EY3: Normal | EZ3: Normal | FA3: Normal | FB3: Normal | FC3: Normal | FD3: Normal | FE3: Normal | FF3: Normal | FG3: Normal | FH3: Normal | FI3: Normal | FJ3: Normal | FK3: Normal | FL3: Normal | FM3: Normal | FN3: Normal | FO3: Normal | FP3: Normal | FQ3: Normal | FR3: Normal | FS3: Normal | FT3: Normal | FU3: Normal | FV3: Normal | FW3: Normal | FX3: Normal | FY3: Normal | FZ3: Normal | GA3: Normal | GB3: Normal | GC3: Normal | GD3: Normal | GE3: Normal | GF3: Normal | GG3: Alzheimer | GH3: Alzheimer | GI3: Alzheimer | GJ3: Alzheimer | GK3: Alzheimer | GL3: Alzheimer | GM3: Alzheimer | GN3: Alzheimer | GO3: Alzheimer | GP3: Alzheimer | GQ3: Alzheimer | GR3: Alzheimer | GS3: Alzheimer | GT3: Alzheimer | GU3: Alzheimer | GV3: Alzheimer | GW3: Alzheimer | GX3: Alzheimer | GY3: Alzheimer | GZ3: Alzheimer | HA3: Alzheimer | HB3: Alzheimer | HC3: Alzheimer | HD3: Alzheimer | HE3: Alzheimer | HF3: Alzheimer | HG3: Alzheimer | HH3: Alzheimer | HI3: Alzheimer | HJ3: Alzheimer | HK3: Alzheimer | HL3: Alzheimer | HM3: Alzheimer | HN3: Alzheimer | HO3: Alzheimer | HP3: Alzheimer | HQ3: Alzheimer | HR3: Alzheimer | HS3: Alzheimer | HT3: Alzheimer | HU3: Alzheimer | HV3: Alzheimer | HW3: Alzheimer | HX3: Alzheimer | HY3: Alzheimer | HZ3: Alzheimer | IA3: Alzheimer | IB3: Alzheimer | IC3: Alzheimer | ID3: Alzheimer | IE3: Alzheimer | IF3: Alzheimer | IG3: Alzheimer | IH3: Alzheimer | II3: Alzheimer | IJ3: Alzheimer | IK3: Alzheimer | IL3: Alzheimer | IM3: Alzheimer | IN3: Alzheimer | IO3: Alzheimer | IP3: Alzheimer | IQ3: Alzheimer | IR3: Alzheimer | IS3: Alzheimer | IT3: Alzheimer | IU3: Alzheimer | IV3: Alzheimer | IW3: Alzheimer | IX3: Alzheimer | IY3: Alzheimer | IZ3: Alzheimer | JA3: Alzheimer | JB3: Alzheimer | JC3: Alzheimer | JD3: Alzheimer | JE3: Alzheimer | JF3: Alzheimer | JG3: Alzheimer | JH3: Alzheimer | JI3: Alzheimer | JJ3: Alzheimer | JK3: Alzheimer | JL3: Alzheimer | JM3: Alzheimer | JN3: Alzheimer | JO3: Alzheimer | JP3: Alzheimer | JQ3: Alzheimer | JR3: Alzheimer | JS3: Alzheimer | JT3: Alzheimer | JU3: Alzheimer | JV3: Alzheimer | JW3: Alzheimer | JX3: Alzheimer | JY3: Alzheimer | JZ3: Alzheimer | KA3: Alzheimer | KB3: Alzheimer | KC3: Alzheimer | KD3: Alzheimer | KE3: Alzheimer | KF3: Alzheimer | KG3: Alzheimer | KH3: Alzheimer | KI3: Alzheimer | KJ3: Alzheimer | KK3: Alzheimer | KL3: Alzheimer | KM3: Alzheimer | KN3: Alzheimer | KO3: Alzheimer | KP3: Alzheimer | KQ3: Alzheimer | KR3: Alzheimer | KS3: Alzheimer | KT3: Alzheimer | KU3: Alzheimer | KV3: Alzheimer | KW3: Alzheimer | KX3: Alzheimer | KY3: Alzheimer | KZ3: Alzheimer | LA3: Alzheimer | LB3: Alzheimer | LC3: Alzheimer | LD3: Alzheimer | LE3: Alzheimer | LF3: Alzheimer | LG3: Alzheimer | LH3: Alzheimer | LI3: Alzheimer | LJ3: Alzheimer | LK3: Alzheimer | LL3: Alzheimer | LM3: Alzheimer | LN3: Alzheimer | LO3: Alzheimer | LP3: Alzheimer | LQ3: Alzheimer | LR3: Alzheimer | LS3: Alzheimer | LT3: Alzheimer | LU3: Alzheimer | LV3: Alzheimer | LW3: Alzheimer | LX3: Alzheimer | LY3: Alzheimer | LZ3: Alzheimer | MA3: Alzheimer | MB3: Alzheimer | MC3: Alzheimer | MD3: Alzheimer | ME3: Alzheimer | MF3: Alzheimer | MG3: Alzheimer | MH3: Alzheimer | MI3: Alzheimer | MJ3: Alzheimer | MK3: Alzheimer | ML3: Alzheimer | MM3: Alzheimer | MN3: Alzheimer | MO3: Alzheimer | MP3: Alzheimer | MQ3: Alzheimer | MR3: Alzheimer | MS3: Alzheimer | MT3: Alzheimer | MU3: Alzheimer | MV3: Alzheimer | MW3: Alzheimer | MX3: Alzheimer | MY3: Alzheimer | MZ3: Alzheimer
A4: Sex | B4: male | C4: male | D4: male | E4: female | F4: female | G4: male | H4: male | I4: male | J4: male | K4: male | L4: female | M4: male | N4: male | O4: female | P4: male | Q4: male | R4: male | S4: female | T4: female | U4: male | V4: male | W4: male | X4: female | Y4: female | Z4: male | AA4: male | AB4: male | AC4: female | AD4: male | AE4: male | AF4: female | AG4: female | AH4: male | AI4: male | AJ4: male | AK4: male | AL4: male | AM4: female | AN4: male | AO4: female | AP4: female | AQ4: female | AR4: female | AS4: female | AT4: female | AU4: female | AV4: female | AW4: male | AX4: female | AY4: male | AZ4: male | BA4: male | BB4: female | BC4: male | BD4: male | BE4: male | BF4: female | BG4: female | BH4: male | BI4: male | BJ4: male | BK4: female | BL4: female | BM4: male | BN4: male | BO4: female | BP4: female | BQ4: male | BR4: male | BS4: female | BT4: female | BU4: female | BV4: male | BW4: male | BX4: female | BY4: female | BZ4: female | CA4: female | CB4: female | CC4: female | CD4: male | CE4: male | CF4: female | CG4: female | CH4: male | CI4: male | CJ4: female | CK4: male | CL4: male | CM4: female | CN4: male | CO4: male | CP4: female | CQ4: male | CR4: female | CS4: male | CT4: female | CU4: male | CV4: female | CW4: female | CX4: male | CY4: male | CZ4: male | DA4: male | DB4: male | DC4: male | DD4: male | DE4: female | DF4: female | DG4: male | DH4: male | DI4: female | DJ4: male | DK4: male | DL4: female | DM4: male | DN4: female | DO4: female | DP4: male | DQ4: male | DR4: female | DS4: female | DT4: male | DU4: male | DV4: female | DW4: male | DX4: female | DY4: male | DZ4: female | EA4: male | EB4: female | EC4: female | ED4: male | EE4: male | EF4: female | EG4: female | EH4: female | EI4: male | EJ4: female | EK4: female | EL4: male | EM4: female | EN4: female | EO4: male | EP4: female | EQ4: female | ER4: male | ES4: male | ET4: male | EU4: male | EV4: male | EW4: female | EX4: female | EY4: female | EZ4: female | FA4: female | FB4: female | FC4: male | FD4: male | FE4: male | FF4: male | FG4: female | FH4: female | FI4: male | FJ4: male | FK4: male | FL4: male | FM4: male | FN4: female | FO4: female | FP4: female | FQ4: female | FR4: male | FS4: male | FT4: male | FU4: male | FV4: male | FW4: female | FX4: male | FY4: female | FZ4: male | GA4: male | GB4: female | GC4: male | GD4: female | GE4: female | GF4: male | GG4: Female | GH4: Female | GI4: male | GJ4: Female | GK4: Female | GL4: Female | GM4: male | GN4: Female | GO4: male | GP4: male | GQ4: Female | GR4: male | GS4: Female | GT4: Female | GU4: Female | GV4: male | GW4: male | GX4: male | GY4: male | GZ4: male | HA4: Female | HB4: Female | HC4: male | HD4: Female | HE4: male | HF4: Female | HG4: Female | HH4: male | HI4: male | HJ4: Female | HK4: Female | HL4: Female | HM4: Female | HN4: male | HO4: Female | HP4: Female | HQ4: male | HR4: Female | HS4: Female | HT4: Female | HU4: male | HV4: male | HW4: male | HX4: Female | HY4: male | HZ4: male | IA4: male | IB4: male | IC4: Female | ID4: Female | IE4: male | IF4: Female | IG4: Female | IH4: male | II4: Female | IJ4: male | IK4: Female | IL4: Female | IM4: Female | IN4: Female | IO4: Female | IP4: Female | IQ4: Female | IR4: male | IS4: male | IT4: male | IU4: male | IV4: male | IW4: male | IX4: male | IY4: Female | IZ4: Female | JA4: Female | JB4: male | JC4: male | JD4: male | JE4: Female | JF4: male | JG4: male | JH4: Female | JI4: Female | JJ4: male | JK4: Female | JL4: Female | JM4: male | JN4: male | JO4: male | JP4: Female | JQ4: male | JR4: Female | JS4: male | JT4: male | JU4: male | JV4: Female | JW4: Female | JX4: male | JY4: Female | JZ4: Female | KA4: male | KB4: male | KC4: Female | KD4: Female | KE4: Female | KF4: male | KG4: male | KH4: Female | KI4: Female | KJ4: male | KK4: male | KL4: male | KM4: male | KN4: male | KO4: Female | KP4: male | KQ4: male | KR4: Female | KS4: male | KT4: Female | KU4: Female | KV4: Female | KW4: male | KX4: male | KY4: male | KZ4: Female | LA4: Female | LB4: male | LC4: male | LD4: Female | LE4: Female | LF4: Female | LG4: male | LH4: Female | LI4: Female | LJ4: Female | LK4: male | LL4: male | LM4: Female | LN4: male | LO4: Female | LP4: male | LQ4: Female | LR4: male | LS4: Female | LT4: Female | LU4: male | LV4: Female | LW4: Female | LX4: male | LY4: male | LZ4: Female | MA4: Female | MB4: male | MC4: Female | MD4: Female | ME4: male | MF4: Female | MG4: male | MH4: male | MI4: male | MJ4: male | MK4: male | ML4: Female | MM4: Female | MN4: male | MO4: Female | MP4: male | MQ4: male | MR4: male | MS4: Female | MT4: Female | MU4: Female | MV4: male | MW4: male | MX4: Female | MY4: male | MZ4: male
A5: Age | B5: 85 | C5: 85 | D5: 79 | E5: 85 | F5: 73 | G5: 81 | H5: 79 | I5: 77 | J5: 69 | K5: 86 | L5: 83 | M5: 78 | N5: 94 | O5: 81 | P5: 76 | Q5: 83 | R5: 68 | S5: 82 | T5: 70 | U5: 86 | V5: 78 | W5: 82 | X5: 94 | Y5: 87 | Z5: 74 | AA5: 85 | AB5: 75 | AC5: 86 | AD5: 75 | AE5: 81 | AF5: 72 | AG5: 81 | AH5: 81 | AI5: 81 | AJ5: 91 | AK5: 84 | AL5: 96 | AM5: 97 | AN5: 90 | AO5: 67 | AP5: 83 | AQ5: 82 | AR5: 66 | AS5: 72 | AT5: 65 | AU5: 75 | AV5: 74 | AW5: 68 | AX5: 80 | AY5: 80 | AZ5: 66 | BA5: 88 | BB5: 91 | BC5: 73 | BD5: 76 | BE5: 75 | BF5: 86 | BG5: 72 | BH5: 97 | BI5: 86 | BJ5: 82 | BK5: 95 | BL5: 76 | BM5: 76 | BN5: 69 | BO5: 80 | BP5: 99 | BQ5: 68 | BR5: 70 | BS5: 87 | BT5: 99 | BU5: 88 | BV5: 65 | BW5: 82 | BX5: 78 | BY5: 85 | BZ5: 100 | CA5: 87 | CB5: 85 | CC5: 97 | CD5: 65 | CE5: 65 | CF5: 87 | CG5: 85 | CH5: 68 | CI5: 71 | CJ5: 83 | CK5: 76 | CL5: 67 | CM5: 100 | CN5: 79 | CO5: 74 | CP5: 88 | CQ5: 70 | CR5: 97 | CS5: 69 | CT5: 99 | CU5: 81 | CV5: 85 | CW5: 82 | CX5: 70 | CY5: 73 | CZ5: 83 | DA5: 74 | DB5: 77 | DC5: 81 | DD5: 65 | DE5: 73 | DF5: 85 | DG5: 69 | DH5: 72 | DI5: 76 | DJ5: 73 | DK5: 66 | DL5: 85 | DM5: 87 | DN5: 86 | DO5: 73 | DP5: 86 | DQ5: 72 | DR5: 69 | DS5: 88 | DT5: 77 | DU5: 96 | DV5: 78 | DW5: 77 | DX5: 99 | DY5: 78 | DZ5: 76 | EA5: 78 | EB5: 97 | EC5: 86 | ED5: 77 | EE5: 87 | EF5: 72 | EG5: 91 | EH5: 85 | EI5: 88 | EJ5: 86 | EK5: 93 | EL5: 82 | EM5: 72 | EN5: 85 | EO5: 70 | EP5: 67 | EQ5: 74 | ER5: 69 | ES5: 85 | ET5: 89 | EU5: 86 | EV5: 90 | EW5: 94 | EX5: 91 | EY5: 91 | EZ5: 95 | FA5: 95 | FB5: 91 | FC5: 80 | FD5: 83 | FE5: 67 | FF5: 76 | FG5: 86 | FH5: 86 | FI5: 83 | FJ5: 84 | FK5: 80 | FL5: 72 | FM5: 67 | FN5: 96 | FO5: 75 | FP5: 89 | FQ5: 86 | FR5: 67 | FS5: 77 | FT5: 65 | FU5: 69 | FV5: 84 | FW5: 85 | FX5: 94 | FY5: 89 | FZ5: 87 | GA5: 90 | GB5: 88 | GC5: 94 | GD5: 86 | GE5: 93 | GF5: 91 | GG5: 97 | GH5: 101.1 | GI5: 84 | GJ5: 95.3 | GK5: 97.6 | GL5: 102.3 | GM5: 87 | GN5: 77 | GO5: 87 | GP5: 84 | GQ5: 92.5 | GR5: 93 | GS5: 93.9 | GT5: 87 | GU5: 90 | GV5: 75 | GW5: 92 | GX5: 83.6 | GY5: 88.9 | GZ5: 89 | HA5: 74.8 | HB5: 79.6 | HC5: 80.6 | HD5: 97.3 | HE5: 87 | HF5: 89.7 | HG5: 90.1 | HH5: 90.7 | HI5: 78 | HJ5: 80 | HK5: 79 | HL5: 87 | HM5: 88 | HN5: 86 | HO5: 74 | HP5: 72 | HQ5: 81 | HR5: 68 | HS5: 81 | HT5: 82 | HU5: 78 | HV5: 74 | HW5: 88 | HX5: 78 | HY5: 83 | HZ5: 83 | IA5: 80 | IB5: 84 | IC5: 79 | ID5: 86 | IE5: 92 | IF5: 81 | IG5: 79 | IH5: 74 | II5: 73 | IJ5: 87 | IK5: 86 | IL5: 86 | IM5: 87 | IN5: 92 | IO5: 78 | IP5: 94 | IQ5: 94 | IR5: 76 | IS5: 91 | IT5: 86 | IU5: 77 | IV5: 82 | IW5: 78 | IX5: 79 | IY5: 84 | IZ5: 87 | JA5: 86 | JB5: 83.7 | JC5: 83 | JD5: 81 | JE5: 93 | JF5: 71 | JG5: 78 | JH5: 75 | JI5: 84 | JJ5: 73 | JK5: 89 | JL5: NA | JM5: 69 | JN5: 83 | JO5: 71 | JP5: 86 | JQ5: 82 | JR5: NA | JS5: 88 | JT5: 77 | JU5: 85 | JV5: 81 | JW5: 86 | JX5: 89 | JY5: 73 | JZ5: 96 | KA5: 73 | KB5: 81 | KC5: 84 | KD5: 93 | KE5: 82 | KF5: 76 | KG5: 77 | KH5: 86 | KI5: 85 | KJ5: 83 | KK5: 76 | KL5: 81 | KM5: 79 | KN5: 81 | KO5: 78 | KP5: 80 | KQ5: 84 | KR5: 85 | KS5: 75 | KT5: 80 | KU5: 97 | KV5: 82 | KW5: 82 | KX5: 77 | KY5: 81 | KZ5: 96 | LA5: 90 | LB5: 86 | LC5: 88 | LD5: 90 | LE5: 90 | LF5: 84 | LG5: 84 | LH5: 91 | LI5: 81 | LJ5: 84 | LK5: 80 | LL5: 81 | LM5: 87 | LN5: 85 | LO5: 90 | LP5: 79 | LQ5: 87 | LR5: 75 | LS5: 92 | LT5: 84 | LU5: 75 | LV5: 76 | LW5: 86 | LX5: 82 | LY5: 76 | LZ5: 81 | MA5: 80 | MB5: 83 | MC5: 83 | MD5: 84 | ME5: 93 | MF5: 92 | MG5: 78 | MH5: 90 | MI5: 83 | MJ5: 79 | MK5: 84 | ML5: 90 | MM5: 88 | MN5: 77 | MO5: 80 | MP5: 87 | MQ5: 86 | MR5: 74.8 | MS5: 86 | MT5: 81.9 | MU5: 73.1 | MV5: 83 | MW5: 86.4 | MX5: 86.5 | MY5: 78 | MZ5: 83
A6: Region | B6: temporal cortex | C6: temporal cortex | D6: temporal cortex | E6: temporal cortex | F6: temporal cortex | G6: temporal cortex | H6: temporal cortex | I6: temporal cortex | J6: temporal cortex | K6: temporal cortex | L6: temporal cortex | M6: temporal cortex | N6: temporal cortex | O6: temporal cortex | P6: temporal cortex | Q6: temporal cortex | R6: temporal cortex | S6: temporal cortex | T6: temporal cortex | U6: temporal cortex | V6: temporal cortex | W6: frontal cortex | X6: frontal cortex | Y6: frontal cortex | Z6: frontal cortex | AA6: temporal cortex | AB6: temporal cortex | AC6: temporal cortex | AD6: temporal cortex | AE6: temporal cortex | AF6: temporal cortex | AG6: temporal cortex | AH6: temporal cortex | AI6: temporal cortex | AJ6: temporal cortex | AK6: temporal cortex | AL6: temporal cortex | AM6: temporal cortex | AN6: temporal cortex | AO6: temporal cortex | AP6: temporal cortex | AQ6: temporal cortex | AR6: temporal cortex | AS6: temporal cortex | AT6: temporal cortex | AU6: temporal cortex | AV6: temporal cortex | AW6: temporal cortex | AX6: temporal cortex | AY6: temporal cortex | AZ6: temporal cortex | BA6: temporal cortex | BB6: temporal cortex | BC6: temporal cortex | BD6: frontal cortex | BE6: frontal cortex | BF6: temporal cortex | BG6: temporal cortex | BH6: temporal cortex | BI6: temporal cortex | BJ6: temporal cortex | BK6: temporal cortex | BL6: temporal cortex | BM6: temporal cortex | BN6: temporal cortex | BO6: temporal cortex | BP6: temporal cortex | BQ6: temporal cortex | BR6: temporal cortex | BS6: temporal cortex | BT6: temporal cortex | BU6: temporal cortex | BV6: temporal cortex | BW6: temporal cortex | BX6: temporal cortex | BY6: temporal cortex | BZ6: temporal cortex | CA6: temporal cortex | CB6: temporal cortex | CC6: temporal cortex | CD6: temporal cortex | CE6: temporal cortex | CF6: temporal cortex | CG6: temporal cortex | CH6: temporal cortex | CI6: temporal cortex | CJ6: temporal cortex | CK6: temporal cortex | CL6: temporal cortex | CM6: temporal cortex | CN6: temporal cortex | CO6: temporal cortex | CP6: temporal cortex | CQ6: temporal cortex | CR6: temporal cortex | CS6: temporal cortex | CT6: temporal cortex | CU6: temporal cortex | CV6: temporal cortex | CW6: temporal cortex | CX6: temporal cortex | CY6: temporal cortex | CZ6: temporal cortex | DA6: temporal cortex | DB6: temporal cortex | DC6: temporal cortex | DD6: temporal cortex | DE6: temporal cortex | DF6: temporal cortex | DG6: temporal cortex | DH6: temporal cortex | DI6: temporal cortex | DJ6: temporal cortex | DK6: temporal cortex | DL6: temporal cortex | DM6: temporal cortex | DN6: temporal cortex | DO6: temporal cortex | DP6: temporal cortex | DQ6: temporal cortex | DR6: temporal cortex | DS6: temporal cortex | DT6: frontal cortex | DU6: frontal cortex | DV6: frontal cortex | DW6: frontal cortex | DX6: temporal cortex | DY6: temporal cortex | DZ6: temporal cortex | EA6: temporal cortex | EB6: frontal cortex | EC6: frontal cortex | ED6: frontal cortex | EE6: frontal cortex | EF6: frontal cortex | EG6: frontal cortex | EH6: frontal cortex | EI6: frontal cortex | EJ6: frontal cortex | EK6: frontal cortex | EL6: frontal cortex | EM6: frontal cortex | EN6: temporal cortex | EO6: frontal temporal cortex | EP6: frontal temporal cortex | EQ6: frontal cortex | ER6: frontal cortex | ES6: parietal cortex | ET6: frontal cortex | EU6: frontal temporal cortex | EV6: frontal cortex | EW6: unknown cortex | EX6: unknown cortex | EY6: unknown region cortex | EZ6: unknown region cortex | FA6: unknown region cortex | FB6: unknown region cortex | FC6: frontal cortex | FD6: frontal cortex | FE6: frontal cortex | FF6: frontal cortex | FG6: frontal cortex | FH6: frontal cortex | FI6: frontal cortex | FJ6: frontal cortex | FK6: frontal cortex | FL6: frontal cortex | FM6: frontal cortex | FN6: frontal cortex | FO6: frontal cortex | FP6: frontal cortex | FQ6: temporal cortex | FR6: temporal cortex | FS6: temporal cortex | FT6: temporal cortex | FU6: temporal cortex | FV6: temporal cortex | FW6: temporal cortex | FX6: temporal cortex | FY6: temporal cortex | FZ6: temporal cortex | GA6: temporal cortex | GB6: temporal cortex | GC6: temporal cortex | GD6: temporal cortex | GE6: parietal cortex | GF6: parietal cortex | GG6: cortical tissue | GH6: cortical tissue | GI6: cortical tissue | GJ6: cortical tissue | GK6: cortical tissue | GL6: cortical tissue | GM6: cortical tissue | GN6: cortical tissue | GO6: cortical tissue | GP6: cortical tissue | GQ6: cortical tissue | GR6: cortical tissue | GS6: cortical tissue | GT6: cortical tissue | GU6: cortical tissue | GV6: cortical tissue | GW6: cortical tissue | GX6: cortical tissue | GY6: cortical tissue | GZ6: cortical tissue | HA6: cortical tissue | HB6: cortical tissue | HC6: cortical tissue | HD6: cortical tissue | HE6: cortical tissue | HF6: cortical tissue | HG6: cortical tissue | HH6: cortical tissue | HI6: cortical tissue | HJ6: cortical tissue | HK6: cortical tissue | HL6: cortical tissue | HM6: cortical tissue | HN6: cortical tissue | HO6: cortical tissue | HP6: cortical tissue | HQ6: cortical tissue | HR6: cortical tissue | HS6: cortical tissue | HT6: cortical tissue | HU6: cortical tissue | HV6: cortical tissue | HW6: cortical tissue | HX6: cortical tissue | HY6: cortical tissue | HZ6: cortical tissue | IA6: cortical tissue | IB6: cortical tissue | IC6: cortical tissue | ID6: cortical tissue | IE6: cortical tissue | IF6: cortical tissue | IG6: cortical tissue | IH6: cortical tissue | II6: cortical tissue | IJ6: cortical tissue | IK6: cortical tissue | IL6: cortical tissue | IM6: cortical tissue | IN6: cortical tissue | IO6: cortical tissue | IP6: cortical tissue | IQ6: cortical tissue | IR6: cortical tissue | IS6: cortical tissue | IT6: cortical tissue | IU6: cortical tissue | IV6: cortical tissue | IW6: cortical tissue | IX6: cortical tissue | IY6: cortical tissue | IZ6: cortical tissue | JA6: cortical tissue | JB6: cortical tissue | JC6: cortical tissue | JD6: cortical tissue | JE6: cortical tissue | JF6: cortical tissue | JG6: cortical tissue | JH6: cortical tissue | JI6: cortical tissue | JJ6: cortical tissue | JK6: cortical tissue | JL6: cortical tissue | JM6: cortical tissue | JN6: cortical tissue | JO6: cortical tissue | JP6: cortical tissue | JQ6: cortical tissue | JR6: cortical tissue | JS6: cortical tissue | JT6: cortical tissue | JU6: cortical tissue | JV6: cortical tissue | JW6: cortical tissue | JX6: cortical tissue | JY6: cortical tissue | JZ6: cortical tissue | KA6: cortical tissue | KB6: cortical tissue | KC6: cortical tissue | KD6: cortical tissue | KE6: cortical tissue | KF6: cortical tissue | KG6: cortical tissue | KH6: cortical tissue | KI6: cortical tissue | KJ6: cortical tissue | KK6: cortical tissue | KL6: cortical tissue | KM6: cortical tissue | KN6: cortical tissue | KO6: cortical tissue | KP6: cortical tissue | KQ6: cortical tissue | KR6: cortical tissue | KS6: cortical tissue | KT6: cortical tissue | KU6: cortical tissue | KV6: cortical tissue | KW6: cortical tissue | KX6: cortical tissue | KY6: cortical tissue | KZ6: cortical tissue | LA6: cortical tissue | LB6: cortical tissue | LC6: cortical tissue | LD6: cortical tissue | LE6: cortical tissue | LF6: cortical tissue | LG6: cortical tissue | LH6: cortical tissue | LI6: cortical tissue | LJ6: cortical tissue | LK6: cortical tissue | LL6: cortical tissue | LM6: cortical tissue | LN6: cortical tissue | LO6: cortical tissue | LP6: cortical tissue | LQ6: cortical tissue | LR6: cortical tissue | LS6: cortical tissue | LT6: cortical tissue | LU6: cortical tissue | LV6: cortical tissue | LW6: cortical tissue | LX6: cortical tissue | LY6: cortical tissue | LZ6: cortical tissue | MA6: cortical tissue | MB6: cortical tissue | MC6: cortical tissue | MD6: cortical tissue | ME6: cortical tissue | MF6: cortical tissue | MG6: cortical tissue | MH6: cortical tissue | MI6: cortical tissue | MJ6: cortical tissue | MK6: cortical tissue | ML6: cortical tissue | MM6: cortical tissue | MN6: cortical tissue | MO6: cortical tissue | MP6: cortical tissue | MQ6: cortical tissue | MR6: cortical tissue | MS6: cortical tissue | MT6: cortical tissue | MU6: cortical tissue | MV6: cortical tissue | MW6: cortical tissue | MX6: cortical tissue | MY6: cortical tissue | MZ6: cortical tissue
A7: PSEN1 | B7: 9.9 | C7: 26.3 | D7: 6.8 | E7: 18.8 | F7: 4.9 | G7: 9.2 | H7: 4.2 | I7: 2.3 | J7: 8.5 | K7: 12 | L7: 25.1 | M7: 16.3 | N7: 9.8 | O7: 1.3 | P7: 10 | Q7: 12.1 | R7: 13.6 | S7: 1 | T7: 15 | U7: 9.5 | V7: 14.3 | W7: 17 | X7: 7 | Y7: 0.8 | Z7: 8.8 | AA7: 18.5 | AB7: 15.5 | AC7: 2.8 | AD7: 10 | AE7: 6.3 | AF7: 22.3 | AG7: 9.9 | AH7: 8.2 | AI7: 28.8 | AJ7: 9.5 | AK7: 19.2 | AL7: 12.9 | AM7: 20.7 | AN7: 11.4 | AO7: 23.8 | AP7: 18.5 | AQ7: 16.6 | AR7: 12.1 | AS7: 5.1 | AT7: -5.4 | AU7: 6.4 | AV7: 6.5 | AW7: 15.4 | AX7: 1.1 | AY7: 3.5 | AZ7: 13.7 | BA7: 4.7 | BB7: 9.6 | BC7: -1.4 | BD7: 13.2 | BE7: 7.3 | BF7: 7.1 | BG7: 5.2 | BH7: 14.2 | BI7: 9 | BJ7: 7.6 | BK7: 8.4 | BL7: 23.2 | BM7: 4.1 | BN7: 19.5 | BO7: 11.5 | BP7: 7.6 | BQ7: 3.2 | BR7: 19.5 | BS7: 3.4 | BT7: 7.4 | BU7: 8.6 | BV7: 7.5 | BW7: 1.8 | BX7: -2 | BY7: 28.1 | BZ7: 3.6 | CA7: 9.9 | CB7: 0.2 | CC7: 6.4 | CD7: 4.1 | CE7: 13.6 | CF7: 19.8 | CG7: 4.4 | CH7: 26.1 | CI7: 4 | CJ7: 9.1 | CK7: 5 | CL7: 5.9 | CM7: 11.2 | CN7: 4.2 | CO7: 6.2 | CP7: 10 | CQ7: 6 | CR7: 7.7 | CS7: 10.6 | CT7: 11 | CU7: 4.2 | CV7: 6.4 | CW7: 9.2 | CX7: 3.7 | CY7: 3.1 | CZ7: 14.1 | DA7: 3.6 | DB7: -5.6 | DC7: 4.8 | DD7: 23.1 | DE7: -9.4 | DF7: -5.7 | DG7: 4.4 | DH7: 8.1 | DI7: 4.8 | DJ7: 26.7 | DK7: 6.8 | DL7: 10.9 | DM7: 21.1 | DN7: -1.1 | DO7: 23.1 | DP7: 13.5 | DQ7: 16.5 | DR7: 5.1 | DS7: 13.9 | DT7: 17.5 | DU7: 8.5 | DV7: 5.1 | DW7: 7.7 | DX7: 5.2 | DY7: 21.5 | DZ7: 9.8 | EA7: 13.2 | EB7: -1.8 | EC7: -0.1 | ED7: 5.6 | EE7: 12.1 | EF7: 6.2 | EG7: -1 | EH7: -0.2 | EI7: 9.4 | EJ7: 1.7 | EK7: 7.1 | EL7: 7.6 | EM7: 12.1 | EN7: 9.1 | EO7: 30 | EP7: 1.3 | EQ7: 8.9 | ER7: 9.6 | ES7: 11.1 | ET7: 6.1 | EU7: 12.2 | EV7: 2.8 | EW7: 4.9 | EX7: 13.8 | EY7: 0.2 | EZ7: 6.9 | FA7: 12.8 | FB7: 1.3 | FC7: 6 | FD7: 7.1 | FE7: 17.3 | FF7: 6.3 | FG7: 9 | FH7: 6.3 | FI7: 6.5 | FJ7: 26.2 | FK7: 8.4 | FL7: 10.7 | FM7: 3.4 | FN7: 8.4 | FO7: 1.8 | FP7: 2.9 | FQ7: 6.8 | FR7: 10.5 | FS7: 2.6 | FT7: 5 | FU7: 2.6 | FV7: 18.1 | FW7: 9 | FX7: 16 | FY7: 6.4 | FZ7: 5.5 | GA7: 12.4 | GB7: 8 | GC7: 15.9 | GD7: 4 | GE7: 12.2 | GF7: 5.7 | GG7: 20.4 | GH7: 0.8 | GI7: 11.9 | GJ7: 8 | GK7: 5.1 | GL7: 10.4 | GM7: 8.8 | GN7: 9.6 | GO7: 18.2 | GP7: 9.3 | GQ7: 19.7 | GR7: 17.1 | GS7: 8.1 | GT7: 7.4 | GU7: 3.2 | GV7: 5.4 | GW7: -2.2 | GX7: 5 | GY7: 6.1 | GZ7: 8.8 | HA7: 9.4 | HB7: 7.9 | HC7: 18.8 | HD7: 12 | HE7: 6.8 | HF7: 9.9 | HG7: 22.1 | HH7: 5.1 | HI7: 8.2 | HJ7: 16.7 | HK7: 7.2 | HL7: 6.8 | HM7: 18 | HN7: 7 | HO7: 5.5 | HP7: 39.1 | HQ7: 5.5 | HR7: 21.9 | HS7: -10.5 | HT7: 9.8 | HU7: 8 | HV7: 8.3 | HW7: 11.8 | HX7: 13.7 | HY7: 4.4 | HZ7: 5 | IA7: 5.1 | IB7: 2 | IC7: 18.6 | ID7: 14.9 | IE7: 20.6 | IF7: 12.6 | IG7: 1.6 | IH7: 10.6 | II7: 14.4 | IJ7: 10.9 | IK7: 1.8 | IL7: 10.4 | IM7: 14.9 | IN7: 20.2 | IO7: 7.4 | IP7: 14.8 | IQ7: 12.2 | IR7: 11.7 | IS7: 24.2 | IT7: 8.2 | IU7: 14.2 | IV7: 10 | IW7: 11.6 | IX7: 31.5 | IY7: 22.3 | IZ7: 12.4 | JA7: 35.7 | JB7: 7.4 | JC7: 5 | JD7: 5.9 | JE7: 10.1 | JF7: 9.5 | JG7: 7.9 | JH7: 10.7 | JI7: 17.6 | JJ7: 4.7 | JK7: 11 | JL7: 14 | JM7: -0.4 | JN7: 11.1 | JO7: 26.2 | JP7: 10.1 | JQ7: 4.5 | JR7: 3.6 | JS7: 2 | JT7: 11 | JU7: 4.5 | JV7: 6.9 | JW7: 15.5 | JX7: 5.3 | JY7: 7.4 | JZ7: 11.8 | KA7: 14.7 | KB7: 9.6 | KC7: 4.7 | KD7: 23.9 | KE7: 3.4 | KF7: 11 | KG7: 7.8 | KH7: 16.8 | KI7: 26.5 | KJ7: -4.2 | KK7: 2.2 | KL7: 1.3 | KM7: 3.5 | KN7: -2 | KO7: 19.1 | KP7: 8.2 | KQ7: -4.1 | KR7: 25.8 | KS7: 7 | KT7: 23.9 | KU7: 13.9 | KV7: 24.9 | KW7: 6.5 | KX7: 15.6 | KY7: 5.3 | KZ7: 16.7 | LA7: 8.9 | LB7: 5.2 | LC7: 15.9 | LD7: 3.6 | LE7: 7.2 | LF7: 19.6 | LG7: 11.6 | LH7: 6.7 | LI7: 16.6 | LJ7: 9.4 | LK7: 11.2 | LL7: 13.1 | LM7: 13.4 | LN7: 21.8 | LO7: 15.7 | LP7: -1.6 | LQ7: 0.8 | LR7: 2.5 | LS7: 6 | LT7: 2.9 | LU7: 7.8 | LV7: 10.6 | LW7: 22.5 | LX7: 10.5 | LY7: 10.4 | LZ7: 13.8 | MA7: 16.5 | MB7: 7.9 | MC7: -14.4 | MD7: 29 | ME7: 16 | MF7: 9.3 | MG7: 22.6 | MH7: 14.9 | MI7: 4.4 | MJ7: 17.7 | MK7: -0.9 | ML7: 18.5 | MM7: 10.9 | MN7: 25 | MO7: 1.9 | MP7: 11.8 | MQ7: 12.9 | MR7: 11.4 | MS7: 9 | MT7: 5.3 | MU7: 5.4 | MV7: 4.7 | MW7: 8.4 | MX7: 16.6 | MY7: 4.6 | MZ7: -2.7 | NA7: =AVERAGE(B7:MZ7) -> 9.922865 | NB7: =STDEV(B7:MZ7) -> 7.4875477
A8: APP | B8: 569.5 | C8: 708.1 | D8: 702 | E8: 466.1 | F8: 336 | G8: 633.2 | H8: 447.6 | I8: 250 | J8: 602.7 | K8: 756.9 | L8: 431 | M8: 575.3 | N8: 536.5 | O8: 509.9 | P8: 377.5 | Q8: 735 | R8: 562.8 | S8: 346.2 | T8: 592.6 | U8: 1195.6 | V8: 787.1 | W8: 939.2 | X8: 650.1 | Y8: 544.7 | Z8: 843.8 | AA8: 769.2 | AB8: 688 | AC8: 710.9 | AD8: 651.2 | AE8: 745.6 | AF8: 753.6 | AG8: 827 | AH8: 832.2 | AI8: 981.8 | AJ8: 1808.5 | AK8: 935 | AL8: 970.2 | AM8: 758.2 | AN8: 1954.7 | AO8: 488.3 | AP8: 1005.2 | AQ8: 1439 | AR8: 941.4 | AS8: 771.2 | AT8: 730.6 | AU8: 758.8 | AV8: 1175.9 | AW8: 263.5 | AX8: 554.7 | AY8: 733.2 | AZ8: 349.9 | BA8: 666 | BB8: 712.9 | BC8: 646 | BD8: 1076.9 | BE8: 694.1 | BF8: 1148.1 | BG8: 626.4 | BH8: 497.7 | BI8: 437.1 | BJ8: 660.2 | BK8: 788.3 | BL8: 740.8 | BM8: 1434.3 | BN8: 1214.9 | BO8: 820.5 | BP8: 1011.4 | BQ8: 1045.2 | BR8: 793.9 | BS8: 839.3 | BT8: 986.5 | BU8: 820.8 | BV8: 1380.2 | BW8: 746.2 | BX8: 708.2 | BY8: 955.7 | BZ8: 631.1 | CA8: 756.4 | CB8: 956.6 | CC8: 482.1 | CD8: 617.2 | CE8: 784.1 | CF8: 650.3 | CG8: 841.1 | CH8: 545 | CI8: 1106.4 | CJ8: 816.1 | CK8: 1060 | CL8: 2195.1 | CM8: 1085 | CN8: 986.6 | CO8: 924.1 | CP8: 1076.4 | CQ8: 1015.1 | CR8: 527 | CS8: 1974.1 | CT8: 980.2 | CU8: 791.9 | CV8: 962.4 | CW8: 664 | CX8: 935.2 | CY8: 867.2 | CZ8: 182.3 | DA8: 574.7 | DB8: 872.9 | DC8: 1083.3 | DD8: 801 | DE8: 846.5 | DF8: 701.4 | DG8: 772.6 | DH8: 767.7 | DI8: 723.8 | DJ8: 187.7 | DK8: 684.3 | DL8: 1597.1 | DM8: 1618.2 | DN8: 735.7 | DO8: 1711.7 | DP8: 797.5 | DQ8: 582.6 | DR8: 894.9 | DS8: 405.8 | DT8: 534.8 | DU8: 574 | DV8: 514.9 | DW8: 498.7 | DX8: 514.9 | DY8: 407.9 | DZ8: 620.7 | EA8: 410.9 | EB8: 863.9 | EC8: 686.1 | ED8: 357.9 | EE8: 918.2 | EF8: 930.9 | EG8: 828.8 | EH8: 943.9 | EI8: 961.9 | EJ8: 721.2 | EK8: 904.9 | EL8: 1006.3 | EM8: 593.2 | EN8: 878.3 | EO8: 413 | EP8: 524 | EQ8: 714.5 | ER8: 662.2 | ES8: 354.4 | ET8: 322 | EU8: 565.2 | EV8: 265.4 | EW8: 361.8 | EX8: 295.1 | EY8: 299 | EZ8: 382.1 | FA8: 370.1 | FB8: 384.8 | FC8: 620.1 | FD8: 966.5 | FE8: 1632 | FF8: 972 | FG8: 725.6 | FH8: 682 | FI8: 768.8 | FJ8: 1405.1 | FK8: 920.1 | FL8: 885.1 | FM8: 679.2 | FN8: 2606.1 | FO8: 1219.4 | FP8: 1986.7 | FQ8: 637.4 | FR8: 731.4 | FS8: 667.3 | FT8: 874.7 | FU8: 830.7 | FV8: 952.1 | FW8: 672.7 | FX8: 864.3 | FY8: 992.3 | FZ8: 603.9 | GA8: 1027.9 | GB8: 561.1 | GC8: 845.7 | GD8: 775 | GE8: 587.8 | GF8: 675 | GG8: 856.8 | GH8: 643.5 | GI8: 852.2 | GJ8: 848.3 | GK8: 345.3 | GL8: 1247.1 | GM8: 721.1 | GN8: 559.9 | GO8: 680.7 | GP8: 655.5 | GQ8: 598.5 | GR8: 530.9 | GS8: 767.6 | GT8: 541.7 | GU8: 622.4 | GV8: 570.9 | GW8: 476.8 | GX8: 685.5 | GY8: 703.7 | GZ8: 679.4 | HA8: 747.8 | HB8: 576 | HC8: 675.5 | HD8: 590.6 | HE8: 781.2 | HF8: 554.9 | HG8: 533.7 | HH8: 693.5 | HI8: 346.8 | HJ8: 352.8 | HK8: 407 | HL8: 508.8 | HM8: 484.2 | HN8: 526.5 | HO8: 1252.1 | HP8: 535.8 | HQ8: 398.6 | HR8: 368.7 | HS8: 704.7 | HT8: 759.1 | HU8: 1074.6 | HV8: 948.2 | HW8: 505.2 | HX8: 662 | HY8: 581 | HZ8: 351.4 | IA8: 427.7 | IB8: 556.9 | IC8: 859.8 | ID8: 929.9 | IE8: 818.5 | IF8: 485.8 | IG8: 724.2 | IH8: 1037.1 | II8: 386.8 | IJ8: 443.5 | IK8: 933.4 | IL8: 372.7 | IM8: 563.6 | IN8: 470.6 | IO8: 551.8 | IP8: 483.7 | IQ8: 914.3 | IR8: 800.6 | IS8: 920.4 | IT8: 791.7 | IU8: 1212.8 | IV8: 777.8 | IW8: 678.7 | IX8: 228.1 | IY8: 417 | IZ8: 414.3 | JA8: 322.3 | JB8: 564.7 | JC8: 737.7 | JD8: 685.2 | JE8: 1049.3 | JF8: 752.3 | JG8: 1005.1 | JH8: 640.5 | JI8: 904.2 | JJ8: 594.5 | JK8: 1052.7 | JL8: 925.7 | JM8: 857.4 | JN8: 724 | JO8: 647.7 | JP8: 584.8 | JQ8: 1030.8 | JR8: 766.4 | JS8: 840.7 | JT8: 592.6 | JU8: 557.5 | JV8: 808.4 | JW8: 706.5 | JX8: 1074.9 | JY8: 744.8 | JZ8: 2362.5 | KA8: 281.2 | KB8: 415.6 | KC8: 635.1 | KD8: 272.5 | KE8: 592.2 | KF8: 621.3 | KG8: 317.7 | KH8: 379.1 | KI8: 1713.6 | KJ8: 1115.2 | KK8: 1353.9 | KL8: 507.9 | KM8: 346.1 | KN8: 483.2 | KO8: 564.2 | KP8: 1031.7 | KQ8: 889.8 | KR8: 661.2 | KS8: 888.7 | KT8: 470.8 | KU8: 473.4 | KV8: 331.4 | KW8: 489.8 | KX8: 432.5 | KY8: 1105.1 | KZ8: 1305.1 | LA8: 649.8 | LB8: 287.1 | LC8: 222.1 | LD8: 433.4 | LE8: 356.4 | LF8: 537.8 | LG8: 900 | LH8: 823.3 | LI8: 575.9 | LJ8: 296.7 | LK8: 807.5 | LL8: 927.8 | LM8: 497.9 | LN8: 372.9 | LO8: 620.3 | LP8: 506.6 | LQ8: 649.2 | LR8: 397.7 | LS8: 488.4 | LT8: 532.2 | LU8: 485.1 | LV8: 404 | LW8: 335.2 | LX8: 632.7 | LY8: 643.5 | LZ8: 515.4 | MA8: 468 | MB8: 307.4 | MC8: 368.8 | MD8: 342.7 | ME8: 801.3 | MF8: 674.7 | MG8: 547.2 | MH8: 330.7 | MI8: 306.7 | MJ8: 602.6 | MK8: 643.9 | ML8: 563.8 | MM8: 780.2 | MN8: 233 | MO8: 469.9 | MP8: 442.5 | MQ8: 500.7 | MR8: 513.1 | MS8: 302.2 | MT8: 578.1 | MU8: 229.1 | MV8: 707.6 | MW8: 878.7 | MX8: 814.6 | MY8: 399.8 | MZ8: 238.3 | NA8: =AVERAGE(B8:MZ8) -> 721.05041 | NB8: =STDEV(B8:MZ8) -> 335.55443
A9: APOE | B9: 4004.5 | C9: 7494.9 | D9: 5175.1 | E9: 3166.4 | F9: 1864.4 | G9: 3259.1 | H9: 1923.5 | I9: 2725.6 | J9: 3563.8 | K9: 2272.5 | L9: 6784.5 | M9: 2891.2 | N9: 2402.7 | O9: 3600.7 | P9: 5479.2 | Q9: 2548.7 | R9: 3838.7 | S9: 1610.2 | T9: 2852.7 | U9: 1617.6 | V9: 2631.4 | W9: 2353.4 | X9: 1816 | Y9: 1562.3 | Z9: 1459.3 | AA9: 2224.4 | AB9: 3038.1 | AC9: 2420.7 | AD9: 3181.7 | AE9: 2552.2 | AF9: 2839.7 | AG9: 1752 | AH9: 7161.1 | AI9: 6623.6 | AJ9: 2159.5 | AK9: 2453.3 | AL9: 4996.7 | AM9: 3113.9 | AN9: 2739.6 | AO9: 7336.8 | AP9: 937.2 | AQ9: 2077.7 | AR9: 2022.8 | AS9: 3181.8 | AT9: 2548.4 | AU9: 1874 | AV9: 2548.2 | AW9: 4471.8 | AX9: 6311.7 | AY9: 2422.6 | AZ9: 10163.6 | BA9: 2267.1 | BB9: 2151.3 | BC9: 1587 | BD9: 5227.3 | BE9: 2133.8 | BF9: 1533.7 | BG9: 3083.9 | BH9: 3162.5 | BI9: 5183 | BJ9: 8913.1 | BK9: 3311.6 | BL9: 3965.4 | BM9: 4558.6 | BN9: 3154.8 | BO9: 2924.6 | BP9: 2732.2 | BQ9: 3474.9 | BR9: 3446.6 | BS9: 2769.8 | BT9: 2701 | BU9: 4595 | BV9: 2836 | BW9: 3686.8 | BX9: 1751.4 | BY9: 2601.9 | BZ9: 4263.2 | CA9: 4108.8 | CB9: 2060.3 | CC9: 4715.8 | CD9: 3390.3 | CE9: 2129 | CF9: 4250.8 | CG9: 3910.1 | CH9: 6498 | CI9: 3867.3 | CJ9: 2641.6 | CK9: 3825.1 | CL9: 511.5 | CM9: 3051.3 | CN9: 3774 | CO9: 2164.4 | CP9: 4577.3 | CQ9: 2742.8 | CR9: 3630.6 | CS9: 3424.1 | CT9: 3163.8 | CU9: 3540.3 | CV9: 2447.9 | CW9: 3347.3 | CX9: 2303.5 | CY9: 3127.5 | CZ9: 8592.5 | DA9: 4231.1 | DB9: 5056.6 | DC9: 3420.5 | DD9: 3033.8 | DE9: 5776.6 | DF9: 4338 | DG9: 1965.1 | DH9: 3673.7 | DI9: 4585.1 | DJ9: 9014.1 | DK9: 2681.9 | DL9: 2818.7 | DM9: 3695.6 | DN9: 1911.3 | DO9: 2150.9 | DP9: 4267 | DQ9: 5685.8 | DR9: 3012.7 | DS9: 3352.4 | DT9: 2489.1 | DU9: 3169.1 | DV9: 1698.2 | DW9: 2327.1 | DX9: 4653.1 | DY9: 8081.9 | DZ9: 2597.4 | EA9: 5448.3 | EB9: 1319.2 | EC9: 1622.7 | ED9: 2430 | EE9: 1887.7 | EF9: 2026.8 | EG9: 2442.1 | EH9: 2460.1 | EI9: 1687.8 | EJ9: 2092.5 | EK9: 1752.5 | EL9: 1935.3 | EM9: 1966.5 | EN9: 2196 | EO9: 4219.9 | EP9: 6259.5 | EQ9: 1915.3 | ER9: 1853.5 | ES9: 3927.6 | ET9: 5016.1 | EU9: 2471.3 | EV9: 2543.9 | EW9: 4482.8 | EX9: 6775 | EY9: 4433.7 | EZ9: 1439.3 | FA9: 4177.2 | FB9: 3994.3 | FC9: 2874.4 | FD9: 2020.7 | FE9: 2341.3 | FF9: 2574.4 | FG9: 3801.6 | FH9: 2540.5 | FI9: 2176.4 | FJ9: 3081.2 | FK9: 1673 | FL9: 2400.3 | FM9: 3378.8 | FN9: 1116.2 | FO9: 2597.4 | FP9: 2282.4 | FQ9: 1846.1 | FR9: 1899.8 | FS9: 2643.2 | FT9: 2347.6 | FU9: 2277 | FV9: 2343.2 | FW9: 2064 | FX9: 2987.3 | FY9: 2350.9 | FZ9: 2817.8 | GA9: 3923.9 | GB9: 4412.8 | GC9: 3362.3 | GD9: 3707.9 | GE9: 2442.6 | GF9: 2102.1 | GG9: 2816.7 | GH9: 2419.1 | GI9: 5357.8 | GJ9: 4382.4 | GK9: 5879.9 | GL9: 3183.9 | GM9: 3338.4 | GN9: 4607.9 | GO9: 2745.9 | GP9: 4847.6 | GQ9: 5051.7 | GR9: 2919.1 | GS9: 3049.6 | GT9: 2767.1 | GU9: 1966.8 | GV9: 1538.3 | GW9: 1180.4 | GX9: 2185.7 | GY9: 1867.7 | GZ9: 4458.9 | HA9: 3755.4 | HB9: 4526.1 | HC9: 4498.6 | HD9: 5651 | HE9: 5631.7 | HF9: 4234 | HG9: 6337.4 | HH9: 3415.5 | HI9: 2285.7 | HJ9: 3822.2 | HK9: 3295.3 | HL9: 1958.7 | HM9: 6249.6 | HN9: 2975.6 | HO9: 1379.2 | HP9: 4985.7 | HQ9: 3131.4 | HR9: 2973.1 | HS9: 4058.5 | HT9: 2304.1 | HU9: 2488.4 | HV9: 3241.4 | HW9: 7369.2 | HX9: 3751.4 | HY9: 1366.1 | HZ9: 1862.2 | IA9: 1424.9 | IB9: 2042.9 | IC9: 1998 | ID9: 2656.2 | IE9: 2703.6 | IF9: 5528 | IG9: 2322.7 | IH9: 1989.5 | II9: 5305.7 | IJ9: 2788.6 | IK9: 2062.5 | IL9: 5896 | IM9: 3535.7 | IN9: 2920.4 | IO9: 5388.1 | IP9: 11122.2 | IQ9: 2505.5 | IR9: 2257 | IS9: 2503.6 | IT9: 1957.4 | IU9: 2565.3 | IV9: 2417.9 | IW9: 2470.6 | IX9: 4391.5 | IY9: 7010.3 | IZ9: 4362.5 | JA9: 7441.8 | JB9: 2293.4 | JC9: 2710.5 | JD9: 1794.7 | JE9: 1658.7 | JF9: 1436.7 | JG9: 1599.3 | JH9: 2153.2 | JI9: 3479 | JJ9: 2960.4 | JK9: 2355.2 | JL9: 4267.2 | JM9: 1411.7 | JN9: 1729.6 | JO9: 6217.7 | JP9: 2461.8 | JQ9: 4229.2 | JR9: 1842.5 | JS9: 2292.9 | JT9: 1837.5 | JU9: 726.6 | JV9: 3020.9 | JW9: 2097.8 | JX9: 2287.8 | JY9: 2448.1 | JZ9: 2731.8 | KA9: 5686.9 | KB9: 3904.6 | KC9: 1632 | KD9: 3552.5 | KE9: 2387.4 | KF9: 2364.8 | KG9: 5663.1 | KH9: 5694.4 | KI9: 2934.4 | KJ9: 1541.1 | KK9: 2330.1 | KL9: 4085 | KM9: 5222.8 | KN9: 5937 | KO9: 2311.2 | KP9: 2067.8 | KQ9: 3493 | KR9: 4944.6 | KS9: 3965 | KT9: 3591 | KU9: 2714.1 | KV9: 4362.2 | KW9: 819.2 | KX9: 1967.5 | KY9: 1812.4 | KZ9: 3470.6 | LA9: 2658.7 | LB9: 1537.1 | LC9: 3167.6 | LD9: 2716.5 | LE9: 3783.2 | LF9: 4639.7 | LG9: 4906.1 | LH9: 2857.4 | LI9: 1955.6 | LJ9: 2994.3 | LK9: 2965.2 | LL9: 4198.5 | LM9: 4297.7 | LN9: 2816 | LO9: 1369 | LP9: 2674.1 | LQ9: 3773.3 | LR9: 4286.5 | LS9: 5543.8 | LT9: 5456.1 | LU9: 2740.1 | LV9: 4845.3 | LW9: 4693.3 | LX9: 3097.2 | LY9: 2398.7 | LZ9: 3680 | MA9: 4073.6 | MB9: 3474.5 | MC9: 4161.3 | MD9: 2212.4 | ME9: 4035.4 | MF9: 1882.8 | MG9: 4751 | MH9: 5446.5 | MI9: 3652 | MJ9: 3143 | MK9: 1947.5 | ML9: 2746.7 | MM9: 2444.7 | MN9: 6546.9 | MO9: 2889.5 | MP9: 4360.5 | MQ9: 3212.3 | MR9: 3989.4 | MS9: 2839.9 | MT9: 5047.4 | MU9: 4870.2 | MV9: 3828.4 | MW9: 4566.2 | MX9: 4515.2 | MY9: 1478.8 | MZ9: 3432.3 | NA9: =AVERAGE(B9:MZ9) -> 3345.7129 | NB9: =STDEV(B9:MZ9) -> 1572.1608
A10: PSEN2 | B10: 159.7 | C10: 118.6 | D10: 178.5 | E10: 119.2 | F10: 160.4 | G10: 168 | H10: 178.8 | I10: 91 | J10: 172.6 | K10: 161.5 | L10: 104.9 | M10: 129.9 | N10: 152 | O10: 185.9 | P10: 119.1 | Q10: 202.1 | R10: 179.6 | S10: 118.4 | T10: 136.2 | U10: 148.8 | V10: 147.8 | W10: 154.4 | X10: 143 | Y10: 92.3 | Z10: 128.2 | AA10: 130.8 | AB10: 141.8 | AC10: 177.5 | AD10: 96.6 | AE10: 138.2 | AF10: 107.4 | AG10: 130.1 | AH10: 130.2 | AI10: 113 | AJ10: 115.8 | AK10: 109.8 | AL10: 121.2 | AM10: 162.8 | AN10: 160.6 | AO10: 135.4 | AP10: 116.3 | AQ10: 72.6 | AR10: 207.7 | AS10: 183.8 | AT10: 145.4 | AU10: 145.7 | AV10: 142.7 | AW10: 127.8 | AX10: 165 | AY10: 165.9 | AZ10: 164.4 | BA10: 146.1 | BB10: 167.3 | BC10: 187.3 | BD10: 246 | BE10: 183.3 | BF10: 154.3 | BG10: 198 | BH10: 170.2 | BI10: 134.9 | BJ10: 101.4 | BK10: 92.8 | BL10: 186.9 | BM10: 159.3 | BN10: 185.2 | BO10: 196.4 | BP10: 148.5 | BQ10: 147.3 | BR10: 156.1 | BS10: 149.6 | BT10: 161.9 | BU10: 195 | BV10: 161.7 | BW10: 184.1 | BX10: 131.2 | BY10: 143.6 | BZ10: 199.4 | CA10: 177.5 | CB10: 162 | CC10: 171 | CD10: 166.4 | CE10: 181.6 | CF10: 79.1 | CG10: 164.7 | CH10: 166.4 | CI10: 200.3 | CJ10: 157.3 | CK10: 197.7 | CL10: 249.4 | CM10: 182.4 | CN10: 200.3 | CO10: 163.9 | CP10: 219.5 | CQ10: 171.4 | CR10: 188.1 | CS10: 131.7 | CT10: 134.4 | CU10: 156.6 | CV10: 113.8 | CW10: 92.8 | CX10: 136.6 | CY10: 154.4 | CZ10: 142.5 | DA10: 167 | DB10: 174.6 | DC10: 147 | DD10: 124 | DE10: 163.5 | DF10: 140.8 | DG10: 122.4 | DH10: 136.3 | DI10: 169.8 | DJ10: 110.4 | DK10: 194.9 | DL10: 94.3 | DM10: 155.7 | DN10: 172.8 | DO10: 125.4 | DP10: 156.1 | DQ10: 164.3 | DR10: 141.5 | DS10: 159.1 | DT10: 71.8 | DU10: 146.3 | DV10: 140.3 | DW10: 154.4 | DX10: 195.4 | DY10: 157.2 | DZ10: 116.8 | EA10: 132.4 | EB10: 159.8 | EC10: 118.3 | ED10: 158.5 | EE10: 112.2 | EF10: 126.2 | EG10: 134.5 | EH10: 149.8 | EI10: 157.3 | EJ10: 153.8 | EK10: 159.1 | EL10: 106.6 | EM10: 179.7 | EN10: 221.9 | EO10: 202.4 | EP10: 229.3 | EQ10: 186.6 | ER10: 165.5 | ES10: 141.6 | ET10: 152.3 | EU10: 174.3 | EV10: 163.5 | EW10: 162.7 | EX10: 195.5 | EY10: 154 | EZ10: 155.5 | FA10: 230.6 | FB10: 205.5 | FC10: 125.4 | FD10: 179.1 | FE10: 131.4 | FF10: 195 | FG10: 164 | FH10: 136.3 | FI10: 138 | FJ10: 139.1 | FK10: 197.9 | FL10: 150.3 | FM10: 147.9 | FN10: 118.1 | FO10: 159.7 | FP10: 135.1 | FQ10: 91.6 | FR10: 116.1 | FS10: 133.5 | FT10: 146.2 | FU10: 178.1 | FV10: 105.9 | FW10: 115.1 | FX10: 120.3 | FY10: 168.2 | FZ10: 129.2 | GA10: 129.3 | GB10: 123.8 | GC10: 86 | GD10: 144.6 | GE10: 194.1 | GF10: 146.5 | GG10: 124.3 | GH10: 145.3 | GI10: 122.2 | GJ10: 158.9 | GK10: 147.7 | GL10: 105.7 | GM10: 99.3 | GN10: 137.6 | GO10: 153.4 | GP10: 160.5 | GQ10: 136.8 | GR10: 81.6 | GS10: 125.3 | GT10: 113.6 | GU10: 190.2 | GV10: 152.2 | GW10: 197.5 | GX10: 180 | GY10: 133 | GZ10: 169.4 | HA10: 129.8 | HB10: 125.4 | HC10: 151.6 | HD10: 184 | HE10: 207.9 | HF10: 110.5 | HG10: 203.4 | HH10: 144 | HI10: 132.1 | HJ10: 110 | HK10: 117.3 | HL10: 141.8 | HM10: 189.6 | HN10: 157.9 | HO10: 179.2 | HP10: 78.6 | HQ10: 95.2 | HR10: 81.9 | HS10: 93.2 | HT10: 59.6 | HU10: 209.1 | HV10: 209.6 | HW10: 142.3 | HX10: 97.8 | HY10: 121.9 | HZ10: 157.7 | IA10: 165 | IB10: 127.5 | IC10: 157.4 | ID10: 77.7 | IE10: 135.6 | IF10: 157 | IG10: 140.9 | IH10: 149.3 | II10: 122.3 | IJ10: 149.4 | IK10: 148.1 | IL10: 144.8 | IM10: 118.6 | IN10: 130.3 | IO10: 102.8 | IP10: 161.3 | IQ10: 166.5 | IR10: 141.5 | IS10: 131.1 | IT10: 150.8 | IU10: 159.8 | IV10: 136.9 | IW10: 116.3 | IX10: 132.6 | IY10: 135.4 | IZ10: 115.9 | JA10: 152.8 | JB10: 127.8 | JC10: 128.5 | JD10: 167.3 | JE10: 143.2 | JF10: 127 | JG10: 64.2 | JH10: 115.7 | JI10: 143 | JJ10: 84.8 | JK10: 129.5 | JL10: 180.3 | JM10: 127.9 | JN10: 159.1 | JO10: 124.7 | JP10: 117.1 | JQ10: 130.4 | JR10: 134.1 | JS10: 128.1 | JT10: 144.7 | JU10: 126.4 | JV10: 121.2 | JW10: 131.5 | JX10: 142.1 | JY10: 118.7 | JZ10: 123.1 | KA10: 126.5 | KB10: 114.3 | KC10: 110.3 | KD10: 124.1 | KE10: 147.4 | KF10: 138.8 | KG10: 127.7 | KH10: 141.1 | KI10: 154.7 | KJ10: 155.1 | KK10: 155.9 | KL10: 144.1 | KM10: 137.4 | KN10: 132.9 | KO10: 166.9 | KP10: 181.4 | KQ10: 199.8 | KR10: 108.3 | KS10: 168.1 | KT10: 106.9 | KU10: 149.3 | KV10: 93.8 | KW10: 128.7 | KX10: 115.5 | KY10: 162.9 | KZ10: 99.4 | LA10: 140.4 | LB10: 195.7 | LC10: 179.7 | LD10: 251 | LE10: 208.8 | LF10: 105.3 | LG10: 140.8 | LH10: 108.7 | LI10: 82.3 | LJ10: 158.5 | LK10: 143.5 | LL10: 149.3 | LM10: 134.5 | LN10: 90 | LO10: 102.1 | LP10: 136.3 | LQ10: 191.9 | LR10: 106.2 | LS10: 176.1 | LT10: 125 | LU10: 133 | LV10: 109.8 | LW10: 168.1 | LX10: 103.6 | LY10: 114.8 | LZ10: 132.5 | MA10: 147.7 | MB10: 73.5 | MC10: 96.1 | MD10: 52 | ME10: 134.7 | MF10: 137.2 | MG10: 137.6 | MH10: 111.6 | MI10: 116 | MJ10: 84.3 | MK10: 153 | ML10: 128 | MM10: 132.8 | MN10: 97 | MO10: 97.4 | MP10: 162.3 | MQ10: 120 | MR10: 90.5 | MS10: 108.9 | MT10: 153.1 | MU10: 93.7 | MV10: 140.8 | MW10: 169.1 | MX10: 190.2 | MY10: 120.7 | MZ10: 134.5 | NA10: =AVERAGE(B10:MZ10) -> 144.19311 | NB10: =STDEV(B10:MZ10) -> 33.291929
A11: PSEN1 | B11: -6.4 | C11: -7.5 | D11: -14 | E11: -5.8 | F11: -2.2 | G11: -5.1 | H11: -4.1 | I11: -6 | J11: -6.3 | K11: 1.4 | L11: -2.5 | M11: 0.3 | N11: -1.5 | O11: -3.3 | P11: -0.3 | Q11: 2.1 | R11: -4.1 | S11: -7.2 | T11: -7.1 | U11: -2.4 | V11: -3.1 | W11: -8.2 | X11: 0.4 | Y11: -1.2 | Z11: -6.1 | AA11: 6.6 | AB11: 2 | AC11: -3.5 | AD11: -2.5 | AE11: -0.3 | AF11: 1.1 | AG11: -2.4 | AH11: -4.5 | AI11: 9.4 | AJ11: -2.9 | AK11: -7.9 | AL11: -3.9 | AM11: 2.1 | AN11: -3.4 | AO11: 11.5 | AP11: 10.8 | AQ11: 1.6 | AR11: 1.3 | AS11: 1.9 | AT11: -0.4 | AU11: -9.6 | AV11: -0.9 | AW11: -6.9 | AX11: 0.9 | AY11: -3.9 | AZ11: -1.5 | BA11: 3.5 | BB11: -0.4 | BC11: -4.1 | BD11: -29.5 | BE11: -4 | BF11: 2.9 | BG11: -2.4 | BH11: -6.2 | BI11: -9.1 | BJ11: -0.7 | BK11: -6.7 | BL11: 3.5 | BM11: -0.7 | BN11: -8.4 | BO11: 1.6 | BP11: -4.5 | BQ11: -5.4 | BR11: -1.6 | BS11: -4.2 | BT11: -7.3 | BU11: -16.2 | BV11: 0.1 | BW11: -6.5 | BX11: 10.5 | BY11: -13.8 | BZ11: 1 | CA11: -1.1 | CB11: -6.2 | CC11: -8.8 | CD11: -7.3 | CE11: 3.1 | CF11: -11.8 | CG11: -4.4 | CH11: -6.4 | CI11: -7.9 | CJ11: -2 | CK11: -3 | CL11: -0.7 | CM11: -11.3 | CN11: -1.4 | CO11: -2 | CP11: -3 | CQ11: -5 | CR11: -1.4 | CS11: -1.2 | CT11: -4.9 | CU11: -3.5 | CV11: -4.5 | CW11: -2.5 | CX11: -6.9 | CY11: 1 | CZ11: -5.7 | DA11: -7.1 | DB11: -0.9 | DC11: -25.4 | DD11: 23.5 | DE11: 24.1 | DF11: -4.5 | DG11: 1.5 | DH11: -6.3 | DI11: -10.3 | DJ11: -11.7 | DK11: 8.7 | DL11: -41.5 | DM11: -21.5 | DN11: -3.2 | DO11: -6.3 | DP11: -4.8 | DQ11: -21.5 | DR11: -2.7 | DS11: -12 | DT11: -10.6 | DU11: -7.6 | DV11: -2.2 | DW11: -14.9 | DX11: 0.7 | DY11: -1.1 | DZ11: -9 | EA11: -9.2 | EB11: 3.8 | EC11: -2.4 | ED11: 1.1 | EE11: -1.4 | EF11: -7.4 | EG11: -14.4 | EH11: -3.7 | EI11: -4.1 | EJ11: -3 | EK11: -4.4 | EL11: -1.4 | EM11: -1.8 | EN11: -3.2 | EO11: -6.2 | EP11: -11.1 | EQ11: -13.6 | ER11: -2.8 | ES11: -5.5 | ET11: -5.5 | EU11: -6.9 | EV11: -2.9 | EW11: -7.3 | EX11: -7 | EY11: -5.1 | EZ11: -3.9 | FA11: -7.4 | FB11: 0.1 | FC11: -12.8 | FD11: -4.2 | FE11: -8.3 | FF11: -10.7 | FG11: -4.8 | FH11: -3.1 | FI11: 1.3 | FJ11: -8.7 | FK11: -10.1 | FL11: -5.4 | FM11: -5.3 | FN11: -14.5 | FO11: -10.2 | FP11: -19.5 | FQ11: -0.2 | FR11: -0.8 | FS11: -0.5 | FT11: -11 | FU11: -7.5 | FV11: -6.6 | FW11: -8.2 | FX11: 0.5 | FY11: -1.7 | FZ11: 5.3 | GA11: -4.6 | GB11: -6.1 | GC11: 1.5 | GD11: -8.4 | GE11: -2.6 | GF11: -3 | GG11: 7.3 | GH11: -1.8 | GI11: -1.7 | GJ11: -0.2 | GK11: -6.1 | GL11: 0.6 | GM11: -11 | GN11: -8.6 | GO11: 4.5 | GP11: -13 | GQ11: -8.6 | GR11: -6.1 | GS11: -3.5 | GT11: -6.5 | GU11: 4 | GV11: -1.1 | GW11: -5.7 | GX11: -1.6 | GY11: 1.1 | GZ11: -7.2 | HA11: -1.5 | HB11: 1.2 | HC11: -13 | HD11: -4.5 | HE11: -4.1 | HF11: 6.9 | HG11: -25.6 | HH11: 0.8 | HI11: -2.6 | HJ11: -8.4 | HK11: -22.7 | HL11: 1.8 | HM11: -5.8 | HN11: -2.9 | HO11: -1.6 | HP11: -23.7 | HQ11: -4.5 | HR11: 3.5 | HS11: 10.1 | HT11: -18.6 | HU11: -4.8 | HV11: -6.8 | HW11: -6.7 | HX11: -14.1 | HY11: 2.2 | HZ11: -14.2 | IA11: -3.3 | IB11: -5.6 | IC11: -6.7 | ID11: -2.4 | IE11: -1 | IF11: -15.4 | IG11: -6.1 | IH11: -12 | II11: -6.1 | IJ11: -1.2 | IK11: -1.5 | IL11: 5 | IM11: 6.3 | IN11: -5.2 | IO11: -9.5 | IP11: -22.2 | IQ11: 3.3 | IR11: -3 | IS11: -0.8 | IT11: -4.2 | IU11: 2.1 | IV11: 9.2 | IW11: -2.4 | IX11: 1.7 | IY11: 1.4 | IZ11: 2.7 | JA11: -14.4 | JB11: -7.4 | JC11: -5.1 | JD11: -1.1 | JE11: 1.7 | JF11: 11.9 | JG11: 1.1 | JH11: -2.1 | JI11: 2.7 | JJ11: 3.9 | JK11: -6 | JL11: -0.3 | JM11: 0.2 | JN11: -1.1 | JO11: -5.9 | JP11: 18.1 | JQ11: 3.9 | JR11: 0.7 | JS11: -5.9 | JT11: -4 | JU11: 2.1 | JV11: -5.6 | JW11: -8.3 | JX11: -4.7 | JY11: -5.1 | JZ11: -29 | KA11: -12.1 | KB11: 1.6 | KC11: 0.3 | KD11: -19.6 | KE11: 0.6 | KF11: 3.7 | KG11: -10.9 | KH11: -3.1 | KI11: -5.9 | KJ11: -8 | KK11: -18.4 | KL11: -5.1 | KM11: 4.5 | KN11: -10.6 | KO11: 12.8 | KP11: -6.3 | KQ11: -12.5 | KR11: 1.5 | KS11: -7 | KT11: -13.6 | KU11: -9.1 | KV11: -20.9 | KW11: 1.6 | KX11: -1.6 | KY11: -1.6 | KZ11: -5.4 | LA11: -1 | LB11: -3.4 | LC11: -4.8 | LD11: 1.2 | LE11: 4.2 | LF11: -3.6 | LG11: -15.6 | LH11: -7.8 | LI11: -1.2 | LJ11: -4.3 | LK11: -12.5 | LL11: -0.8 | LM11: -3.4 | LN11: 1.3 | LO11: 7.1 | LP11: -1.3 | LQ11: -3.6 | LR11: -11.1 | LS11: -6.8 | LT11: -8.7 | LU11: -2.8 | LV11: -18 | LW11: 3.2 | LX11: -1.6 | LY11: -0.8 | LZ11: 8.1 | MA11: 2.1 | MB11: 18.5 | MC11: -6.1 | MD11: 14.4 | ME11: 1.2 | MF11: -2.1 | MG11: -13.8 | MH11: 15.4 | MI11: 0.6 | MJ11: -8.4 | MK11: -28.1 | ML11: -1.2 | MM11: -2.2 | MN11: -15.4 | MO11: -2.2 | MP11: -6.2 | MQ11: -4.6 | MR11: -1.6 | MS11: -2 | MT11: -0.5 | MU11: -6.1 | MV11: -6.5 | MW11: -3.8 | MX11: -11.7 | MY11: -6.7 | MZ11: -12.6 | NA11: =AVERAGE(B11:MZ11) -> -4.0782369 | NB11: =STDEV(B11:MZ11) -> 7.4394792

Sheet Average
A1: ID_REF | B1: GSM225652 | C1: GSM225662 | D1: GSM225664 | E1: GSM225665 | F1: GSM225666 | G1: GSM225667 | H1: GSM225668 | I1: GSM225669 | J1: GSM225670 | K1: GSM225671 | L1: GSM225672 | M1: GSM225673 | N1: GSM225674 | O1: GSM225675 | P1: GSM225676 | Q1: GSM225677 | R1: GSM225678 | S1: GSM225679 | T1: GSM225680 | U1: GSM225681 | V1: GSM225682 | W1: GSM225683 | X1: GSM225684 | Y1: GSM225685 | Z1: GSM225686 | AA1: GSM225687 | AB1: GSM225688 | AC1: GSM225689 | AD1: GSM225690 | AE1: GSM225691 | AF1: GSM225692 | AG1: GSM225693 | AH1: GSM225695 | AI1: GSM225696 | AJ1: GSM225697 | AK1: GSM225698 | AL1: GSM225699 | AM1: GSM225700 | AN1: GSM225701 | AO1: GSM225702 | AP1: GSM225703 | AQ1: GSM225704 | AR1: GSM225705 | AS1: GSM225706 | AT1: GSM225707 | AU1: GSM225708 | AV1: GSM225709 | AW1: GSM225711 | AX1: GSM225713 | AY1: GSM225714 | AZ1: GSM225715 | BA1: GSM225717 | BB1: GSM225718 | BC1: GSM225719 | BD1: GSM225720 | BE1: GSM225721 | BF1: GSM225722 | BG1: GSM225723 | BH1: GSM225724 | BI1: GSM225725 | BJ1: GSM225726 | BK1: GSM225727 | BL1: GSM225728 | BM1: GSM225729 | BN1: GSM225730 | BO1: GSM225731 | BP1: GSM225732 | BQ1: GSM225733 | BR1: GSM225734 | BS1: GSM225735 | BT1: GSM225736 | BU1: GSM225737 | BV1: GSM225739 | BW1: GSM225741 | BX1: GSM225742 | BY1: GSM225743 | BZ1: GSM225744 | CA1: GSM225745 | CB1: GSM225746 | CC1: GSM225747 | CD1: GSM225748 | CE1: GSM225749 | CF1: GSM225751 | CG1: GSM225752 | CH1: GSM225753 | CI1: GSM225754 | CJ1: GSM225755 | CK1: GSM225756 | CL1: GSM225757 | CM1: GSM225758 | CN1: GSM225759 | CO1: GSM225760 | CP1: GSM225761 | CQ1: GSM225762 | CR1: GSM225763 | CS1: GSM225764 | CT1: GSM225915 | CU1: GSM225916 | CV1: GSM225917 | CW1: GSM225918 | CX1: GSM225919 | CY1: GSM225920 | CZ1: GSM225921 | DA1: GSM225922 | DB1: GSM225923 | DC1: GSM225924 | DD1: GSM225925 | DE1: GSM225926 | DF1: GSM225927 | DG1: GSM225928 | DH1: GSM225929 | DI1: GSM225930 | DJ1: GSM225931 | DK1: GSM225932 | DL1: GSM225933 | DM1: GSM225934 | DN1: GSM225935 | DO1: GSM225936 | DP1: GSM225937 | DQ1: GSM225938 | DR1: GSM225939 | DS1: GSM225940 | DT1: GSM225941 | DU1: GSM225942 | DV1: GSM225943 | DW1: GSM225944 | DX1: GSM225945 | DY1: GSM225946 | DZ1: GSM225947 | EA1: GSM225948 | EB1: GSM225949 | EC1: GSM225950 | ED1: GSM225951 | EE1: GSM225952 | EF1: GSM225953 | EG1: GSM225954 | EH1: GSM225955 | EI1: GSM225956 | EJ1: GSM225957 | EK1: GSM225958 | EL1: GSM225959 | EM1: GSM225961 | EN1: GSM225962 | EO1: GSM225963 | EP1: GSM225964 | EQ1: GSM225965 | ER1: GSM226034 | ES1: GSM226035 | ET1: GSM226037 | EU1: GSM226038 | EV1: GSM226039 | EW1: GSM226040 | EX1: GSM226041 | EY1: GSM226042 | EZ1: GSM226044 | FA1: GSM226045 | FB1: GSM226046 | FC1: GSM226047 | FD1: GSM226048 | FE1: GSM226049 | FF1: GSM226050 | FG1: GSM226051 | FH1: GSM226052 | FI1: GSM226053 | FJ1: GSM226055 | FK1: GSM226056 | FL1: GSM226082 | FM1: GSM226145 | FN1: GSM226146 | FO1: GSM226147 | FP1: GSM226148 | FQ1: GSM226149 | FR1: GSM226150 | FS1: GSM226151 | FT1: GSM226154 | FU1: GSM226155 | FV1: GSM226156 | FW1: GSM226157 | FX1: GSM226158 | FY1: GSM226159 | FZ1: GSM226160 | GA1: GSM226162 | GB1: GSM226163 | GC1: GSM226164 | GD1: GSM226165 | GE1: GSM226167 | GF1: GSM226168 | GG1: GSM388217 | GH1: GSM388218 | GI1: GSM388219 | GJ1: GSM388220 | GK1: GSM388221 | GL1: GSM388222 | GM1: GSM388223 | GN1: GSM388224 | GO1: GSM388225 | GP1: GSM388226 | GQ1: GSM388228 | GR1: GSM388229 | GS1: GSM388230 | GT1: GSM388231 | GU1: GSM388232 | GV1: GSM388233 | GW1: GSM388234 | GX1: GSM388235 | GY1: GSM388236 | GZ1: GSM388237 | HA1: GSM388238 | HB1: GSM388239 | HC1: GSM388240 | HD1: GSM388241 | HE1: GSM388242 | HF1: GSM388243 | HG1: GSM388244 | HH1: GSM388245 | HI1: GSM388246 | HJ1: GSM388247 | HK1: GSM388248 | HL1: GSM388249 | HM1: GSM388250 | HN1: GSM388251 | HO1: GSM388252 | HP1: GSM388253 | HQ1: GSM388254 | HR1: GSM388255 | HS1: GSM388256 | HT1: GSM388257 | HU1: GSM388258 | HV1: GSM388259 | HW1: GSM388260 | HX1: GSM388261 | HY1: GSM388262 | HZ1: GSM388263 | IA1: GSM388264 | IB1: GSM388265 | IC1: GSM388266 | ID1: GSM388267 | IE1: GSM388268 | IF1: GSM388269 | IG1: GSM388270 | IH1: GSM388271 | II1: GSM388272 | IJ1: GSM388273 | IK1: GSM388274 | IL1: GSM388275 | IM1: GSM388276 | IN1: GSM388277 | IO1: GSM388278 | IP1: GSM388279 | IQ1: GSM388281 | IR1: GSM388282 | IS1: GSM388284 | IT1: GSM388285 | IU1: GSM388286 | IV1: GSM388287 | IW1: GSM388288 | IX1: GSM388289 | IY1: GSM388290 | IZ1: GSM388291 | JA1: GSM388292 | JB1: GSM388294 | JC1: GSM388295 | JD1: GSM388296 | JE1: GSM388297 | JF1: GSM388298 | JG1: GSM388299 | JH1: GSM388300 | JI1: GSM388301 | JJ1: GSM388302 | JK1: GSM388303 | JL1: GSM388304 | JM1: GSM388305 | JN1: GSM388306 | JO1: GSM388307 | JP1: GSM388308 | JQ1: GSM388309 | JR1: GSM388310 | JS1: GSM388311 | JT1: GSM388312 | JU1: GSM388313 | JV1: GSM388314 | JW1: GSM388315 | JX1: GSM388316 | JY1: GSM388317 | JZ1: GSM388318 | KA1: GSM388319 | KB1: GSM388320 | KC1: GSM388321 | KD1: GSM388322 | KE1: GSM388323 | KF1: GSM388324 | KG1: GSM388325 | KH1: GSM388326 | KI1: GSM388327 | KJ1: GSM388328 | KK1: GSM388329 | KL1: GSM388330 | KM1: GSM388331 | KN1: GSM388332 | KO1: GSM388333 | KP1: GSM388334 | KQ1: GSM388335 | KR1: GSM388336 | KS1: GSM388337 | KT1: GSM388338 | KU1: GSM388339 | KV1: GSM388340 | KW1: GSM388341 | KX1: GSM388342 | KY1: GSM388343 | KZ1: GSM388345 | LA1: GSM388346 | LB1: GSM388347 | LC1: GSM388348 | LD1: GSM388349 | LE1: GSM388350 | LF1: GSM388351 | LG1: GSM388352 | LH1: GSM388353 | LI1: GSM388354 | LJ1: GSM388355 | LK1: GSM388356 | LL1: GSM388357 | LM1: GSM388358 | LN1: GSM388359 | LO1: GSM388360 | LP1: GSM388361 | LQ1: GSM388362 | LR1: GSM388363 | LS1: GSM388364 | LT1: GSM388365 | LU1: GSM388366 | LV1: GSM388367 | LW1: GSM388368 | LX1: GSM388369 | LY1: GSM388370 | LZ1: GSM388371 | MA1: GSM388372 | MB1: GSM388373 | MC1: GSM388374 | MD1: GSM388375 | ME1: GSM388376 | MF1: GSM388377 | MG1: GSM388378 | MH1: GSM388379 | MI1: GSM388380 | MJ1: GSM388381 | MK1: GSM388382 | ML1: GSM388383 | MM1: GSM388384 | MN1: GSM388385 | MO1: GSM388386 | MP1: GSM388387 | MQ1: GSM388388 | MR1: GSM388389 | MS1: GSM388390 | MT1: GSM388391 | MU1: GSM388392 | MV1: GSM388393 | MW1: GSM388394 | MX1: GSM388395 | MY1: GSM388396 | MZ1: GSM388397
A2: !Sample_source_name_ch1 | B2: neuropathologically normal frozen temporal cortex | C2: neuropathologically normal frozen temporal cortex | D2: neuropathologically normal frozen temporal cortex | E2: neuropathologically normal frozen temporal cortex | F2: neuropathologically normal frozen temporal cortex | G2: neuropathologically normal frozen temporal cortex | H2: neuropathologically normal frozen temporal cortex | I2: neuropathologically normal frozen temporal cortex | J2: neuropathologically normal frozen temporal cortex | K2: neuropathologically normal frozen temporal cortex | L2: neuropathologically normal frozen temporal cortex | M2: neuropathologically normal frozen temporal cortex | N2: neuropathologically normal frozen temporal cortex | O2: neuropathologically normal frozen temporal cortex | P2: neuropathologically normal frozen temporal cortex | Q2: neuropathologically normal frozen temporal cortex | R2: neuropathologically normal frozen temporal cortex | S2: neuropathologically normal frozen temporal cortex | T2: neuropathologically normal frozen temporal cortex | U2: neuropathologically normal frozen temporal cortex | V2: neuropathologically normal frozen temporal cortex | W2: neuropathologically normal frozen frontal cortex | X2: neuropathologically normal frozen frontal cortex | Y2: neuropathologically normal frozen frontal cortex | Z2: neuropathologically normal frozen frontal cortex | AA2: neuropathologically normal frozen temporal cortex | AB2: neuropathologically normal frozen temporal cortex | AC2: neuropathologically normal frozen temporal cortex | AD2: neuropathologically normal frozen temporal cortex | AE2: neuropathologically normal frozen temporal cortex | AF2: neuropathologically normal frozen temporal cortex | AG2: neuropathologically normal frozen temporal cortex | AH2: neuropathologically normal frozen temporal cortex | AI2: neuropathologically normal frozen temporal cortex | AJ2: neuropathologically normal frozen temporal cortex | AK2: neuropathologically normal frozen temporal cortex | AL2: neuropathologically normal frozen temporal cortex | AM2: neuropathologically normal frozen temporal cortex | AN2: neuropathologically normal frozen temporal cortex | AO2: neuropathologically normal frozen temporal cortex | AP2: neuropathologically normal frozen temporal cortex | AQ2: neuropathologically normal frozen temporal cortex | AR2: neuropathologically normal frozen temporal cortex | AS2: neuropathologically normal frozen temporal cortex | AT2: neuropathologically normal frozen temporal cortex | AU2: neuropathologically normal frozen temporal cortex | AV2: neuropathologically normal frozen temporal cortex | AW2: neuropathologically normal frozen temporal cortex | AX2: neuropathologically normal frozen temporal cortex | AY2: neuropathologically normal frozen temporal cortex | AZ2: neuropathologically normal frozen temporal cortex | BA2: neuropathologically normal frozen temporal cortex | BB2: neuropathologically normal frozen temporal cortex | BC2: neuropathologically normal frozen temporal cortex | BD2: neuropathologically normal frozen frontal cortex | BE2: neuropathologically normal frozen frontal cortex | BF2: neuropathologically normal frozen temporal cortex | BG2: neuropathologically normal frozen temporal cortex | BH2: neuropathologically normal frozen temporal cortex | BI2: neuropathologically normal frozen temporal cortex | BJ2: neuropathologically normal frozen temporal cortex | BK2: neuropathologically normal frozen temporal cortex | BL2: neuropathologically normal frozen temporal cortex | BM2: neuropathologically normal frozen temporal cortex | BN2: neuropathologically normal frozen temporal cortex | BO2: neuropathologically normal frozen temporal cortex | BP2: neuropathologically normal frozen temporal cortex | BQ2: neuropathologically normal frozen temporal cortex | BR2: neuropathologically normal frozen temporal cortex | BS2: neuropathologically normal frozen temporal cortex | BT2: neuropathologically normal frozen temporal cortex | BU2: neuropathologically normal frozen temporal cortex | BV2: neuropathologically normal frozen temporal cortex | BW2: neuropathologically normal frozen temporal cortex | BX2: neuropathologically normal frozen temporal cortex | BY2: neuropathologically normal frozen temporal cortex | BZ2: neuropathologically normal frozen temporal cortex | CA2: neuropathologically normal frozen temporal cortex | CB2: neuropathologically normal frozen temporal cortex | CC2: neuropathologically normal frozen temporal cortex | CD2: neuropathologically normal frozen temporal cortex | CE2: neuropathologically normal frozen temporal cortex | CF2: neuropathologically normal frozen temporal cortex | CG2: neuropathologically normal frozen temporal cortex | CH2: neuropathologically normal frozen temporal cortex | CI2: neuropathologically normal frozen temporal cortex | CJ2: neuropathologically normal frozen temporal cortex | CK2: neuropathologically normal frozen temporal cortex | CL2: neuropathologically normal frozen temporal cortex | CM2: neuropathologically normal frozen temporal cortex | CN2: neuropathologically normal frozen temporal cortex | CO2: neuropathologically normal frozen temporal cortex | CP2: neuropathologically normal frozen temporal cortex | CQ2: neuropathologically normal frozen temporal cortex | CR2: neuropathologically normal frozen temporal cortex | CS2: neuropathologically normal frozen temporal cortex | CT2: neuropathologically normal frozen temporal cortex | CU2: neuropathologically normal frozen temporal cortex | CV2: neuropathologically normal frozen temporal cortex | CW2: neuropathologically normal frozen temporal cortex | CX2: neuropathologically normal frozen temporal cortex | CY2: neuropathologically normal frozen temporal cortex | CZ2: neuropathologically normal frozen temporal cortex | DA2: neuropathologically normal frozen temporal cortex | DB2: neuropathologically normal frozen temporal cortex | DC2: neuropathologically normal frozen temporal cortex | DD2: neuropathologically normal frozen temporal cortex | DE2: neuropathologically normal frozen temporal cortex | DF2: neuropathologically normal frozen temporal cortex | DG2: neuropathologically normal frozen temporal cortex | DH2: neuropathologically normal frozen temporal cortex | DI2: neuropathologically normal frozen temporal cortex | DJ2: neuropathologically normal frozen temporal cortex | DK2: neuropathologically normal frozen temporal cortex | DL2: neuropathologically normal frozen temporal cortex | DM2: neuropathologically normal frozen temporal cortex | DN2: neuropathologically normal frozen temporal cortex | DO2: neuropathologically normal frozen temporal cortex | DP2: neuropathologically normal frozen temporal cortex | DQ2: neuropathologically normal frozen temporal cortex | DR2: neuropathologically normal frozen temporal cortex | DS2: neuropathologically normal frozen temporal cortex | DT2: neuropathologically normal frozen frontal cortex | DU2: neuropathologically normal frozen frontal cortex | DV2: neuropathologically normal frozen frontal cortex | DW2: neuropathologically normal frozen frontal cortex | DX2: neuropathologically normal frozen temporal cortex | DY2: neuropathologically normal frozen temporal cortex | DZ2: neuropathologically normal frozen temporal cortex | EA2: neuropathologically normal frozen temporal cortex | EB2: neuropathologically normal frozen frontal cortex | EC2: neuropathologically normal frozen frontal cortex | ED2: neuropathologically normal frozen frontal cortex | EE2: neuropathologically normal frozen frontal cortex | EF2: neuropathologically normal frozen frontal cortex | EG2: neuropathologically normal frozen frontal cortex | EH2: neuropathologically normal frozen frontal cortex | EI2: neuropathologically normal frozen frontal cortex | EJ2: neuropathologically normal frozen frontal cortex | EK2: neuropathologically normal frozen frontal cortex | EL2: neuropathologically normal frozen frontal cortex | EM2: neuropathologically normal frozen frontal cortex | EN2: neuropathologically normal frozen temporal cortex | EO2: neuropathologically normal frozen frontal temporal cortex | EP2: neuropathologically normal frozen frontal temporal cortex | EQ2: neuropathologically normal frozen frontal cortex | ER2: neuropathologically normal frozen frontal cortex | ES2: neuropathologically normal frozen parietal cortex | ET2: neuropathologically normal frozen frontal cortex | EU2: neuropathologically normal frozen frontal temporal cortex | EV2: neuropathologically normal frozen frontal cortex | EW2: neuropathologically normal frozen unknown cortex | EX2: neuropathologically normal frozen unknown cortex | EY2: neuropathologically normal frozen unknown region cortex | EZ2: neuropathologically normal frozen unknown region cortex | FA2: neuropathologically normal frozen unknown region cortex | FB2: neuropathologically normal frozen unknown region cortex | FC2: neuropathologically normal frozen frontal cortex | FD2: neuropathologically normal frozen frontal cortex | FE2: neuropathologically normal frozen frontal cortex | FF2: neuropathologically normal frozen frontal cortex | FG2: neuropathologically normal frozen frontal cortex | FH2: neuropathologically normal frozen frontal cortex | FI2: neuropathologically normal frozen frontal cortex | FJ2: neuropathologically normal frozen frontal cortex | FK2: neuropathologically normal frozen frontal cortex | FL2: neuropathologically normal frozen frontal cortex | FM2: neuropathologically normal frozen frontal cortex | FN2: neuropathologically normal frozen frontal cortex | FO2: neuropathologically normal frozen frontal cortex | FP2: neuropathologically normal frozen frontal cortex | FQ2: neuropathologically normal frozen temporal cortex | FR2: neuropathologically normal frozen temporal cortex | FS2: neuropathologically normal frozen temporal cortex | FT2: neuropathologically normal frozen temporal cortex | FU2: neuropathologically normal frozen temporal cortex | FV2: neuropathologically normal frozen temporal cortex | FW2: neuropathologically normal frozen temporal cortex | FX2: neuropathologically normal frozen temporal cortex | FY2: neuropathologically normal frozen temporal cortex | FZ2: neuropathologically normal frozen temporal cortex | GA2: neuropathologically normal frozen temporal cortex | GB2: neuropathologically normal frozen temporal cortex | GC2: neuropathologically normal frozen temporal cortex | GD2: neuropathologically normal frozen temporal cortex | GE2: neuropathologically normal frozen parietal cortex | GF2: neuropathologically normal frozen parietal cortex | GG2: Alzheimer's Disease frozen cortical tissue | GH2: Alzheimer's Disease frozen cortical tissue | GI2: Alzheimer's Disease frozen cortical tissue | GJ2: Alzheimer's Disease frozen cortical tissue | GK2: Alzheimer's Disease frozen cortical tissue | GL2: Alzheimer's Disease frozen cortical tissue | GM2: Alzheimer's Disease frozen cortical tissue | GN2: Alzheimer's Disease frozen cortical tissue | GO2: Alzheimer's Disease frozen cortical tissue | GP2: Alzheimer's Disease frozen cortical tissue | GQ2: Alzheimer's Disease frozen cortical tissue | GR2: Alzheimer's Disease frozen cortical tissue | GS2: Alzheimer's Disease frozen cortical tissue | GT2: Alzheimer's Disease frozen cortical tissue | GU2: Alzheimer's Disease frozen cortical tissue | GV2: Alzheimer's Disease frozen cortical tissue | GW2: Alzheimer's Disease frozen cortical tissue | GX2: Alzheimer's Disease frozen cortical tissue | GY2: Alzheimer's Disease frozen cortical tissue | GZ2: Alzheimer's Disease frozen cortical tissue | HA2: Alzheimer's Disease frozen cortical tissue | HB2: Alzheimer's Disease frozen cortical tissue | HC2: Alzheimer's Disease frozen cortical tissue | HD2: Alzheimer's Disease frozen cortical tissue | HE2: Alzheimer's Disease frozen cortical tissue | HF2: Alzheimer's Disease frozen cortical tissue | HG2: Alzheimer's Disease frozen cortical tissue | HH2: Alzheimer's Disease frozen cortical tissue | HI2: Alzheimer's Disease frozen cortical tissue | HJ2: Alzheimer's Disease frozen cortical tissue | HK2: Alzheimer's Disease frozen cortical tissue | HL2: Alzheimer's Disease frozen cortical tissue | HM2: Alzheimer's Disease frozen cortical tissue | HN2: Alzheimer's Disease frozen cortical tissue | HO2: Alzheimer's Disease frozen cortical tissue | HP2: Alzheimer's Disease frozen cortical tissue | HQ2: Alzheimer's Disease frozen cortical tissue | HR2: Alzheimer's Disease frozen cortical tissue | HS2: Alzheimer's Disease frozen cortical tissue | HT2: Alzheimer's Disease frozen cortical tissue | HU2: Alzheimer's Disease frozen cortical tissue | HV2: Alzheimer's Disease frozen cortical tissue | HW2: Alzheimer's Disease frozen cortical tissue | HX2: Alzheimer's Disease frozen cortical tissue | HY2: Alzheimer's Disease frozen cortical tissue | HZ2: Alzheimer's Disease frozen cortical tissue | IA2: Alzheimer's Disease frozen cortical tissue | IB2: Alzheimer's Disease frozen cortical tissue | IC2: Alzheimer's Disease frozen cortical tissue | ID2: Alzheimer's Disease frozen cortical tissue | IE2: Alzheimer's Disease frozen cortical tissue | IF2: Alzheimer's Disease frozen cortical tissue | IG2: Alzheimer's Disease frozen cortical tissue | IH2: Alzheimer's Disease frozen cortical tissue | II2: Alzheimer's Disease frozen cortical tissue | IJ2: Alzheimer's Disease frozen cortical tissue | IK2: Alzheimer's Disease frozen cortical tissue | IL2: Alzheimer's Disease frozen cortical tissue | IM2: Alzheimer's Disease frozen cortical tissue | IN2: Alzheimer's Disease frozen cortical tissue | IO2: Alzheimer's Disease frozen cortical tissue | IP2: Alzheimer's Disease frozen cortical tissue | IQ2: Alzheimer's Disease frozen cortical tissue | IR2: Alzheimer's Disease frozen cortical tissue | IS2: Alzheimer's Disease frozen cortical tissue | IT2: Alzheimer's Disease frozen cortical tissue | IU2: Alzheimer's Disease frozen cortical tissue | IV2: Alzheimer's Disease frozen cortical tissue | IW2: Alzheimer's Disease frozen cortical tissue | IX2: Alzheimer's Disease frozen cortical tissue | IY2: Alzheimer's Disease frozen cortical tissue | IZ2: Alzheimer's Disease frozen cortical tissue | JA2: Alzheimer's Disease frozen cortical tissue | JB2: Alzheimer's Disease frozen cortical tissue | JC2: Alzheimer's Disease frozen cortical tissue | JD2: Alzheimer's Disease frozen cortical tissue | JE2: Alzheimer's Disease frozen cortical tissue | JF2: Alzheimer's Disease frozen cortical tissue | JG2: Alzheimer's Disease frozen cortical tissue | JH2: Alzheimer's Disease frozen cortical tissue | JI2: Alzheimer's Disease frozen cortical tissue | JJ2: Alzheimer's Disease frozen cortical tissue | JK2: Alzheimer's Disease frozen cortical tissue | JL2: Alzheimer's Disease frozen cortical tissue | JM2: Alzheimer's Disease frozen cortical tissue | JN2: Alzheimer's Disease frozen cortical tissue | JO2: Alzheimer's Disease frozen cortical tissue | JP2: Alzheimer's Disease frozen cortical tissue | JQ2: Alzheimer's Disease frozen cortical tissue | JR2: Alzheimer's Disease frozen cortical tissue | JS2: Alzheimer's Disease frozen cortical tissue | JT2: Alzheimer's Disease frozen cortical tissue | JU2: Alzheimer's Disease frozen cortical tissue | JV2: Alzheimer's Disease frozen cortical tissue | JW2: Alzheimer's Disease frozen cortical tissue | JX2: Alzheimer's Disease frozen cortical tissue | JY2: Alzheimer's Disease frozen cortical tissue | JZ2: Alzheimer's Disease frozen cortical tissue | KA2: Alzheimer's Disease frozen cortical tissue | KB2: Alzheimer's Disease frozen cortical tissue | KC2: Alzheimer's Disease frozen cortical tissue | KD2: Alzheimer's Disease frozen cortical tissue | KE2: Alzheimer's Disease frozen cortical tissue | KF2: Alzheimer's Disease frozen cortical tissue | KG2: Alzheimer's Disease frozen cortical tissue | KH2: Alzheimer's Disease frozen cortical tissue | KI2: Alzheimer's Disease frozen cortical tissue | KJ2: Alzheimer's Disease frozen cortical tissue | KK2: Alzheimer's Disease frozen cortical tissue | KL2: Alzheimer's Disease frozen cortical tissue | KM2: Alzheimer's Disease frozen cortical tissue | KN2: Alzheimer's Disease frozen cortical tissue | KO2: Alzheimer's Disease frozen cortical tissue | KP2: Alzheimer's Disease frozen cortical tissue | KQ2: Alzheimer's Disease frozen cortical tissue | KR2: Alzheimer's Disease frozen cortical tissue | KS2: Alzheimer's Disease frozen cortical tissue | KT2: Alzheimer's Disease frozen cortical tissue | KU2: Alzheimer's Disease frozen cortical tissue | KV2: Alzheimer's Disease frozen cortical tissue | KW2: Alzheimer's Disease frozen cortical tissue | KX2: Alzheimer's Disease frozen cortical tissue | KY2: Alzheimer's Disease frozen cortical tissue | KZ2: Alzheimer's Disease frozen cortical tissue | LA2: Alzheimer's Disease frozen cortical tissue | LB2: Alzheimer's Disease frozen cortical tissue | LC2: Alzheimer's Disease frozen cortical tissue | LD2: Alzheimer's Disease frozen cortical tissue | LE2: Alzheimer's Disease frozen cortical tissue | LF2: Alzheimer's Disease frozen cortical tissue | LG2: Alzheimer's Disease frozen cortical tissue | LH2: Alzheimer's Disease frozen cortical tissue | LI2: Alzheimer's Disease frozen cortical tissue | LJ2: Alzheimer's Disease frozen cortical tissue | LK2: Alzheimer's Disease frozen cortical tissue | LL2: Alzheimer's Disease frozen cortical tissue | LM2: Alzheimer's Disease frozen cortical tissue | LN2: Alzheimer's Disease frozen cortical tissue | LO2: Alzheimer's Disease frozen cortical tissue | LP2: Alzheimer's Disease frozen cortical tissue | LQ2: Alzheimer's Disease frozen cortical tissue | LR2: Alzheimer's Disease frozen cortical tissue | LS2: Alzheimer's Disease frozen cortical tissue | LT2: Alzheimer's Disease frozen cortical tissue | LU2: Alzheimer's Disease frozen cortical tissue | LV2: Alzheimer's Disease frozen cortical tissue | LW2: Alzheimer's Disease frozen cortical tissue | LX2: Alzheimer's Disease frozen cortical tissue | LY2: Alzheimer's Disease frozen cortical tissue | LZ2: Alzheimer's Disease frozen cortical tissue | MA2: Alzheimer's Disease frozen cortical tissue | MB2: Alzheimer's Disease frozen cortical tissue | MC2: Alzheimer's Disease frozen cortical tissue | MD2: Alzheimer's Disease frozen cortical tissue | ME2: Alzheimer's Disease frozen cortical tissue | MF2: Alzheimer's Disease frozen cortical tissue | MG2: Alzheimer's Disease frozen cortical tissue | MH2: Alzheimer's Disease frozen cortical tissue | MI2: Alzheimer's Disease frozen cortical tissue | MJ2: Alzheimer's Disease frozen cortical tissue | MK2: Alzheimer's Disease frozen cortical tissue | ML2: Alzheimer's Disease frozen cortical tissue | MM2: Alzheimer's Disease frozen cortical tissue | MN2: Alzheimer's Disease frozen cortical tissue | MO2: Alzheimer's Disease frozen cortical tissue | MP2: Alzheimer's Disease frozen cortical tissue | MQ2: Alzheimer's Disease frozen cortical tissue | MR2: Alzheimer's Disease frozen cortical tissue | MS2: Alzheimer's Disease frozen cortical tissue | MT2: Alzheimer's Disease frozen cortical tissue | MU2: Alzheimer's Disease frozen cortical tissue | MV2: Alzheimer's Disease frozen cortical tissue | MW2: Alzheimer's Disease frozen cortical tissue | MX2: Alzheimer's Disease frozen cortical tissue | MY2: Alzheimer's Disease frozen cortical tissue | MZ2: Alzheimer's Disease frozen cortical tissue
A3: Alzheimer | B3: Normal | C3: Normal | D3: Normal | E3: Normal | F3: Normal | G3: Normal | H3: Normal | I3: Normal | J3: Normal | K3: Normal | L3: Normal | M3: Normal | N3: Normal | O3: Normal | P3: Normal | Q3: Normal | R3: Normal | S3: Normal | T3: Normal | U3: Normal | V3: Normal | W3: Normal | X3: Normal | Y3: Normal | Z3: Normal | AA3: Normal | AB3: Normal | AC3: Normal | AD3: Normal | AE3: Normal | AF3: Normal | AG3: Normal | AH3: Normal | AI3: Normal | AJ3: Normal | AK3: Normal | AL3: Normal | AM3: Normal | AN3: Normal | AO3: Normal | AP3: Normal | AQ3: Normal | AR3: Normal | AS3: Normal | AT3: Normal | AU3: Normal | AV3: Normal | AW3: Normal | AX3: Normal | AY3: Normal | AZ3: Normal | BA3: Normal | BB3: Normal | BC3: Normal | BD3: Normal | BE3: Normal | BF3: Normal | BG3: Normal | BH3: Normal | BI3: Normal | BJ3: Normal | BK3: Normal | BL3: Normal | BM3: Normal | BN3: Normal | BO3: Normal | BP3: Normal | BQ3: Normal | BR3: Normal | BS3: Normal | BT3: Normal | BU3: Normal | BV3: Normal | BW3: Normal | BX3: Normal | BY3: Normal | BZ3: Normal | CA3: Normal | CB3: Normal | CC3: Normal | CD3: Normal | CE3: Normal | CF3: Normal | CG3: Normal | CH3: Normal | CI3: Normal | CJ3: Normal | CK3: Normal | CL3: Normal | CM3: Normal | CN3: Normal | CO3: Normal | CP3: Normal | CQ3: Normal | CR3: Normal | CS3: Normal | CT3: Normal | CU3: Normal | CV3: Normal | CW3: Normal | CX3: Normal | CY3: Normal | CZ3: Normal | DA3: Normal | DB3: Normal | DC3: Normal | DD3: Normal | DE3: Normal | DF3: Normal | DG3: Normal | DH3: Normal | DI3: Normal | DJ3: Normal | DK3: Normal | DL3: Normal | DM3: Normal | DN3: Normal | DO3: Normal | DP3: Normal | DQ3: Normal | DR3: Normal | DS3: Normal | DT3: Normal | DU3: Normal | DV3: Alzheimer | DW3: Normal | DX3: Normal | DY3: Normal | DZ3: Normal | EA3: Normal | EB3: Normal | EC3: Normal | ED3: Normal | EE3: Normal | EF3: Normal | EG3: Normal | EH3: Normal | EI3: Normal | EJ3: Normal | EK3: Normal | EL3: Normal | EM3: Normal | EN3: Normal | EO3: Normal | EP3: Normal | EQ3: Normal | ER3: Normal | ES3: Normal | ET3: Normal | EU3: Normal | EV3: Normal | EW3: Normal | EX3: Normal | EY3: Normal | EZ3: Normal | FA3: Normal | FB3: Normal | FC3: Normal | FD3: Normal | FE3: Normal | FF3: Normal | FG3: Normal | FH3: Normal | FI3: Normal | FJ3: Normal | FK3: Normal | FL3: Normal | FM3: Normal | FN3: Normal | FO3: Normal | FP3: Normal | FQ3: Normal | FR3: Normal | FS3: Normal | FT3: Normal | FU3: Normal | FV3: Normal | FW3: Normal | FX3: Normal | FY3: Normal | FZ3: Normal | GA3: Normal | GB3: Normal | GC3: Normal | GD3: Normal | GE3: Normal | GF3: Normal | GG3: Alzheimer | GH3: Alzheimer | GI3: Alzheimer | GJ3: Alzheimer | GK3: Alzheimer | GL3: Alzheimer | GM3: Alzheimer | GN3: Alzheimer | GO3: Alzheimer | GP3: Alzheimer | GQ3: Alzheimer | GR3: Alzheimer | GS3: Alzheimer | GT3: Alzheimer | GU3: Alzheimer | GV3: Alzheimer | GW3: Alzheimer | GX3: Alzheimer | GY3: Alzheimer | GZ3: Alzheimer | HA3: Alzheimer | HB3: Alzheimer | HC3: Alzheimer | HD3: Alzheimer | HE3: Alzheimer | HF3: Alzheimer | HG3: Alzheimer | HH3: Alzheimer | HI3: Alzheimer | HJ3: Alzheimer | HK3: Alzheimer | HL3: Alzheimer | HM3: Alzheimer | HN3: Alzheimer | HO3: Alzheimer | HP3: Alzheimer | HQ3: Alzheimer | HR3: Alzheimer | HS3: Alzheimer | HT3: Alzheimer | HU3: Alzheimer | HV3: Alzheimer | HW3: Alzheimer | HX3: Alzheimer | HY3: Alzheimer | HZ3: Alzheimer | IA3: Alzheimer | IB3: Alzheimer | IC3: Alzheimer | ID3: Alzheimer | IE3: Alzheimer | IF3: Alzheimer | IG3: Alzheimer | IH3: Alzheimer | II3: Alzheimer | IJ3: Alzheimer | IK3: Alzheimer | IL3: Alzheimer | IM3: Alzheimer | IN3: Alzheimer | IO3: Alzheimer | IP3: Alzheimer | IQ3: Alzheimer | IR3: Alzheimer | IS3: Alzheimer | IT3: Alzheimer | IU3: Alzheimer | IV3: Alzheimer | IW3: Alzheimer | IX3: Alzheimer | IY3: Alzheimer | IZ3: Alzheimer | JA3: Alzheimer | JB3: Alzheimer | JC3: Alzheimer | JD3: Alzheimer | JE3: Alzheimer | JF3: Alzheimer | JG3: Alzheimer | JH3: Alzheimer | JI3: Alzheimer | JJ3: Alzheimer | JK3: Alzheimer | JL3: Alzheimer | JM3: Alzheimer | JN3: Alzheimer | JO3: Alzheimer | JP3: Alzheimer | JQ3: Alzheimer | JR3: Alzheimer | JS3: Alzheimer | JT3: Alzheimer | JU3: Alzheimer | JV3: Alzheimer | JW3: Alzheimer | JX3: Alzheimer | JY3: Alzheimer | JZ3: Alzheimer | KA3: Alzheimer | KB3: Alzheimer | KC3: Alzheimer | KD3: Alzheimer | KE3: Alzheimer | KF3: Alzheimer | KG3: Alzheimer | KH3: Alzheimer | KI3: Alzheimer | KJ3: Alzheimer | KK3: Alzheimer | KL3: Alzheimer | KM3: Alzheimer | KN3: Alzheimer | KO3: Alzheimer | KP3: Alzheimer | KQ3: Alzheimer | KR3: Alzheimer | KS3: Alzheimer | KT3: Alzheimer | KU3: Alzheimer | KV3: Alzheimer | KW3: Alzheimer | KX3: Alzheimer | KY3: Alzheimer | KZ3: Alzheimer | LA3: Alzheimer | LB3: Alzheimer | LC3: Alzheimer | LD3: Alzheimer | LE3: Alzheimer | LF3: Alzheimer | LG3: Alzheimer | LH3: Alzheimer | LI3: Alzheimer | LJ3: Alzheimer | LK3: Alzheimer | LL3: Alzheimer | LM3: Alzheimer | LN3: Alzheimer | LO3: Alzheimer | LP3: Alzheimer | LQ3: Alzheimer | LR3: Alzheimer | LS3: Alzheimer | LT3: Alzheimer | LU3: Alzheimer | LV3: Alzheimer | LW3: Alzheimer | LX3: Alzheimer | LY3: Alzheimer | LZ3: Alzheimer | MA3: Alzheimer | MB3: Alzheimer | MC3: Alzheimer | MD3: Alzheimer | ME3: Alzheimer | MF3: Alzheimer | MG3: Alzheimer | MH3: Alzheimer | MI3: Alzheimer | MJ3: Alzheimer | MK3: Alzheimer | ML3: Alzheimer | MM3: Alzheimer | MN3: Alzheimer | MO3: Alzheimer | MP3: Alzheimer | MQ3: Alzheimer | MR3: Alzheimer | MS3: Alzheimer | MT3: Alzheimer | MU3: Alzheimer | MV3: Alzheimer | MW3: Alzheimer | MX3: Alzheimer | MY3: Alzheimer | MZ3: Alzheimer
A4: Sex | B4: male | C4: male | D4: male | E4: female | F4: female | G4: male | H4: male | I4: male | J4: male | K4: male | L4: female | M4: male | N4: male | O4: female | P4: male | Q4: male | R4: male | S4: female | T4: female | U4: male | V4: male | W4: male | X4: female | Y4: female | Z4: male | AA4: male | AB4: male | AC4: female | AD4: male | AE4: male | AF4: female | AG4: female | AH4: male | AI4: male | AJ4: male | AK4: male | AL4: male | AM4: female | AN4: male | AO4: female | AP4: female | AQ4: female | AR4: female | AS4: female | AT4: female | AU4: female | AV4: female | AW4: male | AX4: female | AY4: male | AZ4: male | BA4: male | BB4: female | BC4: male | BD4: male | BE4: male | BF4: female | BG4: female | BH4: male | BI4: male | BJ4: male | BK4: female | BL4: female | BM4: male | BN4: male | BO4: female | BP4: female | BQ4: male | BR4: male | BS4: female | BT4: female | BU4: female | BV4: male | BW4: male | BX4: female | BY4: female | BZ4: female | CA4: female | CB4: female | CC4: female | CD4: male | CE4: male | CF4: female | CG4: female | CH4: male | CI4: male | CJ4: female | CK4: male | CL4: male | CM4: female | CN4: male | CO4: male | CP4: female | CQ4: male | CR4: female | CS4: male | CT4: female | CU4: male | CV4: female | CW4: female | CX4: male | CY4: male | CZ4: male | DA4: male | DB4: male | DC4: male | DD4: male | DE4: female | DF4: female | DG4: male | DH4: male | DI4: female | DJ4: male | DK4: male | DL4: female | DM4: male | DN4: female | DO4: female | DP4: male | DQ4: male | DR4: female | DS4: female | DT4: male | DU4: male | DV4: female | DW4: male | DX4: female | DY4: male | DZ4: female | EA4: male | EB4: female | EC4: female | ED4: male | EE4: male | EF4: female | EG4: female | EH4: female | EI4: male | EJ4: female | EK4: female | EL4: male | EM4: female | EN4: female | EO4: male | EP4: female | EQ4: female | ER4: male | ES4: male | ET4: male | EU4: male | EV4: male | EW4: female | EX4: female | EY4: female | EZ4: female | FA4: female | FB4: female | FC4: male | FD4: male | FE4: male | FF4: male | FG4: female | FH4: female | FI4: male | FJ4: male | FK4: male | FL4: male | FM4: male | FN4: female | FO4: female | FP4: female | FQ4: female | FR4: male | FS4: male | FT4: male | FU4: male | FV4: male | FW4: female | FX4: male | FY4: female | FZ4: male | GA4: male | GB4: female | GC4: male | GD4: female | GE4: female | GF4: male | GG4: Female | GH4: Female | GI4: male | GJ4: Female | GK4: Female | GL4: Female | GM4: male | GN4: Female | GO4: male | GP4: male | GQ4: Female | GR4: male | GS4: Female | GT4: Female | GU4: Female | GV4: male | GW4: male | GX4: male | GY4: male | GZ4: male | HA4: Female | HB4: Female | HC4: male | HD4: Female | HE4: male | HF4: Female | HG4: Female | HH4: male | HI4: male | HJ4: Female | HK4: Female | HL4: Female | HM4: Female | HN4: male | HO4: Female | HP4: Female | HQ4: male | HR4: Female | HS4: Female | HT4: Female | HU4: male | HV4: male | HW4: male | HX4: Female | HY4: male | HZ4: male | IA4: male | IB4: male | IC4: Female | ID4: Female | IE4: male | IF4: Female | IG4: Female | IH4: male | II4: Female | IJ4: male | IK4: Female | IL4: Female | IM4: Female | IN4: Female | IO4: Female | IP4: Female | IQ4: Female | IR4: male | IS4: male | IT4: male | IU4: male | IV4: male | IW4: male | IX4: male | IY4: Female | IZ4: Female | JA4: Female | JB4: male | JC4: male | JD4: male | JE4: Female | JF4: male | JG4: male | JH4: Female | JI4: Female | JJ4: male | JK4: Female | JL4: Female | JM4: male | JN4: male | JO4: male | JP4: Female | JQ4: male | JR4: Female | JS4: male | JT4: male | JU4: male | JV4: Female | JW4: Female | JX4: male | JY4: Female | JZ4: Female | KA4: male | KB4: male | KC4: Female | KD4: Female | KE4: Female | KF4: male | KG4: male | KH4: Female | KI4: Female | KJ4: male | KK4: male | KL4: male | KM4: male | KN4: male | KO4: Female | KP4: male | KQ4: male | KR4: Female | KS4: male | KT4: Female | KU4: Female | KV4: Female | KW4: male | KX4: male | KY4: male | KZ4: Female | LA4: Female | LB4: male | LC4: male | LD4: Female | LE4: Female | LF4: Female | LG4: male | LH4: Female | LI4: Female | LJ4: Female | LK4: male | LL4: male | LM4: Female | LN4: male | LO4: Female | LP4: male | LQ4: Female | LR4: male | LS4: Female | LT4: Female | LU4: male | LV4: Female | LW4: Female | LX4: male | LY4: male | LZ4: Female | MA4: Female | MB4: male | MC4: Female | MD4: Female | ME4: male | MF4: Female | MG4: male | MH4: male | MI4: male | MJ4: male | MK4: male | ML4: Female | MM4: Female | MN4: male | MO4: Female | MP4: male | MQ4: male | MR4: male | MS4: Female | MT4: Female | MU4: Female | MV4: male | MW4: male | MX4: Female | MY4: male | MZ4: male
A5: Age | B5: 85 | C5: 85 | D5: 79 | E5: 85 | F5: 73 | G5: 81 | H5: 79 | I5: 77 | J5: 69 | K5: 86 | L5: 83 | M5: 78 | N5: 94 | O5: 81 | P5: 76 | Q5: 83 | R5: 68 | S5: 82 | T5: 70 | U5: 86 | V5: 78 | W5: 82 | X5: 94 | Y5: 87 | Z5: 74 | AA5: 85 | AB5: 75 | AC5: 86 | AD5: 75 | AE5: 81 | AF5: 72 | AG5: 81 | AH5: 81 | AI5: 81 | AJ5: 91 | AK5: 84 | AL5: 96 | AM5: 97 | AN5: 90 | AO5: 67 | AP5: 83 | AQ5: 82 | AR5: 66 | AS5: 72 | AT5: 65 | AU5: 75 | AV5: 74 | AW5: 68 | AX5: 80 | AY5: 80 | AZ5: 66 | BA5: 88 | BB5: 91 | BC5: 73 | BD5: 76 | BE5: 75 | BF5: 86 | BG5: 72 | BH5: 97 | BI5: 86 | BJ5: 82 | BK5: 95 | BL5: 76 | BM5: 76 | BN5: 69 | BO5: 80 | BP5: 99 | BQ5: 68 | BR5: 70 | BS5: 87 | BT5: 99 | BU5: 88 | BV5: 65 | BW5: 82 | BX5: 78 | BY5: 85 | BZ5: 100 | CA5: 87 | CB5: 85 | CC5: 97 | CD5: 65 | CE5: 65 | CF5: 87 | CG5: 85 | CH5: 68 | CI5: 71 | CJ5: 83 | CK5: 76 | CL5: 67 | CM5: 100 | CN5: 79 | CO5: 74 | CP5: 88 | CQ5: 70 | CR5: 97 | CS5: 69 | CT5: 99 | CU5: 81 | CV5: 85 | CW5: 82 | CX5: 70 | CY5: 73 | CZ5: 83 | DA5: 74 | DB5: 77 | DC5: 81 | DD5: 65 | DE5: 73 | DF5: 85 | DG5: 69 | DH5: 72 | DI5: 76 | DJ5: 73 | DK5: 66 | DL5: 85 | DM5: 87 | DN5: 86 | DO5: 73 | DP5: 86 | DQ5: 72 | DR5: 69 | DS5: 88 | DT5: 77 | DU5: 96 | DV5: 78 | DW5: 77 | DX5: 99 | DY5: 78 | DZ5: 76 | EA5: 78 | EB5: 97 | EC5: 86 | ED5: 77 | EE5: 87 | EF5: 72 | EG5: 91 | EH5: 85 | EI5: 88 | EJ5: 86 | EK5: 93 | EL5: 82 | EM5: 72 | EN5: 85 | EO5: 70 | EP5: 67 | EQ5: 74 | ER5: 69 | ES5: 85 | ET5: 89 | EU5: 86 | EV5: 90 | EW5: 94 | EX5: 91 | EY5: 91 | EZ5: 95 | FA5: 95 | FB5: 91 | FC5: 80 | FD5: 83 | FE5: 67 | FF5: 76 | FG5: 86 | FH5: 86 | FI5: 83 | FJ5: 84 | FK5: 80 | FL5: 72 | FM5: 67 | FN5: 96 | FO5: 75 | FP5: 89 | FQ5: 86 | FR5: 67 | FS5: 77 | FT5: 65 | FU5: 69 | FV5: 84 | FW5: 85 | FX5: 94 | FY5: 89 | FZ5: 87 | GA5: 90 | GB5: 88 | GC5: 94 | GD5: 86 | GE5: 93 | GF5: 91 | GG5: 97 | GH5: 101.1 | GI5: 84 | GJ5: 95.3 | GK5: 97.6 | GL5: 102.3 | GM5: 87 | GN5: 77 | GO5: 87 | GP5: 84 | GQ5: 92.5 | GR5: 93 | GS5: 93.9 | GT5: 87 | GU5: 90 | GV5: 75 | GW5: 92 | GX5: 83.6 | GY5: 88.9 | GZ5: 89 | HA5: 74.8 | HB5: 79.6 | HC5: 80.6 | HD5: 97.3 | HE5: 87 | HF5: 89.7 | HG5: 90.1 | HH5: 90.7 | HI5: 78 | HJ5: 80 | HK5: 79 | HL5: 87 | HM5: 88 | HN5: 86 | HO5: 74 | HP5: 72 | HQ5: 81 | HR5: 68 | HS5: 81 | HT5: 82 | HU5: 78 | HV5: 74 | HW5: 88 | HX5: 78 | HY5: 83 | HZ5: 83 | IA5: 80 | IB5: 84 | IC5: 79 | ID5: 86 | IE5: 92 | IF5: 81 | IG5: 79 | IH5: 74 | II5: 73 | IJ5: 87 | IK5: 86 | IL5: 86 | IM5: 87 | IN5: 92 | IO5: 78 | IP5: 94 | IQ5: 94 | IR5: 76 | IS5: 91 | IT5: 86 | IU5: 77 | IV5: 82 | IW5: 78 | IX5: 79 | IY5: 84 | IZ5: 87 | JA5: 86 | JB5: 83.7 | JC5: 83 | JD5: 81 | JE5: 93 | JF5: 71 | JG5: 78 | JH5: 75 | JI5: 84 | JJ5: 73 | JK5: 89 | JL5: NA | JM5: 69 | JN5: 83 | JO5: 71 | JP5: 86 | JQ5: 82 | JR5: NA | JS5: 88 | JT5: 77 | JU5: 85 | JV5: 81 | JW5: 86 | JX5: 89 | JY5: 73 | JZ5: 96 | KA5: 73 | KB5: 81 | KC5: 84 | KD5: 93 | KE5: 82 | KF5: 76 | KG5: 77 | KH5: 86 | KI5: 85 | KJ5: 83 | KK5: 76 | KL5: 81 | KM5: 79 | KN5: 81 | KO5: 78 | KP5: 80 | KQ5: 84 | KR5: 85 | KS5: 75 | KT5: 80 | KU5: 97 | KV5: 82 | KW5: 82 | KX5: 77 | KY5: 81 | KZ5: 96 | LA5: 90 | LB5: 86 | LC5: 88 | LD5: 90 | LE5: 90 | LF5: 84 | LG5: 84 | LH5: 91 | LI5: 81 | LJ5: 84 | LK5: 80 | LL5: 81 | LM5: 87 | LN5: 85 | LO5: 90 | LP5: 79 | LQ5: 87 | LR5: 75 | LS5: 92 | LT5: 84 | LU5: 75 | LV5: 76 | LW5: 86 | LX5: 82 | LY5: 76 | LZ5: 81 | MA5: 80 | MB5: 83 | MC5: 83 | MD5: 84 | ME5: 93 | MF5: 92 | MG5: 78 | MH5: 90 | MI5: 83 | MJ5: 79 | MK5: 84 | ML5: 90 | MM5: 88 | MN5: 77 | MO5: 80 | MP5: 87 | MQ5: 86 | MR5: 74.8 | MS5: 86 | MT5: 81.9 | MU5: 73.1 | MV5: 83 | MW5: 86.4 | MX5: 86.5 | MY5: 78 | MZ5: 83
A6: Region | B6: temporal cortex | C6: temporal cortex | D6: temporal cortex | E6: temporal cortex | F6: temporal cortex | G6: temporal cortex | H6: temporal cortex | I6: temporal cortex | J6: temporal cortex | K6: temporal cortex | L6: temporal cortex | M6: temporal cortex | N6: temporal cortex | O6: temporal cortex | P6: temporal cortex | Q6: temporal cortex | R6: temporal cortex | S6: temporal cortex | T6: temporal cortex | U6: temporal cortex | V6: temporal cortex | W6: frontal cortex | X6: frontal cortex | Y6: frontal cortex | Z6: frontal cortex | AA6: temporal cortex | AB6: temporal cortex | AC6: temporal cortex | AD6: temporal cortex | AE6: temporal cortex | AF6: temporal cortex | AG6: temporal cortex | AH6: temporal cortex | AI6: temporal cortex | AJ6: temporal cortex | AK6: temporal cortex | AL6: temporal cortex | AM6: temporal cortex | AN6: temporal cortex | AO6: temporal cortex | AP6: temporal cortex | AQ6: temporal cortex | AR6: temporal cortex | AS6: temporal cortex | AT6: temporal cortex | AU6: temporal cortex | AV6: temporal cortex | AW6: temporal cortex | AX6: temporal cortex | AY6: temporal cortex | AZ6: temporal cortex | BA6: temporal cortex | BB6: temporal cortex | BC6: temporal cortex | BD6: frontal cortex | BE6: frontal cortex | BF6: temporal cortex | BG6: temporal cortex | BH6: temporal cortex | BI6: temporal cortex | BJ6: temporal cortex | BK6: temporal cortex | BL6: temporal cortex | BM6: temporal cortex | BN6: temporal cortex | BO6: temporal cortex | BP6: temporal cortex | BQ6: temporal cortex | BR6: temporal cortex | BS6: temporal cortex | BT6: temporal cortex | BU6: temporal cortex | BV6: temporal cortex | BW6: temporal cortex | BX6: temporal cortex | BY6: temporal cortex | BZ6: temporal cortex | CA6: temporal cortex | CB6: temporal cortex | CC6: temporal cortex | CD6: temporal cortex | CE6: temporal cortex | CF6: temporal cortex | CG6: temporal cortex | CH6: temporal cortex | CI6: temporal cortex | CJ6: temporal cortex | CK6: temporal cortex | CL6: temporal cortex | CM6: temporal cortex | CN6: temporal cortex | CO6: temporal cortex | CP6: temporal cortex | CQ6: temporal cortex | CR6: temporal cortex | CS6: temporal cortex | CT6: temporal cortex | CU6: temporal cortex | CV6: temporal cortex | CW6: temporal cortex | CX6: temporal cortex | CY6: temporal cortex | CZ6: temporal cortex | DA6: temporal cortex | DB6: temporal cortex | DC6: temporal cortex | DD6: temporal cortex | DE6: temporal cortex | DF6: temporal cortex | DG6: temporal cortex | DH6: temporal cortex | DI6: temporal cortex | DJ6: temporal cortex | DK6: temporal cortex | DL6: temporal cortex | DM6: temporal cortex | DN6: temporal cortex | DO6: temporal cortex | DP6: temporal cortex | DQ6: temporal cortex | DR6: temporal cortex | DS6: temporal cortex | DT6: frontal cortex | DU6: frontal cortex | DV6: frontal cortex | DW6: frontal cortex | DX6: temporal cortex | DY6: temporal cortex | DZ6: temporal cortex | EA6: temporal cortex | EB6: frontal cortex | EC6: frontal cortex | ED6: frontal cortex | EE6: frontal cortex | EF6: frontal cortex | EG6: frontal cortex | EH6: frontal cortex | EI6: frontal cortex | EJ6: frontal cortex | EK6: frontal cortex | EL6: frontal cortex | EM6: frontal cortex | EN6: temporal cortex | EO6: frontal temporal cortex | EP6: frontal temporal cortex | EQ6: frontal cortex | ER6: frontal cortex | ES6: parietal cortex | ET6: frontal cortex | EU6: frontal temporal cortex | EV6: frontal cortex | EW6: unknown cortex | EX6: unknown cortex | EY6: unknown region cortex | EZ6: unknown region cortex | FA6: unknown region cortex | FB6: unknown region cortex | FC6: frontal cortex | FD6: frontal cortex | FE6: frontal cortex | FF6: frontal cortex | FG6: frontal cortex | FH6: frontal cortex | FI6: frontal cortex | FJ6: frontal cortex | FK6: frontal cortex | FL6: frontal cortex | FM6: frontal cortex | FN6: frontal cortex | FO6: frontal cortex | FP6: frontal cortex | FQ6: temporal cortex | FR6: temporal cortex | FS6: temporal cortex | FT6: temporal cortex | FU6: temporal cortex | FV6: temporal cortex | FW6: temporal cortex | FX6: temporal cortex | FY6: temporal cortex | FZ6: temporal cortex | GA6: temporal cortex | GB6: temporal cortex | GC6: temporal cortex | GD6: temporal cortex | GE6: parietal cortex | GF6: parietal cortex | GG6: cortical tissue | GH6: cortical tissue | GI6: cortical tissue | GJ6: cortical tissue | GK6: cortical tissue | GL6: cortical tissue | GM6: cortical tissue | GN6: cortical tissue | GO6: cortical tissue | GP6: cortical tissue | GQ6: cortical tissue | GR6: cortical tissue | GS6: cortical tissue | GT6: cortical tissue | GU6: cortical tissue | GV6: cortical tissue | GW6: cortical tissue | GX6: cortical tissue | GY6: cortical tissue | GZ6: cortical tissue | HA6: cortical tissue | HB6: cortical tissue | HC6: cortical tissue | HD6: cortical tissue | HE6: cortical tissue | HF6: cortical tissue | HG6: cortical tissue | HH6: cortical tissue | HI6: cortical tissue | HJ6: cortical tissue | HK6: cortical tissue | HL6: cortical tissue | HM6: cortical tissue | HN6: cortical tissue | HO6: cortical tissue | HP6: cortical tissue | HQ6: cortical tissue | HR6: cortical tissue | HS6: cortical tissue | HT6: cortical tissue | HU6: cortical tissue | HV6: cortical tissue | HW6: cortical tissue | HX6: cortical tissue | HY6: cortical tissue | HZ6: cortical tissue | IA6: cortical tissue | IB6: cortical tissue | IC6: cortical tissue | ID6: cortical tissue | IE6: cortical tissue | IF6: cortical tissue | IG6: cortical tissue | IH6: cortical tissue | II6: cortical tissue | IJ6: cortical tissue | IK6: cortical tissue | IL6: cortical tissue | IM6: cortical tissue | IN6: cortical tissue | IO6: cortical tissue | IP6: cortical tissue | IQ6: cortical tissue | IR6: cortical tissue | IS6: cortical tissue | IT6: cortical tissue | IU6: cortical tissue | IV6: cortical tissue | IW6: cortical tissue | IX6: cortical tissue | IY6: cortical tissue | IZ6: cortical tissue | JA6: cortical tissue | JB6: cortical tissue | JC6: cortical tissue | JD6: cortical tissue | JE6: cortical tissue | JF6: cortical tissue | JG6: cortical tissue | JH6: cortical tissue | JI6: cortical tissue | JJ6: cortical tissue | JK6: cortical tissue | JL6: cortical tissue | JM6: cortical tissue | JN6: cortical tissue | JO6: cortical tissue | JP6: cortical tissue | JQ6: cortical tissue | JR6: cortical tissue | JS6: cortical tissue | JT6: cortical tissue | JU6: cortical tissue | JV6: cortical tissue | JW6: cortical tissue | JX6: cortical tissue | JY6: cortical tissue | JZ6: cortical tissue | KA6: cortical tissue | KB6: cortical tissue | KC6: cortical tissue | KD6: cortical tissue | KE6: cortical tissue | KF6: cortical tissue | KG6: cortical tissue | KH6: cortical tissue | KI6: cortical tissue | KJ6: cortical tissue | KK6: cortical tissue | KL6: cortical tissue | KM6: cortical tissue | KN6: cortical tissue | KO6: cortical tissue | KP6: cortical tissue | KQ6: cortical tissue | KR6: cortical tissue | KS6: cortical tissue | KT6: cortical tissue | KU6: cortical tissue | KV6: cortical tissue | KW6: cortical tissue | KX6: cortical tissue | KY6: cortical tissue | KZ6: cortical tissue | LA6: cortical tissue | LB6: cortical tissue | LC6: cortical tissue | LD6: cortical tissue | LE6: cortical tissue | LF6: cortical tissue | LG6: cortical tissue | LH6: cortical tissue | LI6: cortical tissue | LJ6: cortical tissue | LK6: cortical tissue | LL6: cortical tissue | LM6: cortical tissue | LN6: cortical tissue | LO6: cortical tissue | LP6: cortical tissue | LQ6: cortical tissue | LR6: cortical tissue | LS6: cortical tissue | LT6: cortical tissue | LU6: cortical tissue | LV6: cortical tissue | LW6: cortical tissue | LX6: cortical tissue | LY6: cortical tissue | LZ6: cortical tissue | MA6: cortical tissue | MB6: cortical tissue | MC6: cortical tissue | MD6: cortical tissue | ME6: cortical tissue | MF6: cortical tissue | MG6: cortical tissue | MH6: cortical tissue | MI6: cortical tissue | MJ6: cortical tissue | MK6: cortical tissue | ML6: cortical tissue | MM6: cortical tissue | MN6: cortical tissue | MO6: cortical tissue | MP6: cortical tissue | MQ6: cortical tissue | MR6: cortical tissue | MS6: cortical tissue | MT6: cortical tissue | MU6: cortical tissue | MV6: cortical tissue | MW6: cortical tissue | MX6: cortical tissue | MY6: cortical tissue | MZ6: cortical tissue
A7: PSEN1 | B7: 9.922865 | C7: 9.922865 | D7: 9.922865 | E7: 9.922865 | F7: 9.922865 | G7: 9.922865 | H7: 9.922865 | I7: 9.922865 | J7: 9.922865 | K7: 9.922865 | L7: 9.922865 | M7: 9.922865 | N7: 9.922865 | O7: 9.922865 | P7: 9.922865 | Q7: 9.922865 | R7: 9.922865 | S7: 9.922865 | T7: 9.922865 | U7: 9.922865 | V7: 9.922865 | W7: 9.922865 | X7: 9.922865 | Y7: 9.922865 | Z7: 9.922865 | AA7: 9.922865 | AB7: 9.922865 | AC7: 9.922865 | AD7: 9.922865 | AE7: 9.922865 | AF7: 9.922865 | AG7: 9.922865 | AH7: 9.922865 | AI7: 9.922865 | AJ7: 9.922865 | AK7: 9.922865 | AL7: 9.922865 | AM7: 9.922865 | AN7: 9.922865 | AO7: 9.922865 | AP7: 9.922865 | AQ7: 9.922865 | AR7: 9.922865 | AS7: 9.922865 | AT7: 9.922865 | AU7: 9.922865 | AV7: 9.922865 | AW7: 9.922865 | AX7: 9.922865 | AY7: 9.922865 | AZ7: 9.922865 | BA7: 9.922865 | BB7: 9.922865 | BC7: 9.922865 | BD7: 9.922865 | BE7: 9.922865 | BF7: 9.922865 | BG7: 9.922865 | BH7: 9.922865 | BI7: 9.922865 | BJ7: 9.922865 | BK7: 9.922865 | BL7: 9.922865 | BM7: 9.922865 | BN7: 9.922865 | BO7: 9.922865 | BP7: 9.922865 | BQ7: 9.922865 | BR7: 9.922865 | BS7: 9.922865 | BT7: 9.922865 | BU7: 9.922865 | BV7: 9.922865 | BW7: 9.922865 | BX7: 9.922865 | BY7: 9.922865 | BZ7: 9.922865 | CA7: 9.922865 | CB7: 9.922865 | CC7: 9.922865 | CD7: 9.922865 | CE7: 9.922865 | CF7: 9.922865 | CG7: 9.922865 | CH7: 9.922865 | CI7: 9.922865 | CJ7: 9.922865 | CK7: 9.922865 | CL7: 9.922865 | CM7: 9.922865 | CN7: 9.922865 | CO7: 9.922865 | CP7: 9.922865 | CQ7: 9.922865 | CR7: 9.922865 | CS7: 9.922865 | CT7: 9.922865 | CU7: 9.922865 | CV7: 9.922865 | CW7: 9.922865 | CX7: 9.922865 | CY7: 9.922865 | CZ7: 9.922865 | DA7: 9.922865 | DB7: 9.922865 | DC7: 9.922865 | DD7: 9.922865 | DE7: 9.922865 | DF7: 9.922865 | DG7: 9.922865 | DH7: 9.922865 | DI7: 9.922865 | DJ7: 9.922865 | DK7: 9.922865 | DL7: 9.922865 | DM7: 9.922865 | DN7: 9.922865 | DO7: 9.922865 | DP7: 9.922865 | DQ7: 9.922865 | DR7: 9.922865 | DS7: 9.922865 | DT7: 9.922865 | DU7: 9.922865 | DV7: 9.922865 | DW7: 9.922865 | DX7: 9.922865 | DY7: 9.922865 | DZ7: 9.922865 | EA7: 9.922865 | EB7: 9.922865 | EC7: 9.922865 | ED7: 9.922865 | EE7: 9.922865 | EF7: 9.922865 | EG7: 9.922865 | EH7: 9.922865 | EI7: 9.922865 | EJ7: 9.922865 | EK7: 9.922865 | EL7: 9.922865 | EM7: 9.922865 | EN7: 9.922865 | EO7: 9.922865 | EP7: 9.922865 | EQ7: 9.922865 | ER7: 9.922865 | ES7: 9.922865 | ET7: 9.922865 | EU7: 9.922865 | EV7: 9.922865 | EW7: 9.922865 | EX7: 9.922865 | EY7: 9.922865 | EZ7: 9.922865 | FA7: 9.922865 | FB7: 9.922865 | FC7: 9.922865 | FD7: 9.922865 | FE7: 9.922865 | FF7: 9.922865 | FG7: 9.922865 | FH7: 9.922865 | FI7: 9.922865 | FJ7: 9.922865 | FK7: 9.922865 | FL7: 9.922865 | FM7: 9.922865 | FN7: 9.922865 | FO7: 9.922865 | FP7: 9.922865 | FQ7: 9.922865 | FR7: 9.922865 | FS7: 9.922865 | FT7: 9.922865 | FU7: 9.922865 | FV7: 9.922865 | FW7: 9.922865 | FX7: 9.922865 | FY7: 9.922865 | FZ7: 9.922865 | GA7: 9.922865 | GB7: 9.922865 | GC7: 9.922865 | GD7: 9.922865 | GE7: 9.922865 | GF7: 9.922865 | GG7: 9.922865 | GH7: 9.922865 | GI7: 9.922865 | GJ7: 9.922865 | GK7: 9.922865 | GL7: 9.922865 | GM7: 9.922865 | GN7: 9.922865 | GO7: 9.922865 | GP7: 9.922865 | GQ7: 9.922865 | GR7: 9.922865 | GS7: 9.922865 | GT7: 9.922865 | GU7: 9.922865 | GV7: 9.922865 | GW7: 9.922865 | GX7: 9.922865 | GY7: 9.922865 | GZ7: 9.922865 | HA7: 9.922865 | HB7: 9.922865 | HC7: 9.922865 | HD7: 9.922865 | HE7: 9.922865 | HF7: 9.922865 | HG7: 9.922865 | HH7: 9.922865 | HI7: 9.922865 | HJ7: 9.922865 | HK7: 9.922865 | HL7: 9.922865 | HM7: 9.922865 | HN7: 9.922865 | HO7: 9.922865 | HP7: 9.922865 | HQ7: 9.922865 | HR7: 9.922865 | HS7: 9.922865 | HT7: 9.922865 | HU7: 9.922865 | HV7: 9.922865 | HW7: 9.922865 | HX7: 9.922865 | HY7: 9.922865 | HZ7: 9.922865 | IA7: 9.922865 | IB7: 9.922865 | IC7: 9.922865 | ID7: 9.922865 | IE7: 9.922865 | IF7: 9.922865 | IG7: 9.922865 | IH7: 9.922865 | II7: 9.922865 | IJ7: 9.922865 | IK7: 9.922865 | IL7: 9.922865 | IM7: 9.922865 | IN7: 9.922865 | IO7: 9.922865 | IP7: 9.922865 | IQ7: 9.922865 | IR7: 9.922865 | IS7: 9.922865 | IT7: 9.922865 | IU7: 9.922865 | IV7: 9.922865 | IW7: 9.922865 | IX7: 9.922865 | IY7: 9.922865 | IZ7: 9.922865 | JA7: 9.922865 | JB7: 9.922865 | JC7: 9.922865 | JD7: 9.922865 | JE7: 9.922865 | JF7: 9.922865 | JG7: 9.922865 | JH7: 9.922865 | JI7: 9.922865 | JJ7: 9.922865 | JK7: 9.922865 | JL7: 9.922865 | JM7: 9.922865 | JN7: 9.922865 | JO7: 9.922865 | JP7: 9.922865 | JQ7: 9.922865 | JR7: 9.922865 | JS7: 9.922865 | JT7: 9.922865 | JU7: 9.922865 | JV7: 9.922865 | JW7: 9.922865 | JX7: 9.922865 | JY7: 9.922865 | JZ7: 9.922865 | KA7: 9.922865 | KB7: 9.922865 | KC7: 9.922865 | KD7: 9.922865 | KE7: 9.922865 | KF7: 9.922865 | KG7: 9.922865 | KH7: 9.922865 | KI7: 9.922865 | KJ7: 9.922865 | KK7: 9.922865 | KL7: 9.922865 | KM7: 9.922865 | KN7: 9.922865 | KO7: 9.922865 | KP7: 9.922865 | KQ7: 9.922865 | KR7: 9.922865 | KS7: 9.922865 | KT7: 9.922865 | KU7: 9.922865 | KV7: 9.922865 | KW7: 9.922865 | KX7: 9.922865 | KY7: 9.922865 | KZ7: 9.922865 | LA7: 9.922865 | LB7: 9.922865 | LC7: 9.922865 | LD7: 9.922865 | LE7: 9.922865 | LF7: 9.922865 | LG7: 9.922865 | LH7: 9.922865 | LI7: 9.922865 | LJ7: 9.922865 | LK7: 9.922865 | LL7: 9.922865 | LM7: 9.922865 | LN7: 9.922865 | LO7: 9.922865 | LP7: 9.922865 | LQ7: 9.922865 | LR7: 9.922865 | LS7: 9.922865 | LT7: 9.922865 | LU7: 9.922865 | LV7: 9.922865 | LW7: 9.922865 | LX7: 9.922865 | LY7: 9.922865 | LZ7: 9.922865 | MA7: 9.922865 | MB7: 9.922865 | MC7: 9.922865 | MD7: 9.922865 | ME7: 9.922865 | MF7: 9.922865 | MG7: 9.922865 | MH7: 9.922865 | MI7: 9.922865 | MJ7: 9.922865 | MK7: 9.922865 | ML7: 9.922865 | MM7: 9.922865 | MN7: 9.922865 | MO7: 9.922865 | MP7: 9.922865 | MQ7: 9.922865 | MR7: 9.922865 | MS7: 9.922865 | MT7: 9.922865 | MU7: 9.922865 | MV7: 9.922865 | MW7: 9.922865 | MX7: 9.922865 | MY7: 9.922865 | MZ7: 9.922865
A8: APP | B8: 721.05041 | C8: 721.05041 | D8: 721.05041 | E8: 721.05041 | F8: 721.05041 | G8: 721.05041 | H8: 721.05041 | I8: 721.05041 | J8: 721.05041 | K8: 721.05041 | L8: 721.05041 | M8: 721.05041 | N8: 721.05041 | O8: 721.05041 | P8: 721.05041 | Q8: 721.05041 | R8: 721.05041 | S8: 721.05041 | T8: 721.05041 | U8: 721.05041 | V8: 721.05041 | W8: 721.05041 | X8: 721.05041 | Y8: 721.05041 | Z8: 721.05041 | AA8: 721.05041 | AB8: 721.05041 | AC8: 721.05041 | AD8: 721.05041 | AE8: 721.05041 | AF8: 721.05041 | AG8: 721.05041 | AH8: 721.05041 | AI8: 721.05041 | AJ8: 721.05041 | AK8: 721.05041 | AL8: 721.05041 | AM8: 721.05041 | AN8: 721.05041 | AO8: 721.05041 | AP8: 721.05041 | AQ8: 721.05041 | AR8: 721.05041 | AS8: 721.05041 | AT8: 721.05041 | AU8: 721.05041 | AV8: 721.05041 | AW8: 721.05041 | AX8: 721.05041 | AY8: 721.05041 | AZ8: 721.05041 | BA8: 721.05041 | BB8: 721.05041 | BC8: 721.05041 | BD8: 721.05041 | BE8: 721.05041 | BF8: 721.05041 | BG8: 721.05041 | BH8: 721.05041 | BI8: 721.05041 | BJ8: 721.05041 | BK8: 721.05041 | BL8: 721.05041 | BM8: 721.05041 | BN8: 721.05041 | BO8: 721.05041 | BP8: 721.05041 | BQ8: 721.05041 | BR8: 721.05041 | BS8: 721.05041 | BT8: 721.05041 | BU8: 721.05041 | BV8: 721.05041 | BW8: 721.05041 | BX8: 721.05041 | BY8: 721.05041 | BZ8: 721.05041 | CA8: 721.05041 | CB8: 721.05041 | CC8: 721.05041 | CD8: 721.05041 | CE8: 721.05041 | CF8: 721.05041 | CG8: 721.05041 | CH8: 721.05041 | CI8: 721.05041 | CJ8: 721.05041 | CK8: 721.05041 | CL8: 721.05041 | CM8: 721.05041 | CN8: 721.05041 | CO8: 721.05041 | CP8: 721.05041 | CQ8: 721.05041 | CR8: 721.05041 | CS8: 721.05041 | CT8: 721.05041 | CU8: 721.05041 | CV8: 721.05041 | CW8: 721.05041 | CX8: 721.05041 | CY8: 721.05041 | CZ8: 721.05041 | DA8: 721.05041 | DB8: 721.05041 | DC8: 721.05041 | DD8: 721.05041 | DE8: 721.05041 | DF8: 721.05041 | DG8: 721.05041 | DH8: 721.05041 | DI8: 721.05041 | DJ8: 721.05041 | DK8: 721.05041 | DL8: 721.05041 | DM8: 721.05041 | DN8: 721.05041 | DO8: 721.05041 | DP8: 721.05041 | DQ8: 721.05041 | DR8: 721.05041 | DS8: 721.05041 | DT8: 721.05041 | DU8: 721.05041 | DV8: 721.05041 | DW8: 721.05041 | DX8: 721.05041 | DY8: 721.05041 | DZ8: 721.05041 | EA8: 721.05041 | EB8: 721.05041 | EC8: 721.05041 | ED8: 721.05041 | EE8: 721.05041 | EF8: 721.05041 | EG8: 721.05041 | EH8: 721.05041 | EI8: 721.05041 | EJ8: 721.05041 | EK8: 721.05041 | EL8: 721.05041 | EM8: 721.05041 | EN8: 721.05041 | EO8: 721.05041 | EP8: 721.05041 | EQ8: 721.05041 | ER8: 721.05041 | ES8: 721.05041 | ET8: 721.05041 | EU8: 721.05041 | EV8: 721.05041 | EW8: 721.05041 | EX8: 721.05041 | EY8: 721.05041 | EZ8: 721.05041 | FA8: 721.05041 | FB8: 721.05041 | FC8: 721.05041 | FD8: 721.05041 | FE8: 721.05041 | FF8: 721.05041 | FG8: 721.05041 | FH8: 721.05041 | FI8: 721.05041 | FJ8: 721.05041 | FK8: 721.05041 | FL8: 721.05041 | FM8: 721.05041 | FN8: 721.05041 | FO8: 721.05041 | FP8: 721.05041 | FQ8: 721.05041 | FR8: 721.05041 | FS8: 721.05041 | FT8: 721.05041 | FU8: 721.05041 | FV8: 721.05041 | FW8: 721.05041 | FX8: 721.05041 | FY8: 721.05041 | FZ8: 721.05041 | GA8: 721.05041 | GB8: 721.05041 | GC8: 721.05041 | GD8: 721.05041 | GE8: 721.05041 | GF8: 721.05041 | GG8: 721.05041 | GH8: 721.05041 | GI8: 721.05041 | GJ8: 721.05041 | GK8: 721.05041 | GL8: 721.05041 | GM8: 721.05041 | GN8: 721.05041 | GO8: 721.05041 | GP8: 721.05041 | GQ8: 721.05041 | GR8: 721.05041 | GS8: 721.05041 | GT8: 721.05041 | GU8: 721.05041 | GV8: 721.05041 | GW8: 721.05041 | GX8: 721.05041 | GY8: 721.05041 | GZ8: 721.05041 | HA8: 721.05041 | HB8: 721.05041 | HC8: 721.05041 | HD8: 721.05041 | HE8: 721.05041 | HF8: 721.05041 | HG8: 721.05041 | HH8: 721.05041 | HI8: 721.05041 | HJ8: 721.05041 | HK8: 721.05041 | HL8: 721.05041 | HM8: 721.05041 | HN8: 721.05041 | HO8: 721.05041 | HP8: 721.05041 | HQ8: 721.05041 | HR8: 721.05041 | HS8: 721.05041 | HT8: 721.05041 | HU8: 721.05041 | HV8: 721.05041 | HW8: 721.05041 | HX8: 721.05041 | HY8: 721.05041 | HZ8: 721.05041 | IA8: 721.05041 | IB8: 721.05041 | IC8: 721.05041 | ID8: 721.05041 | IE8: 721.05041 | IF8: 721.05041 | IG8: 721.05041 | IH8: 721.05041 | II8: 721.05041 | IJ8: 721.05041 | IK8: 721.05041 | IL8: 721.05041 | IM8: 721.05041 | IN8: 721.05041 | IO8: 721.05041 | IP8: 721.05041 | IQ8: 721.05041 | IR8: 721.05041 | IS8: 721.05041 | IT8: 721.05041 | IU8: 721.05041 | IV8: 721.05041 | IW8: 721.05041 | IX8: 721.05041 | IY8: 721.05041 | IZ8: 721.05041 | JA8: 721.05041 | JB8: 721.05041 | JC8: 721.05041 | JD8: 721.05041 | JE8: 721.05041 | JF8: 721.05041 | JG8: 721.05041 | JH8: 721.05041 | JI8: 721.05041 | JJ8: 721.05041 | JK8: 721.05041 | JL8: 721.05041 | JM8: 721.05041 | JN8: 721.05041 | JO8: 721.05041 | JP8: 721.05041 | JQ8: 721.05041 | JR8: 721.05041 | JS8: 721.05041 | JT8: 721.05041 | JU8: 721.05041 | JV8: 721.05041 | JW8: 721.05041 | JX8: 721.05041 | JY8: 721.05041 | JZ8: 721.05041 | KA8: 721.05041 | KB8: 721.05041 | KC8: 721.05041 | KD8: 721.05041 | KE8: 721.05041 | KF8: 721.05041 | KG8: 721.05041 | KH8: 721.05041 | KI8: 721.05041 | KJ8: 721.05041 | KK8: 721.05041 | KL8: 721.05041 | KM8: 721.05041 | KN8: 721.05041 | KO8: 721.05041 | KP8: 721.05041 | KQ8: 721.05041 | KR8: 721.05041 | KS8: 721.05041 | KT8: 721.05041 | KU8: 721.05041 | KV8: 721.05041 | KW8: 721.05041 | KX8: 721.05041 | KY8: 721.05041 | KZ8: 721.05041 | LA8: 721.05041 | LB8: 721.05041 | LC8: 721.05041 | LD8: 721.05041 | LE8: 721.05041 | LF8: 721.05041 | LG8: 721.05041 | LH8: 721.05041 | LI8: 721.05041 | LJ8: 721.05041 | LK8: 721.05041 | LL8: 721.05041 | LM8: 721.05041 | LN8: 721.05041 | LO8: 721.05041 | LP8: 721.05041 | LQ8: 721.05041 | LR8: 721.05041 | LS8: 721.05041 | LT8: 721.05041 | LU8: 721.05041 | LV8: 721.05041 | LW8: 721.05041 | LX8: 721.05041 | LY8: 721.05041 | LZ8: 721.05041 | MA8: 721.05041 | MB8: 721.05041 | MC8: 721.05041 | MD8: 721.05041 | ME8: 721.05041 | MF8: 721.05041 | MG8: 721.05041 | MH8: 721.05041 | MI8: 721.05041 | MJ8: 721.05041 | MK8: 721.05041 | ML8: 721.05041 | MM8: 721.05041 | MN8: 721.05041 | MO8: 721.05041 | MP8: 721.05041 | MQ8: 721.05041 | MR8: 721.05041 | MS8: 721.05041 | MT8: 721.05041 | MU8: 721.05041 | MV8: 721.05041 | MW8: 721.05041 | MX8: 721.05041 | MY8: 721.05041 | MZ8: 721.05041
A9: APOE | B9: 3345.7129 | C9: 3345.7129 | D9: 3345.7129 | E9: 3345.7129 | F9: 3345.7129 | G9: 3345.7129 | H9: 3345.7129 | I9: 3345.7129 | J9: 3345.7129 | K9: 3345.7129 | L9: 3345.7129 | M9: 3345.7129 | N9: 3345.7129 | O9: 3345.7129 | P9: 3345.7129 | Q9: 3345.7129 | R9: 3345.7129 | S9: 3345.7129 | T9: 3345.7129 | U9: 3345.7129 | V9: 3345.7129 | W9: 3345.7129 | X9: 3345.7129 | Y9: 3345.7129 | Z9: 3345.7129 | AA9: 3345.7129 | AB9: 3345.7129 | AC9: 3345.7129 | AD9: 3345.7129 | AE9: 3345.7129 | AF9: 3345.7129 | AG9: 3345.7129 | AH9: 3345.7129 | AI9: 3345.7129 | AJ9: 3345.7129 | AK9: 3345.7129 | AL9: 3345.7129 | AM9: 3345.7129 | AN9: 3345.7129 | AO9: 3345.7129 | AP9: 3345.7129 | AQ9: 3345.7129 | AR9: 3345.7129 | AS9: 3345.7129 | AT9: 3345.7129 | AU9: 3345.7129 | AV9: 3345.7129 | AW9: 3345.7129 | AX9: 3345.7129 | AY9: 3345.7129 | AZ9: 3345.7129 | BA9: 3345.7129 | BB9: 3345.7129 | BC9: 3345.7129 | BD9: 3345.7129 | BE9: 3345.7129 | BF9: 3345.7129 | BG9: 3345.7129 | BH9: 3345.7129 | BI9: 3345.7129 | BJ9: 3345.7129 | BK9: 3345.7129 | BL9: 3345.7129 | BM9: 3345.7129 | BN9: 3345.7129 | BO9: 3345.7129 | BP9: 3345.7129 | BQ9: 3345.7129 | BR9: 3345.7129 | BS9: 3345.7129 | BT9: 3345.7129 | BU9: 3345.7129 | BV9: 3345.7129 | BW9: 3345.7129 | BX9: 3345.7129 | BY9: 3345.7129 | BZ9: 3345.7129 | CA9: 3345.7129 | CB9: 3345.7129 | CC9: 3345.7129 | CD9: 3345.7129 | CE9: 3345.7129 | CF9: 3345.7129 | CG9: 3345.7129 | CH9: 3345.7129 | CI9: 3345.7129 | CJ9: 3345.7129 | CK9: 3345.7129 | CL9: 3345.7129 | CM9: 3345.7129 | CN9: 3345.7129 | CO9: 3345.7129 | CP9: 3345.7129 | CQ9: 3345.7129 | CR9: 3345.7129 | CS9: 3345.7129 | CT9: 3345.7129 | CU9: 3345.7129 | CV9: 3345.7129 | CW9: 3345.7129 | CX9: 3345.7129 | CY9: 3345.7129 | CZ9: 3345.7129 | DA9: 3345.7129 | DB9: 3345.7129 | DC9: 3345.7129 | DD9: 3345.7129 | DE9: 3345.7129 | DF9: 3345.7129 | DG9: 3345.7129 | DH9: 3345.7129 | DI9: 3345.7129 | DJ9: 3345.7129 | DK9: 3345.7129 | DL9: 3345.7129 | DM9: 3345.7129 | DN9: 3345.7129 | DO9: 3345.7129 | DP9: 3345.7129 | DQ9: 3345.7129 | DR9: 3345.7129 | DS9: 3345.7129 | DT9: 3345.7129 | DU9: 3345.7129 | DV9: 3345.7129 | DW9: 3345.7129 | DX9: 3345.7129 | DY9: 3345.7129 | DZ9: 3345.7129 | EA9: 3345.7129 | EB9: 3345.7129 | EC9: 3345.7129 | ED9: 3345.7129 | EE9: 3345.7129 | EF9: 3345.7129 | EG9: 3345.7129 | EH9: 3345.7129 | EI9: 3345.7129 | EJ9: 3345.7129 | EK9: 3345.7129 | EL9: 3345.7129 | EM9: 3345.7129 | EN9: 3345.7129 | EO9: 3345.7129 | EP9: 3345.7129 | EQ9: 3345.7129 | ER9: 3345.7129 | ES9: 3345.7129 | ET9: 3345.7129 | EU9: 3345.7129 | EV9: 3345.7129 | EW9: 3345.7129 | EX9: 3345.7129 | EY9: 3345.7129 | EZ9: 3345.7129 | FA9: 3345.7129 | FB9: 3345.7129 | FC9: 3345.7129 | FD9: 3345.7129 | FE9: 3345.7129 | FF9: 3345.7129 | FG9: 3345.7129 | FH9: 3345.7129 | FI9: 3345.7129 | FJ9: 3345.7129 | FK9: 3345.7129 | FL9: 3345.7129 | FM9: 3345.7129 | FN9: 3345.7129 | FO9: 3345.7129 | FP9: 3345.7129 | FQ9: 3345.7129 | FR9: 3345.7129 | FS9: 3345.7129 | FT9: 3345.7129 | FU9: 3345.7129 | FV9: 3345.7129 | FW9: 3345.7129 | FX9: 3345.7129 | FY9: 3345.7129 | FZ9: 3345.7129 | GA9: 3345.7129 | GB9: 3345.7129 | GC9: 3345.7129 | GD9: 3345.7129 | GE9: 3345.7129 | GF9: 3345.7129 | GG9: 3345.7129 | GH9: 3345.7129 | GI9: 3345.7129 | GJ9: 3345.7129 | GK9: 3345.7129 | GL9: 3345.7129 | GM9: 3345.7129 | GN9: 3345.7129 | GO9: 3345.7129 | GP9: 3345.7129 | GQ9: 3345.7129 | GR9: 3345.7129 | GS9: 3345.7129 | GT9: 3345.7129 | GU9: 3345.7129 | GV9: 3345.7129 | GW9: 3345.7129 | GX9: 3345.7129 | GY9: 3345.7129 | GZ9: 3345.7129 | HA9: 3345.7129 | HB9: 3345.7129 | HC9: 3345.7129 | HD9: 3345.7129 | HE9: 3345.7129 | HF9: 3345.7129 | HG9: 3345.7129 | HH9: 3345.7129 | HI9: 3345.7129 | HJ9: 3345.7129 | HK9: 3345.7129 | HL9: 3345.7129 | HM9: 3345.7129 | HN9: 3345.7129 | HO9: 3345.7129 | HP9: 3345.7129 | HQ9: 3345.7129 | HR9: 3345.7129 | HS9: 3345.7129 | HT9: 3345.7129 | HU9: 3345.7129 | HV9: 3345.7129 | HW9: 3345.7129 | HX9: 3345.7129 | HY9: 3345.7129 | HZ9: 3345.7129 | IA9: 3345.7129 | IB9: 3345.7129 | IC9: 3345.7129 | ID9: 3345.7129 | IE9: 3345.7129 | IF9: 3345.7129 | IG9: 3345.7129 | IH9: 3345.7129 | II9: 3345.7129 | IJ9: 3345.7129 | IK9: 3345.7129 | IL9: 3345.7129 | IM9: 3345.7129 | IN9: 3345.7129 | IO9: 3345.7129 | IP9: 3345.7129 | IQ9: 3345.7129 | IR9: 3345.7129 | IS9: 3345.7129 | IT9: 3345.7129 | IU9: 3345.7129 | IV9: 3345.7129 | IW9: 3345.7129 | IX9: 3345.7129 | IY9: 3345.7129 | IZ9: 3345.7129 | JA9: 3345.7129 | JB9: 3345.7129 | JC9: 3345.7129 | JD9: 3345.7129 | JE9: 3345.7129 | JF9: 3345.7129 | JG9: 3345.7129 | JH9: 3345.7129 | JI9: 3345.7129 | JJ9: 3345.7129 | JK9: 3345.7129 | JL9: 3345.7129 | JM9: 3345.7129 | JN9: 3345.7129 | JO9: 3345.7129 | JP9: 3345.7129 | JQ9: 3345.7129 | JR9: 3345.7129 | JS9: 3345.7129 | JT9: 3345.7129 | JU9: 3345.7129 | JV9: 3345.7129 | JW9: 3345.7129 | JX9: 3345.7129 | JY9: 3345.7129 | JZ9: 3345.7129 | KA9: 3345.7129 | KB9: 3345.7129 | KC9: 3345.7129 | KD9: 3345.7129 | KE9: 3345.7129 | KF9: 3345.7129 | KG9: 3345.7129 | KH9: 3345.7129 | KI9: 3345.7129 | KJ9: 3345.7129 | KK9: 3345.7129 | KL9: 3345.7129 | KM9: 3345.7129 | KN9: 3345.7129 | KO9: 3345.7129 | KP9: 3345.7129 | KQ9: 3345.7129 | KR9: 3345.7129 | KS9: 3345.7129 | KT9: 3345.7129 | KU9: 3345.7129 | KV9: 3345.7129 | KW9: 3345.7129 | KX9: 3345.7129 | KY9: 3345.7129 | KZ9: 3345.7129 | LA9: 3345.7129 | LB9: 3345.7129 | LC9: 3345.7129 | LD9: 3345.7129 | LE9: 3345.7129 | LF9: 3345.7129 | LG9: 3345.7129 | LH9: 3345.7129 | LI9: 3345.7129 | LJ9: 3345.7129 | LK9: 3345.7129 | LL9: 3345.7129 | LM9: 3345.7129 | LN9: 3345.7129 | LO9: 3345.7129 | LP9: 3345.7129 | LQ9: 3345.7129 | LR9: 3345.7129 | LS9: 3345.7129 | LT9: 3345.7129 | LU9: 3345.7129 | LV9: 3345.7129 | LW9: 3345.7129 | LX9: 3345.7129 | LY9: 3345.7129 | LZ9: 3345.7129 | MA9: 3345.7129 | MB9: 3345.7129 | MC9: 3345.7129 | MD9: 3345.7129 | ME9: 3345.7129 | MF9: 3345.7129 | MG9: 3345.7129 | MH9: 3345.7129 | MI9: 3345.7129 | MJ9: 3345.7129 | MK9: 3345.7129 | ML9: 3345.7129 | MM9: 3345.7129 | MN9: 3345.7129 | MO9: 3345.7129 | MP9: 3345.7129 | MQ9: 3345.7129 | MR9: 3345.7129 | MS9: 3345.7129 | MT9: 3345.7129 | MU9: 3345.7129 | MV9: 3345.7129 | MW9: 3345.7129 | MX9: 3345.7129 | MY9: 3345.7129 | MZ9: 3345.7129
A10: PSEN2 | B10: 144.19311 | C10: 144.19311 | D10: 144.19311 | E10: 144.19311 | F10: 144.19311 | G10: 144.19311 | H10: 144.19311 | I10: 144.19311 | J10: 144.19311 | K10: 144.19311 | L10: 144.19311 | M10: 144.19311 | N10: 144.19311 | O10: 144.19311 | P10: 144.19311 | Q10: 144.19311 | R10: 144.19311 | S10: 144.19311 | T10: 144.19311 | U10: 144.19311 | V10: 144.19311 | W10: 144.19311 | X10: 144.19311 | Y10: 144.19311 | Z10: 144.19311 | AA10: 144.19311 | AB10: 144.19311 | AC10: 144.19311 | AD10: 144.19311 | AE10: 144.19311 | AF10: 144.19311 | AG10: 144.19311 | AH10: 144.19311 | AI10: 144.19311 | AJ10: 144.19311 | AK10: 144.19311 | AL10: 144.19311 | AM10: 144.19311 | AN10: 144.19311 | AO10: 144.19311 | AP10: 144.19311 | AQ10: 144.19311 | AR10: 144.19311 | AS10: 144.19311 | AT10: 144.19311 | AU10: 144.19311 | AV10: 144.19311 | AW10: 144.19311 | AX10: 144.19311 | AY10: 144.19311 | AZ10: 144.19311 | BA10: 144.19311 | BB10: 144.19311 | BC10: 144.19311 | BD10: 144.19311 | BE10: 144.19311 | BF10: 144.19311 | BG10: 144.19311 | BH10: 144.19311 | BI10: 144.19311 | BJ10: 144.19311 | BK10: 144.19311 | BL10: 144.19311 | BM10: 144.19311 | BN10: 144.19311 | BO10: 144.19311 | BP10: 144.19311 | BQ10: 144.19311 | BR10: 144.19311 | BS10: 144.19311 | BT10: 144.19311 | BU10: 144.19311 | BV10: 144.19311 | BW10: 144.19311 | BX10: 144.19311 | BY10: 144.19311 | BZ10: 144.19311 | CA10: 144.19311 | CB10: 144.19311 | CC10: 144.19311 | CD10: 144.19311 | CE10: 144.19311 | CF10: 144.19311 | CG10: 144.19311 | CH10: 144.19311 | CI10: 144.19311 | CJ10: 144.19311 | CK10: 144.19311 | CL10: 144.19311 | CM10: 144.19311 | CN10: 144.19311 | CO10: 144.19311 | CP10: 144.19311 | CQ10: 144.19311 | CR10: 144.19311 | CS10: 144.19311 | CT10: 144.19311 | CU10: 144.19311 | CV10: 144.19311 | CW10: 144.19311 | CX10: 144.19311 | CY10: 144.19311 | CZ10: 144.19311 | DA10: 144.19311 | DB10: 144.19311 | DC10: 144.19311 | DD10: 144.19311 | DE10: 144.19311 | DF10: 144.19311 | DG10: 144.19311 | DH10: 144.19311 | DI10: 144.19311 | DJ10: 144.19311 | DK10: 144.19311 | DL10: 144.19311 | DM10: 144.19311 | DN10: 144.19311 | DO10: 144.19311 | DP10: 144.19311 | DQ10: 144.19311 | DR10: 144.19311 | DS10: 144.19311 | DT10: 144.19311 | DU10: 144.19311 | DV10: 144.19311 | DW10: 144.19311 | DX10: 144.19311 | DY10: 144.19311 | DZ10: 144.19311 | EA10: 144.19311 | EB10: 144.19311 | EC10: 144.19311 | ED10: 144.19311 | EE10: 144.19311 | EF10: 144.19311 | EG10: 144.19311 | EH10: 144.19311 | EI10: 144.19311 | EJ10: 144.19311 | EK10: 144.19311 | EL10: 144.19311 | EM10: 144.19311 | EN10: 144.19311 | EO10: 144.19311 | EP10: 144.19311 | EQ10: 144.19311 | ER10: 144.19311 | ES10: 144.19311 | ET10: 144.19311 | EU10: 144.19311 | EV10: 144.19311 | EW10: 144.19311 | EX10: 144.19311 | EY10: 144.19311 | EZ10: 144.19311 | FA10: 144.19311 | FB10: 144.19311 | FC10: 144.19311 | FD10: 144.19311 | FE10: 144.19311 | FF10: 144.19311 | FG10: 144.19311 | FH10: 144.19311 | FI10: 144.19311 | FJ10: 144.19311 | FK10: 144.19311 | FL10: 144.19311 | FM10: 144.19311 | FN10: 144.19311 | FO10: 144.19311 | FP10: 144.19311 | FQ10: 144.19311 | FR10: 144.19311 | FS10: 144.19311 | FT10: 144.19311 | FU10: 144.19311 | FV10: 144.19311 | FW10: 144.19311 | FX10: 144.19311 | FY10: 144.19311 | FZ10: 144.19311 | GA10: 144.19311 | GB10: 144.19311 | GC10: 144.19311 | GD10: 144.19311 | GE10: 144.19311 | GF10: 144.19311 | GG10: 144.19311 | GH10: 144.19311 | GI10: 144.19311 | GJ10: 144.19311 | GK10: 144.19311 | GL10: 144.19311 | GM10: 144.19311 | GN10: 144.19311 | GO10: 144.19311 | GP10: 144.19311 | GQ10: 144.19311 | GR10: 144.19311 | GS10: 144.19311 | GT10: 144.19311 | GU10: 144.19311 | GV10: 144.19311 | GW10: 144.19311 | GX10: 144.19311 | GY10: 144.19311 | GZ10: 144.19311 | HA10: 144.19311 | HB10: 144.19311 | HC10: 144.19311 | HD10: 144.19311 | HE10: 144.19311 | HF10: 144.19311 | HG10: 144.19311 | HH10: 144.19311 | HI10: 144.19311 | HJ10: 144.19311 | HK10: 144.19311 | HL10: 144.19311 | HM10: 144.19311 | HN10: 144.19311 | HO10: 144.19311 | HP10: 144.19311 | HQ10: 144.19311 | HR10: 144.19311 | HS10: 144.19311 | HT10: 144.19311 | HU10: 144.19311 | HV10: 144.19311 | HW10: 144.19311 | HX10: 144.19311 | HY10: 144.19311 | HZ10: 144.19311 | IA10: 144.19311 | IB10: 144.19311 | IC10: 144.19311 | ID10: 144.19311 | IE10: 144.19311 | IF10: 144.19311 | IG10: 144.19311 | IH10: 144.19311 | II10: 144.19311 | IJ10: 144.19311 | IK10: 144.19311 | IL10: 144.19311 | IM10: 144.19311 | IN10: 144.19311 | IO10: 144.19311 | IP10: 144.19311 | IQ10: 144.19311 | IR10: 144.19311 | IS10: 144.19311 | IT10: 144.19311 | IU10: 144.19311 | IV10: 144.19311 | IW10: 144.19311 | IX10: 144.19311 | IY10: 144.19311 | IZ10: 144.19311 | JA10: 144.19311 | JB10: 144.19311 | JC10: 144.19311 | JD10: 144.19311 | JE10: 144.19311 | JF10: 144.19311 | JG10: 144.19311 | JH10: 144.19311 | JI10: 144.19311 | JJ10: 144.19311 | JK10: 144.19311 | JL10: 144.19311 | JM10: 144.19311 | JN10: 144.19311 | JO10: 144.19311 | JP10: 144.19311 | JQ10: 144.19311 | JR10: 144.19311 | JS10: 144.19311 | JT10: 144.19311 | JU10: 144.19311 | JV10: 144.19311 | JW10: 144.19311 | JX10: 144.19311 | JY10: 144.19311 | JZ10: 144.19311 | KA10: 144.19311 | KB10: 144.19311 | KC10: 144.19311 | KD10: 144.19311 | KE10: 144.19311 | KF10: 144.19311 | KG10: 144.19311 | KH10: 144.19311 | KI10: 144.19311 | KJ10: 144.19311 | KK10: 144.19311 | KL10: 144.19311 | KM10: 144.19311 | KN10: 144.19311 | KO10: 144.19311 | KP10: 144.19311 | KQ10: 144.19311 | KR10: 144.19311 | KS10: 144.19311 | KT10: 144.19311 | KU10: 144.19311 | KV10: 144.19311 | KW10: 144.19311 | KX10: 144.19311 | KY10: 144.19311 | KZ10: 144.19311 | LA10: 144.19311 | LB10: 144.19311 | LC10: 144.19311 | LD10: 144.19311 | LE10: 144.19311 | LF10: 144.19311 | LG10: 144.19311 | LH10: 144.19311 | LI10: 144.19311 | LJ10: 144.19311 | LK10: 144.19311 | LL10: 144.19311 | LM10: 144.19311 | LN10: 144.19311 | LO10: 144.19311 | LP10: 144.19311 | LQ10: 144.19311 | LR10: 144.19311 | LS10: 144.19311 | LT10: 144.19311 | LU10: 144.19311 | LV10: 144.19311 | LW10: 144.19311 | LX10: 144.19311 | LY10: 144.19311 | LZ10: 144.19311 | MA10: 144.19311 | MB10: 144.19311 | MC10: 144.19311 | MD10: 144.19311 | ME10: 144.19311 | MF10: 144.19311 | MG10: 144.19311 | MH10: 144.19311 | MI10: 144.19311 | MJ10: 144.19311 | MK10: 144.19311 | ML10: 144.19311 | MM10: 144.19311 | MN10: 144.19311 | MO10: 144.19311 | MP10: 144.19311 | MQ10: 144.19311 | MR10: 144.19311 | MS10: 144.19311 | MT10: 144.19311 | MU10: 144.19311 | MV10: 144.19311 | MW10: 144.19311 | MX10: 144.19311 | MY10: 144.19311 | MZ10: 144.19311
A11: PSEN1 | B11: -4.0782369 | C11: -4.0782369 | D11: -4.0782369 | E11: -4.0782369 | F11: -4.0782369 | G11: -4.0782369 | H11: -4.0782369 | I11: -4.0782369 | J11: -4.0782369 | K11: -4.0782369 | L11: -4.0782369 | M11: -4.0782369 | N11: -4.0782369 | O11: -4.0782369 | P11: -4.0782369 | Q11: -4.0782369 | R11: -4.0782369 | S11: -4.0782369 | T11: -4.0782369 | U11: -4.0782369 | V11: -4.0782369 | W11: -4.0782369 | X11: -4.0782369 | Y11: -4.0782369 | Z11: -4.0782369 | AA11: -4.0782369 | AB11: -4.0782369 | AC11: -4.0782369 | AD11: -4.0782369 | AE11: -4.0782369 | AF11: -4.0782369 | AG11: -4.0782369 | AH11: -4.0782369 | AI11: -4.0782369 | AJ11: -4.0782369 | AK11: -4.0782369 | AL11: -4.0782369 | AM11: -4.0782369 | AN11: -4.0782369 | AO11: -4.0782369 | AP11: -4.0782369 | AQ11: -4.0782369 | AR11: -4.0782369 | AS11: -4.0782369 | AT11: -4.0782369 | AU11: -4.0782369 | AV11: -4.0782369 | AW11: -4.0782369 | AX11: -4.0782369 | AY11: -4.0782369 | AZ11: -4.0782369 | BA11: -4.0782369 | BB11: -4.0782369 | BC11: -4.0782369 | BD11: -4.0782369 | BE11: -4.0782369 | BF11: -4.0782369 | BG11: -4.0782369 | BH11: -4.0782369 | BI11: -4.0782369 | BJ11: -4.0782369 | BK11: -4.0782369 | BL11: -4.0782369 | BM11: -4.0782369 | BN11: -4.0782369 | BO11: -4.0782369 | BP11: -4.0782369 | BQ11: -4.0782369 | BR11: -4.0782369 | BS11: -4.0782369 | BT11: -4.0782369 | BU11: -4.0782369 | BV11: -4.0782369 | BW11: -4.0782369 | BX11: -4.0782369 | BY11: -4.0782369 | BZ11: -4.0782369 | CA11: -4.0782369 | CB11: -4.0782369 | CC11: -4.0782369 | CD11: -4.0782369 | CE11: -4.0782369 | CF11: -4.0782369 | CG11: -4.0782369 | CH11: -4.0782369 | CI11: -4.0782369 | CJ11: -4.0782369 | CK11: -4.0782369 | CL11: -4.0782369 | CM11: -4.0782369 | CN11: -4.0782369 | CO11: -4.0782369 | CP11: -4.0782369 | CQ11: -4.0782369 | CR11: -4.0782369 | CS11: -4.0782369 | CT11: -4.0782369 | CU11: -4.0782369 | CV11: -4.0782369 | CW11: -4.0782369 | CX11: -4.0782369 | CY11: -4.0782369 | CZ11: -4.0782369 | DA11: -4.0782369 | DB11: -4.0782369 | DC11: -4.0782369 | DD11: -4.0782369 | DE11: -4.0782369 | DF11: -4.0782369 | DG11: -4.0782369 | DH11: -4.0782369 | DI11: -4.0782369 | DJ11: -4.0782369 | DK11: -4.0782369 | DL11: -4.0782369 | DM11: -4.0782369 | DN11: -4.0782369 | DO11: -4.0782369 | DP11: -4.0782369 | DQ11: -4.0782369 | DR11: -4.0782369 | DS11: -4.0782369 | DT11: -4.0782369 | DU11: -4.0782369 | DV11: -4.0782369 | DW11: -4.0782369 | DX11: -4.0782369 | DY11: -4.0782369 | DZ11: -4.0782369 | EA11: -4.0782369 | EB11: -4.0782369 | EC11: -4.0782369 | ED11: -4.0782369 | EE11: -4.0782369 | EF11: -4.0782369 | EG11: -4.0782369 | EH11: -4.0782369 | EI11: -4.0782369 | EJ11: -4.0782369 | EK11: -4.0782369 | EL11: -4.0782369 | EM11: -4.0782369 | EN11: -4.0782369 | EO11: -4.0782369 | EP11: -4.0782369 | EQ11: -4.0782369 | ER11: -4.0782369 | ES11: -4.0782369 | ET11: -4.0782369 | EU11: -4.0782369 | EV11: -4.0782369 | EW11: -4.0782369 | EX11: -4.0782369 | EY11: -4.0782369 | EZ11: -4.0782369 | FA11: -4.0782369 | FB11: -4.0782369 | FC11: -4.0782369 | FD11: -4.0782369 | FE11: -4.0782369 | FF11: -4.0782369 | FG11: -4.0782369 | FH11: -4.0782369 | FI11: -4.0782369 | FJ11: -4.0782369 | FK11: -4.0782369 | FL11: -4.0782369 | FM11: -4.0782369 | FN11: -4.0782369 | FO11: -4.0782369 | FP11: -4.0782369 | FQ11: -4.0782369 | FR11: -4.0782369 | FS11: -4.0782369 | FT11: -4.0782369 | FU11: -4.0782369 | FV11: -4.0782369 | FW11: -4.0782369 | FX11: -4.0782369 | FY11: -4.0782369 | FZ11: -4.0782369 | GA11: -4.0782369 | GB11: -4.0782369 | GC11: -4.0782369 | GD11: -4.0782369 | GE11: -4.0782369 | GF11: -4.0782369 | GG11: -4.0782369 | GH11: -4.0782369 | GI11: -4.0782369 | GJ11: -4.0782369 | GK11: -4.0782369 | GL11: -4.0782369 | GM11: -4.0782369 | GN11: -4.0782369 | GO11: -4.0782369 | GP11: -4.0782369 | GQ11: -4.0782369 | GR11: -4.0782369 | GS11: -4.0782369 | GT11: -4.0782369 | GU11: -4.0782369 | GV11: -4.0782369 | GW11: -4.0782369 | GX11: -4.0782369 | GY11: -4.0782369 | GZ11: -4.0782369 | HA11: -4.0782369 | HB11: -4.0782369 | HC11: -4.0782369 | HD11: -4.0782369 | HE11: -4.0782369 | HF11: -4.0782369 | HG11: -4.0782369 | HH11: -4.0782369 | HI11: -4.0782369 | HJ11: -4.0782369 | HK11: -4.0782369 | HL11: -4.0782369 | HM11: -4.0782369 | HN11: -4.0782369 | HO11: -4.0782369 | HP11: -4.0782369 | HQ11: -4.0782369 | HR11: -4.0782369 | HS11: -4.0782369 | HT11: -4.0782369 | HU11: -4.0782369 | HV11: -4.0782369 | HW11: -4.0782369 | HX11: -4.0782369 | HY11: -4.0782369 | HZ11: -4.0782369 | IA11: -4.0782369 | IB11: -4.0782369 | IC11: -4.0782369 | ID11: -4.0782369 | IE11: -4.0782369 | IF11: -4.0782369 | IG11: -4.0782369 | IH11: -4.0782369 | II11: -4.0782369 | IJ11: -4.0782369 | IK11: -4.0782369 | IL11: -4.0782369 | IM11: -4.0782369 | IN11: -4.0782369 | IO11: -4.0782369 | IP11: -4.0782369 | IQ11: -4.0782369 | IR11: -4.0782369 | IS11: -4.0782369 | IT11: -4.0782369 | IU11: -4.0782369 | IV11: -4.0782369 | IW11: -4.0782369 | IX11: -4.0782369 | IY11: -4.0782369 | IZ11: -4.0782369 | JA11: -4.0782369 | JB11: -4.0782369 | JC11: -4.0782369 | JD11: -4.0782369 | JE11: -4.0782369 | JF11: -4.0782369 | JG11: -4.0782369 | JH11: -4.0782369 | JI11: -4.0782369 | JJ11: -4.0782369 | JK11: -4.0782369 | JL11: -4.0782369 | JM11: -4.0782369 | JN11: -4.0782369 | JO11: -4.0782369 | JP11: -4.0782369 | JQ11: -4.0782369 | JR11: -4.0782369 | JS11: -4.0782369 | JT11: -4.0782369 | JU11: -4.0782369 | JV11: -4.0782369 | JW11: -4.0782369 | JX11: -4.0782369 | JY11: -4.0782369 | JZ11: -4.0782369 | KA11: -4.0782369 | KB11: -4.0782369 | KC11: -4.0782369 | KD11: -4.0782369 | KE11: -4.0782369 | KF11: -4.0782369 | KG11: -4.0782369 | KH11: -4.0782369 | KI11: -4.0782369 | KJ11: -4.0782369 | KK11: -4.0782369 | KL11: -4.0782369 | KM11: -4.0782369 | KN11: -4.0782369 | KO11: -4.0782369 | KP11: -4.0782369 | KQ11: -4.0782369 | KR11: -4.0782369 | KS11: -4.0782369 | KT11: -4.0782369 | KU11: -4.0782369 | KV11: -4.0782369 | KW11: -4.0782369 | KX11: -4.0782369 | KY11: -4.0782369 | KZ11: -4.0782369 | LA11: -4.0782369 | LB11: -4.0782369 | LC11: -4.0782369 | LD11: -4.0782369 | LE11: -4.0782369 | LF11: -4.0782369 | LG11: -4.0782369 | LH11: -4.0782369 | LI11: -4.0782369 | LJ11: -4.0782369 | LK11: -4.0782369 | LL11: -4.0782369 | LM11: -4.0782369 | LN11: -4.0782369 | LO11: -4.0782369 | LP11: -4.0782369 | LQ11: -4.0782369 | LR11: -4.0782369 | LS11: -4.0782369 | LT11: -4.0782369 | LU11: -4.0782369 | LV11: -4.0782369 | LW11: -4.0782369 | LX11: -4.0782369 | LY11: -4.0782369 | LZ11: -4.0782369 | MA11: -4.0782369 | MB11: -4.0782369 | MC11: -4.0782369 | MD11: -4.0782369 | ME11: -4.0782369 | MF11: -4.0782369 | MG11: -4.0782369 | MH11: -4.0782369 | MI11: -4.0782369 | MJ11: -4.0782369 | MK11: -4.0782369 | ML11: -4.0782369 | MM11: -4.0782369 | MN11: -4.0782369 | MO11: -4.0782369 | MP11: -4.0782369 | MQ11: -4.0782369 | MR11: -4.0782369 | MS11: -4.0782369 | MT11: -4.0782369 | MU11: -4.0782369 | MV11: -4.0782369 | MW11: -4.0782369 | MX11: -4.0782369 | MY11: -4.0782369 | MZ11: -4.0782369

Sheet SD
A1: ID_REF | B1: GSM225652 | C1: GSM225662 | D1: GSM225664 | E1: GSM225665 | F1: GSM225666 | G1: GSM225667 | H1: GSM225668 | I1: GSM225669 | J1: GSM225670 | K1: GSM225671 | L1: GSM225672 | M1: GSM225673 | N1: GSM225674 | O1: GSM225675 | P1: GSM225676 | Q1: GSM225677 | R1: GSM225678 | S1: GSM225679 | T1: GSM225680 | U1: GSM225681 | V1: GSM225682 | W1: GSM225683 | X1: GSM225684 | Y1: GSM225685 | Z1: GSM225686 | AA1: GSM225687 | AB1: GSM225688 | AC1: GSM225689 | AD1: GSM225690 | AE1: GSM225691 | AF1: GSM225692 | AG1: GSM225693 | AH1: GSM225695 | AI1: GSM225696 | AJ1: GSM225697 | AK1: GSM225698 | AL1: GSM225699 | AM1: GSM225700 | AN1: GSM225701 | AO1: GSM225702 | AP1: GSM225703 | AQ1: GSM225704 | AR1: GSM225705 | AS1: GSM225706 | AT1: GSM225707 | AU1: GSM225708 | AV1: GSM225709 | AW1: GSM225711 | AX1: GSM225713 | AY1: GSM225714 | AZ1: GSM225715 | BA1: GSM225717 | BB1: GSM225718 | BC1: GSM225719 | BD1: GSM225720 | BE1: GSM225721 | BF1: GSM225722 | BG1: GSM225723 | BH1: GSM225724 | BI1: GSM225725 | BJ1: GSM225726 | BK1: GSM225727 | BL1: GSM225728 | BM1: GSM225729 | BN1: GSM225730 | BO1: GSM225731 | BP1: GSM225732 | BQ1: GSM225733 | BR1: GSM225734 | BS1: GSM225735 | BT1: GSM225736 | BU1: GSM225737 | BV1: GSM225739 | BW1: GSM225741 | BX1: GSM225742 | BY1: GSM225743 | BZ1: GSM225744 | CA1: GSM225745 | CB1: GSM225746 | CC1: GSM225747 | CD1: GSM225748 | CE1: GSM225749 | CF1: GSM225751 | CG1: GSM225752 | CH1: GSM225753 | CI1: GSM225754 | CJ1: GSM225755 | CK1: GSM225756 | CL1: GSM225757 | CM1: GSM225758 | CN1: GSM225759 | CO1: GSM225760 | CP1: GSM225761 | CQ1: GSM225762 | CR1: GSM225763 | CS1: GSM225764 | CT1: GSM225915 | CU1: GSM225916 | CV1: GSM225917 | CW1: GSM225918 | CX1: GSM225919 | CY1: GSM225920 | CZ1: GSM225921 | DA1: GSM225922 | DB1: GSM225923 | DC1: GSM225924 | DD1: GSM225925 | DE1: GSM225926 | DF1: GSM225927 | DG1: GSM225928 | DH1: GSM225929 | DI1: GSM225930 | DJ1: GSM225931 | DK1: GSM225932 | DL1: GSM225933 | DM1: GSM225934 | DN1: GSM225935 | DO1: GSM225936 | DP1: GSM225937 | DQ1: GSM225938 | DR1: GSM225939 | DS1: GSM225940 | DT1: GSM225941 | DU1: GSM225942 | DV1: GSM225943 | DW1: GSM225944 | DX1: GSM225945 | DY1: GSM225946 | DZ1: GSM225947 | EA1: GSM225948 | EB1: GSM225949 | EC1: GSM225950 | ED1: GSM225951 | EE1: GSM225952 | EF1: GSM225953 | EG1: GSM225954 | EH1: GSM225955 | EI1: GSM225956 | EJ1: GSM225957 | EK1: GSM225958 | EL1: GSM225959 | EM1: GSM225961 | EN1: GSM225962 | EO1: GSM225963 | EP1: GSM225964 | EQ1: GSM225965 | ER1: GSM226034 | ES1: GSM226035 | ET1: GSM226037 | EU1: GSM226038 | EV1: GSM226039 | EW1: GSM226040 | EX1: GSM226041 | EY1: GSM226042 | EZ1: GSM226044 | FA1: GSM226045 | FB1: GSM226046 | FC1: GSM226047 | FD1: GSM226048 | FE1: GSM226049 | FF1: GSM226050 | FG1: GSM226051 | FH1: GSM226052 | FI1: GSM226053 | FJ1: GSM226055 | FK1: GSM226056 | FL1: GSM226082 | FM1: GSM226145 | FN1: GSM226146 | FO1: GSM226147 | FP1: GSM226148 | FQ1: GSM226149 | FR1: GSM226150 | FS1: GSM226151 | FT1: GSM226154 | FU1: GSM226155 | FV1: GSM226156 | FW1: GSM226157 | FX1: GSM226158 | FY1: GSM226159 | FZ1: GSM226160 | GA1: GSM226162 | GB1: GSM226163 | GC1: GSM226164 | GD1: GSM226165 | GE1: GSM226167 | GF1: GSM226168 | GG1: GSM388217 | GH1: GSM388218 | GI1: GSM388219 | GJ1: GSM388220 | GK1: GSM388221 | GL1: GSM388222 | GM1: GSM388223 | GN1: GSM388224 | GO1: GSM388225 | GP1: GSM388226 | GQ1: GSM388228 | GR1: GSM388229 | GS1: GSM388230 | GT1: GSM388231 | GU1: GSM388232 | GV1: GSM388233 | GW1: GSM388234 | GX1: GSM388235 | GY1: GSM388236 | GZ1: GSM388237 | HA1: GSM388238 | HB1: GSM388239 | HC1: GSM388240 | HD1: GSM388241 | HE1: GSM388242 | HF1: GSM388243 | HG1: GSM388244 | HH1: GSM388245 | HI1: GSM388246 | HJ1: GSM388247 | HK1: GSM388248 | HL1: GSM388249 | HM1: GSM388250 | HN1: GSM388251 | HO1: GSM388252 | HP1: GSM388253 | HQ1: GSM388254 | HR1: GSM388255 | HS1: GSM388256 | HT1: GSM388257 | HU1: GSM388258 | HV1: GSM388259 | HW1: GSM388260 | HX1: GSM388261 | HY1: GSM388262 | HZ1: GSM388263 | IA1: GSM388264 | IB1: GSM388265 | IC1: GSM388266 | ID1: GSM388267 | IE1: GSM388268 | IF1: GSM388269 | IG1: GSM388270 | IH1: GSM388271 | II1: GSM388272 | IJ1: GSM388273 | IK1: GSM388274 | IL1: GSM388275 | IM1: GSM388276 | IN1: GSM388277 | IO1: GSM388278 | IP1: GSM388279 | IQ1: GSM388281 | IR1: GSM388282 | IS1: GSM388284 | IT1: GSM388285 | IU1: GSM388286 | IV1: GSM388287 | IW1: GSM388288 | IX1: GSM388289 | IY1: GSM388290 | IZ1: GSM388291 | JA1: GSM388292 | JB1: GSM388294 | JC1: GSM388295 | JD1: GSM388296 | JE1: GSM388297 | JF1: GSM388298 | JG1: GSM388299 | JH1: GSM388300 | JI1: GSM388301 | JJ1: GSM388302 | JK1: GSM388303 | JL1: GSM388304 | JM1: GSM388305 | JN1: GSM388306 | JO1: GSM388307 | JP1: GSM388308 | JQ1: GSM388309 | JR1: GSM388310 | JS1: GSM388311 | JT1: GSM388312 | JU1: GSM388313 | JV1: GSM388314 | JW1: GSM388315 | JX1: GSM388316 | JY1: GSM388317 | JZ1: GSM388318 | KA1: GSM388319 | KB1: GSM388320 | KC1: GSM388321 | KD1: GSM388322 | KE1: GSM388323 | KF1: GSM388324 | KG1: GSM388325 | KH1: GSM388326 | KI1: GSM388327 | KJ1: GSM388328 | KK1: GSM388329 | KL1: GSM388330 | KM1: GSM388331 | KN1: GSM388332 | KO1: GSM388333 | KP1: GSM388334 | KQ1: GSM388335 | KR1: GSM388336 | KS1: GSM388337 | KT1: GSM388338 | KU1: GSM388339 | KV1: GSM388340 | KW1: GSM388341 | KX1: GSM388342 | KY1: GSM388343 | KZ1: GSM388345 | LA1: GSM388346 | LB1: GSM388347 | LC1: GSM388348 | LD1: GSM388349 | LE1: GSM388350 | LF1: GSM388351 | LG1: GSM388352 | LH1: GSM388353 | LI1: GSM388354 | LJ1: GSM388355 | LK1: GSM388356 | LL1: GSM388357 | LM1: GSM388358 | LN1: GSM388359 | LO1: GSM388360 | LP1: GSM388361 | LQ1: GSM388362 | LR1: GSM388363 | LS1: GSM388364 | LT1: GSM388365 | LU1: GSM388366 | LV1: GSM388367 | LW1: GSM388368 | LX1: GSM388369 | LY1: GSM388370 | LZ1: GSM388371 | MA1: GSM388372 | MB1: GSM388373 | MC1: GSM388374 | MD1: GSM388375 | ME1: GSM388376 | MF1: GSM388377 | MG1: GSM388378 | MH1: GSM388379 | MI1: GSM388380 | MJ1: GSM388381 | MK1: GSM388382 | ML1: GSM388383 | MM1: GSM388384 | MN1: GSM388385 | MO1: GSM388386 | MP1: GSM388387 | MQ1: GSM388388 | MR1: GSM388389 | MS1: GSM388390 | MT1: GSM388391 | MU1: GSM388392 | MV1: GSM388393 | MW1: GSM388394 | MX1: GSM388395 | MY1: GSM388396 | MZ1: GSM388397
A2: !Sample_source_name_ch1 | B2: neuropathologically normal frozen temporal cortex | C2: neuropathologically normal frozen temporal cortex | D2: neuropathologically normal frozen temporal cortex | E2: neuropathologically normal frozen temporal cortex | F2: neuropathologically normal frozen temporal cortex | G2: neuropathologically normal frozen temporal cortex | H2: neuropathologically normal frozen temporal cortex | I2: neuropathologically normal frozen temporal cortex | J2: neuropathologically normal frozen temporal cortex | K2: neuropathologically normal frozen temporal cortex | L2: neuropathologically normal frozen temporal cortex | M2: neuropathologically normal frozen temporal cortex | N2: neuropathologically normal frozen temporal cortex | O2: neuropathologically normal frozen temporal cortex | P2: neuropathologically normal frozen temporal cortex | Q2: neuropathologically normal frozen temporal cortex | R2: neuropathologically normal frozen temporal cortex | S2: neuropathologically normal frozen temporal cortex | T2: neuropathologically normal frozen temporal cortex | U2: neuropathologically normal frozen temporal cortex | V2: neuropathologically normal frozen temporal cortex | W2: neuropathologically normal frozen frontal cortex | X2: neuropathologically normal frozen frontal cortex | Y2: neuropathologically normal frozen frontal cortex | Z2: neuropathologically normal frozen frontal cortex | AA2: neuropathologically normal frozen temporal cortex | AB2: neuropathologically normal frozen temporal cortex | AC2: neuropathologically normal frozen temporal cortex | AD2: neuropathologically normal frozen temporal cortex | AE2: neuropathologically normal frozen temporal cortex | AF2: neuropathologically normal frozen temporal cortex | AG2: neuropathologically normal frozen temporal cortex | AH2: neuropathologically normal frozen temporal cortex | AI2: neuropathologically normal frozen temporal cortex | AJ2: neuropathologically normal frozen temporal cortex | AK2: neuropathologically normal frozen temporal cortex | AL2: neuropathologically normal frozen temporal cortex | AM2: neuropathologically normal frozen temporal cortex | AN2: neuropathologically normal frozen temporal cortex | AO2: neuropathologically normal frozen temporal cortex | AP2: neuropathologically normal frozen temporal cortex | AQ2: neuropathologically normal frozen temporal cortex | AR2: neuropathologically normal frozen temporal cortex | AS2: neuropathologically normal frozen temporal cortex | AT2: neuropathologically normal frozen temporal cortex | AU2: neuropathologically normal frozen temporal cortex | AV2: neuropathologically normal frozen temporal cortex | AW2: neuropathologically normal frozen temporal cortex | AX2: neuropathologically normal frozen temporal cortex | AY2: neuropathologically normal frozen temporal cortex | AZ2: neuropathologically normal frozen temporal cortex | BA2: neuropathologically normal frozen temporal cortex | BB2: neuropathologically normal frozen temporal cortex | BC2: neuropathologically normal frozen temporal cortex | BD2: neuropathologically normal frozen frontal cortex | BE2: neuropathologically normal frozen frontal cortex | BF2: neuropathologically normal frozen temporal cortex | BG2: neuropathologically normal frozen temporal cortex | BH2: neuropathologically normal frozen temporal cortex | BI2: neuropathologically normal frozen temporal cortex | BJ2: neuropathologically normal frozen temporal cortex | BK2: neuropathologically normal frozen temporal cortex | BL2: neuropathologically normal frozen temporal cortex | BM2: neuropathologically normal frozen temporal cortex | BN2: neuropathologically normal frozen temporal cortex | BO2: neuropathologically normal frozen temporal cortex | BP2: neuropathologically normal frozen temporal cortex | BQ2: neuropathologically normal frozen temporal cortex | BR2: neuropathologically normal frozen temporal cortex | BS2: neuropathologically normal frozen temporal cortex | BT2: neuropathologically normal frozen temporal cortex | BU2: neuropathologically normal frozen temporal cortex | BV2: neuropathologically normal frozen temporal cortex | BW2: neuropathologically normal frozen temporal cortex | BX2: neuropathologically normal frozen temporal cortex | BY2: neuropathologically normal frozen temporal cortex | BZ2: neuropathologically normal frozen temporal cortex | CA2: neuropathologically normal frozen temporal cortex | CB2: neuropathologically normal frozen temporal cortex | CC2: neuropathologically normal frozen temporal cortex | CD2: neuropathologically normal frozen temporal cortex | CE2: neuropathologically normal frozen temporal cortex | CF2: neuropathologically normal frozen temporal cortex | CG2: neuropathologically normal frozen temporal cortex | CH2: neuropathologically normal frozen temporal cortex | CI2: neuropathologically normal frozen temporal cortex | CJ2: neuropathologically normal frozen temporal cortex | CK2: neuropathologically normal frozen temporal cortex | CL2: neuropathologically normal frozen temporal cortex | CM2: neuropathologically normal frozen temporal cortex | CN2: neuropathologically normal frozen temporal cortex | CO2: neuropathologically normal frozen temporal cortex | CP2: neuropathologically normal frozen temporal cortex | CQ2: neuropathologically normal frozen temporal cortex | CR2: neuropathologically normal frozen temporal cortex | CS2: neuropathologically normal frozen temporal cortex | CT2: neuropathologically normal frozen temporal cortex | CU2: neuropathologically normal frozen temporal cortex | CV2: neuropathologically normal frozen temporal cortex | CW2: neuropathologically normal frozen temporal cortex | CX2: neuropathologically normal frozen temporal cortex | CY2: neuropathologically normal frozen temporal cortex | CZ2: neuropathologically normal frozen temporal cortex | DA2: neuropathologically normal frozen temporal cortex | DB2: neuropathologically normal frozen temporal cortex | DC2: neuropathologically normal frozen temporal cortex | DD2: neuropathologically normal frozen temporal cortex | DE2: neuropathologically normal frozen temporal cortex | DF2: neuropathologically normal frozen temporal cortex | DG2: neuropathologically normal frozen temporal cortex | DH2: neuropathologically normal frozen temporal cortex | DI2: neuropathologically normal frozen temporal cortex | DJ2: neuropathologically normal frozen temporal cortex | DK2: neuropathologically normal frozen temporal cortex | DL2: neuropathologically normal frozen temporal cortex | DM2: neuropathologically normal frozen temporal cortex | DN2: neuropathologically normal frozen temporal cortex | DO2: neuropathologically normal frozen temporal cortex | DP2: neuropathologically normal frozen temporal cortex | DQ2: neuropathologically normal frozen temporal cortex | DR2: neuropathologically normal frozen temporal cortex | DS2: neuropathologically normal frozen temporal cortex | DT2: neuropathologically normal frozen frontal cortex | DU2: neuropathologically normal frozen frontal cortex | DV2: neuropathologically normal frozen frontal cortex | DW2: neuropathologically normal frozen frontal cortex | DX2: neuropathologically normal frozen temporal cortex | DY2: neuropathologically normal frozen temporal cortex | DZ2: neuropathologically normal frozen temporal cortex | EA2: neuropathologically normal frozen temporal cortex | EB2: neuropathologically normal frozen frontal cortex | EC2: neuropathologically normal frozen frontal cortex | ED2: neuropathologically normal frozen frontal cortex | EE2: neuropathologically normal frozen frontal cortex | EF2: neuropathologically normal frozen frontal cortex | EG2: neuropathologically normal frozen frontal cortex | EH2: neuropathologically normal frozen frontal cortex | EI2: neuropathologically normal frozen frontal cortex | EJ2: neuropathologically normal frozen frontal cortex | EK2: neuropathologically normal frozen frontal cortex | EL2: neuropathologically normal frozen frontal cortex | EM2: neuropathologically normal frozen frontal cortex | EN2: neuropathologically normal frozen temporal cortex | EO2: neuropathologically normal frozen frontal temporal cortex | EP2: neuropathologically normal frozen frontal temporal cortex | EQ2: neuropathologically normal frozen frontal cortex | ER2: neuropathologically normal frozen frontal cortex | ES2: neuropathologically normal frozen parietal cortex | ET2: neuropathologically normal frozen frontal cortex | EU2: neuropathologically normal frozen frontal temporal cortex | EV2: neuropathologically normal frozen frontal cortex | EW2: neuropathologically normal frozen unknown cortex | EX2: neuropathologically normal frozen unknown cortex | EY2: neuropathologically normal frozen unknown region cortex | EZ2: neuropathologically normal frozen unknown region cortex | FA2: neuropathologically normal frozen unknown region cortex | FB2: neuropathologically normal frozen unknown region cortex | FC2: neuropathologically normal frozen frontal cortex | FD2: neuropathologically normal frozen frontal cortex | FE2: neuropathologically normal frozen frontal cortex | FF2: neuropathologically normal frozen frontal cortex | FG2: neuropathologically normal frozen frontal cortex | FH2: neuropathologically normal frozen frontal cortex | FI2: neuropathologically normal frozen frontal cortex | FJ2: neuropathologically normal frozen frontal cortex | FK2: neuropathologically normal frozen frontal cortex | FL2: neuropathologically normal frozen frontal cortex | FM2: neuropathologically normal frozen frontal cortex | FN2: neuropathologically normal frozen frontal cortex | FO2: neuropathologically normal frozen frontal cortex | FP2: neuropathologically normal frozen frontal cortex | FQ2: neuropathologically normal frozen temporal cortex | FR2: neuropathologically normal frozen temporal cortex | FS2: neuropathologically normal frozen temporal cortex | FT2: neuropathologically normal frozen temporal cortex | FU2: neuropathologically normal frozen temporal cortex | FV2: neuropathologically normal frozen temporal cortex | FW2: neuropathologically normal frozen temporal cortex | FX2: neuropathologically normal frozen temporal cortex | FY2: neuropathologically normal frozen temporal cortex | FZ2: neuropathologically normal frozen temporal cortex | GA2: neuropathologically normal frozen temporal cortex | GB2: neuropathologically normal frozen temporal cortex | GC2: neuropathologically normal frozen temporal cortex | GD2: neuropathologically normal frozen temporal cortex | GE2: neuropathologically normal frozen parietal cortex | GF2: neuropathologically normal frozen parietal cortex | GG2: Alzheimer's Disease frozen cortical tissue | GH2: Alzheimer's Disease frozen cortical tissue | GI2: Alzheimer's Disease frozen cortical tissue | GJ2: Alzheimer's Disease frozen cortical tissue | GK2: Alzheimer's Disease frozen cortical tissue | GL2: Alzheimer's Disease frozen cortical tissue | GM2: Alzheimer's Disease frozen cortical tissue | GN2: Alzheimer's Disease frozen cortical tissue | GO2: Alzheimer's Disease frozen cortical tissue | GP2: Alzheimer's Disease frozen cortical tissue | GQ2: Alzheimer's Disease frozen cortical tissue | GR2: Alzheimer's Disease frozen cortical tissue | GS2: Alzheimer's Disease frozen cortical tissue | GT2: Alzheimer's Disease frozen cortical tissue | GU2: Alzheimer's Disease frozen cortical tissue | GV2: Alzheimer's Disease frozen cortical tissue | GW2: Alzheimer's Disease frozen cortical tissue | GX2: Alzheimer's Disease frozen cortical tissue | GY2: Alzheimer's Disease frozen cortical tissue | GZ2: Alzheimer's Disease frozen cortical tissue | HA2: Alzheimer's Disease frozen cortical tissue | HB2: Alzheimer's Disease frozen cortical tissue | HC2: Alzheimer's Disease frozen cortical tissue | HD2: Alzheimer's Disease frozen cortical tissue | HE2: Alzheimer's Disease frozen cortical tissue | HF2: Alzheimer's Disease frozen cortical tissue | HG2: Alzheimer's Disease frozen cortical tissue | HH2: Alzheimer's Disease frozen cortical tissue | HI2: Alzheimer's Disease frozen cortical tissue | HJ2: Alzheimer's Disease frozen cortical tissue | HK2: Alzheimer's Disease frozen cortical tissue | HL2: Alzheimer's Disease frozen cortical tissue | HM2: Alzheimer's Disease frozen cortical tissue | HN2: Alzheimer's Disease frozen cortical tissue | HO2: Alzheimer's Disease frozen cortical tissue | HP2: Alzheimer's Disease frozen cortical tissue | HQ2: Alzheimer's Disease frozen cortical tissue | HR2: Alzheimer's Disease frozen cortical tissue | HS2: Alzheimer's Disease frozen cortical tissue | HT2: Alzheimer's Disease frozen cortical tissue | HU2: Alzheimer's Disease frozen cortical tissue | HV2: Alzheimer's Disease frozen cortical tissue | HW2: Alzheimer's Disease frozen cortical tissue | HX2: Alzheimer's Disease frozen cortical tissue | HY2: Alzheimer's Disease frozen cortical tissue | HZ2: Alzheimer's Disease frozen cortical tissue | IA2: Alzheimer's Disease frozen cortical tissue | IB2: Alzheimer's Disease frozen cortical tissue | IC2: Alzheimer's Disease frozen cortical tissue | ID2: Alzheimer's Disease frozen cortical tissue | IE2: Alzheimer's Disease frozen cortical tissue | IF2: Alzheimer's Disease frozen cortical tissue | IG2: Alzheimer's Disease frozen cortical tissue | IH2: Alzheimer's Disease frozen cortical tissue | II2: Alzheimer's Disease frozen cortical tissue | IJ2: Alzheimer's Disease frozen cortical tissue | IK2: Alzheimer's Disease frozen cortical tissue | IL2: Alzheimer's Disease frozen cortical tissue | IM2: Alzheimer's Disease frozen cortical tissue | IN2: Alzheimer's Disease frozen cortical tissue | IO2: Alzheimer's Disease frozen cortical tissue | IP2: Alzheimer's Disease frozen cortical tissue | IQ2: Alzheimer's Disease frozen cortical tissue | IR2: Alzheimer's Disease frozen cortical tissue | IS2: Alzheimer's Disease frozen cortical tissue | IT2: Alzheimer's Disease frozen cortical tissue | IU2: Alzheimer's Disease frozen cortical tissue | IV2: Alzheimer's Disease frozen cortical tissue | IW2: Alzheimer's Disease frozen cortical tissue | IX2: Alzheimer's Disease frozen cortical tissue | IY2: Alzheimer's Disease frozen cortical tissue | IZ2: Alzheimer's Disease frozen cortical tissue | JA2: Alzheimer's Disease frozen cortical tissue | JB2: Alzheimer's Disease frozen cortical tissue | JC2: Alzheimer's Disease frozen cortical tissue | JD2: Alzheimer's Disease frozen cortical tissue | JE2: Alzheimer's Disease frozen cortical tissue | JF2: Alzheimer's Disease frozen cortical tissue | JG2: Alzheimer's Disease frozen cortical tissue | JH2: Alzheimer's Disease frozen cortical tissue | JI2: Alzheimer's Disease frozen cortical tissue | JJ2: Alzheimer's Disease frozen cortical tissue | JK2: Alzheimer's Disease frozen cortical tissue | JL2: Alzheimer's Disease frozen cortical tissue | JM2: Alzheimer's Disease frozen cortical tissue | JN2: Alzheimer's Disease frozen cortical tissue | JO2: Alzheimer's Disease frozen cortical tissue | JP2: Alzheimer's Disease frozen cortical tissue | JQ2: Alzheimer's Disease frozen cortical tissue | JR2: Alzheimer's Disease frozen cortical tissue | JS2: Alzheimer's Disease frozen cortical tissue | JT2: Alzheimer's Disease frozen cortical tissue | JU2: Alzheimer's Disease frozen cortical tissue | JV2: Alzheimer's Disease frozen cortical tissue | JW2: Alzheimer's Disease frozen cortical tissue | JX2: Alzheimer's Disease frozen cortical tissue | JY2: Alzheimer's Disease frozen cortical tissue | JZ2: Alzheimer's Disease frozen cortical tissue | KA2: Alzheimer's Disease frozen cortical tissue | KB2: Alzheimer's Disease frozen cortical tissue | KC2: Alzheimer's Disease frozen cortical tissue | KD2: Alzheimer's Disease frozen cortical tissue | KE2: Alzheimer's Disease frozen cortical tissue | KF2: Alzheimer's Disease frozen cortical tissue | KG2: Alzheimer's Disease frozen cortical tissue | KH2: Alzheimer's Disease frozen cortical tissue | KI2: Alzheimer's Disease frozen cortical tissue | KJ2: Alzheimer's Disease frozen cortical tissue | KK2: Alzheimer's Disease frozen cortical tissue | KL2: Alzheimer's Disease frozen cortical tissue | KM2: Alzheimer's Disease frozen cortical tissue | KN2: Alzheimer's Disease frozen cortical tissue | KO2: Alzheimer's Disease frozen cortical tissue | KP2: Alzheimer's Disease frozen cortical tissue | KQ2: Alzheimer's Disease frozen cortical tissue | KR2: Alzheimer's Disease frozen cortical tissue | KS2: Alzheimer's Disease frozen cortical tissue | KT2: Alzheimer's Disease frozen cortical tissue | KU2: Alzheimer's Disease frozen cortical tissue | KV2: Alzheimer's Disease frozen cortical tissue | KW2: Alzheimer's Disease frozen cortical tissue | KX2: Alzheimer's Disease frozen cortical tissue | KY2: Alzheimer's Disease frozen cortical tissue | KZ2: Alzheimer's Disease frozen cortical tissue | LA2: Alzheimer's Disease frozen cortical tissue | LB2: Alzheimer's Disease frozen cortical tissue | LC2: Alzheimer's Disease frozen cortical tissue | LD2: Alzheimer's Disease frozen cortical tissue | LE2: Alzheimer's Disease frozen cortical tissue | LF2: Alzheimer's Disease frozen cortical tissue | LG2: Alzheimer's Disease frozen cortical tissue | LH2: Alzheimer's Disease frozen cortical tissue | LI2: Alzheimer's Disease frozen cortical tissue | LJ2: Alzheimer's Disease frozen cortical tissue | LK2: Alzheimer's Disease frozen cortical tissue | LL2: Alzheimer's Disease frozen cortical tissue | LM2: Alzheimer's Disease frozen cortical tissue | LN2: Alzheimer's Disease frozen cortical tissue | LO2: Alzheimer's Disease frozen cortical tissue | LP2: Alzheimer's Disease frozen cortical tissue | LQ2: Alzheimer's Disease frozen cortical tissue | LR2: Alzheimer's Disease frozen cortical tissue | LS2: Alzheimer's Disease frozen cortical tissue | LT2: Alzheimer's Disease frozen cortical tissue | LU2: Alzheimer's Disease frozen cortical tissue | LV2: Alzheimer's Disease frozen cortical tissue | LW2: Alzheimer's Disease frozen cortical tissue | LX2: Alzheimer's Disease frozen cortical tissue | LY2: Alzheimer's Disease frozen cortical tissue | LZ2: Alzheimer's Disease frozen cortical tissue | MA2: Alzheimer's Disease frozen cortical tissue | MB2: Alzheimer's Disease frozen cortical tissue | MC2: Alzheimer's Disease frozen cortical tissue | MD2: Alzheimer's Disease frozen cortical tissue | ME2: Alzheimer's Disease frozen cortical tissue | MF2: Alzheimer's Disease frozen cortical tissue | MG2: Alzheimer's Disease frozen cortical tissue | MH2: Alzheimer's Disease frozen cortical tissue | MI2: Alzheimer's Disease frozen cortical tissue | MJ2: Alzheimer's Disease frozen cortical tissue | MK2: Alzheimer's Disease frozen cortical tissue | ML2: Alzheimer's Disease frozen cortical tissue | MM2: Alzheimer's Disease frozen cortical tissue | MN2: Alzheimer's Disease frozen cortical tissue | MO2: Alzheimer's Disease frozen cortical tissue | MP2: Alzheimer's Disease frozen cortical tissue | MQ2: Alzheimer's Disease frozen cortical tissue | MR2: Alzheimer's Disease frozen cortical tissue | MS2: Alzheimer's Disease frozen cortical tissue | MT2: Alzheimer's Disease frozen cortical tissue | MU2: Alzheimer's Disease frozen cortical tissue | MV2: Alzheimer's Disease frozen cortical tissue | MW2: Alzheimer's Disease frozen cortical tissue | MX2: Alzheimer's Disease frozen cortical tissue | MY2: Alzheimer's Disease frozen cortical tissue | MZ2: Alzheimer's Disease frozen cortical tissue
A3: Alzheimer | B3: Normal | C3: Normal | D3: Normal | E3: Normal | F3: Normal | G3: Normal | H3: Normal | I3: Normal | J3: Normal | K3: Normal | L3: Normal | M3: Normal | N3: Normal | O3: Normal | P3: Normal | Q3: Normal | R3: Normal | S3: Normal | T3: Normal | U3: Normal | V3: Normal | W3: Normal | X3: Normal | Y3: Normal | Z3: Normal | AA3: Normal | AB3: Normal | AC3: Normal | AD3: Normal | AE3: Normal | AF3: Normal | AG3: Normal | AH3: Normal | AI3: Normal | AJ3: Normal | AK3: Normal | AL3: Normal | AM3: Normal | AN3: Normal | AO3: Normal | AP3: Normal | AQ3: Normal | AR3: Normal | AS3: Normal | AT3: Normal | AU3: Normal | AV3: Normal | AW3: Normal | AX3: Normal | AY3: Normal | AZ3: Normal | BA3: Normal | BB3: Normal | BC3: Normal | BD3: Normal | BE3: Normal | BF3: Normal | BG3: Normal | BH3: Normal | BI3: Normal | BJ3: Normal | BK3: Normal | BL3: Normal | BM3: Normal | BN3: Normal | BO3: Normal | BP3: Normal | BQ3: Normal | BR3: Normal | BS3: Normal | BT3: Normal | BU3: Normal | BV3: Normal | BW3: Normal | BX3: Normal | BY3: Normal | BZ3: Normal | CA3: Normal | CB3: Normal | CC3: Normal | CD3: Normal | CE3: Normal | CF3: Normal | CG3: Normal | CH3: Normal | CI3: Normal | CJ3: Normal | CK3: Normal | CL3: Normal | CM3: Normal | CN3: Normal | CO3: Normal | CP3: Normal | CQ3: Normal | CR3: Normal | CS3: Normal | CT3: Normal | CU3: Normal | CV3: Normal | CW3: Normal | CX3: Normal | CY3: Normal | CZ3: Normal | DA3: Normal | DB3: Normal | DC3: Normal | DD3: Normal | DE3: Normal | DF3: Normal | DG3: Normal | DH3: Normal | DI3: Normal | DJ3: Normal | DK3: Normal | DL3: Normal | DM3: Normal | DN3: Normal | DO3: Normal | DP3: Normal | DQ3: Normal | DR3: Normal | DS3: Normal | DT3: Normal | DU3: Normal | DV3: Alzheimer | DW3: Normal | DX3: Normal | DY3: Normal | DZ3: Normal | EA3: Normal | EB3: Normal | EC3: Normal | ED3: Normal | EE3: Normal | EF3: Normal | EG3: Normal | EH3: Normal | EI3: Normal | EJ3: Normal | EK3: Normal | EL3: Normal | EM3: Normal | EN3: Normal | EO3: Normal | EP3: Normal | EQ3: Normal | ER3: Normal | ES3: Normal | ET3: Normal | EU3: Normal | EV3: Normal | EW3: Normal | EX3: Normal | EY3: Normal | EZ3: Normal | FA3: Normal | FB3: Normal | FC3: Normal | FD3: Normal | FE3: Normal | FF3: Normal | FG3: Normal | FH3: Normal | FI3: Normal | FJ3: Normal | FK3: Normal | FL3: Normal | FM3: Normal | FN3: Normal | FO3: Normal | FP3: Normal | FQ3: Normal | FR3: Normal | FS3: Normal | FT3: Normal | FU3: Normal | FV3: Normal | FW3: Normal | FX3: Normal | FY3: Normal | FZ3: Normal | GA3: Normal | GB3: Normal | GC3: Normal | GD3: Normal | GE3: Normal | GF3: Normal | GG3: Alzheimer | GH3: Alzheimer | GI3: Alzheimer | GJ3: Alzheimer | GK3: Alzheimer | GL3: Alzheimer | GM3: Alzheimer | GN3: Alzheimer | GO3: Alzheimer | GP3: Alzheimer | GQ3: Alzheimer | GR3: Alzheimer | GS3: Alzheimer | GT3: Alzheimer | GU3: Alzheimer | GV3: Alzheimer | GW3: Alzheimer | GX3: Alzheimer | GY3: Alzheimer | GZ3: Alzheimer | HA3: Alzheimer | HB3: Alzheimer | HC3: Alzheimer | HD3: Alzheimer | HE3: Alzheimer | HF3: Alzheimer | HG3: Alzheimer | HH3: Alzheimer | HI3: Alzheimer | HJ3: Alzheimer | HK3: Alzheimer | HL3: Alzheimer | HM3: Alzheimer | HN3: Alzheimer | HO3: Alzheimer | HP3: Alzheimer | HQ3: Alzheimer | HR3: Alzheimer | HS3: Alzheimer | HT3: Alzheimer | HU3: Alzheimer | HV3: Alzheimer | HW3: Alzheimer | HX3: Alzheimer | HY3: Alzheimer | HZ3: Alzheimer | IA3: Alzheimer | IB3: Alzheimer | IC3: Alzheimer | ID3: Alzheimer | IE3: Alzheimer | IF3: Alzheimer | IG3: Alzheimer | IH3: Alzheimer | II3: Alzheimer | IJ3: Alzheimer | IK3: Alzheimer | IL3: Alzheimer | IM3: Alzheimer | IN3: Alzheimer | IO3: Alzheimer | IP3: Alzheimer | IQ3: Alzheimer | IR3: Alzheimer | IS3: Alzheimer | IT3: Alzheimer | IU3: Alzheimer | IV3: Alzheimer | IW3: Alzheimer | IX3: Alzheimer | IY3: Alzheimer | IZ3: Alzheimer | JA3: Alzheimer | JB3: Alzheimer | JC3: Alzheimer | JD3: Alzheimer | JE3: Alzheimer | JF3: Alzheimer | JG3: Alzheimer | JH3: Alzheimer | JI3: Alzheimer | JJ3: Alzheimer | JK3: Alzheimer | JL3: Alzheimer | JM3: Alzheimer | JN3: Alzheimer | JO3: Alzheimer | JP3: Alzheimer | JQ3: Alzheimer | JR3: Alzheimer | JS3: Alzheimer | JT3: Alzheimer | JU3: Alzheimer | JV3: Alzheimer | JW3: Alzheimer | JX3: Alzheimer | JY3: Alzheimer | JZ3: Alzheimer | KA3: Alzheimer | KB3: Alzheimer | KC3: Alzheimer | KD3: Alzheimer | KE3: Alzheimer | KF3: Alzheimer | KG3: Alzheimer | KH3: Alzheimer | KI3: Alzheimer | KJ3: Alzheimer | KK3: Alzheimer | KL3: Alzheimer | KM3: Alzheimer | KN3: Alzheimer | KO3: Alzheimer | KP3: Alzheimer | KQ3: Alzheimer | KR3: Alzheimer | KS3: Alzheimer | KT3: Alzheimer | KU3: Alzheimer | KV3: Alzheimer | KW3: Alzheimer | KX3: Alzheimer | KY3: Alzheimer | KZ3: Alzheimer | LA3: Alzheimer | LB3: Alzheimer | LC3: Alzheimer | LD3: Alzheimer | LE3: Alzheimer | LF3: Alzheimer | LG3: Alzheimer | LH3: Alzheimer | LI3: Alzheimer | LJ3: Alzheimer | LK3: Alzheimer | LL3: Alzheimer | LM3: Alzheimer | LN3: Alzheimer | LO3: Alzheimer | LP3: Alzheimer | LQ3: Alzheimer | LR3: Alzheimer | LS3: Alzheimer | LT3: Alzheimer | LU3: Alzheimer | LV3: Alzheimer | LW3: Alzheimer | LX3: Alzheimer | LY3: Alzheimer | LZ3: Alzheimer | MA3: Alzheimer | MB3: Alzheimer | MC3: Alzheimer | MD3: Alzheimer | ME3: Alzheimer | MF3: Alzheimer | MG3: Alzheimer | MH3: Alzheimer | MI3: Alzheimer | MJ3: Alzheimer | MK3: Alzheimer | ML3: Alzheimer | MM3: Alzheimer | MN3: Alzheimer | MO3: Alzheimer | MP3: Alzheimer | MQ3: Alzheimer | MR3: Alzheimer | MS3: Alzheimer | MT3: Alzheimer | MU3: Alzheimer | MV3: Alzheimer | MW3: Alzheimer | MX3: Alzheimer | MY3: Alzheimer | MZ3: Alzheimer
A4: Sex | B4: male | C4: male | D4: male | E4: female | F4: female | G4: male | H4: male | I4: male | J4: male | K4: male | L4: female | M4: male | N4: male | O4: female | P4: male | Q4: male | R4: male | S4: female | T4: female | U4: male | V4: male | W4: male | X4: female | Y4: female | Z4: male | AA4: male | AB4: male | AC4: female | AD4: male | AE4: male | AF4: female | AG4: female | AH4: male | AI4: male | AJ4: male | AK4: male | AL4: male | AM4: female | AN4: male | AO4: female | AP4: female | AQ4: female | AR4: female | AS4: female | AT4: female | AU4: female | AV4: female | AW4: male | AX4: female | AY4: male | AZ4: male | BA4: male | BB4: female | BC4: male | BD4: male | BE4: male | BF4: female | BG4: female | BH4: male | BI4: male | BJ4: male | BK4: female | BL4: female | BM4: male | BN4: male | BO4: female | BP4: female | BQ4: male | BR4: male | BS4: female | BT4: female | BU4: female | BV4: male | BW4: male | BX4: female | BY4: female | BZ4: female | CA4: female | CB4: female | CC4: female | CD4: male | CE4: male | CF4: female | CG4: female | CH4: male | CI4: male | CJ4: female | CK4: male | CL4: male | CM4: female | CN4: male | CO4: male | CP4: female | CQ4: male | CR4: female | CS4: male | CT4: female | CU4: male | CV4: female | CW4: female | CX4: male | CY4: male | CZ4: male | DA4: male | DB4: male | DC4: male | DD4: male | DE4: female | DF4: female | DG4: male | DH4: male | DI4: female | DJ4: male | DK4: male | DL4: female | DM4: male | DN4: female | DO4: female | DP4: male | DQ4: male | DR4: female | DS4: female | DT4: male | DU4: male | DV4: female | DW4: male | DX4: female | DY4: male | DZ4: female | EA4: male | EB4: female | EC4: female | ED4: male | EE4: male | EF4: female | EG4: female | EH4: female | EI4: male | EJ4: female | EK4: female | EL4: male | EM4: female | EN4: female | EO4: male | EP4: female | EQ4: female | ER4: male | ES4: male | ET4: male | EU4: male | EV4: male | EW4: female | EX4: female | EY4: female | EZ4: female | FA4: female | FB4: female | FC4: male | FD4: male | FE4: male | FF4: male | FG4: female | FH4: female | FI4: male | FJ4: male | FK4: male | FL4: male | FM4: male | FN4: female | FO4: female | FP4: female | FQ4: female | FR4: male | FS4: male | FT4: male | FU4: male | FV4: male | FW4: female | FX4: male | FY4: female | FZ4: male | GA4: male | GB4: female | GC4: male | GD4: female | GE4: female | GF4: male | GG4: Female | GH4: Female | GI4: male | GJ4: Female | GK4: Female | GL4: Female | GM4: male | GN4: Female | GO4: male | GP4: male | GQ4: Female | GR4: male | GS4: Female | GT4: Female | GU4: Female | GV4: male | GW4: male | GX4: male | GY4: male | GZ4: male | HA4: Female | HB4: Female | HC4: male | HD4: Female | HE4: male | HF4: Female | HG4: Female | HH4: male | HI4: male | HJ4: Female | HK4: Female | HL4: Female | HM4: Female | HN4: male | HO4: Female | HP4: Female | HQ4: male | HR4: Female | HS4: Female | HT4: Female | HU4: male | HV4: male | HW4: male | HX4: Female | HY4: male | HZ4: male | IA4: male | IB4: male | IC4: Female | ID4: Female | IE4: male | IF4: Female | IG4: Female | IH4: male | II4: Female | IJ4: male | IK4: Female | IL4: Female | IM4: Female | IN4: Female | IO4: Female | IP4: Female | IQ4: Female | IR4: male | IS4: male | IT4: male | IU4: male | IV4: male | IW4: male | IX4: male | IY4: Female | IZ4: Female | JA4: Female | JB4: male | JC4: male | JD4: male | JE4: Female | JF4: male | JG4: male | JH4: Female | JI4: Female | JJ4: male | JK4: Female | JL4: Female | JM4: male | JN4: male | JO4: male | JP4: Female | JQ4: male | JR4: Female | JS4: male | JT4: male | JU4: male | JV4: Female | JW4: Female | JX4: male | JY4: Female | JZ4: Female | KA4: male | KB4: male | KC4: Female | KD4: Female | KE4: Female | KF4: male | KG4: male | KH4: Female | KI4: Female | KJ4: male | KK4: male | KL4: male | KM4: male | KN4: male | KO4: Female | KP4: male | KQ4: male | KR4: Female | KS4: male | KT4: Female | KU4: Female | KV4: Female | KW4: male | KX4: male | KY4: male | KZ4: Female | LA4: Female | LB4: male | LC4: male | LD4: Female | LE4: Female | LF4: Female | LG4: male | LH4: Female | LI4: Female | LJ4: Female | LK4: male | LL4: male | LM4: Female | LN4: male | LO4: Female | LP4: male | LQ4: Female | LR4: male | LS4: Female | LT4: Female | LU4: male | LV4: Female | LW4: Female | LX4: male | LY4: male | LZ4: Female | MA4: Female | MB4: male | MC4: Female | MD4: Female | ME4: male | MF4: Female | MG4: male | MH4: male | MI4: male | MJ4: male | MK4: male | ML4: Female | MM4: Female | MN4: male | MO4: Female | MP4: male | MQ4: male | MR4: male | MS4: Female | MT4: Female | MU4: Female | MV4: male | MW4: male | MX4: Female | MY4: male | MZ4: male
A5: Age | B5: 85 | C5: 85 | D5: 79 | E5: 85 | F5: 73 | G5: 81 | H5: 79 | I5: 77 | J5: 69 | K5: 86 | L5: 83 | M5: 78 | N5: 94 | O5: 81 | P5: 76 | Q5: 83 | R5: 68 | S5: 82 | T5: 70 | U5: 86 | V5: 78 | W5: 82 | X5: 94 | Y5: 87 | Z5: 74 | AA5: 85 | AB5: 75 | AC5: 86 | AD5: 75 | AE5: 81 | AF5: 72 | AG5: 81 | AH5: 81 | AI5: 81 | AJ5: 91 | AK5: 84 | AL5: 96 | AM5: 97 | AN5: 90 | AO5: 67 | AP5: 83 | AQ5: 82 | AR5: 66 | AS5: 72 | AT5: 65 | AU5: 75 | AV5: 74 | AW5: 68 | AX5: 80 | AY5: 80 | AZ5: 66 | BA5: 88 | BB5: 91 | BC5: 73 | BD5: 76 | BE5: 75 | BF5: 86 | BG5: 72 | BH5: 97 | BI5: 86 | BJ5: 82 | BK5: 95 | BL5: 76 | BM5: 76 | BN5: 69 | BO5: 80 | BP5: 99 | BQ5: 68 | BR5: 70 | BS5: 87 | BT5: 99 | BU5: 88 | BV5: 65 | BW5: 82 | BX5: 78 | BY5: 85 | BZ5: 100 | CA5: 87 | CB5: 85 | CC5: 97 | CD5: 65 | CE5: 65 | CF5: 87 | CG5: 85 | CH5: 68 | CI5: 71 | CJ5: 83 | CK5: 76 | CL5: 67 | CM5: 100 | CN5: 79 | CO5: 74 | CP5: 88 | CQ5: 70 | CR5: 97 | CS5: 69 | CT5: 99 | CU5: 81 | CV5: 85 | CW5: 82 | CX5: 70 | CY5: 73 | CZ5: 83 | DA5: 74 | DB5: 77 | DC5: 81 | DD5: 65 | DE5: 73 | DF5: 85 | DG5: 69 | DH5: 72 | DI5: 76 | DJ5: 73 | DK5: 66 | DL5: 85 | DM5: 87 | DN5: 86 | DO5: 73 | DP5: 86 | DQ5: 72 | DR5: 69 | DS5: 88 | DT5: 77 | DU5: 96 | DV5: 78 | DW5: 77 | DX5: 99 | DY5: 78 | DZ5: 76 | EA5: 78 | EB5: 97 | EC5: 86 | ED5: 77 | EE5: 87 | EF5: 72 | EG5: 91 | EH5: 85 | EI5: 88 | EJ5: 86 | EK5: 93 | EL5: 82 | EM5: 72 | EN5: 85 | EO5: 70 | EP5: 67 | EQ5: 74 | ER5: 69 | ES5: 85 | ET5: 89 | EU5: 86 | EV5: 90 | EW5: 94 | EX5: 91 | EY5: 91 | EZ5: 95 | FA5: 95 | FB5: 91 | FC5: 80 | FD5: 83 | FE5: 67 | FF5: 76 | FG5: 86 | FH5: 86 | FI5: 83 | FJ5: 84 | FK5: 80 | FL5: 72 | FM5: 67 | FN5: 96 | FO5: 75 | FP5: 89 | FQ5: 86 | FR5: 67 | FS5: 77 | FT5: 65 | FU5: 69 | FV5: 84 | FW5: 85 | FX5: 94 | FY5: 89 | FZ5: 87 | GA5: 90 | GB5: 88 | GC5: 94 | GD5: 86 | GE5: 93 | GF5: 91 | GG5: 97 | GH5: 101.1 | GI5: 84 | GJ5: 95.3 | GK5: 97.6 | GL5: 102.3 | GM5: 87 | GN5: 77 | GO5: 87 | GP5: 84 | GQ5: 92.5 | GR5: 93 | GS5: 93.9 | GT5: 87 | GU5: 90 | GV5: 75 | GW5: 92 | GX5: 83.6 | GY5: 88.9 | GZ5: 89 | HA5: 74.8 | HB5: 79.6 | HC5: 80.6 | HD5: 97.3 | HE5: 87 | HF5: 89.7 | HG5: 90.1 | HH5: 90.7 | HI5: 78 | HJ5: 80 | HK5: 79 | HL5: 87 | HM5: 88 | HN5: 86 | HO5: 74 | HP5: 72 | HQ5: 81 | HR5: 68 | HS5: 81 | HT5: 82 | HU5: 78 | HV5: 74 | HW5: 88 | HX5: 78 | HY5: 83 | HZ5: 83 | IA5: 80 | IB5: 84 | IC5: 79 | ID5: 86 | IE5: 92 | IF5: 81 | IG5: 79 | IH5: 74 | II5: 73 | IJ5: 87 | IK5: 86 | IL5: 86 | IM5: 87 | IN5: 92 | IO5: 78 | IP5: 94 | IQ5: 94 | IR5: 76 | IS5: 91 | IT5: 86 | IU5: 77 | IV5: 82 | IW5: 78 | IX5: 79 | IY5: 84 | IZ5: 87 | JA5: 86 | JB5: 83.7 | JC5: 83 | JD5: 81 | JE5: 93 | JF5: 71 | JG5: 78 | JH5: 75 | JI5: 84 | JJ5: 73 | JK5: 89 | JL5: NA | JM5: 69 | JN5: 83 | JO5: 71 | JP5: 86 | JQ5: 82 | JR5: NA | JS5: 88 | JT5: 77 | JU5: 85 | JV5: 81 | JW5: 86 | JX5: 89 | JY5: 73 | JZ5: 96 | KA5: 73 | KB5: 81 | KC5: 84 | KD5: 93 | KE5: 82 | KF5: 76 | KG5: 77 | KH5: 86 | KI5: 85 | KJ5: 83 | KK5: 76 | KL5: 81 | KM5: 79 | KN5: 81 | KO5: 78 | KP5: 80 | KQ5: 84 | KR5: 85 | KS5: 75 | KT5: 80 | KU5: 97 | KV5: 82 | KW5: 82 | KX5: 77 | KY5: 81 | KZ5: 96 | LA5: 90 | LB5: 86 | LC5: 88 | LD5: 90 | LE5: 90 | LF5: 84 | LG5: 84 | LH5: 91 | LI5: 81 | LJ5: 84 | LK5: 80 | LL5: 81 | LM5: 87 | LN5: 85 | LO5: 90 | LP5: 79 | LQ5: 87 | LR5: 75 | LS5: 92 | LT5: 84 | LU5: 75 | LV5: 76 | LW5: 86 | LX5: 82 | LY5: 76 | LZ5: 81 | MA5: 80 | MB5: 83 | MC5: 83 | MD5: 84 | ME5: 93 | MF5: 92 | MG5: 78 | MH5: 90 | MI5: 83 | MJ5: 79 | MK5: 84 | ML5: 90 | MM5: 88 | MN5: 77 | MO5: 80 | MP5: 87 | MQ5: 86 | MR5: 74.8 | MS5: 86 | MT5: 81.9 | MU5: 73.1 | MV5: 83 | MW5: 86.4 | MX5: 86.5 | MY5: 78 | MZ5: 83
A6: Region | B6: temporal cortex | C6: temporal cortex | D6: temporal cortex | E6: temporal cortex | F6: temporal cortex | G6: temporal cortex | H6: temporal cortex | I6: temporal cortex | J6: temporal cortex | K6: temporal cortex | L6: temporal cortex | M6: temporal cortex | N6: temporal cortex | O6: temporal cortex | P6: temporal cortex | Q6: temporal cortex | R6: temporal cortex | S6: temporal cortex | T6: temporal cortex | U6: temporal cortex | V6: temporal cortex | W6: frontal cortex | X6: frontal cortex | Y6: frontal cortex | Z6: frontal cortex | AA6: temporal cortex | AB6: temporal cortex | AC6: temporal cortex | AD6: temporal cortex | AE6: temporal cortex | AF6: temporal cortex | AG6: temporal cortex | AH6: temporal cortex | AI6: temporal cortex | AJ6: temporal cortex | AK6: temporal cortex | AL6: temporal cortex | AM6: temporal cortex | AN6: temporal cortex | AO6: temporal cortex | AP6: temporal cortex | AQ6: temporal cortex | AR6: temporal cortex | AS6: temporal cortex | AT6: temporal cortex | AU6: temporal cortex | AV6: temporal cortex | AW6: temporal cortex | AX6: temporal cortex | AY6: temporal cortex | AZ6: temporal cortex | BA6: temporal cortex | BB6: temporal cortex | BC6: temporal cortex | BD6: frontal cortex | BE6: frontal cortex | BF6: temporal cortex | BG6: temporal cortex | BH6: temporal cortex | BI6: temporal cortex | BJ6: temporal cortex | BK6: temporal cortex | BL6: temporal cortex | BM6: temporal cortex | BN6: temporal cortex | BO6: temporal cortex | BP6: temporal cortex | BQ6: temporal cortex | BR6: temporal cortex | BS6: temporal cortex | BT6: temporal cortex | BU6: temporal cortex | BV6: temporal cortex | BW6: temporal cortex | BX6: temporal cortex | BY6: temporal cortex | BZ6: temporal cortex | CA6: temporal cortex | CB6: temporal cortex | CC6: temporal cortex | CD6: temporal cortex | CE6: temporal cortex | CF6: temporal cortex | CG6: temporal cortex | CH6: temporal cortex | CI6: temporal cortex | CJ6: temporal cortex | CK6: temporal cortex | CL6: temporal cortex | CM6: temporal cortex | CN6: temporal cortex | CO6: temporal cortex | CP6: temporal cortex | CQ6: temporal cortex | CR6: temporal cortex | CS6: temporal cortex | CT6: temporal cortex | CU6: temporal cortex | CV6: temporal cortex | CW6: temporal cortex | CX6: temporal cortex | CY6: temporal cortex | CZ6: temporal cortex | DA6: temporal cortex | DB6: temporal cortex | DC6: temporal cortex | DD6: temporal cortex | DE6: temporal cortex | DF6: temporal cortex | DG6: temporal cortex | DH6: temporal cortex | DI6: temporal cortex | DJ6: temporal cortex | DK6: temporal cortex | DL6: temporal cortex | DM6: temporal cortex | DN6: temporal cortex | DO6: temporal cortex | DP6: temporal cortex | DQ6: temporal cortex | DR6: temporal cortex | DS6: temporal cortex | DT6: frontal cortex | DU6: frontal cortex | DV6: frontal cortex | DW6: frontal cortex | DX6: temporal cortex | DY6: temporal cortex | DZ6: temporal cortex | EA6: temporal cortex | EB6: frontal cortex | EC6: frontal cortex | ED6: frontal cortex | EE6: frontal cortex | EF6: frontal cortex | EG6: frontal cortex | EH6: frontal cortex | EI6: frontal cortex | EJ6: frontal cortex | EK6: frontal cortex | EL6: frontal cortex | EM6: frontal cortex | EN6: temporal cortex | EO6: frontal temporal cortex | EP6: frontal temporal cortex | EQ6: frontal cortex | ER6: frontal cortex | ES6: parietal cortex | ET6: frontal cortex | EU6: frontal temporal cortex | EV6: frontal cortex | EW6: unknown cortex | EX6: unknown cortex | EY6: unknown region cortex | EZ6: unknown region cortex | FA6: unknown region cortex | FB6: unknown region cortex | FC6: frontal cortex | FD6: frontal cortex | FE6: frontal cortex | FF6: frontal cortex | FG6: frontal cortex | FH6: frontal cortex | FI6: frontal cortex | FJ6: frontal cortex | FK6: frontal cortex | FL6: frontal cortex | FM6: frontal cortex | FN6: frontal cortex | FO6: frontal cortex | FP6: frontal cortex | FQ6: temporal cortex | FR6: temporal cortex | FS6: temporal cortex | FT6: temporal cortex | FU6: temporal cortex | FV6: temporal cortex | FW6: temporal cortex | FX6: temporal cortex | FY6: temporal cortex | FZ6: temporal cortex | GA6: temporal cortex | GB6: temporal cortex | GC6: temporal cortex | GD6: temporal cortex | GE6: parietal cortex | GF6: parietal cortex | GG6: cortical tissue | GH6: cortical tissue | GI6: cortical tissue | GJ6: cortical tissue | GK6: cortical tissue | GL6: cortical tissue | GM6: cortical tissue | GN6: cortical tissue | GO6: cortical tissue | GP6: cortical tissue | GQ6: cortical tissue | GR6: cortical tissue | GS6: cortical tissue | GT6: cortical tissue | GU6: cortical tissue | GV6: cortical tissue | GW6: cortical tissue | GX6: cortical tissue | GY6: cortical tissue | GZ6: cortical tissue | HA6: cortical tissue | HB6: cortical tissue | HC6: cortical tissue | HD6: cortical tissue | HE6: cortical tissue | HF6: cortical tissue | HG6: cortical tissue | HH6: cortical tissue | HI6: cortical tissue | HJ6: cortical tissue | HK6: cortical tissue | HL6: cortical tissue | HM6: cortical tissue | HN6: cortical tissue | HO6: cortical tissue | HP6: cortical tissue | HQ6: cortical tissue | HR6: cortical tissue | HS6: cortical tissue | HT6: cortical tissue | HU6: cortical tissue | HV6: cortical tissue | HW6: cortical tissue | HX6: cortical tissue | HY6: cortical tissue | HZ6: cortical tissue | IA6: cortical tissue | IB6: cortical tissue | IC6: cortical tissue | ID6: cortical tissue | IE6: cortical tissue | IF6: cortical tissue | IG6: cortical tissue | IH6: cortical tissue | II6: cortical tissue | IJ6: cortical tissue | IK6: cortical tissue | IL6: cortical tissue | IM6: cortical tissue | IN6: cortical tissue | IO6: cortical tissue | IP6: cortical tissue | IQ6: cortical tissue | IR6: cortical tissue | IS6: cortical tissue | IT6: cortical tissue | IU6: cortical tissue | IV6: cortical tissue | IW6: cortical tissue | IX6: cortical tissue | IY6: cortical tissue | IZ6: cortical tissue | JA6: cortical tissue | JB6: cortical tissue | JC6: cortical tissue | JD6: cortical tissue | JE6: cortical tissue | JF6: cortical tissue | JG6: cortical tissue | JH6: cortical tissue | JI6: cortical tissue | JJ6: cortical tissue | JK6: cortical tissue | JL6: cortical tissue | JM6: cortical tissue | JN6: cortical tissue | JO6: cortical tissue | JP6: cortical tissue | JQ6: cortical tissue | JR6: cortical tissue | JS6: cortical tissue | JT6: cortical tissue | JU6: cortical tissue | JV6: cortical tissue | JW6: cortical tissue | JX6: cortical tissue | JY6: cortical tissue | JZ6: cortical tissue | KA6: cortical tissue | KB6: cortical tissue | KC6: cortical tissue | KD6: cortical tissue | KE6: cortical tissue | KF6: cortical tissue | KG6: cortical tissue | KH6: cortical tissue | KI6: cortical tissue | KJ6: cortical tissue | KK6: cortical tissue | KL6: cortical tissue | KM6: cortical tissue | KN6: cortical tissue | KO6: cortical tissue | KP6: cortical tissue | KQ6: cortical tissue | KR6: cortical tissue | KS6: cortical tissue | KT6: cortical tissue | KU6: cortical tissue | KV6: cortical tissue | KW6: cortical tissue | KX6: cortical tissue | KY6: cortical tissue | KZ6: cortical tissue | LA6: cortical tissue | LB6: cortical tissue | LC6: cortical tissue | LD6: cortical tissue | LE6: cortical tissue | LF6: cortical tissue | LG6: cortical tissue | LH6: cortical tissue | LI6: cortical tissue | LJ6: cortical tissue | LK6: cortical tissue | LL6: cortical tissue | LM6: cortical tissue | LN6: cortical tissue | LO6: cortical tissue | LP6: cortical tissue | LQ6: cortical tissue | LR6: cortical tissue | LS6: cortical tissue | LT6: cortical tissue | LU6: cortical tissue | LV6: cortical tissue | LW6: cortical tissue | LX6: cortical tissue | LY6: cortical tissue | LZ6: cortical tissue | MA6: cortical tissue | MB6: cortical tissue | MC6: cortical tissue | MD6: cortical tissue | ME6: cortical tissue | MF6: cortical tissue | MG6: cortical tissue | MH6: cortical tissue | MI6: cortical tissue | MJ6: cortical tissue | MK6: cortical tissue | ML6: cortical tissue | MM6: cortical tissue | MN6: cortical tissue | MO6: cortical tissue | MP6: cortical tissue | MQ6: cortical tissue | MR6: cortical tissue | MS6: cortical tissue | MT6: cortical tissue | MU6: cortical tissue | MV6: cortical tissue | MW6: cortical tissue | MX6: cortical tissue | MY6: cortical tissue | MZ6: cortical tissue
