Workbook
Name TestGSE5281: Original!$A$1:$FE$8

Sheet Original
A1: ID_REF | B1: GSM119615 | C1: GSM119616 | D1: GSM119617 | E1: GSM119618 | F1: GSM119619 | G1: GSM119620 | H1: GSM119621 | I1: GSM119622 | J1: GSM119623 | K1: GSM119624 | L1: GSM119625 | M1: GSM119626 | N1: GSM119627 | O1: GSM119628 | P1: GSM119629 | Q1: GSM119630 | R1: GSM119631 | S1: GSM119632 | T1: GSM119633 | U1: GSM119634 | V1: GSM119635 | W1: GSM119636 | X1: GSM119637 | Y1: GSM119638 | Z1: GSM119639 | AA1: GSM119640 | AB1: GSM119641 | AC1: GSM119642 | AD1: GSM119643 | AE1: GSM119644 | AF1: GSM119645 | AG1: GSM119646 | AH1: GSM119647 | AI1: GSM119648 | AJ1: GSM119649 | AK1: GSM119650 | AL1: GSM119651 | AM1: GSM119652 | AN1: GSM119653 | AO1: GSM119654 | AP1: GSM119655 | AQ1: GSM119656 | AR1: GSM119657 | AS1: GSM119658 | AT1: GSM119659 | AU1: GSM119660 | AV1: GSM119661 | AW1: GSM119662 | AX1: GSM119663 | AY1: GSM119664 | AZ1: GSM119665 | BA1: GSM119666 | BB1: GSM119667 | BC1: GSM119668 | BD1: GSM119669 | BE1: GSM119670 | BF1: GSM119671 | BG1: GSM119672 | BH1: GSM119673 | BI1: GSM119674 | BJ1: GSM119675 | BK1: GSM119676 | BL1: GSM119677 | BM1: GSM119678 | BN1: GSM119679 | BO1: GSM119680 | BP1: GSM119681 | BQ1: GSM119682 | BR1: GSM119683 | BS1: GSM119684 | BT1: GSM119685 | BU1: GSM119686 | BV1: GSM119687 | BW1: GSM119688 | BX1: GSM238763 | BY1: GSM238790 | BZ1: GSM238791 | CA1: GSM238792 | CB1: GSM238793 | CC1: GSM238794 | CD1: GSM238795 | CE1: GSM238796 | CF1: GSM238797 | CG1: GSM238798 | CH1: GSM238799 | CI1: GSM238800 | CJ1: GSM238801 | CK1: GSM238802 | CL1: GSM238803 | CM1: GSM238804 | CN1: GSM238805 | CO1: GSM238806 | CP1: GSM238807 | CQ1: GSM238808 | CR1: GSM238809 | CS1: GSM238810 | CT1: GSM238811 | CU1: GSM238812 | CV1: GSM238813 | CW1: GSM238815 | CX1: GSM238816 | CY1: GSM238817 | CZ1: GSM238818 | DA1: GSM238819 | DB1: GSM238820 | DC1: GSM238821 | DD1: GSM238822 | DE1: GSM238823 | DF1: GSM238824 | DG1: GSM238825 | DH1: GSM238826 | DI1: GSM238827 | DJ1: GSM238834 | DK1: GSM238835 | DL1: GSM238837 | DM1: GSM238838 | DN1: GSM238839 | DO1: GSM238840 | DP1: GSM238841 | DQ1: GSM238842 | DR1: GSM238843 | DS1: GSM238844 | DT1: GSM238845 | DU1: GSM238846 | DV1: GSM238847 | DW1: GSM238848 | DX1: GSM238851 | DY1: GSM238854 | DZ1: GSM238855 | EA1: GSM238856 | EB1: GSM238857 | EC1: GSM238858 | ED1: GSM238860 | EE1: GSM238861 | EF1: GSM238862 | EG1: GSM238863 | EH1: GSM238864 | EI1: GSM238865 | EJ1: GSM238867 | EK1: GSM238868 | EL1: GSM238870 | EM1: GSM238871 | EN1: GSM238872 | EO1: GSM238873 | EP1: GSM238874 | EQ1: GSM238875 | ER1: GSM238877 | ES1: GSM238941 | ET1: GSM238942 | EU1: GSM238943 | EV1: GSM238944 | EW1: GSM238945 | EX1: GSM238946 | EY1: GSM238947 | EZ1: GSM238948 | FA1: GSM238949 | FB1: GSM238951 | FC1: GSM238952 | FD1: GSM238953 | FE1: GSM238955 | FF1: GSM238963 | FG1: AVG | FH1: SD
A2: BrainRegion | B2: Entorhinal Cortex | C2: Entorhinal Cortex | D2: Entorhinal Cortex | E2: Entorhinal Cortex | F2: Entorhinal Cortex | G2: Entorhinal Cortex | H2: Entorhinal Cortex | I2: Entorhinal Cortex | J2: Entorhinal Cortex | K2: Entorhinal Cortex | L2: Entorhinal Cortex | M2: Entorhinal Cortex | N2: Entorhinal Cortex | O2: hippocampus | P2: hippocampus | Q2: hippocampus | R2: hippocampus | S2: hippocampus | T2: hippocampus | U2: hippocampus | V2: hippocampus | W2: hippocampus | X2: hippocampus | Y2: hippocampus | Z2: hippocampus | AA2: hippocampus | AB2: Medial Temporal Gyrus | AC2: Medial Temporal Gyrus | AD2: Medial Temporal Gyrus | AE2: Medial Temporal Gyrus | AF2: Medial Temporal Gyrus | AG2: Medial Temporal Gyrus | AH2: Medial Temporal Gyrus | AI2: Medial Temporal Gyrus | AJ2: Medial Temporal Gyrus | AK2: Medial Temporal Gyrus | AL2: Medial Temporal Gyrus | AM2: Medial Temporal Gyrus | AN2: Posterior Cingulate | AO2: Posterior Cingulate | AP2: Posterior Cingulate | AQ2: Posterior Cingulate | AR2: Posterior Cingulate | AS2: Posterior Cingulate | AT2: Posterior cingulate | AU2: Posterior cingulate | AV2: Posterior cingulate | AW2: Posterior cingulate | AX2: Posterior cingulate | AY2: Posterior cingulate | AZ2: Posterior cingulate | BA2: Superior Frontal Gyrus | BB2: Superior Frontal Gyrus | BC2: Superior Frontal Gyrus | BD2: Superior Frontal Gyrus | BE2: Superior Frontal Gyrus | BF2: Superior Frontal Gyrus | BG2: Superior Frontal Gyrus | BH2: Superior Frontal Gyrus | BI2: Superior Frontal Gyrus | BJ2: Superior Frontal Gyrus | BK2: Superior Frontal Gyrus | BL2: Primary Visual Cortex | BM2: Primary Visual Cortex | BN2: Primary Visual Cortex | BO2: Primary Visual Cortex | BP2: Primary Visual Cortex | BQ2: Primary Visual Cortex | BR2: Primary Visual Cortex | BS2: Primary Visual Cortex | BT2: Primary Visual Cortex | BU2: Primary Visual Cortex | BV2: Primary Visual Cortex | BW2: Primary Visual Cortex | BX2: Entorhinal Cortex | BY2: Entorhinal Cortex | BZ2: Entorhinal Cortex | CA2: Entorhinal Cortex | CB2: Entorhinal Cortex | CC2: Entorhinal Cortex | CD2: Entorhinal Cortex | CE2: Entorhinal Cortex | CF2: Entorhinal Cortex | CG2: Entorhinal Cortex | CH2: Hippocampus | CI2: Hippocampus | CJ2: Hippocampus | CK2: Hippocampus | CL2: Hippocampus | CM2: Hippocampus | CN2: Hippocampus | CO2: Hippocampus | CP2: Hippocampus | CQ2: Hippocampus | CR2: Middle temporal gyrus | CS2: Middle temporal gyrus | CT2: Middle temporal gyrus | CU2: Middle temporal gyrus | CV2: Middle temporal gyrus | CW2: Middle temporal gyrus | CX2: Middle temporal gyrus | CY2: Middle temporal gyrus | CZ2: Middle temporal gyrus | DA2: Middle temporal gyrus | DB2: Middle temporal gyrus | DC2: Middle temporal gyrus | DD2: Middle temporal gyrus | DE2: Middle temporal gyrus | DF2: Middle temporal gyrus | DG2: Middle temporal gyrus | DH2: Posterior cingulate cortex | DI2: Posterior cingulate cortex | DJ2: Posterior cingulate cortex | DK2: Posterior cingulate cortex | DL2: Posterior cingulate cortex | DM2: Posterior cingulate cortex | DN2: Posterior cingulate cortex | DO2: Posterior cingulate cortex | DP2: Posterior cingulate cortex | DQ2: Superior frontal gyrus | DR2: Superior frontal gyrus | DS2: Superior frontal gyrus | DT2: Superior frontal gyrus | DU2: Superior frontal gyrus | DV2: Superior frontal gyrus | DW2: Superior frontal gyrus | DX2: Superior frontal gyrus | DY2: Superior frontal gyrus | DZ2: Superior frontal gyrus | EA2: Superior frontal gyrus | EB2: Superior frontal gyrus | EC2: Superior frontal gyrus | ED2: Superior frontal gyrus | EE2: Superior frontal gyrus | EF2: Superior frontal gyrus | EG2: Superior frontal gyrus | EH2: Superior frontal gyrus | EI2: Superior frontal gyrus | EJ2: Superior frontal gyrus | EK2: Superior frontal gyrus | EL2: Superior frontal gyrus | EM2: Superior frontal gyrus | EN2: Primary visual cortex | EO2: Primary visual cortex | EP2: Primary visual cortex | EQ2: Primary visual cortex | ER2: Primary visual cortex | ES2: Primary visual cortex | ET2: Primary visual cortex | EU2: Primary visual cortex | EV2: Primary visual cortex | EW2: Primary visual cortex | EX2: Primary visual cortex | EY2: Primary visual cortex | EZ2: Primary visual cortex | FA2: Primary visual cortex | FB2: Primary visual cortex | FC2: Primary visual cortex | FD2: Primary visual cortex | FE2: Primary visual cortex | FF2: Primary visual cortex
A3: Disease State | B3: normal | C3: normal | D3: normal | E3: normal | F3: normal | G3: normal | H3: normal | I3: normal | J3: normal | K3: normal | L3: normal | M3: normal | N3: normal | O3: normal | P3: normal | Q3: normal | R3: normal | S3: normal | T3: normal | U3: normal | V3: normal | W3: normal | X3: normal | Y3: normal | Z3: normal | AA3: normal | AB3: normal | AC3: normal | AD3: normal | AE3: normal | AF3: normal | AG3: normal | AH3: normal | AI3: normal | AJ3: normal | AK3: normal | AL3: normal | AM3: normal | AN3: normal | AO3: normal | AP3: normal | AQ3: normal | AR3: normal | AS3: normal | AT3: normal | AU3: normal | AV3: normal | AW3: normal | AX3: normal | AY3: normal | AZ3: normal | BA3: normal | BB3: normal | BC3: normal | BD3: normal | BE3: normal | BF3: normal | BG3: normal | BH3: normal | BI3: normal | BJ3: normal | BK3: normal | BL3: normal | BM3: normal | BN3: normal | BO3: normal | BP3: normal | BQ3: normal | BR3: normal | BS3: normal | BT3: normal | BU3: normal | BV3: normal | BW3: normal | BX3: Alzheimer's Disease | BY3: Alzheimer's Disease | BZ3: Alzheimer's Disease | CA3: Alzheimer's Disease | CB3: Alzheimer's Disease | CC3: Alzheimer's Disease | CD3: Alzheimer's Disease | CE3: Alzheimer's Disease | CF3: Alzheimer's Disease | CG3: Alzheimer's Disease | CH3: Alzheimer's Disease | CI3: Alzheimer's Disease | CJ3: Alzheimer's Disease | CK3: Alzheimer's Disease | CL3: Alzheimer's Disease | CM3: Alzheimer's Disease | CN3: Alzheimer's Disease | CO3: Alzheimer's Disease | CP3: Alzheimer's Disease | CQ3: Alzheimer's Disease | CR3: Alzheimer's Disease | CS3: Alzheimer's Disease | CT3: Alzheimer's Disease | CU3: Alzheimer's Disease | CV3: Alzheimer's Disease | CW3: Alzheimer's Disease | CX3: Alzheimer's Disease | CY3: Alzheimer's Disease | CZ3: Alzheimer's Disease | DA3: Alzheimer's Disease | DB3: Alzheimer's Disease | DC3: Alzheimer's Disease | DD3: Alzheimer's Disease | DE3: Alzheimer's Disease | DF3: Alzheimer's Disease | DG3: Alzheimer's Disease | DH3: Alzheimer's Disease | DI3: Alzheimer's Disease | DJ3: Alzheimer's Disease | DK3: Alzheimer's Disease | DL3: Alzheimer's Disease | DM3: Alzheimer's Disease | DN3: Alzheimer's Disease | DO3: Alzheimer's Disease | DP3: Alzheimer's Disease | DQ3: Alzheimer's Disease | DR3: Alzheimer's Disease | DS3: Alzheimer's Disease | DT3: Alzheimer's Disease | DU3: Alzheimer's Disease | DV3: Alzheimer's Disease | DW3: Alzheimer's Disease | DX3: Alzheimer's Disease | DY3: Alzheimer's Disease | DZ3: Alzheimer's Disease | EA3: Alzheimer's Disease | EB3: Alzheimer's Disease | EC3: Alzheimer's Disease | ED3: Alzheimer's Disease | EE3: Alzheimer's Disease | EF3: Alzheimer's Disease | EG3: Alzheimer's Disease | EH3: Alzheimer's Disease | EI3: Alzheimer's Disease | EJ3: Alzheimer's Disease | EK3: Alzheimer's Disease | EL3: Alzheimer's Disease | EM3: Alzheimer's Disease | EN3: Alzheimer's Disease | EO3: Alzheimer's Disease | EP3: Alzheimer's Disease | EQ3: Alzheimer's Disease | ER3: Alzheimer's Disease | ES3: Alzheimer's Disease | ET3: Alzheimer's Disease | EU3: Alzheimer's Disease | EV3: Alzheimer's Disease | EW3: Alzheimer's Disease | EX3: Alzheimer's Disease | EY3: Alzheimer's Disease | EZ3: Alzheimer's Disease | FA3: Alzheimer's Disease | FB3: Alzheimer's Disease | FC3: Alzheimer's Disease | FD3: Alzheimer's Disease | FE3: Alzheimer's Disease | FF3: Alzheimer's Disease
A4: Sex | B4: male | C4: male | D4: male | E4: male | F4: female | G4: male | H4: male | I4: male | J4: male | K4: female | L4: female | M4: male | N4: male | O4: male | P4: male | Q4: male | R4: female | S4: male | T4: male | U4: male | V4: male | W4: male | X4: female | Y4: female | Z4: male | AA4: male | AB4: male | AC4: male | AD4: female | AE4: male | AF4: male | AG4: male | AH4: male | AI4: female | AJ4: female | AK4: female | AL4: male | AM4: male | AN4: male | AO4: male | AP4: female | AQ4: male | AR4: male | AS4: male | AT4: male | AU4: male | AV4: female | AW4: female | AX4: female | AY4: male | AZ4: male | BA4: male | BB4: female | BC4: female | BD4: female | BE4: female | BF4: male | BG4: male | BH4: male | BI4: male | BJ4: male | BK4: male | BL4: male | BM4: male | BN4: male | BO4: male | BP4: male | BQ4: male | BR4: male | BS4: female | BT4: female | BU4: female | BV4: male | BW4: male | BX4: female | BY4: female | BZ4: female | CA4: male | CB4: female | CC4: female | CD4: female | CE4: male | CF4: male | CG4: male | CH4: male | CI4: female | CJ4: male | CK4: female | CL4: female | CM4: female | CN4: male | CO4: male | CP4: male | CQ4: male | CR4: female | CS4: male | CT4: male | CU4: male | CV4: male | CW4: male | CX4: male | CY4: female | CZ4: male | DA4: female | DB4: female | DC4: male | DD4: female | DE4: male | DF4: male | DG4: female | DH4: female | DI4: male | DJ4: male | DK4: male | DL4: male | DM4: female | DN4: female | DO4: male | DP4: male | DQ4: female | DR4: male | DS4: male | DT4: male | DU4: male | DV4: male | DW4: male | DX4: female | DY4: male | DZ4: female | EA4: female | EB4: female | EC4: female | ED4: female | EE4: female | EF4: male | EG4: male | EH4: female | EI4: male | EJ4: male | EK4: male | EL4: male | EM4: female | EN4: female | EO4: male | EP4: male | EQ4: male | ER4: male | ES4: male | ET4: female | EU4: male | EV4: female | EW4: female | EX4: female | EY4: female | EZ4: male | FA4: male | FB4: female | FC4: male | FD4: male | FE4: male | FF4: female
A5: Age | B5: 63 | C5: 85 | D5: 80 | E5: 80 | F5: 102 | G5: 79 | H5: 76 | I5: 83 | J5: 79 | K5: 88 | L5: 82 | M5: 69 | N5: 78 | O5: 85 days | P5: 80 | Q5: 80 | R5: 102 | S5: 63 | T5: 79 | U5: 76 | V5: 83 | W5: 79 | X5: 88 | Y5: 73 | Z5: 69 | AA5: 78 | AB5: 85 | AC5: 80 | AD5: 102 | AE5: 63 | AF5: 79 | AG5: 83 | AH5: 79 | AI5: 88 | AJ5: 82 | AK5: 73 | AL5: 69 | AM5: 78 | AN5: 85 | AO5: 80 | AP5: 102 | AQ5: 63 | AR5: 79 | AS5: 76 | AT5: 83 | AU5: 79 | AV5: 88 | AW5: 82 | AX5: 73 | AY5: 69 | AZ5: 78 | BA5: 79 | BB5: 88 | BC5: 82 | BD5: 73 | BE5: 102 | BF5: 63 | BG5: 79 | BH5: 76 | BI5: 83 | BJ5: 69 | BK5: 78 | BL5: 85 | BM5: 80 | BN5: 63 | BO5: 79 | BP5: 76 | BQ5: 83 | BR5: 79 | BS5: 88 | BT5: 82 | BU5: 73 | BV5: 69 | BW5: 78 | BX5: 82 | BY5: 86 | BZ5: 93 | CA5: 84 | CB5: 79 | CC5: 78 | CD5: 91 | CE5: 86 | CF5: 97 | CG5: 80 | CH5: 72 | CI5: 73 | CJ5: 75 | CK5: 70 | CL5: 85 | CM5: 77 | CN5: 79 | CO5: 88 | CP5: 81 | CQ5: 78 | CR5: 73 | CS5: 81 | CT5: 72 | CU5: 75 | CV5: 78 | CW5: 75 | CX5: 87 | CY5: >90 | CZ5: 68 | DA5: 81 | DB5: 85 | DC5: 79 | DD5: 82 | DE5: 88 | DF5: 72 | DG5: 80 | DH5: 73 | DI5: 81 | DJ5: 78 | DK5: 75 | DL5: 68 | DM5: 70.8 | DN5: 85 | DO5: 79 | DP5: 88 | DQ5: 73 | DR5: 81 | DS5: 72 | DT5: 75 | DU5: 78 | DV5: 75 | DW5: 87 | DX5: 95 | DY5: 68 | DZ5: 95 | EA5: 70.8 | EB5: 85 | EC5: 83 | ED5: 77 | EE5: 83 | EF5: 68 | EG5: 79 | EH5: 82 | EI5: 80 | EJ5: 88 | EK5: 74 | EL5: 72 | EM5: 80 | EN5: 73 | EO5: 81 | EP5: 75 | EQ5: 78 | ER5: 75 | ES5: 87 | ET5: 95 | EU5: 68 | EV5: >90 | EW5: 81.3 | EX5: 81 | EY5: 85 | EZ5: 79 | FA5: 79 | FB5: 82 | FC5: 88 | FD5: 74 | FE5: 72 | FF5: 80
A6: APOE | B6: 533.98663 | C6: 498.61646 | D6: 2352.7847 | E6: 1509.6755 | F6: 640.26337 | G6: 943.48785 | H6: 1859.5183 | I6: 503.06143 | J6: 624.38007 | K6: 945.39124 | L6: 886.59406 | M6: 2246.3347 | N6: 777.35364 | O6: 147.21136 | P6: 432.68204 | Q6: 1049.044 | R6: 316.99286 | S6: 650.463 | T6: 303.64417 | U6: 637.0634 | V6: 322.36685 | W6: 396.88467 | X6: 343.06302 | Y6: 501.28122 | Z6: 271.2976 | AA6: 501.09818 | AB6: 462.73944 | AC6: 782.43976 | AD6: 630.5734 | AE6: 330.5947 | AF6: 946.6327 | AG6: 1219.6045 | AH6: 649.04443 | AI6: 754.91003 | AJ6: 1420.6816 | AK6: 1280.771 | AL6: 549.36835 | AM6: 420.25818 | AN6: 508.9169 | AO6: 476.0588 | AP6: 283.50818 | AQ6: 462.19104 | AR6: 656.30475 | AS6: 654.4205 | AT6: 329.66043 | AU6: 528.9727 | AV6: 36.88035 | AW6: 326.54236 | AX6: 359.6653 | AY6: 463.49893 | AZ6: 242.73746 | BA6: 139.56975 | BB6: 187.04523 | BC6: 275.36954 | BD6: 905.60913 | BE6: 239.1867 | BF6: 460.4394 | BG6: 1034.4764 | BH6: 697.54785 | BI6: 876.1716 | BJ6: 551.27 | BK6: 134.92085 | BL6: 233.81544 | BM6: 444.6163 | BN6: 226.62506 | BO6: 614.2133 | BP6: 1222.3074 | BQ6: 210.63416 | BR6: 231.26555 | BS6: 403.6623 | BT6: 307.90726 | BU6: 427.93204 | BV6: 837.62573 | BW6: 393.4069 | BX6: 804.516 | BY6: 341.257 | BZ6: 300.44 | CA6: 622.316 | CB6: 566.111 | CC6: 945.315 | CD6: 695.764 | CE6: 835.333 | CF6: 737.262 | CG6: 805.454 | CH6: 308.06 | CI6: 853.628 | CJ6: 603.987 | CK6: 276.488 | CL6: 235.404 | CM6: 218.483 | CN6: 403.693 | CO6: 456.506 | CP6: 294.356 | CQ6: 693.75 | CR6: 1825.37 | CS6: 1119.53 | CT6: 1257.71 | CU6: 989.441 | CV6: 470.186 | CW6: 1644.66 | CX6: 690.414 | CY6: 653.753 | CZ6: 430.384 | DA6: 937.805 | DB6: 1177.3 | DC6: 1469.3 | DD6: 954.771 | DE6: 1441.16 | DF6: 1293.32 | DG6: 1385.43 | DH6: 332.302 | DI6: 280.426 | DJ6: 231.234 | DK6: 300.611 | DL6: 622.905 | DM6: 131.09 | DN6: 488.484 | DO6: 403.799 | DP6: 169.062 | DQ6: 151.935 | DR6: 650.721 | DS6: 753.004 | DT6: 393.084 | DU6: 446.161 | DV6: 608.48 | DW6: 719.642 | DX6: 879.678 | DY6: 421.01 | DZ6: 684.142 | EA6: 724.491 | EB6: 371.46 | EC6: 320.153 | ED6: 933.705 | EE6: 589.55 | EF6: 640.81 | EG6: 407.3 | EH6: 356.997 | EI6: 527.147 | EJ6: 1158.76 | EK6: 358.148 | EL6: 93.821 | EM6: 936.867 | EN6: 502.376 | EO6: 814.354 | EP6: 1041.71 | EQ6: 385.373 | ER6: 278.967 | ES6: 1046.41 | ET6: 362.241 | EU6: 437.547 | EV6: 995.828 | EW6: 661.663 | EX6: 395.489 | EY6: 823.818 | EZ6: 538.693 | FA6: 1046.45 | FB6: 337.421 | FC6: 189.217 | FD6: 241.359 | FE6: 814.775 | FF6: 1141.49 | FG6: =AVERAGE(B6:FF6) -> 639.17982 | FH6: =STDEV(B6:FF6) -> 405.79964
A7: APP | B7: 5742.592 | C7: 6642.366 | D7: 3389.9226 | E7: 4876.3677 | F7: 21848.49 | G7: 7324.6504 | H7: 4784.5894 | I7: 5808.5796 | J7: 7836.6685 | K7: 5667.1357 | L7: 5285.9985 | M7: 2515.1184 | N7: 5237.4673 | O7: 6754.942 | P7: 7033.4077 | Q7: 3865.8855 | R7: 4605.5244 | S7: 7156.2593 | T7: 6107.552 | U7: 6566.8784 | V7: 5365.7 | W7: 6562.999 | X7: 5723.1167 | Y7: 6212.4746 | Z7: 6487.999 | AA7: 5150.194 | AB7: 2448.1348 | AC7: 2082.9675 | AD7: 2327.5076 | AE7: 3362.8567 | AF7: 1687.0988 | AG7: 691.8967 | AH7: 562.78705 | AI7: 1797.8107 | AJ7: 18929.148 | AK7: 316.70184 | AL7: 3302.894 | AM7: 2862.901 | AN7: 9297.337 | AO7: 5450.883 | AP7: 5171.3745 | AQ7: 7909.4375 | AR7: 4585.4453 | AS7: 7827.171 | AT7: 6237.38 | AU7: 5558.119 | AV7: 9100.862 | AW7: 6296.348 | AX7: 3650.7664 | AY7: 7009.6177 | AZ7: 5034.1733 | BA7: 34247.027 | BB7: 6771.882 | BC7: 4654.0728 | BD7: 6158.9688 | BE7: 6620.005 | BF7: 28523.506 | BG7: 19002.506 | BH7: 27675.604 | BI7: 22494.598 | BJ7: 4771.339 | BK7: 330.92645 | BL7: 5787.3423 | BM7: 4752.372 | BN7: 7084.444 | BO7: 6816.9644 | BP7: 9096.849 | BQ7: 6944.8916 | BR7: 4305.195 | BS7: 7897.5737 | BT7: 5010.288 | BU7: 6889.7495 | BV7: 7737.757 | BW7: 6269.6626 | BX7: 6314.35 | BY7: 8442.18 | BZ7: 7558.98 | CA7: 4519.15 | CB7: 5692.79 | CC7: 5558.92 | CD7: 4641.75 | CE7: 3083.47 | CF7: 5160.21 | CG7: 3987.56 | CH7: 7362.74 | CI7: 8171.33 | CJ7: 6208.94 | CK7: 16299.9 | CL7: 22795.6 | CM7: 16583.9 | CN7: 15776.8 | CO7: 12480.7 | CP7: 14169 | CQ7: 7684.12 | CR7: 6491.66 | CS7: 4114.24 | CT7: 6292.26 | CU7: 7570.48 | CV7: 11291.5 | CW7: 8192.04 | CX7: 5398.58 | CY7: 6085.74 | CZ7: 6053.26 | DA7: 7085.58 | DB7: 7431.59 | DC7: 8685.66 | DD7: 5167.21 | DE7: 2044.86 | DF7: 5185.32 | DG7: 3230.93 | DH7: 8541.06 | DI7: 10947.4 | DJ7: 10531.2 | DK7: 14837.1 | DL7: 6652.23 | DM7: 15804.9 | DN7: 16509.1 | DO7: 11324.5 | DP7: 15917.4 | DQ7: 14160.8 | DR7: 10549.9 | DS7: 9386.62 | DT7: 10445.7 | DU7: 8032.52 | DV7: 7533.76 | DW7: 5892.44 | DX7: 5033.57 | DY7: 6539.47 | DZ7: 8870.45 | EA7: 6547.84 | EB7: 6034.46 | EC7: 9558.81 | ED7: 7504.96 | EE7: 9882.09 | EF7: 3711.22 | EG7: 10094.9 | EH7: 7035.22 | EI7: 13537.9 | EJ7: 7556.75 | EK7: 8165.98 | EL7: 12838 | EM7: 9355.91 | EN7: 4946.6 | EO7: 5299.82 | EP7: 7857.24 | EQ7: 8595.82 | ER7: 6580.11 | ES7: 2725.07 | ET7: 10383.2 | EU7: 3749.2 | EV7: 8714.17 | EW7: 6347.53 | EX7: 15587.7 | EY7: 2879.13 | EZ7: 5987.31 | FA7: 4386.07 | FB7: 9212.06 | FC7: 12437.2 | FD7: 8060.56 | FE7: 2760.18 | FF7: 845.631 | FG7: =AVERAGE(B7:FF7) -> 7747.8266 | FH7: =STDEV(B7:FF7) -> 5192.7648
A8: PSEN1 | B8: 3.0414562 | C8: 2.6849034 | D8: 22.804396 | E8: 6.1470494 | F8: 5.6962237 | G8: 3.4019296 | H8: 4.69009 | I8: 6.020626 | J8: 22.285513 | K8: 2.5026305 | L8: 3.7832925 | M8: 30.86521 | N8: 7.868597 | O8: 9.480921 | P8: 3.3336933 | Q8: 4.5552163 | R8: 9.969668 | S8: 9.046306 | T8: 7.741267 | U8: 16.829523 | V8: 1.9430462 | W8: 2.293493 | X8: 4.9348097 | Y8: 47.163864 | Z8: 78.43801 | AA8: 3.4295397 | AB8: 5.010189 | AC8: 87.54228 | AD8: 13.662556 | AE8: 2.9298956 | AF8: 14.869589 | AG8: 7.1773243 | AH8: 12.744768 | AI8: 8.362522 | AJ8: 4.3143687 | AK8: 7.299716 | AL8: 101.05711 | AM8: 40.007 | AN8: 4.139877 | AO8: 8.078807 | AP8: 5.104193 | AQ8: 2.0849473 | AR8: 4.8106227 | AS8: 4.560312 | AT8: 1.4364343 | AU8: 12.364981 | AV8: 2.146844 | AW8: 13.217219 | AX8: 11.387221 | AY8: 7.883828 | AZ8: 2.731518 | BA8: 2.6326056 | BB8: 5.6922383 | BC8: 7.592871 | BD8: 8.925179 | BE8: 1.4985173 | BF8: 2.3233366 | BG8: 4.0875974 | BH8: 3.0154757 | BI8: 31.157679 | BJ8: 7.107012 | BK8: 130.45226 | BL8: 1.8707428 | BM8: 1.0188228 | BN8: 0.95747805 | BO8: 6.169106 | BP8: 20.286016 | BQ8: 0.4829416 | BR8: 10.33523 | BS8: 1.6038748 | BT8: 0.9515498 | BU8: 0.6909222 | BV8: 26.04402 | BW8: 2.567462 | BX8: 23.6691 | BY8: 1.21648 | BZ8: 28.3162 | CA8: 2.0152 | CB8: 21.8135 | CC8: 1.96222 | CD8: 6.53429 | CE8: 24.6885 | CF8: 6.90876 | CG8: 2.21625 | CH8: 1.32482 | CI8: 8.4615 | CJ8: 2.89262 | CK8: 1.17727 | CL8: 44.8647 | CM8: 2.90258 | CN8: 38.0644 | CO8: 28.3815 | CP8: 2.03496 | CQ8: 3.16761 | CR8: 12.1228 | CS8: 59.7431 | CT8: 15.5506 | CU8: 25.1341 | CV8: 34.5608 | CW8: 2.47388 | CX8: 3.563 | CY8: 3.09273 | CZ8: 11.5489 | DA8: 8.3948 | DB8: 5.13893 | DC8: 1.34202 | DD8: 2.007 | DE8: 4.29736 | DF8: 14.1144 | DG8: 27.0989 | DH8: 2.85043 | DI8: 3.32669 | DJ8: 1.8092 | DK8: 31.5041 | DL8: 12.0376 | DM8: 75.4388 | DN8: 7.13183 | DO8: 5.34523 | DP8: 4.14981 | DQ8: 16.6327 | DR8: 8.50446 | DS8: 4.18004 | DT8: 0.851139 | DU8: 1.96746 | DV8: 3.46753 | DW8: 2.71933 | DX8: 25.9035 | DY8: 13.3832 | DZ8: 3.87859 | EA8: 14.2963 | EB8: 1.09058 | EC8: 9.37661 | ED8: 1.48968 | EE8: 3.98067 | EF8: 4.73718 | EG8: 10.9438 | EH8: 1.6966 | EI8: 3.27515 | EJ8: 35.6808 | EK8: 22.9578 | EL8: 7.18282 | EM8: 3.12421 | EN8: 10.4485 | EO8: 16.9377 | EP8: 4.71 | EQ8: 1.42118 | ER8: 10.7288 | ES8: 4.47215 | ET8: 1.65525 | EU8: 27.0259 | EV8: 4.16704 | EW8: 0.880509 | EX8: 48.2959 | EY8: 3.15977 | EZ8: 22.7091 | FA8: 37.0882 | FB8: 1.62095 | FC8: 2.81101 | FD8: 1.06914 | FE8: 56.0014 | FF8: 543.529 | FG8: =AVERAGE(B8:FF8) -> 16.20981 | FH8: =STDEV(B8:FF8) -> 45.962398
A9: PSEN2 | B9: 238.39268 | C9: 351.4902 | D9: 165.99536 | E9: 260.94107 | F9: 821.2308 | G9: 288.2514 | H9: 308.01266 | I9: 253.7995 | J9: 287.5457 | K9: 265.7713 | L9: 204.48183 | M9: 295.83908 | N9: 304.1647 | O9: 429.37234 | P9: 474.30795 | Q9: 5.864436 | R9: 324.44046 | S9: 277.73383 | T9: 277.23663 | U9: 699.74866 | V9: 303.13776 | W9: 354.1849 | X9: 427.42813 | Y9: 407.39163 | Z9: 361.9398 | AA9: 350.71796 | AB9: 425.80984 | AC9: 532.4004 | AD9: 483.0449 | AE9: 404.5338 | AF9: 336.06335 | AG9: 553.1151 | AH9: 431.23587 | AI9: 294.38318 | AJ9: 481.50684 | AK9: 387.59555 | AL9: 514.8289 | AM9: 391.81656 | AN9: 340.23236 | AO9: 282.94327 | AP9: 123.71555 | AQ9: 151.49988 | AR9: 168.5694 | AS9: 232.47527 | AT9: 299.52667 | AU9: 269.46136 | AV9: 243.20113 | AW9: 239.69527 | AX9: 305.83984 | AY9: 246.09378 | AZ9: 264.42654 | BA9: 254.18176 | BB9: 291.3915 | BC9: 251.87672 | BD9: 432.71017 | BE9: 250.2513 | BF9: 930.6594 | BG9: 691.8172 | BH9: 692.43713 | BI9: 723.4661 | BJ9: 355.66522 | BK9: 57.232986 | BL9: 263.80896 | BM9: 249.92061 | BN9: 205.13972 | BO9: 263.25836 | BP9: 168.41216 | BQ9: 185.53656 | BR9: 191.9578 | BS9: 278.0573 | BT9: 172.24182 | BU9: 203.77818 | BV9: 248.55095 | BW9: 236.70804 | BX9: 99.0931 | BY9: 402.246 | BZ9: 196.707 | CA9: 153.145 | CB9: 145.573 | CC9: 49.3158 | CD9: 194.264 | CE9: 84.0796 | CF9: 160.838 | CG9: 127.954 | CH9: 267.967 | CI9: 221.847 | CJ9: 114.212 | CK9: 438.035 | CL9: 303.157 | CM9: 157.252 | CN9: 170.217 | CO9: 32.093 | CP9: 233.881 | CQ9: 217.276 | CR9: 270.462 | CS9: 107.248 | CT9: 119.074 | CU9: 116.029 | CV9: 252.289 | CW9: 304.301 | CX9: 218.39 | CY9: 259.492 | CZ9: 221.315 | DA9: 98.7686 | DB9: 344.742 | DC9: 181.507 | DD9: 313.465 | DE9: 217.34 | DF9: 189.266 | DG9: 255.133 | DH9: 309.966 | DI9: 115.27 | DJ9: 101.558 | DK9: 411.285 | DL9: 183.76 | DM9: 211.484 | DN9: 111.268 | DO9: 195.01 | DP9: 294.522 | DQ9: 174.941 | DR9: 223.641 | DS9: 320.082 | DT9: 234.088 | DU9: 183.058 | DV9: 212.279 | DW9: 116.727 | DX9: 154.847 | DY9: 362.692 | DZ9: 218.022 | EA9: 190.563 | EB9: 236.837 | EC9: 185.469 | ED9: 328.269 | EE9: 220.974 | EF9: 158.416 | EG9: 219.94 | EH9: 139.745 | EI9: 193.503 | EJ9: 268.389 | EK9: 174.108 | EL9: 227.367 | EM9: 138.74 | EN9: 318.7 | EO9: 163.775 | EP9: 190.502 | EQ9: 105.324 | ER9: 227.677 | ES9: 62.4686 | ET9: 173.295 | EU9: 201.618 | EV9: 198.143 | EW9: 163.893 | EX9: 327.985 | EY9: 111.698 | EZ9: 69.986 | FA9: 180.16 | FB9: 186.713 | FC9: 85.4927 | FD9: 156.446 | FE9: 361.686 | FF9: 91.6833 | FG9: =AVERAGE(B9:FF9) -> 261.95363 | FH9: =STDEV(B9:FF9) -> 144.42176
A11: GPL570-55999_Gene Symbol | B11: GSM119615 | C11: GSM119616 | D11: GSM119617 | E11: GSM119618 | F11: GSM119619 | G11: GSM119620 | H11: GSM119621 | I11: GSM119622 | J11: GSM119623 | K11: GSM119624 | L11: GSM119625 | M11: GSM119626 | N11: GSM119627 | O11: GSM119628 | P11: GSM119629 | Q11: GSM119630 | R11: GSM119631 | S11: GSM119632 | T11: GSM119633 | U11: GSM119634 | V11: GSM119635 | W11: GSM119636 | X11: GSM119637 | Y11: GSM119638 | Z11: GSM119639 | AA11: GSM119640 | AB11: GSM119641 | AC11: GSM119642 | AD11: GSM119643 | AE11: GSM119644 | AF11: GSM119645 | AG11: GSM119646 | AH11: GSM119647 | AI11: GSM119648 | AJ11: GSM119649 | AK11: GSM119650 | AL11: GSM119651 | AM11: GSM119652 | AN11: GSM119653 | AO11: GSM119654 | AP11: GSM119655 | AQ11: GSM119656 | AR11: GSM119657 | AS11: GSM119658 | AT11: GSM119659 | AU11: GSM119660 | AV11: GSM119661 | AW11: GSM119662 | AX11: GSM119663 | AY11: GSM119664 | AZ11: GSM119665 | BA11: GSM119666 | BB11: GSM119667 | BC11: GSM119668 | BD11: GSM119669 | BE11: GSM119670 | BF11: GSM119671 | BG11: GSM119672 | BH11: GSM119673 | BI11: GSM119674 | BJ11: GSM119675 | BK11: GSM119676 | BL11: GSM119677 | BM11: GSM119678 | BN11: GSM119679 | BO11: GSM119680 | BP11: GSM119681 | BQ11: GSM119682 | BR11: GSM119683 | BS11: GSM119684 | BT11: GSM119685 | BU11: GSM119686 | BV11: GSM119687 | BW11: GSM119688 | BX11: GSM238763 | BY11: GSM238790 | BZ11: GSM238791 | CA11: GSM238792 | CB11: GSM238793 | CC11: GSM238794 | CD11: GSM238795 | CE11: GSM238796 | CF11: GSM238797 | CG11: GSM238798 | CH11: GSM238799 | CI11: GSM238800 | CJ11: GSM238801 | CK11: GSM238802 | CL11: GSM238803 | CM11: GSM238804 | CN11: GSM238805 | CO11: GSM238806 | CP11: GSM238807 | CQ11: GSM238808 | CR11: GSM238809 | CS11: GSM238810 | CT11: GSM238811 | CU11: GSM238812 | CV11: GSM238813 | CW11: GSM238815 | CX11: GSM238816 | CY11: GSM238817 | CZ11: GSM238818 | DA11: GSM238819 | DB11: GSM238820 | DC11: GSM238821 | DD11: GSM238822 | DE11: GSM238823 | DF11: GSM238824 | DG11: GSM238825 | DH11: GSM238826 | DI11: GSM238827 | DJ11: GSM238834 | DK11: GSM238835 | DL11: GSM238837 | DM11: GSM238838 | DN11: GSM238839 | DO11: GSM238840 | DP11: GSM238841 | DQ11: GSM238842 | DR11: GSM238843 | DS11: GSM238844 | DT11: GSM238845 | DU11: GSM238846 | DV11: GSM238847 | DW11: GSM238848 | DX11: GSM238851 | DY11: GSM238854 | DZ11: GSM238855 | EA11: GSM238856 | EB11: GSM238857 | EC11: GSM238858 | ED11: GSM238860 | EE11: GSM238861 | EF11: GSM238862 | EG11: GSM238863 | EH11: GSM238864 | EI11: GSM238865 | EJ11: GSM238867 | EK11: GSM238868 | EL11: GSM238870 | EM11: GSM238871 | EN11: GSM238872 | EO11: GSM238873 | EP11: GSM238874 | EQ11: GSM238875 | ER11: GSM238877 | ES11: GSM238941 | ET11: GSM238942 | EU11: GSM238943 | EV11: GSM238944 | EW11: GSM238945 | EX11: GSM238946 | EY11: GSM238947 | EZ11: GSM238948 | FA11: GSM238949 | FB11: GSM238951 | FC11: GSM238952 | FD11: GSM238953 | FE11: GSM238955
A12: ID_REF | B12: GSM119615 | C12: GSM119616 | D12: GSM119617 | E12: GSM119618 | F12: GSM119619 | G12: GSM119620 | H12: GSM119621 | I12: GSM119622 | J12: GSM119623 | K12: GSM119624 | L12: GSM119625 | M12: GSM119626 | N12: GSM119627 | O12: GSM119628 | P12: GSM119629 | Q12: GSM119630 | R12: GSM119631 | S12: GSM119632 | T12: GSM119633 | U12: GSM119634 | V12: GSM119635 | W12: GSM119636 | X12: GSM119637 | Y12: GSM119638 | Z12: GSM119639 | AA12: GSM119640 | AB12: GSM119641 | AC12: GSM119642 | AD12: GSM119643 | AE12: GSM119644 | AF12: GSM119645 | AG12: GSM119646 | AH12: GSM119647 | AI12: GSM119648 | AJ12: GSM119649 | AK12: GSM119650 | AL12: GSM119651 | AM12: GSM119652 | AN12: GSM119653 | AO12: GSM119654 | AP12: GSM119655 | AQ12: GSM119656 | AR12: GSM119657 | AS12: GSM119658 | AT12: GSM119659 | AU12: GSM119660 | AV12: GSM119661 | AW12: GSM119662 | AX12: GSM119663 | AY12: GSM119664 | AZ12: GSM119665 | BA12: GSM119666 | BB12: GSM119667 | BC12: GSM119668 | BD12: GSM119669 | BE12: GSM119670 | BF12: GSM119671 | BG12: GSM119672 | BH12: GSM119673 | BI12: GSM119674 | BJ12: GSM119675 | BK12: GSM119676 | BL12: GSM119677 | BM12: GSM119678 | BN12: GSM119679 | BO12: GSM119680 | BP12: GSM119681 | BQ12: GSM119682 | BR12: GSM119683 | BS12: GSM119684 | BT12: GSM119685 | BU12: GSM119686 | BV12: GSM119687 | BW12: GSM119688 | BX12: GSM238763 | BY12: GSM238790 | BZ12: GSM238791 | CA12: GSM238792 | CB12: GSM238793 | CC12: GSM238794 | CD12: GSM238795 | CE12: GSM238796 | CF12: GSM238797 | CG12: GSM238798 | CH12: GSM238799 | CI12: GSM238800 | CJ12: GSM238801 | CK12: GSM238802 | CL12: GSM238803 | CM12: GSM238804 | CN12: GSM238805 | CO12: GSM238806 | CP12: GSM238807 | CQ12: GSM238808 | CR12: GSM238809 | CS12: GSM238810 | CT12: GSM238811 | CU12: GSM238812 | CV12: GSM238813 | CW12: GSM238815 | CX12: GSM238816 | CY12: GSM238817 | CZ12: GSM238818 | DA12: GSM238819 | DB12: GSM238820 | DC12: GSM238821 | DD12: GSM238822 | DE12: GSM238823 | DF12: GSM238824 | DG12: GSM238825 | DH12: GSM238826 | DI12: GSM238827 | DJ12: GSM238834 | DK12: GSM238835 | DL12: GSM238837 | DM12: GSM238838 | DN12: GSM238839 | DO12: GSM238840 | DP12: GSM238841 | DQ12: GSM238842 | DR12: GSM238843 | DS12: GSM238844 | DT12: GSM238845 | DU12: GSM238846 | DV12: GSM238847 | DW12: GSM238848 | DX12: GSM238851 | DY12: GSM238854 | DZ12: GSM238855 | EA12: GSM238856 | EB12: GSM238857 | EC12: GSM238858 | ED12: GSM238860 | EE12: GSM238861 | EF12: GSM238862 | EG12: GSM238863 | EH12: GSM238864 | EI12: GSM238865 | EJ12: GSM238867 | EK12: GSM238868 | EL12: GSM238870 | EM12: GSM238871 | EN12: GSM238872 | EO12: GSM238873 | EP12: GSM238874 | EQ12: GSM238875 | ER12: GSM238877 | ES12: GSM238941 | ET12: GSM238942 | EU12: GSM238943 | EV12: GSM238944 | EW12: GSM238945 | EX12: GSM238946 | EY12: GSM238947 | EZ12: GSM238948 | FA12: GSM238949 | FB12: GSM238951 | FC12: GSM238952 | FD12: GSM238953 | FE12: GSM238955 | FF12: GSM238963
A13: BrainRegion | B13: Entorhinal Cortex | C13: Entorhinal Cortex | D13: Entorhinal Cortex | E13: Entorhinal Cortex | F13: Entorhinal Cortex | G13: Entorhinal Cortex | H13: Entorhinal Cortex | I13: Entorhinal Cortex | J13: Entorhinal Cortex | K13: Entorhinal Cortex | L13: Entorhinal Cortex | M13: Entorhinal Cortex | N13: Entorhinal Cortex | O13: hippocampus | P13: hippocampus | Q13: hippocampus | R13: hippocampus | S13: hippocampus | T13: hippocampus | U13: hippocampus | V13: hippocampus | W13: hippocampus | X13: hippocampus | Y13: hippocampus | Z13: hippocampus | AA13: hippocampus | AB13: Medial Temporal Gyrus | AC13: Medial Temporal Gyrus | AD13: Medial Temporal Gyrus | AE13: Medial Temporal Gyrus | AF13: Medial Temporal Gyrus | AG13: Medial Temporal Gyrus | AH13: Medial Temporal Gyrus | AI13: Medial Temporal Gyrus | AJ13: Medial Temporal Gyrus | AK13: Medial Temporal Gyrus | AL13: Medial Temporal Gyrus | AM13: Medial Temporal Gyrus | AN13: Posterior Cingulate | AO13: Posterior Cingulate | AP13: Posterior Cingulate | AQ13: Posterior Cingulate | AR13: Posterior Cingulate | AS13: Posterior Cingulate | AT13: Posterior cingulate | AU13: Posterior cingulate | AV13: Posterior cingulate | AW13: Posterior cingulate | AX13: Posterior cingulate | AY13: Posterior cingulate | AZ13: Posterior cingulate | BA13: Superior Frontal Gyrus | BB13: Superior Frontal Gyrus | BC13: Superior Frontal Gyrus | BD13: Superior Frontal Gyrus | BE13: Superior Frontal Gyrus | BF13: Superior Frontal Gyrus | BG13: Superior Frontal Gyrus | BH13: Superior Frontal Gyrus | BI13: Superior Frontal Gyrus | BJ13: Superior Frontal Gyrus | BK13: Superior Frontal Gyrus | BL13: Primary Visual Cortex | BM13: Primary Visual Cortex | BN13: Primary Visual Cortex | BO13: Primary Visual Cortex | BP13: Primary Visual Cortex | BQ13: Primary Visual Cortex | BR13: Primary Visual Cortex | BS13: Primary Visual Cortex | BT13: Primary Visual Cortex | BU13: Primary Visual Cortex | BV13: Primary Visual Cortex | BW13: Primary Visual Cortex | BX13: Entorhinal Cortex | BY13: Entorhinal Cortex | BZ13: Entorhinal Cortex | CA13: Entorhinal Cortex | CB13: Entorhinal Cortex | CC13: Entorhinal Cortex | CD13: Entorhinal Cortex | CE13: Entorhinal Cortex | CF13: Entorhinal Cortex | CG13: Entorhinal Cortex | CH13: Hippocampus | CI13: Hippocampus | CJ13: Hippocampus | CK13: Hippocampus | CL13: Hippocampus | CM13: Hippocampus | CN13: Hippocampus | CO13: Hippocampus | CP13: Hippocampus | CQ13: Hippocampus | CR13: Middle temporal gyrus | CS13: Middle temporal gyrus | CT13: Middle temporal gyrus | CU13: Middle temporal gyrus | CV13: Middle temporal gyrus | CW13: Middle temporal gyrus | CX13: Middle temporal gyrus | CY13: Middle temporal gyrus | CZ13: Middle temporal gyrus | DA13: Middle temporal gyrus | DB13: Middle temporal gyrus | DC13: Middle temporal gyrus | DD13: Middle temporal gyrus | DE13: Middle temporal gyrus | DF13: Middle temporal gyrus | DG13: Middle temporal gyrus | DH13: Posterior cingulate cortex | DI13: Posterior cingulate cortex | DJ13: Posterior cingulate cortex | DK13: Posterior cingulate cortex | DL13: Posterior cingulate cortex | DM13: Posterior cingulate cortex | DN13: Posterior cingulate cortex | DO13: Posterior cingulate cortex | DP13: Posterior cingulate cortex | DQ13: Superior frontal gyrus | DR13: Superior frontal gyrus | DS13: Superior frontal gyrus | DT13: Superior frontal gyrus | DU13: Superior frontal gyrus | DV13: Superior frontal gyrus | DW13: Superior frontal gyrus | DX13: Superior frontal gyrus | DY13: Superior frontal gyrus | DZ13: Superior frontal gyrus | EA13: Superior frontal gyrus | EB13: Superior frontal gyrus | EC13: Superior frontal gyrus | ED13: Superior frontal gyrus | EE13: Superior frontal gyrus | EF13: Superior frontal gyrus | EG13: Superior frontal gyrus | EH13: Superior frontal gyrus | EI13: Superior frontal gyrus | EJ13: Superior frontal gyrus | EK13: Superior frontal gyrus | EL13: Superior frontal gyrus | EM13: Superior frontal gyrus | EN13: Primary visual cortex | EO13: Primary visual cortex | EP13: Primary visual cortex | EQ13: Primary visual cortex | ER13: Primary visual cortex | ES13: Primary visual cortex | ET13: Primary visual cortex | EU13: Primary visual cortex | EV13: Primary visual cortex | EW13: Primary visual cortex | EX13: Primary visual cortex | EY13: Primary visual cortex | EZ13: Primary visual cortex | FA13: Primary visual cortex | FB13: Primary visual cortex | FC13: Primary visual cortex | FD13: Primary visual cortex | FE13: Primary visual cortex | FF13: Primary visual cortex
A14: Disease State | B14: normal | C14: normal | D14: normal | E14: normal | F14: normal | G14: normal | H14: normal | I14: normal | J14: normal | K14: normal | L14: normal | M14: normal | N14: normal | O14: normal | P14: normal | Q14: normal | R14: normal | S14: normal | T14: normal | U14: normal | V14: normal | W14: normal | X14: normal | Y14: normal | Z14: normal | AA14: normal | AB14: normal | AC14: normal | AD14: normal | AE14: normal | AF14: normal | AG14: normal | AH14: normal | AI14: normal | AJ14: normal | AK14: normal | AL14: normal | AM14: normal | AN14: normal | AO14: normal | AP14: normal | AQ14: normal | AR14: normal | AS14: normal | AT14: normal | AU14: normal | AV14: normal | AW14: normal | AX14: normal | AY14: normal | AZ14: normal | BA14: normal | BB14: normal | BC14: normal | BD14: normal | BE14: normal | BF14: normal | BG14: normal | BH14: normal | BI14: normal | BJ14: normal | BK14: normal | BL14: normal | BM14: normal | BN14: normal | BO14: normal | BP14: normal | BQ14: normal | BR14: normal | BS14: normal | BT14: normal | BU14: normal | BV14: normal | BW14: normal | BX14: Alzheimer's Disease | BY14: Alzheimer's Disease | BZ14: Alzheimer's Disease | CA14: Alzheimer's Disease | CB14: Alzheimer's Disease | CC14: Alzheimer's Disease | CD14: Alzheimer's Disease | CE14: Alzheimer's Disease | CF14: Alzheimer's Disease | CG14: Alzheimer's Disease | CH14: Alzheimer's Disease | CI14: Alzheimer's Disease | CJ14: Alzheimer's Disease | CK14: Alzheimer's Disease | CL14: Alzheimer's Disease | CM14: Alzheimer's Disease | CN14: Alzheimer's Disease | CO14: Alzheimer's Disease | CP14: Alzheimer's Disease | CQ14: Alzheimer's Disease | CR14: Alzheimer's Disease | CS14: Alzheimer's Disease | CT14: Alzheimer's Disease | CU14: Alzheimer's Disease | CV14: Alzheimer's Disease | CW14: Alzheimer's Disease | CX14: Alzheimer's Disease | CY14: Alzheimer's Disease | CZ14: Alzheimer's Disease | DA14: Alzheimer's Disease | DB14: Alzheimer's Disease | DC14: Alzheimer's Disease | DD14: Alzheimer's Disease | DE14: Alzheimer's Disease | DF14: Alzheimer's Disease | DG14: Alzheimer's Disease | DH14: Alzheimer's Disease | DI14: Alzheimer's Disease | DJ14: Alzheimer's Disease | DK14: Alzheimer's Disease | DL14: Alzheimer's Disease | DM14: Alzheimer's Disease | DN14: Alzheimer's Disease | DO14: Alzheimer's Disease | DP14: Alzheimer's Disease | DQ14: Alzheimer's Disease | DR14: Alzheimer's Disease | DS14: Alzheimer's Disease | DT14: Alzheimer's Disease | DU14: Alzheimer's Disease | DV14: Alzheimer's Disease | DW14: Alzheimer's Disease | DX14: Alzheimer's Disease | DY14: Alzheimer's Disease | DZ14: Alzheimer's Disease | EA14: Alzheimer's Disease | EB14: Alzheimer's Disease | EC14: Alzheimer's Disease | ED14: Alzheimer's Disease | EE14: Alzheimer's Disease | EF14: Alzheimer's Disease | EG14: Alzheimer's Disease | EH14: Alzheimer's Disease | EI14: Alzheimer's Disease | EJ14: Alzheimer's Disease | EK14: Alzheimer's Disease | EL14: Alzheimer's Disease | EM14: Alzheimer's Disease | EN14: Alzheimer's Disease | EO14: Alzheimer's Disease | EP14: Alzheimer's Disease | EQ14: Alzheimer's Disease | ER14: Alzheimer's Disease | ES14: Alzheimer's Disease | ET14: Alzheimer's Disease | EU14: Alzheimer's Disease | EV14: Alzheimer's Disease | EW14: Alzheimer's Disease | EX14: Alzheimer's Disease | EY14: Alzheimer's Disease | EZ14: Alzheimer's Disease | FA14: Alzheimer's Disease | FB14: Alzheimer's Disease | FC14: Alzheimer's Disease | FD14: Alzheimer's Disease | FE14: Alzheimer's Disease | FF14: Alzheimer's Disease
A15: Sex | B15: male | C15: male | D15: male | E15: male | F15: female | G15: male | H15: male | I15: male | J15: male | K15: female | L15: female | M15: male | N15: male | O15: male | P15: male | Q15: male | R15: female | S15: male | T15: male | U15: male | V15: male | W15: male | X15: female | Y15: female | Z15: male | AA15: male | AB15: male | AC15: male | AD15: female | AE15: male | AF15: male | AG15: male | AH15: male | AI15: female | AJ15: female | AK15: female | AL15: male | AM15: male | AN15: male | AO15: male | AP15: female | AQ15: male | AR15: male | AS15: male | AT15: male | AU15: male | AV15: female | AW15: female | AX15: female | AY15: male | AZ15: male | BA15: male | BB15: female | BC15: female | BD15: female | BE15: female | BF15: male | BG15: male | BH15: male | BI15: male | BJ15: male | BK15: male | BL15: male | BM15: male | BN15: male | BO15: male | BP15: male | BQ15: male | BR15: male | BS15: female | BT15: female | BU15: female | BV15: male | BW15: male | BX15: female | BY15: female | BZ15: female | CA15: male | CB15: female | CC15: female | CD15: female | CE15: male | CF15: male | CG15: male | CH15: male | CI15: female | CJ15: male | CK15: female | CL15: female | CM15: female | CN15: male | CO15: male | CP15: male | CQ15: male | CR15: female | CS15: male | CT15: male | CU15: male | CV15: male | CW15: male | CX15: male | CY15: female | CZ15: male | DA15: female | DB15: female | DC15: male | DD15: female | DE15: male | DF15: male | DG15: female | DH15: female | DI15: male | DJ15: male | DK15: male | DL15: male | DM15: female | DN15: female | DO15: male | DP15: male | DQ15: female | DR15: male | DS15: male | DT15: male | DU15: male | DV15: male | DW15: male | DX15: female | DY15: male | DZ15: female | EA15: female | EB15: female | EC15: female | ED15: female | EE15: female | EF15: male | EG15: male | EH15: female | EI15: male | EJ15: male | EK15: male | EL15: male | EM15: female | EN15: female | EO15: male | EP15: male | EQ15: male | ER15: male | ES15: male | ET15: female | EU15: male | EV15: female | EW15: female | EX15: female | EY15: female | EZ15: male | FA15: male | FB15: female | FC15: male | FD15: male | FE15: male | FF15: female
A16: Age | B16: 63 | C16: 85 | D16: 80 | E16: 80 | F16: 102 | G16: 79 | H16: 76 | I16: 83 | J16: 79 | K16: 88 | L16: 82 | M16: 69 | N16: 78 | O16: 85 days | P16: 80 | Q16: 80 | R16: 102 | S16: 63 | T16: 79 | U16: 76 | V16: 83 | W16: 79 | X16: 88 | Y16: 73 | Z16: 69 | AA16: 78 | AB16: 85 | AC16: 80 | AD16: 102 | AE16: 63 | AF16: 79 | AG16: 83 | AH16: 79 | AI16: 88 | AJ16: 82 | AK16: 73 | AL16: 69 | AM16: 78 | AN16: 85 | AO16: 80 | AP16: 102 | AQ16: 63 | AR16: 79 | AS16: 76 | AT16: 83 | AU16: 79 | AV16: 88 | AW16: 82 | AX16: 73 | AY16: 69 | AZ16: 78 | BA16: 79 | BB16: 88 | BC16: 82 | BD16: 73 | BE16: 102 | BF16: 63 | BG16: 79 | BH16: 76 | BI16: 83 | BJ16: 69 | BK16: 78 | BL16: 85 | BM16: 80 | BN16: 63 | BO16: 79 | BP16: 76 | BQ16: 83 | BR16: 79 | BS16: 88 | BT16: 82 | BU16: 73 | BV16: 69 | BW16: 78 | BX16: 82 | BY16: 86 | BZ16: 93 | CA16: 84 | CB16: 79 | CC16: 78 | CD16: 91 | CE16: 86 | CF16: 97 | CG16: 80 | CH16: 72 | CI16: 73 | CJ16: 75 | CK16: 70 | CL16: 85 | CM16: 77 | CN16: 79 | CO16: 88 | CP16: 81 | CQ16: 78 | CR16: 73 | CS16: 81 | CT16: 72 | CU16: 75 | CV16: 78 | CW16: 75 | CX16: 87 | CY16: >90 | CZ16: 68 | DA16: 81 | DB16: 85 | DC16: 79 | DD16: 82 | DE16: 88 | DF16: 72 | DG16: 80 | DH16: 73 | DI16: 81 | DJ16: 78 | DK16: 75 | DL16: 68 | DM16: 70.8 | DN16: 85 | DO16: 79 | DP16: 88 | DQ16: 73 | DR16: 81 | DS16: 72 | DT16: 75 | DU16: 78 | DV16: 75 | DW16: 87 | DX16: 95 | DY16: 68 | DZ16: 95 | EA16: 70.8 | EB16: 85 | EC16: 83 | ED16: 77 | EE16: 83 | EF16: 68 | EG16: 79 | EH16: 82 | EI16: 80 | EJ16: 88 | EK16: 74 | EL16: 72 | EM16: 80 | EN16: 73 | EO16: 81 | EP16: 75 | EQ16: 78 | ER16: 75 | ES16: 87 | ET16: 95 | EU16: 68 | EV16: >90 | EW16: 81.3 | EX16: 81 | EY16: 85 | EZ16: 79 | FA16: 79 | FB16: 82 | FC16: 88 | FD16: 74 | FE16: 72 | FF16: 80
A17: APOE | B17: 533.98663 | C17: 498.61646 | D17: 2352.7847 | E17: 1509.6755 | F17: 640.26337 | G17: 943.48785 | H17: 1859.5183 | I17: 503.06143 | J17: 624.38007 | K17: 945.39124 | L17: 886.59406 | M17: 2246.3347 | N17: 777.35364 | O17: 147.21136 | P17: 432.68204 | Q17: 1049.044 | R17: 316.99286 | S17: 650.463 | T17: 303.64417 | U17: 637.0634 | V17: 322.36685 | W17: 396.88467 | X17: 343.06302 | Y17: 501.28122 | Z17: 271.2976 | AA17: 501.09818 | AB17: 462.73944 | AC17: 782.43976 | AD17: 630.5734 | AE17: 330.5947 | AF17: 946.6327 | AG17: 1219.6045 | AH17: 649.04443 | AI17: 754.91003 | AJ17: 1420.6816 | AK17: 1280.771 | AL17: 549.36835 | AM17: 420.25818 | AN17: 508.9169 | AO17: 476.0588 | AP17: 283.50818 | AQ17: 462.19104 | AR17: 656.30475 | AS17: 654.4205 | AT17: 329.66043 | AU17: 528.9727 | AV17: 36.88035 | AW17: 326.54236 | AX17: 359.6653 | AY17: 463.49893 | AZ17: 242.73746 | BA17: 139.56975 | BB17: 187.04523 | BC17: 275.36954 | BD17: 905.60913 | BE17: 239.1867 | BF17: 460.4394 | BG17: 1034.4764 | BH17: 697.54785 | BI17: 876.1716 | BJ17: 551.27 | BK17: 134.92085 | BL17: 233.81544 | BM17: 444.6163 | BN17: 226.62506 | BO17: 614.2133 | BP17: 1222.3074 | BQ17: 210.63416 | BR17: 231.26555 | BS17: 403.6623 | BT17: 307.90726 | BU17: 427.93204 | BV17: 837.62573 | BW17: 393.4069 | BX17: 804.516 | BY17: 341.257 | BZ17: 300.44 | CA17: 622.316 | CB17: 566.111 | CC17: 945.315 | CD17: 695.764 | CE17: 835.333 | CF17: 737.262 | CG17: 805.454 | CH17: 308.06 | CI17: 853.628 | CJ17: 603.987 | CK17: 276.488 | CL17: 235.404 | CM17: 218.483 | CN17: 403.693 | CO17: 456.506 | CP17: 294.356 | CQ17: 693.75 | CR17: 1825.37 | CS17: 1119.53 | CT17: 1257.71 | CU17: 989.441 | CV17: 470.186 | CW17: 1644.66 | CX17: 690.414 | CY17: 653.753 | CZ17: 430.384 | DA17: 937.805 | DB17: 1177.3 | DC17: 1469.3 | DD17: 954.771 | DE17: 1441.16 | DF17: 1293.32 | DG17: 1385.43 | DH17: 332.302 | DI17: 280.426 | DJ17: 231.234 | DK17: 300.611 | DL17: 622.905 | DM17: 131.09 | DN17: 488.484 | DO17: 403.799 | DP17: 169.062 | DQ17: 151.935 | DR17: 650.721 | DS17: 753.004 | DT17: 393.084 | DU17: 446.161 | DV17: 608.48 | DW17: 719.642 | DX17: 879.678 | DY17: 421.01 | DZ17: 684.142 | EA17: 724.491 | EB17: 371.46 | EC17: 320.153 | ED17: 933.705 | EE17: 589.55 | EF17: 640.81 | EG17: 407.3 | EH17: 356.997 | EI17: 527.147 | EJ17: 1158.76 | EK17: 358.148 | EL17: 93.821 | EM17: 936.867 | EN17: 502.376 | EO17: 814.354 | EP17: 1041.71 | EQ17: 385.373 | ER17: 278.967 | ES17: 1046.41 | ET17: 362.241 | EU17: 437.547 | EV17: 995.828 | EW17: 661.663 | EX17: 395.489 | EY17: 823.818 | EZ17: 538.693 | FA17: 1046.45 | FB17: 337.421 | FC17: 189.217 | FD17: 241.359 | FE17: 814.775 | FF17: 1141.49
A18: APP | B18: 5742.592 | C18: 6642.366 | D18: 3389.9226 | E18: 4876.3677 | F18: 21848.49 | G18: 7324.6504 | H18: 4784.5894 | I18: 5808.5796 | J18: 7836.6685 | K18: 5667.1357 | L18: 5285.9985 | M18: 2515.1184 | N18: 5237.4673 | O18: 6754.942 | P18: 7033.4077 | Q18: 3865.8855 | R18: 4605.5244 | S18: 7156.2593 | T18: 6107.552 | U18: 6566.8784 | V18: 5365.7 | W18: 6562.999 | X18: 5723.1167 | Y18: 6212.4746 | Z18: 6487.999 | AA18: 5150.194 | AB18: 2448.1348 | AC18: 2082.9675 | AD18: 2327.5076 | AE18: 3362.8567 | AF18: 1687.0988 | AG18: 691.8967 | AH18: 562.78705 | AI18: 1797.8107 | AJ18: 18929.148 | AK18: 316.70184 | AL18: 3302.894 | AM18: 2862.901 | AN18: 9297.337 | AO18: 5450.883 | AP18: 5171.3745 | AQ18: 7909.4375 | AR18: 4585.4453 | AS18: 7827.171 | AT18: 6237.38 | AU18: 5558.119 | AV18: 9100.862 | AW18: 6296.348 | AX18: 3650.7664 | AY18: 7009.6177 | AZ18: 5034.1733 | BA18: 34247.027 | BB18: 6771.882 | BC18: 4654.0728 | BD18: 6158.9688 | BE18: 6620.005 | BF18: 28523.506 | BG18: 19002.506 | BH18: 27675.604 | BI18: 22494.598 | BJ18: 4771.339 | BK18: 330.92645 | BL18: 5787.3423 | BM18: 4752.372 | BN18: 7084.444 | BO18: 6816.9644 | BP18: 9096.849 | BQ18: 6944.8916 | BR18: 4305.195 | BS18: 7897.5737 | BT18: 5010.288 | BU18: 6889.7495 | BV18: 7737.757 | BW18: 6269.6626 | BX18: 6314.35 | BY18: 8442.18 | BZ18: 7558.98 | CA18: 4519.15 | CB18: 5692.79 | CC18: 5558.92 | CD18: 4641.75 | CE18: 3083.47 | CF18: 5160.21 | CG18: 3987.56 | CH18: 7362.74 | CI18: 8171.33 | CJ18: 6208.94 | CK18: 16299.9 | CL18: 22795.6 | CM18: 16583.9 | CN18: 15776.8 | CO18: 12480.7 | CP18: 14169 | CQ18: 7684.12 | CR18: 6491.66 | CS18: 4114.24 | CT18: 6292.26 | CU18: 7570.48 | CV18: 11291.5 | CW18: 8192.04 | CX18: 5398.58 | CY18: 6085.74 | CZ18: 6053.26 | DA18: 7085.58 | DB18: 7431.59 | DC18: 8685.66 | DD18: 5167.21 | DE18: 2044.86 | DF18: 5185.32 | DG18: 3230.93 | DH18: 8541.06 | DI18: 10947.4 | DJ18: 10531.2 | DK18: 14837.1 | DL18: 6652.23 | DM18: 15804.9 | DN18: 16509.1 | DO18: 11324.5 | DP18: 15917.4 | DQ18: 14160.8 | DR18: 10549.9 | DS18: 9386.62 | DT18: 10445.7 | DU18: 8032.52 | DV18: 7533.76 | DW18: 5892.44 | DX18: 5033.57 | DY18: 6539.47 | DZ18: 8870.45 | EA18: 6547.84 | EB18: 6034.46 | EC18: 9558.81 | ED18: 7504.96 | EE18: 9882.09 | EF18: 3711.22 | EG18: 10094.9 | EH18: 7035.22 | EI18: 13537.9 | EJ18: 7556.75 | EK18: 8165.98 | EL18: 12838 | EM18: 9355.91 | EN18: 4946.6 | EO18: 5299.82 | EP18: 7857.24 | EQ18: 8595.82 | ER18: 6580.11 | ES18: 2725.07 | ET18: 10383.2 | EU18: 3749.2 | EV18: 8714.17 | EW18: 6347.53 | EX18: 15587.7 | EY18: 2879.13 | EZ18: 5987.31 | FA18: 4386.07 | FB18: 9212.06 | FC18: 12437.2 | FD18: 8060.56 | FE18: 2760.18 | FF18: 845.631
A19: PSEN1 | B19: 3.0414562 | C19: 2.6849034 | D19: 22.804396 | E19: 6.1470494 | F19: 5.6962237 | G19: 3.4019296 | H19: 4.69009 | I19: 6.020626 | J19: 22.285513 | K19: 2.5026305 | L19: 3.7832925 | M19: 30.86521 | N19: 7.868597 | O19: 9.480921 | P19: 3.3336933 | Q19: 4.5552163 | R19: 9.969668 | S19: 9.046306 | T19: 7.741267 | U19: 16.829523 | V19: 1.9430462 | W19: 2.293493 | X19: 4.9348097 | Y19: 47.163864 | Z19: 78.43801 | AA19: 3.4295397 | AB19: 5.010189 | AC19: 87.54228 | AD19: 13.662556 | AE19: 2.9298956 | AF19: 14.869589 | AG19: 7.1773243 | AH19: 12.744768 | AI19: 8.362522 | AJ19: 4.3143687 | AK19: 7.299716 | AL19: 101.05711 | AM19: 40.007 | AN19: 4.139877 | AO19: 8.078807 | AP19: 5.104193 | AQ19: 2.0849473 | AR19: 4.8106227 | AS19: 4.560312 | AT19: 1.4364343 | AU19: 12.364981 | AV19: 2.146844 | AW19: 13.217219 | AX19: 11.387221 | AY19: 7.883828 | AZ19: 2.731518 | BA19: 2.6326056 | BB19: 5.6922383 | BC19: 7.592871 | BD19: 8.925179 | BE19: 1.4985173 | BF19: 2.3233366 | BG19: 4.0875974 | BH19: 3.0154757 | BI19: 31.157679 | BJ19: 7.107012 | BK19: 130.45226 | BL19: 1.8707428 | BM19: 1.0188228 | BN19: 0.95747805 | BO19: 6.169106 | BP19: 20.286016 | BQ19: 0.4829416 | BR19: 10.33523 | BS19: 1.6038748 | BT19: 0.9515498 | BU19: 0.6909222 | BV19: 26.04402 | BW19: 2.567462 | BX19: 23.6691 | BY19: 1.21648 | BZ19: 28.3162 | CA19: 2.0152 | CB19: 21.8135 | CC19: 1.96222 | CD19: 6.53429 | CE19: 24.6885 | CF19: 6.90876 | CG19: 2.21625 | CH19: 1.32482 | CI19: 8.4615 | CJ19: 2.89262 | CK19: 1.17727 | CL19: 44.8647 | CM19: 2.90258 | CN19: 38.0644 | CO19: 28.3815 | CP19: 2.03496 | CQ19: 3.16761 | CR19: 12.1228 | CS19: 59.7431 | CT19: 15.5506 | CU19: 25.1341 | CV19: 34.5608 | CW19: 2.47388 | CX19: 3.563 | CY19: 3.09273 | CZ19: 11.5489 | DA19: 8.3948 | DB19: 5.13893 | DC19: 1.34202 | DD19: 2.007 | DE19: 4.29736 | DF19: 14.1144 | DG19: 27.0989 | DH19: 2.85043 | DI19: 3.32669 | DJ19: 1.8092 | DK19: 31.5041 | DL19: 12.0376 | DM19: 75.4388 | DN19: 7.13183 | DO19: 5.34523 | DP19: 4.14981 | DQ19: 16.6327 | DR19: 8.50446 | DS19: 4.18004 | DT19: 0.851139 | DU19: 1.96746 | DV19: 3.46753 | DW19: 2.71933 | DX19: 25.9035 | DY19: 13.3832 | DZ19: 3.87859 | EA19: 14.2963 | EB19: 1.09058 | EC19: 9.37661 | ED19: 1.48968 | EE19: 3.98067 | EF19: 4.73718 | EG19: 10.9438 | EH19: 1.6966 | EI19: 3.27515 | EJ19: 35.6808 | EK19: 22.9578 | EL19: 7.18282 | EM19: 3.12421 | EN19: 10.4485 | EO19: 16.9377 | EP19: 4.71 | EQ19: 1.42118 | ER19: 10.7288 | ES19: 4.47215 | ET19: 1.65525 | EU19: 27.0259 | EV19: 4.16704 | EW19: 0.880509 | EX19: 48.2959 | EY19: 3.15977 | EZ19: 22.7091 | FA19: 37.0882 | FB19: 1.62095 | FC19: 2.81101 | FD19: 1.06914 | FE19: 56.0014 | FF19: 543.529
A20: PSEN2 | B20: 238.39268 | C20: 351.4902 | D20: 165.99536 | E20: 260.94107 | F20: 821.2308 | G20: 288.2514 | H20: 308.01266 | I20: 253.7995 | J20: 287.5457 | K20: 265.7713 | L20: 204.48183 | M20: 295.83908 | N20: 304.1647 | O20: 429.37234 | P20: 474.30795 | Q20: 5.864436 | R20: 324.44046 | S20: 277.73383 | T20: 277.23663 | U20: 699.74866 | V20: 303.13776 | W20: 354.1849 | X20: 427.42813 | Y20: 407.39163 | Z20: 361.9398 | AA20: 350.71796 | AB20: 425.80984 | AC20: 532.4004 | AD20: 483.0449 | AE20: 404.5338 | AF20: 336.06335 | AG20: 553.1151 | AH20: 431.23587 | AI20: 294.38318 | AJ20: 481.50684 | AK20: 387.59555 | AL20: 514.8289 | AM20: 391.81656 | AN20: 340.23236 | AO20: 282.94327 | AP20: 123.71555 | AQ20: 151.49988 | AR20: 168.5694 | AS20: 232.47527 | AT20: 299.52667 | AU20: 269.46136 | AV20: 243.20113 | AW20: 239.69527 | AX20: 305.83984 | AY20: 246.09378 | AZ20: 264.42654 | BA20: 254.18176 | BB20: 291.3915 | BC20: 251.87672 | BD20: 432.71017 | BE20: 250.2513 | BF20: 930.6594 | BG20: 691.8172 | BH20: 692.43713 | BI20: 723.4661 | BJ20: 355.66522 | BK20: 57.232986 | BL20: 263.80896 | BM20: 249.92061 | BN20: 205.13972 | BO20: 263.25836 | BP20: 168.41216 | BQ20: 185.53656 | BR20: 191.9578 | BS20: 278.0573 | BT20: 172.24182 | BU20: 203.77818 | BV20: 248.55095 | BW20: 236.70804 | BX20: 99.0931 | BY20: 402.246 | BZ20: 196.707 | CA20: 153.145 | CB20: 145.573 | CC20: 49.3158 | CD20: 194.264 | CE20: 84.0796 | CF20: 160.838 | CG20: 127.954 | CH20: 267.967 | CI20: 221.847 | CJ20: 114.212 | CK20: 438.035 | CL20: 303.157 | CM20: 157.252 | CN20: 170.217 | CO20: 32.093 | CP20: 233.881 | CQ20: 217.276 | CR20: 270.462 | CS20: 107.248 | CT20: 119.074 | CU20: 116.029 | CV20: 252.289 | CW20: 304.301 | CX20: 218.39 | CY20: 259.492 | CZ20: 221.315 | DA20: 98.7686 | DB20: 344.742 | DC20: 181.507 | DD20: 313.465 | DE20: 217.34 | DF20: 189.266 | DG20: 255.133 | DH20: 309.966 | DI20: 115.27 | DJ20: 101.558 | DK20: 411.285 | DL20: 183.76 | DM20: 211.484 | DN20: 111.268 | DO20: 195.01 | DP20: 294.522 | DQ20: 174.941 | DR20: 223.641 | DS20: 320.082 | DT20: 234.088 | DU20: 183.058 | DV20: 212.279 | DW20: 116.727 | DX20: 154.847 | DY20: 362.692 | DZ20: 218.022 | EA20: 190.563 | EB20: 236.837 | EC20: 185.469 | ED20: 328.269 | EE20: 220.974 | EF20: 158.416 | EG20: 219.94 | EH20: 139.745 | EI20: 193.503 | EJ20: 268.389 | EK20: 174.108 | EL20: 227.367 | EM20: 138.74 | EN20: 318.7 | EO20: 163.775 | EP20: 190.502 | EQ20: 105.324 | ER20: 227.677 | ES20: 62.4686 | ET20: 173.295 | EU20: 201.618 | EV20: 198.143 | EW20: 163.893 | EX20: 327.985 | EY20: 111.698 | EZ20: 69.986 | FA20: 180.16 | FB20: 186.713 | FC20: 85.4927 | FD20: 156.446 | FE20: 361.686 | FF20: 91.6833
B21: =IF(B11=B12,"+++") -> +++ | C21: =IF(C11=C12,"+++") -> +++ | D21: =IF(D11=D12,"+++") -> +++ | E21: =IF(E11=E12,"+++") -> +++ | F21: =IF(F11=F12,"+++") -> +++ | G21: =IF(G11=G12,"+++") -> +++ | H21: =IF(H11=H12,"+++") -> +++ | I21: =IF(I11=I12,"+++") -> +++ | ... FE21: =IF(FE11=FE12,"+++") -> +++

Sheet Average
A1: ID_REF | B1: GSM119615 | C1: GSM119616 | D1: GSM119617 | E1: GSM119618 | F1: GSM119619 | G1: GSM119620 | H1: GSM119621 | I1: GSM119622 | J1: GSM119623 | K1: GSM119624 | L1: GSM119625 | M1: GSM119626 | N1: GSM119627 | O1: GSM119628 | P1: GSM119629 | Q1: GSM119630 | R1: GSM119631 | S1: GSM119632 | T1: GSM119633 | U1: GSM119634 | V1: GSM119635 | W1: GSM119636 | X1: GSM119637 | Y1: GSM119638 | Z1: GSM119639 | AA1: GSM119640 | AB1: GSM119641 | AC1: GSM119642 | AD1: GSM119643 | AE1: GSM119644 | AF1: GSM119645 | AG1: GSM119646 | AH1: GSM119647 | AI1: GSM119648 | AJ1: GSM119649 | AK1: GSM119650 | AL1: GSM119651 | AM1: GSM119652 | AN1: GSM119653 | AO1: GSM119654 | AP1: GSM119655 | AQ1: GSM119656 | AR1: GSM119657 | AS1: GSM119658 | AT1: GSM119659 | AU1: GSM119660 | AV1: GSM119661 | AW1: GSM119662 | AX1: GSM119663 | AY1: GSM119664 | AZ1: GSM119665 | BA1: GSM119666 | BB1: GSM119667 | BC1: GSM119668 | BD1: GSM119669 | BE1: GSM119670 | BF1: GSM119671 | BG1: GSM119672 | BH1: GSM119673 | BI1: GSM119674 | BJ1: GSM119675 | BK1: GSM119676 | BL1: GSM119677 | BM1: GSM119678 | BN1: GSM119679 | BO1: GSM119680 | BP1: GSM119681 | BQ1: GSM119682 | BR1: GSM119683 | BS1: GSM119684 | BT1: GSM119685 | BU1: GSM119686 | BV1: GSM119687 | BW1: GSM119688 | BX1: GSM238763 | BY1: GSM238790 | BZ1: GSM238791 | CA1: GSM238792 | CB1: GSM238793 | CC1: GSM238794 | CD1: GSM238795 | CE1: GSM238796 | CF1: GSM238797 | CG1: GSM238798 | CH1: GSM238799 | CI1: GSM238800 | CJ1: GSM238801 | CK1: GSM238802 | CL1: GSM238803 | CM1: GSM238804 | CN1: GSM238805 | CO1: GSM238806 | CP1: GSM238807 | CQ1: GSM238808 | CR1: GSM238809 | CS1: GSM238810 | CT1: GSM238811 | CU1: GSM238812 | CV1: GSM238813 | CW1: GSM238815 | CX1: GSM238816 | CY1: GSM238817 | CZ1: GSM238818 | DA1: GSM238819 | DB1: GSM238820 | DC1: GSM238821 | DD1: GSM238822 | DE1: GSM238823 | DF1: GSM238824 | DG1: GSM238825 | DH1: GSM238826 | DI1: GSM238827 | DJ1: GSM238834 | DK1: GSM238835 | DL1: GSM238837 | DM1: GSM238838 | DN1: GSM238839 | DO1: GSM238840 | DP1: GSM238841 | DQ1: GSM238842 | DR1: GSM238843 | DS1: GSM238844 | DT1: GSM238845 | DU1: GSM238846 | DV1: GSM238847 | DW1: GSM238848 | DX1: GSM238851 | DY1: GSM238854 | DZ1: GSM238855 | EA1: GSM238856 | EB1: GSM238857 | EC1: GSM238858 | ED1: GSM238860 | EE1: GSM238861 | EF1: GSM238862 | EG1: GSM238863 | EH1: GSM238864 | EI1: GSM238865 | EJ1: GSM238867 | EK1: GSM238868 | EL1: GSM238870 | EM1: GSM238871 | EN1: GSM238872 | EO1: GSM238873 | EP1: GSM238874 | EQ1: GSM238875 | ER1: GSM238877 | ES1: GSM238941 | ET1: GSM238942 | EU1: GSM238943 | EV1: GSM238944 | EW1: GSM238945 | EX1: GSM238946 | EY1: GSM238947 | EZ1: GSM238948 | FA1: GSM238949 | FB1: GSM238951 | FC1: GSM238952 | FD1: GSM238953 | FE1: GSM238955 | FF1: GSM238963
A2: BrainRegion | B2: Entorhinal Cortex | C2: Entorhinal Cortex | D2: Entorhinal Cortex | E2: Entorhinal Cortex | F2: Entorhinal Cortex | G2: Entorhinal Cortex | H2: Entorhinal Cortex | I2: Entorhinal Cortex | J2: Entorhinal Cortex | K2: Entorhinal Cortex | L2: Entorhinal Cortex | M2: Entorhinal Cortex | N2: Entorhinal Cortex | O2: hippocampus | P2: hippocampus | Q2: hippocampus | R2: hippocampus | S2: hippocampus | T2: hippocampus | U2: hippocampus | V2: hippocampus | W2: hippocampus | X2: hippocampus | Y2: hippocampus | Z2: hippocampus | AA2: hippocampus | AB2: Medial Temporal Gyrus | AC2: Medial Temporal Gyrus | AD2: Medial Temporal Gyrus | AE2: Medial Temporal Gyrus | AF2: Medial Temporal Gyrus | AG2: Medial Temporal Gyrus | AH2: Medial Temporal Gyrus | AI2: Medial Temporal Gyrus | AJ2: Medial Temporal Gyrus | AK2: Medial Temporal Gyrus | AL2: Medial Temporal Gyrus | AM2: Medial Temporal Gyrus | AN2: Posterior Cingulate | AO2: Posterior Cingulate | AP2: Posterior Cingulate | AQ2: Posterior Cingulate | AR2: Posterior Cingulate | AS2: Posterior Cingulate | AT2: Posterior cingulate | AU2: Posterior cingulate | AV2: Posterior cingulate | AW2: Posterior cingulate | AX2: Posterior cingulate | AY2: Posterior cingulate | AZ2: Posterior cingulate | BA2: Superior Frontal Gyrus | BB2: Superior Frontal Gyrus | BC2: Superior Frontal Gyrus | BD2: Superior Frontal Gyrus | BE2: Superior Frontal Gyrus | BF2: Superior Frontal Gyrus | BG2: Superior Frontal Gyrus | BH2: Superior Frontal Gyrus | BI2: Superior Frontal Gyrus | BJ2: Superior Frontal Gyrus | BK2: Superior Frontal Gyrus | BL2: Primary Visual Cortex | BM2: Primary Visual Cortex | BN2: Primary Visual Cortex | BO2: Primary Visual Cortex | BP2: Primary Visual Cortex | BQ2: Primary Visual Cortex | BR2: Primary Visual Cortex | BS2: Primary Visual Cortex | BT2: Primary Visual Cortex | BU2: Primary Visual Cortex | BV2: Primary Visual Cortex | BW2: Primary Visual Cortex | BX2: Entorhinal Cortex | BY2: Entorhinal Cortex | BZ2: Entorhinal Cortex | CA2: Entorhinal Cortex | CB2: Entorhinal Cortex | CC2: Entorhinal Cortex | CD2: Entorhinal Cortex | CE2: Entorhinal Cortex | CF2: Entorhinal Cortex | CG2: Entorhinal Cortex | CH2: Hippocampus | CI2: Hippocampus | CJ2: Hippocampus | CK2: Hippocampus | CL2: Hippocampus | CM2: Hippocampus | CN2: Hippocampus | CO2: Hippocampus | CP2: Hippocampus | CQ2: Hippocampus | CR2: Middle temporal gyrus | CS2: Middle temporal gyrus | CT2: Middle temporal gyrus | CU2: Middle temporal gyrus | CV2: Middle temporal gyrus | CW2: Middle temporal gyrus | CX2: Middle temporal gyrus | CY2: Middle temporal gyrus | CZ2: Middle temporal gyrus | DA2: Middle temporal gyrus | DB2: Middle temporal gyrus | DC2: Middle temporal gyrus | DD2: Middle temporal gyrus | DE2: Middle temporal gyrus | DF2: Middle temporal gyrus | DG2: Middle temporal gyrus | DH2: Posterior cingulate cortex | DI2: Posterior cingulate cortex | DJ2: Posterior cingulate cortex | DK2: Posterior cingulate cortex | DL2: Posterior cingulate cortex | DM2: Posterior cingulate cortex | DN2: Posterior cingulate cortex | DO2: Posterior cingulate cortex | DP2: Posterior cingulate cortex | DQ2: Superior frontal gyrus | DR2: Superior frontal gyrus | DS2: Superior frontal gyrus | DT2: Superior frontal gyrus | DU2: Superior frontal gyrus | DV2: Superior frontal gyrus | DW2: Superior frontal gyrus | DX2: Superior frontal gyrus | DY2: Superior frontal gyrus | DZ2: Superior frontal gyrus | EA2: Superior frontal gyrus | EB2: Superior frontal gyrus | EC2: Superior frontal gyrus | ED2: Superior frontal gyrus | EE2: Superior frontal gyrus | EF2: Superior frontal gyrus | EG2: Superior frontal gyrus | EH2: Superior frontal gyrus | EI2: Superior frontal gyrus | EJ2: Superior frontal gyrus | EK2: Superior frontal gyrus | EL2: Superior frontal gyrus | EM2: Superior frontal gyrus | EN2: Primary visual cortex | EO2: Primary visual cortex | EP2: Primary visual cortex | EQ2: Primary visual cortex | ER2: Primary visual cortex | ES2: Primary visual cortex | ET2: Primary visual cortex | EU2: Primary visual cortex | EV2: Primary visual cortex | EW2: Primary visual cortex | EX2: Primary visual cortex | EY2: Primary visual cortex | EZ2: Primary visual cortex | FA2: Primary visual cortex | FB2: Primary visual cortex | FC2: Primary visual cortex | FD2: Primary visual cortex | FE2: Primary visual cortex | FF2: Primary visual cortex
A3: Disease State | B3: normal | C3: normal | D3: normal | E3: normal | F3: normal | G3: normal | H3: normal | I3: normal | J3: normal | K3: normal | L3: normal | M3: normal | N3: normal | O3: normal | P3: normal | Q3: normal | R3: normal | S3: normal | T3: normal | U3: normal | V3: normal | W3: normal | X3: normal | Y3: normal | Z3: normal | AA3: normal | AB3: normal | AC3: normal | AD3: normal | AE3: normal | AF3: normal | AG3: normal | AH3: normal | AI3: normal | AJ3: normal | AK3: normal | AL3: normal | AM3: normal | AN3: normal | AO3: normal | AP3: normal | AQ3: normal | AR3: normal | AS3: normal | AT3: normal | AU3: normal | AV3: normal | AW3: normal | AX3: normal | AY3: normal | AZ3: normal | BA3: normal | BB3: normal | BC3: normal | BD3: normal | BE3: normal | BF3: normal | BG3: normal | BH3: normal | BI3: normal | BJ3: normal | BK3: normal | BL3: normal | BM3: normal | BN3: normal | BO3: normal | BP3: normal | BQ3: normal | BR3: normal | BS3: normal | BT3: normal | BU3: normal | BV3: normal | BW3: normal | BX3: Alzheimer's Disease | BY3: Alzheimer's Disease | BZ3: Alzheimer's Disease | CA3: Alzheimer's Disease | CB3: Alzheimer's Disease | CC3: Alzheimer's Disease | CD3: Alzheimer's Disease | CE3: Alzheimer's Disease | CF3: Alzheimer's Disease | CG3: Alzheimer's Disease | CH3: Alzheimer's Disease | CI3: Alzheimer's Disease | CJ3: Alzheimer's Disease | CK3: Alzheimer's Disease | CL3: Alzheimer's Disease | CM3: Alzheimer's Disease | CN3: Alzheimer's Disease | CO3: Alzheimer's Disease | CP3: Alzheimer's Disease | CQ3: Alzheimer's Disease | CR3: Alzheimer's Disease | CS3: Alzheimer's Disease | CT3: Alzheimer's Disease | CU3: Alzheimer's Disease | CV3: Alzheimer's Disease | CW3: Alzheimer's Disease | CX3: Alzheimer's Disease | CY3: Alzheimer's Disease | CZ3: Alzheimer's Disease | DA3: Alzheimer's Disease | DB3: Alzheimer's Disease | DC3: Alzheimer's Disease | DD3: Alzheimer's Disease | DE3: Alzheimer's Disease | DF3: Alzheimer's Disease | DG3: Alzheimer's Disease | DH3: Alzheimer's Disease | DI3: Alzheimer's Disease | DJ3: Alzheimer's Disease | DK3: Alzheimer's Disease | DL3: Alzheimer's Disease | DM3: Alzheimer's Disease | DN3: Alzheimer's Disease | DO3: Alzheimer's Disease | DP3: Alzheimer's Disease | DQ3: Alzheimer's Disease | DR3: Alzheimer's Disease | DS3: Alzheimer's Disease | DT3: Alzheimer's Disease | DU3: Alzheimer's Disease | DV3: Alzheimer's Disease | DW3: Alzheimer's Disease | DX3: Alzheimer's Disease | DY3: Alzheimer's Disease | DZ3: Alzheimer's Disease | EA3: Alzheimer's Disease | EB3: Alzheimer's Disease | EC3: Alzheimer's Disease | ED3: Alzheimer's Disease | EE3: Alzheimer's Disease | EF3: Alzheimer's Disease | EG3: Alzheimer's Disease | EH3: Alzheimer's Disease | EI3: Alzheimer's Disease | EJ3: Alzheimer's Disease | EK3: Alzheimer's Disease | EL3: Alzheimer's Disease | EM3: Alzheimer's Disease | EN3: Alzheimer's Disease | EO3: Alzheimer's Disease | EP3: Alzheimer's Disease | EQ3: Alzheimer's Disease | ER3: Alzheimer's Disease | ES3: Alzheimer's Disease | ET3: Alzheimer's Disease | EU3: Alzheimer's Disease | EV3: Alzheimer's Disease | EW3: Alzheimer's Disease | EX3: Alzheimer's Disease | EY3: Alzheimer's Disease | EZ3: Alzheimer's Disease | FA3: Alzheimer's Disease | FB3: Alzheimer's Disease | FC3: Alzheimer's Disease | FD3: Alzheimer's Disease | FE3: Alzheimer's Disease | FF3: Alzheimer's Disease
A4: Sex | B4: male | C4: male | D4: male | E4: male | F4: female | G4: male | H4: male | I4: male | J4: male | K4: female | L4: female | M4: male | N4: male | O4: male | P4: male | Q4: male | R4: female | S4: male | T4: male | U4: male | V4: male | W4: male | X4: female | Y4: female | Z4: male | AA4: male | AB4: male | AC4: male | AD4: female | AE4: male | AF4: male | AG4: male | AH4: male | AI4: female | AJ4: female | AK4: female | AL4: male | AM4: male | AN4: male | AO4: male | AP4: female | AQ4: male | AR4: male | AS4: male | AT4: male | AU4: male | AV4: female | AW4: female | AX4: female | AY4: male | AZ4: male | BA4: male | BB4: female | BC4: female | BD4: female | BE4: female | BF4: male | BG4: male | BH4: male | BI4: male | BJ4: male | BK4: male | BL4: male | BM4: male | BN4: male | BO4: male | BP4: male | BQ4: male | BR4: male | BS4: female | BT4: female | BU4: female | BV4: male | BW4: male | BX4: female | BY4: female | BZ4: female | CA4: male | CB4: female | CC4: female | CD4: female | CE4: male | CF4: male | CG4: male | CH4: male | CI4: female | CJ4: male | CK4: female | CL4: female | CM4: female | CN4: male | CO4: male | CP4: male | CQ4: male | CR4: female | CS4: male | CT4: male | CU4: male | CV4: male | CW4: male | CX4: male | CY4: female | CZ4: male | DA4: female | DB4: female | DC4: male | DD4: female | DE4: male | DF4: male | DG4: female | DH4: female | DI4: male | DJ4: male | DK4: male | DL4: male | DM4: female | DN4: female | DO4: male | DP4: male | DQ4: female | DR4: male | DS4: male | DT4: male | DU4: male | DV4: male | DW4: male | DX4: female | DY4: male | DZ4: female | EA4: female | EB4: female | EC4: female | ED4: female | EE4: female | EF4: male | EG4: male | EH4: female | EI4: male | EJ4: male | EK4: male | EL4: male | EM4: female | EN4: female | EO4: male | EP4: male | EQ4: male | ER4: male | ES4: male | ET4: female | EU4: male | EV4: female | EW4: female | EX4: female | EY4: female | EZ4: male | FA4: male | FB4: female | FC4: male | FD4: male | FE4: male | FF4: female
A5: Age | B5: 63 | C5: 85 | D5: 80 | E5: 80 | F5: 102 | G5: 79 | H5: 76 | I5: 83 | J5: 79 | K5: 88 | L5: 82 | M5: 69 | N5: 78 | O5: 85 days | P5: 80 | Q5: 80 | R5: 102 | S5: 63 | T5: 79 | U5: 76 | V5: 83 | W5: 79 | X5: 88 | Y5: 73 | Z5: 69 | AA5: 78 | AB5: 85 | AC5: 80 | AD5: 102 | AE5: 63 | AF5: 79 | AG5: 83 | AH5: 79 | AI5: 88 | AJ5: 82 | AK5: 73 | AL5: 69 | AM5: 78 | AN5: 85 | AO5: 80 | AP5: 102 | AQ5: 63 | AR5: 79 | AS5: 76 | AT5: 83 | AU5: 79 | AV5: 88 | AW5: 82 | AX5: 73 | AY5: 69 | AZ5: 78 | BA5: 79 | BB5: 88 | BC5: 82 | BD5: 73 | BE5: 102 | BF5: 63 | BG5: 79 | BH5: 76 | BI5: 83 | BJ5: 69 | BK5: 78 | BL5: 85 | BM5: 80 | BN5: 63 | BO5: 79 | BP5: 76 | BQ5: 83 | BR5: 79 | BS5: 88 | BT5: 82 | BU5: 73 | BV5: 69 | BW5: 78 | BX5: 82 | BY5: 86 | BZ5: 93 | CA5: 84 | CB5: 79 | CC5: 78 | CD5: 91 | CE5: 86 | CF5: 97 | CG5: 80 | CH5: 72 | CI5: 73 | CJ5: 75 | CK5: 70 | CL5: 85 | CM5: 77 | CN5: 79 | CO5: 88 | CP5: 81 | CQ5: 78 | CR5: 73 | CS5: 81 | CT5: 72 | CU5: 75 | CV5: 78 | CW5: 75 | CX5: 87 | CY5: >90 | CZ5: 68 | DA5: 81 | DB5: 85 | DC5: 79 | DD5: 82 | DE5: 88 | DF5: 72 | DG5: 80 | DH5: 73 | DI5: 81 | DJ5: 78 | DK5: 75 | DL5: 68 | DM5: 70.8 | DN5: 85 | DO5: 79 | DP5: 88 | DQ5: 73 | DR5: 81 | DS5: 72 | DT5: 75 | DU5: 78 | DV5: 75 | DW5: 87 | DX5: 95 | DY5: 68 | DZ5: 95 | EA5: 70.8 | EB5: 85 | EC5: 83 | ED5: 77 | EE5: 83 | EF5: 68 | EG5: 79 | EH5: 82 | EI5: 80 | EJ5: 88 | EK5: 74 | EL5: 72 | EM5: 80 | EN5: 73 | EO5: 81 | EP5: 75 | EQ5: 78 | ER5: 75 | ES5: 87 | ET5: 95 | EU5: 68 | EV5: >90 | EW5: 81.3 | EX5: 81 | EY5: 85 | EZ5: 79 | FA5: 79 | FB5: 82 | FC5: 88 | FD5: 74 | FE5: 72 | FF5: 80
A6: APOE | B6: 639.17982 | C6: 639.17982 | D6: 639.17982 | E6: 639.17982 | F6: 639.17982 | G6: 639.17982 | H6: 639.17982 | I6: 639.17982 | J6: 639.17982 | K6: 639.17982 | L6: 639.17982 | M6: 639.17982 | N6: 639.17982 | O6: 639.17982 | P6: 639.17982 | Q6: 639.17982 | R6: 639.17982 | S6: 639.17982 | T6: 639.17982 | U6: 639.17982 | V6: 639.17982 | W6: 639.17982 | X6: 639.17982 | Y6: 639.17982 | Z6: 639.17982 | AA6: 639.17982 | AB6: 639.17982 | AC6: 639.17982 | AD6: 639.17982 | AE6: 639.17982 | AF6: 639.17982 | AG6: 639.17982 | AH6: 639.17982 | AI6: 639.17982 | AJ6: 639.17982 | AK6: 639.17982 | AL6: 639.17982 | AM6: 639.17982 | AN6: 639.17982 | AO6: 639.17982 | AP6: 639.17982 | AQ6: 639.17982 | AR6: 639.17982 | AS6: 639.17982 | AT6: 639.17982 | AU6: 639.17982 | AV6: 639.17982 | AW6: 639.17982 | AX6: 639.17982 | AY6: 639.17982 | AZ6: 639.17982 | BA6: 639.17982 | BB6: 639.17982 | BC6: 639.17982 | BD6: 639.17982 | BE6: 639.17982 | BF6: 639.17982 | BG6: 639.17982 | BH6: 639.17982 | BI6: 639.17982 | BJ6: 639.17982 | BK6: 639.17982 | BL6: 639.17982 | BM6: 639.17982 | BN6: 639.17982 | BO6: 639.17982 | BP6: 639.17982 | BQ6: 639.17982 | BR6: 639.17982 | BS6: 639.17982 | BT6: 639.17982 | BU6: 639.17982 | BV6: 639.17982 | BW6: 639.17982 | BX6: 639.17982 | BY6: 639.17982 | BZ6: 639.17982 | CA6: 639.17982 | CB6: 639.17982 | CC6: 639.17982 | CD6: 639.17982 | CE6: 639.17982 | CF6: 639.17982 | CG6: 639.17982 | CH6: 639.17982 | CI6: 639.17982 | CJ6: 639.17982 | CK6: 639.17982 | CL6: 639.17982 | CM6: 639.17982 | CN6: 639.17982 | CO6: 639.17982 | CP6: 639.17982 | CQ6: 639.17982 | CR6: 639.17982 | CS6: 639.17982 | CT6: 639.17982 | CU6: 639.17982 | CV6: 639.17982 | CW6: 639.17982 | CX6: 639.17982 | CY6: 639.17982 | CZ6: 639.17982 | DA6: 639.17982 | DB6: 639.17982 | DC6: 639.17982 | DD6: 639.17982 | DE6: 639.17982 | DF6: 639.17982 | DG6: 639.17982 | DH6: 639.17982 | DI6: 639.17982 | DJ6: 639.17982 | DK6: 639.17982 | DL6: 639.17982 | DM6: 639.17982 | DN6: 639.17982 | DO6: 639.17982 | DP6: 639.17982 | DQ6: 639.17982 | DR6: 639.17982 | DS6: 639.17982 | DT6: 639.17982 | DU6: 639.17982 | DV6: 639.17982 | DW6: 639.17982 | DX6: 639.17982 | DY6: 639.17982 | DZ6: 639.17982 | EA6: 639.17982 | EB6: 639.17982 | EC6: 639.17982 | ED6: 639.17982 | EE6: 639.17982 | EF6: 639.17982 | EG6: 639.17982 | EH6: 639.17982 | EI6: 639.17982 | EJ6: 639.17982 | EK6: 639.17982 | EL6: 639.17982 | EM6: 639.17982 | EN6: 639.17982 | EO6: 639.17982 | EP6: 639.17982 | EQ6: 639.17982 | ER6: 639.17982 | ES6: 639.17982 | ET6: 639.17982 | EU6: 639.17982 | EV6: 639.17982 | EW6: 639.17982 | EX6: 639.17982 | EY6: 639.17982 | EZ6: 639.17982 | FA6: 639.17982 | FB6: 639.17982 | FC6: 639.17982 | FD6: 639.17982 | FE6: 639.17982 | FF6: 639.17982
A7: APP | B7: 7747.8266 | C7: 7747.8266 | D7: 7747.8266 | E7: 7747.8266 | F7: 7747.8266 | G7: 7747.8266 | H7: 7747.8266 | I7: 7747.8266 | J7: 7747.8266 | K7: 7747.8266 | L7: 7747.8266 | M7: 7747.8266 | N7: 7747.8266 | O7: 7747.8266 | P7: 7747.8266 | Q7: 7747.8266 | R7: 7747.8266 | S7: 7747.8266 | T7: 7747.8266 | U7: 7747.8266 | V7: 7747.8266 | W7: 7747.8266 | X7: 7747.8266 | Y7: 7747.8266 | Z7: 7747.8266 | AA7: 7747.8266 | AB7: 7747.8266 | AC7: 7747.8266 | AD7: 7747.8266 | AE7: 7747.8266 | AF7: 7747.8266 | AG7: 7747.8266 | AH7: 7747.8266 | AI7: 7747.8266 | AJ7: 7747.8266 | AK7: 7747.8266 | AL7: 7747.8266 | AM7: 7747.8266 | AN7: 7747.8266 | AO7: 7747.8266 | AP7: 7747.8266 | AQ7: 7747.8266 | AR7: 7747.8266 | AS7: 7747.8266 | AT7: 7747.8266 | AU7: 7747.8266 | AV7: 7747.8266 | AW7: 7747.8266 | AX7: 7747.8266 | AY7: 7747.8266 | AZ7: 7747.8266 | BA7: 7747.8266 | BB7: 7747.8266 | BC7: 7747.8266 | BD7: 7747.8266 | BE7: 7747.8266 | BF7: 7747.8266 | BG7: 7747.8266 | BH7: 7747.8266 | BI7: 7747.8266 | BJ7: 7747.8266 | BK7: 7747.8266 | BL7: 7747.8266 | BM7: 7747.8266 | BN7: 7747.8266 | BO7: 7747.8266 | BP7: 7747.8266 | BQ7: 7747.8266 | BR7: 7747.8266 | BS7: 7747.8266 | BT7: 7747.8266 | BU7: 7747.8266 | BV7: 7747.8266 | BW7: 7747.8266 | BX7: 7747.8266 | BY7: 7747.8266 | BZ7: 7747.8266 | CA7: 7747.8266 | CB7: 7747.8266 | CC7: 7747.8266 | CD7: 7747.8266 | CE7: 7747.8266 | CF7: 7747.8266 | CG7: 7747.8266 | CH7: 7747.8266 | CI7: 7747.8266 | CJ7: 7747.8266 | CK7: 7747.8266 | CL7: 7747.8266 | CM7: 7747.8266 | CN7: 7747.8266 | CO7: 7747.8266 | CP7: 7747.8266 | CQ7: 7747.8266 | CR7: 7747.8266 | CS7: 7747.8266 | CT7: 7747.8266 | CU7: 7747.8266 | CV7: 7747.8266 | CW7: 7747.8266 | CX7: 7747.8266 | CY7: 7747.8266 | CZ7: 7747.8266 | DA7: 7747.8266 | DB7: 7747.8266 | DC7: 7747.8266 | DD7: 7747.8266 | DE7: 7747.8266 | DF7: 7747.8266 | DG7: 7747.8266 | DH7: 7747.8266 | DI7: 7747.8266 | DJ7: 7747.8266 | DK7: 7747.8266 | DL7: 7747.8266 | DM7: 7747.8266 | DN7: 7747.8266 | DO7: 7747.8266 | DP7: 7747.8266 | DQ7: 7747.8266 | DR7: 7747.8266 | DS7: 7747.8266 | DT7: 7747.8266 | DU7: 7747.8266 | DV7: 7747.8266 | DW7: 7747.8266 | DX7: 7747.8266 | DY7: 7747.8266 | DZ7: 7747.8266 | EA7: 7747.8266 | EB7: 7747.8266 | EC7: 7747.8266 | ED7: 7747.8266 | EE7: 7747.8266 | EF7: 7747.8266 | EG7: 7747.8266 | EH7: 7747.8266 | EI7: 7747.8266 | EJ7: 7747.8266 | EK7: 7747.8266 | EL7: 7747.8266 | EM7: 7747.8266 | EN7: 7747.8266 | EO7: 7747.8266 | EP7: 7747.8266 | EQ7: 7747.8266 | ER7: 7747.8266 | ES7: 7747.8266 | ET7: 7747.8266 | EU7: 7747.8266 | EV7: 7747.8266 | EW7: 7747.8266 | EX7: 7747.8266 | EY7: 7747.8266 | EZ7: 7747.8266 | FA7: 7747.8266 | FB7: 7747.8266 | FC7: 7747.8266 | FD7: 7747.8266 | FE7: 7747.8266 | FF7: 7747.8266
A8: PSEN1 | B8: 16.20981 | C8: 16.20981 | D8: 16.20981 | E8: 16.20981 | F8: 16.20981 | G8: 16.20981 | H8: 16.20981 | I8: 16.20981 | J8: 16.20981 | K8: 16.20981 | L8: 16.20981 | M8: 16.20981 | N8: 16.20981 | O8: 16.20981 | P8: 16.20981 | Q8: 16.20981 | R8: 16.20981 | S8: 16.20981 | T8: 16.20981 | U8: 16.20981 | V8: 16.20981 | W8: 16.20981 | X8: 16.20981 | Y8: 16.20981 | Z8: 16.20981 | AA8: 16.20981 | AB8: 16.20981 | AC8: 16.20981 | AD8: 16.20981 | AE8: 16.20981 | AF8: 16.20981 | AG8: 16.20981 | AH8: 16.20981 | AI8: 16.20981 | AJ8: 16.20981 | AK8: 16.20981 | AL8: 16.20981 | AM8: 16.20981 | AN8: 16.20981 | AO8: 16.20981 | AP8: 16.20981 | AQ8: 16.20981 | AR8: 16.20981 | AS8: 16.20981 | AT8: 16.20981 | AU8: 16.20981 | AV8: 16.20981 | AW8: 16.20981 | AX8: 16.20981 | AY8: 16.20981 | AZ8: 16.20981 | BA8: 16.20981 | BB8: 16.20981 | BC8: 16.20981 | BD8: 16.20981 | BE8: 16.20981 | BF8: 16.20981 | BG8: 16.20981 | BH8: 16.20981 | BI8: 16.20981 | BJ8: 16.20981 | BK8: 16.20981 | BL8: 16.20981 | BM8: 16.20981 | BN8: 16.20981 | BO8: 16.20981 | BP8: 16.20981 | BQ8: 16.20981 | BR8: 16.20981 | BS8: 16.20981 | BT8: 16.20981 | BU8: 16.20981 | BV8: 16.20981 | BW8: 16.20981 | BX8: 16.20981 | BY8: 16.20981 | BZ8: 16.20981 | CA8: 16.20981 | CB8: 16.20981 | CC8: 16.20981 | CD8: 16.20981 | CE8: 16.20981 | CF8: 16.20981 | CG8: 16.20981 | CH8: 16.20981 | CI8: 16.20981 | CJ8: 16.20981 | CK8: 16.20981 | CL8: 16.20981 | CM8: 16.20981 | CN8: 16.20981 | CO8: 16.20981 | CP8: 16.20981 | CQ8: 16.20981 | CR8: 16.20981 | CS8: 16.20981 | CT8: 16.20981 | CU8: 16.20981 | CV8: 16.20981 | CW8: 16.20981 | CX8: 16.20981 | CY8: 16.20981 | CZ8: 16.20981 | DA8: 16.20981 | DB8: 16.20981 | DC8: 16.20981 | DD8: 16.20981 | DE8: 16.20981 | DF8: 16.20981 | DG8: 16.20981 | DH8: 16.20981 | DI8: 16.20981 | DJ8: 16.20981 | DK8: 16.20981 | DL8: 16.20981 | DM8: 16.20981 | DN8: 16.20981 | DO8: 16.20981 | DP8: 16.20981 | DQ8: 16.20981 | DR8: 16.20981 | DS8: 16.20981 | DT8: 16.20981 | DU8: 16.20981 | DV8: 16.20981 | DW8: 16.20981 | DX8: 16.20981 | DY8: 16.20981 | DZ8: 16.20981 | EA8: 16.20981 | EB8: 16.20981 | EC8: 16.20981 | ED8: 16.20981 | EE8: 16.20981 | EF8: 16.20981 | EG8: 16.20981 | EH8: 16.20981 | EI8: 16.20981 | EJ8: 16.20981 | EK8: 16.20981 | EL8: 16.20981 | EM8: 16.20981 | EN8: 16.20981 | EO8: 16.20981 | EP8: 16.20981 | EQ8: 16.20981 | ER8: 16.20981 | ES8: 16.20981 | ET8: 16.20981 | EU8: 16.20981 | EV8: 16.20981 | EW8: 16.20981 | EX8: 16.20981 | EY8: 16.20981 | EZ8: 16.20981 | FA8: 16.20981 | FB8: 16.20981 | FC8: 16.20981 | FD8: 16.20981 | FE8: 16.20981 | FF8: 16.20981
A9: PSEN2 | B9: 261.95363 | C9: 261.95363 | D9: 261.95363 | E9: 261.95363 | F9: 261.95363 | G9: 261.95363 | H9: 261.95363 | I9: 261.95363 | J9: 261.95363 | K9: 261.95363 | L9: 261.95363 | M9: 261.95363 | N9: 261.95363 | O9: 261.95363 | P9: 261.95363 | Q9: 261.95363 | R9: 261.95363 | S9: 261.95363 | T9: 261.95363 | U9: 261.95363 | V9: 261.95363 | W9: 261.95363 | X9: 261.95363 | Y9: 261.95363 | Z9: 261.95363 | AA9: 261.95363 | AB9: 261.95363 | AC9: 261.95363 | AD9: 261.95363 | AE9: 261.95363 | AF9: 261.95363 | AG9: 261.95363 | AH9: 261.95363 | AI9: 261.95363 | AJ9: 261.95363 | AK9: 261.95363 | AL9: 261.95363 | AM9: 261.95363 | AN9: 261.95363 | AO9: 261.95363 | AP9: 261.95363 | AQ9: 261.95363 | AR9: 261.95363 | AS9: 261.95363 | AT9: 261.95363 | AU9: 261.95363 | AV9: 261.95363 | AW9: 261.95363 | AX9: 261.95363 | AY9: 261.95363 | AZ9: 261.95363 | BA9: 261.95363 | BB9: 261.95363 | BC9: 261.95363 | BD9: 261.95363 | BE9: 261.95363 | BF9: 261.95363 | BG9: 261.95363 | BH9: 261.95363 | BI9: 261.95363 | BJ9: 261.95363 | BK9: 261.95363 | BL9: 261.95363 | BM9: 261.95363 | BN9: 261.95363 | BO9: 261.95363 | BP9: 261.95363 | BQ9: 261.95363 | BR9: 261.95363 | BS9: 261.95363 | BT9: 261.95363 | BU9: 261.95363 | BV9: 261.95363 | BW9: 261.95363 | BX9: 261.95363 | BY9: 261.95363 | BZ9: 261.95363 | CA9: 261.95363 | CB9: 261.95363 | CC9: 261.95363 | CD9: 261.95363 | CE9: 261.95363 | CF9: 261.95363 | CG9: 261.95363 | CH9: 261.95363 | CI9: 261.95363 | CJ9: 261.95363 | CK9: 261.95363 | CL9: 261.95363 | CM9: 261.95363 | CN9: 261.95363 | CO9: 261.95363 | CP9: 261.95363 | CQ9: 261.95363 | CR9: 261.95363 | CS9: 261.95363 | CT9: 261.95363 | CU9: 261.95363 | CV9: 261.95363 | CW9: 261.95363 | CX9: 261.95363 | CY9: 261.95363 | CZ9: 261.95363 | DA9: 261.95363 | DB9: 261.95363 | DC9: 261.95363 | DD9: 261.95363 | DE9: 261.95363 | DF9: 261.95363 | DG9: 261.95363 | DH9: 261.95363 | DI9: 261.95363 | DJ9: 261.95363 | DK9: 261.95363 | DL9: 261.95363 | DM9: 261.95363 | DN9: 261.95363 | DO9: 261.95363 | DP9: 261.95363 | DQ9: 261.95363 | DR9: 261.95363 | DS9: 261.95363 | DT9: 261.95363 | DU9: 261.95363 | DV9: 261.95363 | DW9: 261.95363 | DX9: 261.95363 | DY9: 261.95363 | DZ9: 261.95363 | EA9: 261.95363 | EB9: 261.95363 | EC9: 261.95363 | ED9: 261.95363 | EE9: 261.95363 | EF9: 261.95363 | EG9: 261.95363 | EH9: 261.95363 | EI9: 261.95363 | EJ9: 261.95363 | EK9: 261.95363 | EL9: 261.95363 | EM9: 261.95363 | EN9: 261.95363 | EO9: 261.95363 | EP9: 261.95363 | EQ9: 261.95363 | ER9: 261.95363 | ES9: 261.95363 | ET9: 261.95363 | EU9: 261.95363 | EV9: 261.95363 | EW9: 261.95363 | EX9: 261.95363 | EY9: 261.95363 | EZ9: 261.95363 | FA9: 261.95363 | FB9: 261.95363 | FC9: 261.95363 | FD9: 261.95363 | FE9: 261.95363 | FF9: 261.95363

Sheet SD
A1: ID_REF | B1: GSM119615 | C1: GSM119616 | D1: GSM119617 | E1: GSM119618 | F1: GSM119619 | G1: GSM119620 | H1: GSM119621 | I1: GSM119622 | J1: GSM119623 | K1: GSM119624 | L1: GSM119625 | M1: GSM119626 | N1: GSM119627 | O1: GSM119628 | P1: GSM119629 | Q1: GSM119630 | R1: GSM119631 | S1: GSM119632 | T1: GSM119633 | U1: GSM119634 | V1: GSM119635 | W1: GSM119636 | X1: GSM119637 | Y1: GSM119638 | Z1: GSM119639 | AA1: GSM119640 | AB1: GSM119641 | AC1: GSM119642 | AD1: GSM119643 | AE1: GSM119644 | AF1: GSM119645 | AG1: GSM119646 | AH1: GSM119647 | AI1: GSM119648 | AJ1: GSM119649 | AK1: GSM119650 | AL1: GSM119651 | AM1: GSM119652 | AN1: GSM119653 | AO1: GSM119654 | AP1: GSM119655 | AQ1: GSM119656 | AR1: GSM119657 | AS1: GSM119658 | AT1: GSM119659 | AU1: GSM119660 | AV1: GSM119661 | AW1: GSM119662 | AX1: GSM119663 | AY1: GSM119664 | AZ1: GSM119665 | BA1: GSM119666 | BB1: GSM119667 | BC1: GSM119668 | BD1: GSM119669 | BE1: GSM119670 | BF1: GSM119671 | BG1: GSM119672 | BH1: GSM119673 | BI1: GSM119674 | BJ1: GSM119675 | BK1: GSM119676 | BL1: GSM119677 | BM1: GSM119678 | BN1: GSM119679 | BO1: GSM119680 | BP1: GSM119681 | BQ1: GSM119682 | BR1: GSM119683 | BS1: GSM119684 | BT1: GSM119685 | BU1: GSM119686 | BV1: GSM119687 | BW1: GSM119688 | BX1: GSM238763 | BY1: GSM238790 | BZ1: GSM238791 | CA1: GSM238792 | CB1: GSM238793 | CC1: GSM238794 | CD1: GSM238795 | CE1: GSM238796 | CF1: GSM238797 | CG1: GSM238798 | CH1: GSM238799 | CI1: GSM238800 | CJ1: GSM238801 | CK1: GSM238802 | CL1: GSM238803 | CM1: GSM238804 | CN1: GSM238805 | CO1: GSM238806 | CP1: GSM238807 | CQ1: GSM238808 | CR1: GSM238809 | CS1: GSM238810 | CT1: GSM238811 | CU1: GSM238812 | CV1: GSM238813 | CW1: GSM238815 | CX1: GSM238816 | CY1: GSM238817 | CZ1: GSM238818 | DA1: GSM238819 | DB1: GSM238820 | DC1: GSM238821 | DD1: GSM238822 | DE1: GSM238823 | DF1: GSM238824 | DG1: GSM238825 | DH1: GSM238826 | DI1: GSM238827 | DJ1: GSM238834 | DK1: GSM238835 | DL1: GSM238837 | DM1: GSM238838 | DN1: GSM238839 | DO1: GSM238840 | DP1: GSM238841 | DQ1: GSM238842 | DR1: GSM238843 | DS1: GSM238844 | DT1: GSM238845 | DU1: GSM238846 | DV1: GSM238847 | DW1: GSM238848 | DX1: GSM238851 | DY1: GSM238854 | DZ1: GSM238855 | EA1: GSM238856 | EB1: GSM238857 | EC1: GSM238858 | ED1: GSM238860 | EE1: GSM238861 | EF1: GSM238862 | EG1: GSM238863 | EH1: GSM238864 | EI1: GSM238865 | EJ1: GSM238867 | EK1: GSM238868 | EL1: GSM238870 | EM1: GSM238871 | EN1: GSM238872 | EO1: GSM238873 | EP1: GSM238874 | EQ1: GSM238875 | ER1: GSM238877 | ES1: GSM238941 | ET1: GSM238942 | EU1: GSM238943 | EV1: GSM238944 | EW1: GSM238945 | EX1: GSM238946 | EY1: GSM238947 | EZ1: GSM238948 | FA1: GSM238949 | FB1: GSM238951 | FC1: GSM238952 | FD1: GSM238953 | FE1: GSM238955 | FF1: GSM238963
A2: BrainRegion | B2: Entorhinal Cortex | C2: Entorhinal Cortex | D2: Entorhinal Cortex | E2: Entorhinal Cortex | F2: Entorhinal Cortex | G2: Entorhinal Cortex | H2: Entorhinal Cortex | I2: Entorhinal Cortex | J2: Entorhinal Cortex | K2: Entorhinal Cortex | L2: Entorhinal Cortex | M2: Entorhinal Cortex | N2: Entorhinal Cortex | O2: hippocampus | P2: hippocampus | Q2: hippocampus | R2: hippocampus | S2: hippocampus | T2: hippocampus | U2: hippocampus | V2: hippocampus | W2: hippocampus | X2: hippocampus | Y2: hippocampus | Z2: hippocampus | AA2: hippocampus | AB2: Medial Temporal Gyrus | AC2: Medial Temporal Gyrus | AD2: Medial Temporal Gyrus | AE2: Medial Temporal Gyrus | AF2: Medial Temporal Gyrus | AG2: Medial Temporal Gyrus | AH2: Medial Temporal Gyrus | AI2: Medial Temporal Gyrus | AJ2: Medial Temporal Gyrus | AK2: Medial Temporal Gyrus | AL2: Medial Temporal Gyrus | AM2: Medial Temporal Gyrus | AN2: Posterior Cingulate | AO2: Posterior Cingulate | AP2: Posterior Cingulate | AQ2: Posterior Cingulate | AR2: Posterior Cingulate | AS2: Posterior Cingulate | AT2: Posterior cingulate | AU2: Posterior cingulate | AV2: Posterior cingulate | AW2: Posterior cingulate | AX2: Posterior cingulate | AY2: Posterior cingulate | AZ2: Posterior cingulate | BA2: Superior Frontal Gyrus | BB2: Superior Frontal Gyrus | BC2: Superior Frontal Gyrus | BD2: Superior Frontal Gyrus | BE2: Superior Frontal Gyrus | BF2: Superior Frontal Gyrus | BG2: Superior Frontal Gyrus | BH2: Superior Frontal Gyrus | BI2: Superior Frontal Gyrus | BJ2: Superior Frontal Gyrus | BK2: Superior Frontal Gyrus | BL2: Primary Visual Cortex | BM2: Primary Visual Cortex | BN2: Primary Visual Cortex | BO2: Primary Visual Cortex | BP2: Primary Visual Cortex | BQ2: Primary Visual Cortex | BR2: Primary Visual Cortex | BS2: Primary Visual Cortex | BT2: Primary Visual Cortex | BU2: Primary Visual Cortex | BV2: Primary Visual Cortex | BW2: Primary Visual Cortex | BX2: Entorhinal Cortex | BY2: Entorhinal Cortex | BZ2: Entorhinal Cortex | CA2: Entorhinal Cortex | CB2: Entorhinal Cortex | CC2: Entorhinal Cortex | CD2: Entorhinal Cortex | CE2: Entorhinal Cortex | CF2: Entorhinal Cortex | CG2: Entorhinal Cortex | CH2: Hippocampus | CI2: Hippocampus | CJ2: Hippocampus | CK2: Hippocampus | CL2: Hippocampus | CM2: Hippocampus | CN2: Hippocampus | CO2: Hippocampus | CP2: Hippocampus | CQ2: Hippocampus | CR2: Middle temporal gyrus | CS2: Middle temporal gyrus | CT2: Middle temporal gyrus | CU2: Middle temporal gyrus | CV2: Middle temporal gyrus | CW2: Middle temporal gyrus | CX2: Middle temporal gyrus | CY2: Middle temporal gyrus | CZ2: Middle temporal gyrus | DA2: Middle temporal gyrus | DB2: Middle temporal gyrus | DC2: Middle temporal gyrus | DD2: Middle temporal gyrus | DE2: Middle temporal gyrus | DF2: Middle temporal gyrus | DG2: Middle temporal gyrus | DH2: Posterior cingulate cortex | DI2: Posterior cingulate cortex | DJ2: Posterior cingulate cortex | DK2: Posterior cingulate cortex | DL2: Posterior cingulate cortex | DM2: Posterior cingulate cortex | DN2: Posterior cingulate cortex | DO2: Posterior cingulate cortex | DP2: Posterior cingulate cortex | DQ2: Superior frontal gyrus | DR2: Superior frontal gyrus | DS2: Superior frontal gyrus | DT2: Superior frontal gyrus | DU2: Superior frontal gyrus | DV2: Superior frontal gyrus | DW2: Superior frontal gyrus | DX2: Superior frontal gyrus | DY2: Superior frontal gyrus | DZ2: Superior frontal gyrus | EA2: Superior frontal gyrus | EB2: Superior frontal gyrus | EC2: Superior frontal gyrus | ED2: Superior frontal gyrus | EE2: Superior frontal gyrus | EF2: Superior frontal gyrus | EG2: Superior frontal gyrus | EH2: Superior frontal gyrus | EI2: Superior frontal gyrus | EJ2: Superior frontal gyrus | EK2: Superior frontal gyrus | EL2: Superior frontal gyrus | EM2: Superior frontal gyrus | EN2: Primary visual cortex | EO2: Primary visual cortex | EP2: Primary visual cortex | EQ2: Primary visual cortex | ER2: Primary visual cortex | ES2: Primary visual cortex | ET2: Primary visual cortex | EU2: Primary visual cortex | EV2: Primary visual cortex | EW2: Primary visual cortex | EX2: Primary visual cortex | EY2: Primary visual cortex | EZ2: Primary visual cortex | FA2: Primary visual cortex | FB2: Primary visual cortex | FC2: Primary visual cortex | FD2: Primary visual cortex | FE2: Primary visual cortex | FF2: Primary visual cortex
A3: Disease State | B3: normal | C3: normal | D3: normal | E3: normal | F3: normal | G3: normal | H3: normal | I3: normal | J3: normal | K3: normal | L3: normal | M3: normal | N3: normal | O3: normal | P3: normal | Q3: normal | R3: normal | S3: normal | T3: normal | U3: normal | V3: normal | W3: normal | X3: normal | Y3: normal | Z3: normal | AA3: normal | AB3: normal | AC3: normal | AD3: normal | AE3: normal | AF3: normal | AG3: normal | AH3: normal | AI3: normal | AJ3: normal | AK3: normal | AL3: normal | AM3: normal | AN3: normal | AO3: normal | AP3: normal | AQ3: normal | AR3: normal | AS3: normal | AT3: normal | AU3: normal | AV3: normal | AW3: normal | AX3: normal | AY3: normal | AZ3: normal | BA3: normal | BB3: normal | BC3: normal | BD3: normal | BE3: normal | BF3: normal | BG3: normal | BH3: normal | BI3: normal | BJ3: normal | BK3: normal | BL3: normal | BM3: normal | BN3: normal | BO3: normal | BP3: normal | BQ3: normal | BR3: normal | BS3: normal | BT3: normal | BU3: normal | BV3: normal | BW3: normal | BX3: Alzheimer's Disease | BY3: Alzheimer's Disease | BZ3: Alzheimer's Disease | CA3: Alzheimer's Disease | CB3: Alzheimer's Disease | CC3: Alzheimer's Disease | CD3: Alzheimer's Disease | CE3: Alzheimer's Disease | CF3: Alzheimer's Disease | CG3: Alzheimer's Disease | CH3: Alzheimer's Disease | CI3: Alzheimer's Disease | CJ3: Alzheimer's Disease | CK3: Alzheimer's Disease | CL3: Alzheimer's Disease | CM3: Alzheimer's Disease | CN3: Alzheimer's Disease | CO3: Alzheimer's Disease | CP3: Alzheimer's Disease | CQ3: Alzheimer's Disease | CR3: Alzheimer's Disease | CS3: Alzheimer's Disease | CT3: Alzheimer's Disease | CU3: Alzheimer's Disease | CV3: Alzheimer's Disease | CW3: Alzheimer's Disease | CX3: Alzheimer's Disease | CY3: Alzheimer's Disease | CZ3: Alzheimer's Disease | DA3: Alzheimer's Disease | DB3: Alzheimer's Disease | DC3: Alzheimer's Disease | DD3: Alzheimer's Disease | DE3: Alzheimer's Disease | DF3: Alzheimer's Disease | DG3: Alzheimer's Disease | DH3: Alzheimer's Disease | DI3: Alzheimer's Disease | DJ3: Alzheimer's Disease | DK3: Alzheimer's Disease | DL3: Alzheimer's Disease | DM3: Alzheimer's Disease | DN3: Alzheimer's Disease | DO3: Alzheimer's Disease | DP3: Alzheimer's Disease | DQ3: Alzheimer's Disease | DR3: Alzheimer's Disease | DS3: Alzheimer's Disease | DT3: Alzheimer's Disease | DU3: Alzheimer's Disease | DV3: Alzheimer's Disease | DW3: Alzheimer's Disease | DX3: Alzheimer's Disease | DY3: Alzheimer's Disease | DZ3: Alzheimer's Disease | EA3: Alzheimer's Disease | EB3: Alzheimer's Disease | EC3: Alzheimer's Disease | ED3: Alzheimer's Disease | EE3: Alzheimer's Disease | EF3: Alzheimer's Disease | EG3: Alzheimer's Disease | EH3: Alzheimer's Disease | EI3: Alzheimer's Disease | EJ3: Alzheimer's Disease | EK3: Alzheimer's Disease | EL3: Alzheimer's Disease | EM3: Alzheimer's Disease | EN3: Alzheimer's Disease | EO3: Alzheimer's Disease | EP3: Alzheimer's Disease | EQ3: Alzheimer's Disease | ER3: Alzheimer's Disease | ES3: Alzheimer's Disease | ET3: Alzheimer's Disease | EU3: Alzheimer's Disease | EV3: Alzheimer's Disease | EW3: Alzheimer's Disease | EX3: Alzheimer's Disease | EY3: Alzheimer's Disease | EZ3: Alzheimer's Disease | FA3: Alzheimer's Disease | FB3: Alzheimer's Disease | FC3: Alzheimer's Disease | FD3: Alzheimer's Disease | FE3: Alzheimer's Disease | FF3: Alzheimer's Disease
A4: Sex | B4: male | C4: male | D4: male | E4: male | F4: female | G4: male | H4: male | I4: male | J4: male | K4: female | L4: female | M4: male | N4: male | O4: male | P4: male | Q4: male | R4: female | S4: male | T4: male | U4: male | V4: male | W4: male | X4: female | Y4: female | Z4: male | AA4: male | AB4: male | AC4: male | AD4: female | AE4: male | AF4: male | AG4: male | AH4: male | AI4: female | AJ4: female | AK4: female | AL4: male | AM4: male | AN4: male | AO4: male | AP4: female | AQ4: male | AR4: male | AS4: male | AT4: male | AU4: male | AV4: female | AW4: female | AX4: female | AY4: male | AZ4: male | BA4: male | BB4: female | BC4: female | BD4: female | BE4: female | BF4: male | BG4: male | BH4: male | BI4: male | BJ4: male | BK4: male | BL4: male | BM4: male | BN4: male | BO4: male | BP4: male | BQ4: male | BR4: male | BS4: female | BT4: female | BU4: female | BV4: male | BW4: male | BX4: female | BY4: female | BZ4: female | CA4: male | CB4: female | CC4: female | CD4: female | CE4: male | CF4: male | CG4: male | CH4: male | CI4: female | CJ4: male | CK4: female | CL4: female | CM4: female | CN4: male | CO4: male | CP4: male | CQ4: male | CR4: female | CS4: male | CT4: male | CU4: male | CV4: male | CW4: male | CX4: male | CY4: female | CZ4: male | DA4: female | DB4: female | DC4: male | DD4: female | DE4: male | DF4: male | DG4: female | DH4: female | DI4: male | DJ4: male | DK4: male | DL4: male | DM4: female | DN4: female | DO4: male | DP4: male | DQ4: female | DR4: male | DS4: male | DT4: male | DU4: male | DV4: male | DW4: male | DX4: female | DY4: male | DZ4: female | EA4: female | EB4: female | EC4: female | ED4: female | EE4: female | EF4: male | EG4: male | EH4: female | EI4: male | EJ4: male | EK4: male | EL4: male | EM4: female | EN4: female | EO4: male | EP4: male | EQ4: male | ER4: male | ES4: male | ET4: female | EU4: male | EV4: female | EW4: female | EX4: female | EY4: female | EZ4: male | FA4: male | FB4: female | FC4: male | FD4: male | FE4: male | FF4: female
A5: Age | B5: 63 | C5: 85 | D5: 80 | E5: 80 | F5: 102 | G5: 79 | H5: 76 | I5: 83 | J5: 79 | K5: 88 | L5: 82 | M5: 69 | N5: 78 | O5: 85 days | P5: 80 | Q5: 80 | R5: 102 | S5: 63 | T5: 79 | U5: 76 | V5: 83 | W5: 79 | X5: 88 | Y5: 73 | Z5: 69 | AA5: 78 | AB5: 85 | AC5: 80 | AD5: 102 | AE5: 63 | AF5: 79 | AG5: 83 | AH5: 79 | AI5: 88 | AJ5: 82 | AK5: 73 | AL5: 69 | AM5: 78 | AN5: 85 | AO5: 80 | AP5: 102 | AQ5: 63 | AR5: 79 | AS5: 76 | AT5: 83 | AU5: 79 | AV5: 88 | AW5: 82 | AX5: 73 | AY5: 69 | AZ5: 78 | BA5: 79 | BB5: 88 | BC5: 82 | BD5: 73 | BE5: 102 | BF5: 63 | BG5: 79 | BH5: 76 | BI5: 83 | BJ5: 69 | BK5: 78 | BL5: 85 | BM5: 80 | BN5: 63 | BO5: 79 | BP5: 76 | BQ5: 83 | BR5: 79 | BS5: 88 | BT5: 82 | BU5: 73 | BV5: 69 | BW5: 78 | BX5: 82 | BY5: 86 | BZ5: 93 | CA5: 84 | CB5: 79 | CC5: 78 | CD5: 91 | CE5: 86 | CF5: 97 | CG5: 80 | CH5: 72 | CI5: 73 | CJ5: 75 | CK5: 70 | CL5: 85 | CM5: 77 | CN5: 79 | CO5: 88 | CP5: 81 | CQ5: 78 | CR5: 73 | CS5: 81 | CT5: 72 | CU5: 75 | CV5: 78 | CW5: 75 | CX5: 87 | CY5: >90 | CZ5: 68 | DA5: 81 | DB5: 85 | DC5: 79 | DD5: 82 | DE5: 88 | DF5: 72 | DG5: 80 | DH5: 73 | DI5: 81 | DJ5: 78 | DK5: 75 | DL5: 68 | DM5: 70.8 | DN5: 85 | DO5: 79 | DP5: 88 | DQ5: 73 | DR5: 81 | DS5: 72 | DT5: 75 | DU5: 78 | DV5: 75 | DW5: 87 | DX5: 95 | DY5: 68 | DZ5: 95 | EA5: 70.8 | EB5: 85 | EC5: 83 | ED5: 77 | EE5: 83 | EF5: 68 | EG5: 79 | EH5: 82 | EI5: 80 | EJ5: 88 | EK5: 74 | EL5: 72 | EM5: 80 | EN5: 73 | EO5: 81 | EP5: 75 | EQ5: 78 | ER5: 75 | ES5: 87 | ET5: 95 | EU5: 68 | EV5: >90 | EW5: 81.3 | EX5: 81 | EY5: 85 | EZ5: 79 | FA5: 79 | FB5: 82 | FC5: 88 | FD5: 74 | FE5: 72 | FF5: 80
A6: APOE | B6: 405.79964 | C6: 405.79964 | D6: 405.79964 | E6: 405.79964 | F6: 405.79964 | G6: 405.79964 | H6: 405.79964 | I6: 405.79964 | J6: 405.79964 | K6: 405.79964 | L6: 405.79964 | M6: 405.79964 | N6: 405.79964 | O6: 405.79964 | P6: 405.79964 | Q6: 405.79964 | R6: 405.79964 | S6: 405.79964 | T6: 405.79964 | U6: 405.79964 | V6: 405.79964 | W6: 405.79964 | X6: 405.79964 | Y6: 405.79964 | Z6: 405.79964 | AA6: 405.79964 | AB6: 405.79964 | AC6: 405.79964 | AD6: 405.79964 | AE6: 405.79964 | AF6: 405.79964 | AG6: 405.79964 | AH6: 405.79964 | AI6: 405.79964 | AJ6: 405.79964 | AK6: 405.79964 | AL6: 405.79964 | AM6: 405.79964 | AN6: 405.79964 | AO6: 405.79964 | AP6: 405.79964 | AQ6: 405.79964 | AR6: 405.79964 | AS6: 405.79964 | AT6: 405.79964 | AU6: 405.79964 | AV6: 405.79964 | AW6: 405.79964 | AX6: 405.79964 | AY6: 405.79964 | AZ6: 405.79964 | BA6: 405.79964 | BB6: 405.79964 | BC6: 405.79964 | BD6: 405.79964 | BE6: 405.79964 | BF6: 405.79964 | BG6: 405.79964 | BH6: 405.79964 | BI6: 405.79964 | BJ6: 405.79964 | BK6: 405.79964 | BL6: 405.79964 | BM6: 405.79964 | BN6: 405.79964 | BO6: 405.79964 | BP6: 405.79964 | BQ6: 405.79964 | BR6: 405.79964 | BS6: 405.79964 | BT6: 405.79964 | BU6: 405.79964 | BV6: 405.79964 | BW6: 405.79964 | BX6: 405.79964 | BY6: 405.79964 | BZ6: 405.79964 | CA6: 405.79964 | CB6: 405.79964 | CC6: 405.79964 | CD6: 405.79964 | CE6: 405.79964 | CF6: 405.79964 | CG6: 405.79964 | CH6: 405.79964 | CI6: 405.79964 | CJ6: 405.79964 | CK6: 405.79964 | CL6: 405.79964 | CM6: 405.79964 | CN6: 405.79964 | CO6: 405.79964 | CP6: 405.79964 | CQ6: 405.79964 | CR6: 405.79964 | CS6: 405.79964 | CT6: 405.79964 | CU6: 405.79964 | CV6: 405.79964 | CW6: 405.79964 | CX6: 405.79964 | CY6: 405.79964 | CZ6: 405.79964 | DA6: 405.79964 | DB6: 405.79964 | DC6: 405.79964 | DD6: 405.79964 | DE6: 405.79964 | DF6: 405.79964 | DG6: 405.79964 | DH6: 405.79964 | DI6: 405.79964 | DJ6: 405.79964 | DK6: 405.79964 | DL6: 405.79964 | DM6: 405.79964 | DN6: 405.79964 | DO6: 405.79964 | DP6: 405.79964 | DQ6: 405.79964 | DR6: 405.79964 | DS6: 405.79964 | DT6: 405.79964 | DU6: 405.79964 | DV6: 405.79964 | DW6: 405.79964 | DX6: 405.79964 | DY6: 405.79964 | DZ6: 405.79964 | EA6: 405.79964 | EB6: 405.79964 | EC6: 405.79964 | ED6: 405.79964 | EE6: 405.79964 | EF6: 405.79964 | EG6: 405.79964 | EH6: 405.79964 | EI6: 405.79964 | EJ6: 405.79964 | EK6: 405.79964 | EL6: 405.79964 | EM6: 405.79964 | EN6: 405.79964 | EO6: 405.79964 | EP6: 405.79964 | EQ6: 405.79964 | ER6: 405.79964 | ES6: 405.79964 | ET6: 405.79964 | EU6: 405.79964 | EV6: 405.79964 | EW6: 405.79964 | EX6: 405.79964 | EY6: 405.79964 | EZ6: 405.79964 | FA6: 405.79964 | FB6: 405.79964 | FC6: 405.79964 | FD6: 405.79964 | FE6: 405.79964 | FF6: 405.79964
A7: APP | B7: 5192.7648 | C7: 5192.7648 | D7: 5192.7648 | E7: 5192.7648 | F7: 5192.7648 | G7: 5192.7648 | H7: 5192.7648 | I7: 5192.7648 | J7: 5192.7648 | K7: 5192.7648 | L7: 5192.7648 | M7: 5192.7648 | N7: 5192.7648 | O7: 5192.7648 | P7: 5192.7648 | Q7: 5192.7648 | R7: 5192.7648 | S7: 5192.7648 | T7: 5192.7648 | U7: 5192.7648 | V7: 5192.7648 | W7: 5192.7648 | X7: 5192.7648 | Y7: 5192.7648 | Z7: 5192.7648 | AA7: 5192.7648 | AB7: 5192.7648 | AC7: 5192.7648 | AD7: 5192.7648 | AE7: 5192.7648 | AF7: 5192.7648 | AG7: 5192.7648 | AH7: 5192.7648 | AI7: 5192.7648 | AJ7: 5192.7648 | AK7: 5192.7648 | AL7: 5192.7648 | AM7: 5192.7648 | AN7: 5192.7648 | AO7: 5192.7648 | AP7: 5192.7648 | AQ7: 5192.7648 | AR7: 5192.7648 | AS7: 5192.7648 | AT7: 5192.7648 | AU7: 5192.7648 | AV7: 5192.7648 | AW7: 5192.7648 | AX7: 5192.7648 | AY7: 5192.7648 | AZ7: 5192.7648 | BA7: 5192.7648 | BB7: 5192.7648 | BC7: 5192.7648 | BD7: 5192.7648 | BE7: 5192.7648 | BF7: 5192.7648 | BG7: 5192.7648 | BH7: 5192.7648 | BI7: 5192.7648 | BJ7: 5192.7648 | BK7: 5192.7648 | BL7: 5192.7648 | BM7: 5192.7648 | BN7: 5192.7648 | BO7: 5192.7648 | BP7: 5192.7648 | BQ7: 5192.7648 | BR7: 5192.7648 | BS7: 5192.7648 | BT7: 5192.7648 | BU7: 5192.7648 | BV7: 5192.7648 | BW7: 5192.7648 | BX7: 5192.7648 | BY7: 5192.7648 | BZ7: 5192.7648 | CA7: 5192.7648 | CB7: 5192.7648 | CC7: 5192.7648 | CD7: 5192.7648 | CE7: 5192.7648 | CF7: 5192.7648 | CG7: 5192.7648 | CH7: 5192.7648 | CI7: 5192.7648 | CJ7: 5192.7648 | CK7: 5192.7648 | CL7: 5192.7648 | CM7: 5192.7648 | CN7: 5192.7648 | CO7: 5192.7648 | CP7: 5192.7648 | CQ7: 5192.7648 | CR7: 5192.7648 | CS7: 5192.7648 | CT7: 5192.7648 | CU7: 5192.7648 | CV7: 5192.7648 | CW7: 5192.7648 | CX7: 5192.7648 | CY7: 5192.7648 | CZ7: 5192.7648 | DA7: 5192.7648 | DB7: 5192.7648 | DC7: 5192.7648 | DD7: 5192.7648 | DE7: 5192.7648 | DF7: 5192.7648 | DG7: 5192.7648 | DH7: 5192.7648 | DI7: 5192.7648 | DJ7: 5192.7648 | DK7: 5192.7648 | DL7: 5192.7648 | DM7: 5192.7648 | DN7: 5192.7648 | DO7: 5192.7648 | DP7: 5192.7648 | DQ7: 5192.7648 | DR7: 5192.7648 | DS7: 5192.7648 | DT7: 5192.7648 | DU7: 5192.7648 | DV7: 5192.7648 | DW7: 5192.7648 | DX7: 5192.7648 | DY7: 5192.7648 | DZ7: 5192.7648 | EA7: 5192.7648 | EB7: 5192.7648 | EC7: 5192.7648 | ED7: 5192.7648 | EE7: 5192.7648 | EF7: 5192.7648 | EG7: 5192.7648 | EH7: 5192.7648 | EI7: 5192.7648 | EJ7: 5192.7648 | EK7: 5192.7648 | EL7: 5192.7648 | EM7: 5192.7648 | EN7: 5192.7648 | EO7: 5192.7648 | EP7: 5192.7648 | EQ7: 5192.7648 | ER7: 5192.7648 | ES7: 5192.7648 | ET7: 5192.7648 | EU7: 5192.7648 | EV7: 5192.7648 | EW7: 5192.7648 | EX7: 5192.7648 | EY7: 5192.7648 | EZ7: 5192.7648 | FA7: 5192.7648 | FB7: 5192.7648 | FC7: 5192.7648 | FD7: 5192.7648 | FE7: 5192.7648 | FF7: 5192.7648
A8: PSEN1 | B8: 45.962398 | C8: 45.962398 | D8: 45.962398 | E8: 45.962398 | F8: 45.962398 | G8: 45.962398 | H8: 45.962398 | I8: 45.962398 | J8: 45.962398 | K8: 45.962398 | L8: 45.962398 | M8: 45.962398 | N8: 45.962398 | O8: 45.962398 | P8: 45.962398 | Q8: 45.962398 | R8: 45.962398 | S8: 45.962398 | T8: 45.962398 | U8: 45.962398 | V8: 45.962398 | W8: 45.962398 | X8: 45.962398 | Y8: 45.962398 | Z8: 45.962398 | AA8: 45.962398 | AB8: 45.962398 | AC8: 45.962398 | AD8: 45.962398 | AE8: 45.962398 | AF8: 45.962398 | AG8: 45.962398 | AH8: 45.962398 | AI8: 45.962398 | AJ8: 45.962398 | AK8: 45.962398 | AL8: 45.962398 | AM8: 45.962398 | AN8: 45.962398 | AO8: 45.962398 | AP8: 45.962398 | AQ8: 45.962398 | AR8: 45.962398 | AS8: 45.962398 | AT8: 45.962398 | AU8: 45.962398 | AV8: 45.962398 | AW8: 45.962398 | AX8: 45.962398 | AY8: 45.962398 | AZ8: 45.962398 | BA8: 45.962398 | BB8: 45.962398 | BC8: 45.962398 | BD8: 45.962398 | BE8: 45.962398 | BF8: 45.962398 | BG8: 45.962398 | BH8: 45.962398 | BI8: 45.962398 | BJ8: 45.962398 | BK8: 45.962398 | BL8: 45.962398 | BM8: 45.962398 | BN8: 45.962398 | BO8: 45.962398 | BP8: 45.962398 | BQ8: 45.962398 | BR8: 45.962398 | BS8: 45.962398 | BT8: 45.962398 | BU8: 45.962398 | BV8: 45.962398 | BW8: 45.962398 | BX8: 45.962398 | BY8: 45.962398 | BZ8: 45.962398 | CA8: 45.962398 | CB8: 45.962398 | CC8: 45.962398 | CD8: 45.962398 | CE8: 45.962398 | CF8: 45.962398 | CG8: 45.962398 | CH8: 45.962398 | CI8: 45.962398 | CJ8: 45.962398 | CK8: 45.962398 | CL8: 45.962398 | CM8: 45.962398 | CN8: 45.962398 | CO8: 45.962398 | CP8: 45.962398 | CQ8: 45.962398 | CR8: 45.962398 | CS8: 45.962398 | CT8: 45.962398 | CU8: 45.962398 | CV8: 45.962398 | CW8: 45.962398 | CX8: 45.962398 | CY8: 45.962398 | CZ8: 45.962398 | DA8: 45.962398 | DB8: 45.962398 | DC8: 45.962398 | DD8: 45.962398 | DE8: 45.962398 | DF8: 45.962398 | DG8: 45.962398 | DH8: 45.962398 | DI8: 45.962398 | DJ8: 45.962398 | DK8: 45.962398 | DL8: 45.962398 | DM8: 45.962398 | DN8: 45.962398 | DO8: 45.962398 | DP8: 45.962398 | DQ8: 45.962398 | DR8: 45.962398 | DS8: 45.962398 | DT8: 45.962398 | DU8: 45.962398 | DV8: 45.962398 | DW8: 45.962398 | DX8: 45.962398 | DY8: 45.962398 | DZ8: 45.962398 | EA8: 45.962398 | EB8: 45.962398 | EC8: 45.962398 | ED8: 45.962398 | EE8: 45.962398 | EF8: 45.962398 | EG8: 45.962398 | EH8: 45.962398 | EI8: 45.962398 | EJ8: 45.962398 | EK8: 45.962398 | EL8: 45.962398 | EM8: 45.962398 | EN8: 45.962398 | EO8: 45.962398 | EP8: 45.962398 | EQ8: 45.962398 | ER8: 45.962398 | ES8: 45.962398 | ET8: 45.962398 | EU8: 45.962398 | EV8: 45.962398 | EW8: 45.962398 | EX8: 45.962398 | EY8: 45.962398 | EZ8: 45.962398 | FA8: 45.962398 | FB8: 45.962398 | FC8: 45.962398 | FD8: 45.962398 | FE8: 45.962398 | FF8: 45.962398
A9: PSEN2 | B9: 144.42176 | C9: 144.42176 | D9: 144.42176 | E9: 144.42176 | F9: 144.42176 | G9: 144.42176 | H9: 144.42176 | I9: 144.42176 | J9: 144.42176 | K9: 144.42176 | L9: 144.42176 | M9: 144.42176 | N9: 144.42176 | O9: 144.42176 | P9: 144.42176 | Q9: 144.42176 | R9: 144.42176 | S9: 144.42176 | T9: 144.42176 | U9: 144.42176 | V9: 144.42176 | W9: 144.42176 | X9: 144.42176 | Y9: 144.42176 | Z9: 144.42176 | AA9: 144.42176 | AB9: 144.42176 | AC9: 144.42176 | AD9: 144.42176 | AE9: 144.42176 | AF9: 144.42176 | AG9: 144.42176 | AH9: 144.42176 | AI9: 144.42176 | AJ9: 144.42176 | AK9: 144.42176 | AL9: 144.42176 | AM9: 144.42176 | AN9: 144.42176 | AO9: 144.42176 | AP9: 144.42176 | AQ9: 144.42176 | AR9: 144.42176 | AS9: 144.42176 | AT9: 144.42176 | AU9: 144.42176 | AV9: 144.42176 | AW9: 144.42176 | AX9: 144.42176 | AY9: 144.42176 | AZ9: 144.42176 | BA9: 144.42176 | BB9: 144.42176 | BC9: 144.42176 | BD9: 144.42176 | BE9: 144.42176 | BF9: 144.42176 | BG9: 144.42176 | BH9: 144.42176 | BI9: 144.42176 | BJ9: 144.42176 | BK9: 144.42176 | BL9: 144.42176 | BM9: 144.42176 | BN9: 144.42176 | BO9: 144.42176 | BP9: 144.42176 | BQ9: 144.42176 | BR9: 144.42176 | BS9: 144.42176 | BT9: 144.42176 | BU9: 144.42176 | BV9: 144.42176 | BW9: 144.42176 | BX9: 144.42176 | BY9: 144.42176 | BZ9: 144.42176 | CA9: 144.42176 | CB9: 144.42176 | CC9: 144.42176 | CD9: 144.42176 | CE9: 144.42176 | CF9: 144.42176 | CG9: 144.42176 | CH9: 144.42176 | CI9: 144.42176 | CJ9: 144.42176 | CK9: 144.42176 | CL9: 144.42176 | CM9: 144.42176 | CN9: 144.42176 | CO9: 144.42176 | CP9: 144.42176 | CQ9: 144.42176 | CR9: 144.42176 | CS9: 144.42176 | CT9: 144.42176 | CU9: 144.42176 | CV9: 144.42176 | CW9: 144.42176 | CX9: 144.42176 | CY9: 144.42176 | CZ9: 144.42176 | DA9: 144.42176 | DB9: 144.42176 | DC9: 144.42176 | DD9: 144.42176 | DE9: 144.42176 | DF9: 144.42176 | DG9: 144.42176 | DH9: 144.42176 | DI9: 144.42176 | DJ9: 144.42176 | DK9: 144.42176 | DL9: 144.42176 | DM9: 144.42176 | DN9: 144.42176 | DO9: 144.42176 | DP9: 144.42176 | DQ9: 144.42176 | DR9: 144.42176 | DS9: 144.42176 | DT9: 144.42176 | DU9: 144.42176 | DV9: 144.42176 | DW9: 144.42176 | DX9: 144.42176 | DY9: 144.42176 | DZ9: 144.42176 | EA9: 144.42176 | EB9: 144.42176 | EC9: 144.42176 | ED9: 144.42176 | EE9: 144.42176 | EF9: 144.42176 | EG9: 144.42176 | EH9: 144.42176 | EI9: 144.42176 | EJ9: 144.42176 | EK9: 144.42176 | EL9: 144.42176 | EM9: 144.42176 | EN9: 144.42176 | EO9: 144.42176 | EP9: 144.42176 | EQ9: 144.42176 | ER9: 144.42176 | ES9: 144.42176 | ET9: 144.42176 | EU9: 144.42176 | EV9: 144.42176 | EW9: 144.42176 | EX9: 144.42176 | EY9: 144.42176 | EZ9: 144.42176 | FA9: 144.42176 | FB9: 144.42176 | FC9: 144.42176 | FD9: 144.42176 | FE9: 144.42176 | FF9: 144.42176

Sheet Z-score
A1: ID_REF | B1: GSM119615 | C1: GSM119616 | D1: GSM119617 | E1: GSM119618 | F1: GSM119619 | G1: GSM119620 | H1: GSM119621 | I1: GSM119622 | J1: GSM119623 | K1: GSM119624 | L1: GSM119625 | M1: GSM119626 | N1: GSM119627 | O1: GSM119628 | P1: GSM119629 | Q1: GSM119630 | R1: GSM119631 | S1: GSM119632 | T1: GSM119633 | U1: GSM119634 | V1: GSM119635 | W1: GSM119636 | X1: GSM119637 | Y1: GSM119638 | Z1: GSM119639 | AA1: GSM119640 | AB1: GSM119641 | AC1: GSM119642 | AD1: GSM119643 | AE1: GSM119644 | AF1: GSM119645 | AG1: GSM119646 | AH1: GSM119647 | AI1: GSM119648 | AJ1: GSM119649 | AK1: GSM119650 | AL1: GSM119651 | AM1: GSM119652 | AN1: GSM119653 | AO1: GSM119654 | AP1: GSM119655 | AQ1: GSM119656 | AR1: GSM119657 | AS1: GSM119658 | AT1: GSM119659 | AU1: GSM119660 | AV1: GSM119661 | AW1: GSM119662 | AX1: GSM119663 | AY1: GSM119664 | AZ1: GSM119665 | BA1: GSM119666 | BB1: GSM119667 | BC1: GSM119668 | BD1: GSM119669 | BE1: GSM119670 | BF1: GSM119671 | BG1: GSM119672 | BH1: GSM119673 | BI1: GSM119674 | BJ1: GSM119675 | BK1: GSM119676 | BL1: GSM119677 | BM1: GSM119678 | BN1: GSM119679 | BO1: GSM119680 | BP1: GSM119681 | BQ1: GSM119682 | BR1: GSM119683 | BS1: GSM119684 | BT1: GSM119685 | BU1: GSM119686 | BV1: GSM119687 | BW1: GSM119688 | BX1: GSM238763 | BY1: GSM238790 | BZ1: GSM238791 | CA1: GSM238792 | CB1: GSM238793 | CC1: GSM238794 | CD1: GSM238795 | CE1: GSM238796 | CF1: GSM238797 | CG1: GSM238798 | CH1: GSM238799 | CI1: GSM238800 | CJ1: GSM238801 | CK1: GSM238802 | CL1: GSM238803 | CM1: GSM238804 | CN1: GSM238805 | CO1: GSM238806 | CP1: GSM238807 | CQ1: GSM238808 | CR1: GSM238809 | CS1: GSM238810 | CT1: GSM238811 | CU1: GSM238812 | CV1: GSM238813 | CW1: GSM238815 | CX1: GSM238816 | CY1: GSM238817 | CZ1: GSM238818 | DA1: GSM238819 | DB1: GSM238820 | DC1: GSM238821 | DD1: GSM238822 | DE1: GSM238823 | DF1: GSM238824 | DG1: GSM238825 | DH1: GSM238826 | DI1: GSM238827 | DJ1: GSM238834 | DK1: GSM238835 | DL1: GSM238837 | DM1: GSM238838 | DN1: GSM238839 | DO1: GSM238840 | DP1: GSM238841 | DQ1: GSM238842 | DR1: GSM238843 | DS1: GSM238844 | DT1: GSM238845 | DU1: GSM238846 | DV1: GSM238847 | DW1: GSM238848 | DX1: GSM238851 | DY1: GSM238854 | DZ1: GSM238855 | EA1: GSM238856 | EB1: GSM238857 | EC1: GSM238858 | ED1: GSM238860 | EE1: GSM238861 | EF1: GSM238862 | EG1: GSM238863 | EH1: GSM238864 | EI1: GSM238865 | EJ1: GSM238867 | EK1: GSM238868 | EL1: GSM238870 | EM1: GSM238871 | EN1: GSM238872 | EO1: GSM238873 | EP1: GSM238874 | EQ1: GSM238875 | ER1: GSM238877 | ES1: GSM238941 | ET1: GSM238942 | EU1: GSM238943 | EV1: GSM238944 | EW1: GSM238945 | EX1: GSM238946 | EY1: GSM238947 | EZ1: GSM238948 | FA1: GSM238949 | FB1: GSM238951 | FC1: GSM238952 | FD1: GSM238953 | FE1: GSM238955 | FF1: GSM238963
A2: BrainRegion | B2: Entorhinal Cortex | C2: Entorhinal Cortex | D2: Entorhinal Cortex | E2: Entorhinal Cortex | F2: Entorhinal Cortex | G2: Entorhinal Cortex | H2: Entorhinal Cortex | I2: Entorhinal Cortex | J2: Entorhinal Cortex | K2: Entorhinal Cortex | L2: Entorhinal Cortex | M2: Entorhinal Cortex | N2: Entorhinal Cortex | O2: hippocampus | P2: hippocampus | Q2: hippocampus | R2: hippocampus | S2: hippocampus | T2: hippocampus | U2: hippocampus | V2: hippocampus | W2: hippocampus | X2: hippocampus | Y2: hippocampus | Z2: hippocampus | AA2: hippocampus | AB2: Medial Temporal Gyrus | AC2: Medial Temporal Gyrus | AD2: Medial Temporal Gyrus | AE2: Medial Temporal Gyrus | AF2: Medial Temporal Gyrus | AG2: Medial Temporal Gyrus | AH2: Medial Temporal Gyrus | AI2: Medial Temporal Gyrus | AJ2: Medial Temporal Gyrus | AK2: Medial Temporal Gyrus | AL2: Medial Temporal Gyrus | AM2: Medial Temporal Gyrus | AN2: Posterior Cingulate | AO2: Posterior Cingulate | AP2: Posterior Cingulate | AQ2: Posterior Cingulate | AR2: Posterior Cingulate | AS2: Posterior Cingulate | AT2: Posterior cingulate | AU2: Posterior cingulate | AV2: Posterior cingulate | AW2: Posterior cingulate | AX2: Posterior cingulate | AY2: Posterior cingulate | AZ2: Posterior cingulate | BA2: Superior Frontal Gyrus | BB2: Superior Frontal Gyrus | BC2: Superior Frontal Gyrus | BD2: Superior Frontal Gyrus | BE2: Superior Frontal Gyrus | BF2: Superior Frontal Gyrus | BG2: Superior Frontal Gyrus | BH2: Superior Frontal Gyrus | BI2: Superior Frontal Gyrus | BJ2: Superior Frontal Gyrus | BK2: Superior Frontal Gyrus | BL2: Primary Visual Cortex | BM2: Primary Visual Cortex | BN2: Primary Visual Cortex | BO2: Primary Visual Cortex | BP2: Primary Visual Cortex | BQ2: Primary Visual Cortex | BR2: Primary Visual Cortex | BS2: Primary Visual Cortex | BT2: Primary Visual Cortex | BU2: Primary Visual Cortex | BV2: Primary Visual Cortex | BW2: Primary Visual Cortex | BX2: Entorhinal Cortex | BY2: Entorhinal Cortex | BZ2: Entorhinal Cortex | CA2: Entorhinal Cortex | CB2: Entorhinal Cortex | CC2: Entorhinal Cortex | CD2: Entorhinal Cortex | CE2: Entorhinal Cortex | CF2: Entorhinal Cortex | CG2: Entorhinal Cortex | CH2: Hippocampus | CI2: Hippocampus | CJ2: Hippocampus | CK2: Hippocampus | CL2: Hippocampus | CM2: Hippocampus | CN2: Hippocampus | CO2: Hippocampus | CP2: Hippocampus | CQ2: Hippocampus | CR2: Middle temporal gyrus | CS2: Middle temporal gyrus | CT2: Middle temporal gyrus | CU2: Middle temporal gyrus | CV2: Middle temporal gyrus | CW2: Middle temporal gyrus | CX2: Middle temporal gyrus | CY2: Middle temporal gyrus | CZ2: Middle temporal gyrus | DA2: Middle temporal gyrus | DB2: Middle temporal gyrus | DC2: Middle temporal gyrus | DD2: Middle temporal gyrus | DE2: Middle temporal gyrus | DF2: Middle temporal gyrus | DG2: Middle temporal gyrus | DH2: Posterior cingulate cortex | DI2: Posterior cingulate cortex | DJ2: Posterior cingulate cortex | DK2: Posterior cingulate cortex | DL2: Posterior cingulate cortex | DM2: Posterior cingulate cortex | DN2: Posterior cingulate cortex | DO2: Posterior cingulate cortex | DP2: Posterior cingulate cortex | DQ2: Superior frontal gyrus | DR2: Superior frontal gyrus | DS2: Superior frontal gyrus | DT2: Superior frontal gyrus | DU2: Superior frontal gyrus | DV2: Superior frontal gyrus | DW2: Superior frontal gyrus | DX2: Superior frontal gyrus | DY2: Superior frontal gyrus | DZ2: Superior frontal gyrus | EA2: Superior frontal gyrus | EB2: Superior frontal gyrus | EC2: Superior frontal gyrus | ED2: Superior frontal gyrus | EE2: Superior frontal gyrus | EF2: Superior frontal gyrus | EG2: Superior frontal gyrus | EH2: Superior frontal gyrus | EI2: Superior frontal gyrus | EJ2: Superior frontal gyrus | EK2: Superior frontal gyrus | EL2: Superior frontal gyrus | EM2: Superior frontal gyrus | EN2: Primary visual cortex | EO2: Primary visual cortex | EP2: Primary visual cortex | EQ2: Primary visual cortex | ER2: Primary visual cortex | ES2: Primary visual cortex | ET2: Primary visual cortex | EU2: Primary visual cortex | EV2: Primary visual cortex | EW2: Primary visual cortex | EX2: Primary visual cortex | EY2: Primary visual cortex | EZ2: Primary visual cortex | FA2: Primary visual cortex | FB2: Primary visual cortex | FC2: Primary visual cortex | FD2: Primary visual cortex | FE2: Primary visual cortex | FF2: Primary visual cortex
A3: Disease State | B3: normal | C3: normal | D3: normal | E3: normal | F3: normal | G3: normal | H3: normal | I3: normal | J3: normal | K3: normal | L3: normal | M3: normal | N3: normal | O3: normal | P3: normal | Q3: normal | R3: normal | S3: normal | T3: normal | U3: normal | V3: normal | W3: normal | X3: normal | Y3: normal | Z3: normal | AA3: normal | AB3: normal | AC3: normal | AD3: normal | AE3: normal | AF3: normal | AG3: normal | AH3: normal | AI3: normal | AJ3: normal | AK3: normal | AL3: normal | AM3: normal | AN3: normal | AO3: normal | AP3: normal | AQ3: normal | AR3: normal | AS3: normal | AT3: normal | AU3: normal | AV3: normal | AW3: normal | AX3: normal | AY3: normal | AZ3: normal | BA3: normal | BB3: normal | BC3: normal | BD3: normal | BE3: normal | BF3: normal | BG3: normal | BH3: normal | BI3: normal | BJ3: normal | BK3: normal | BL3: normal | BM3: normal | BN3: normal | BO3: normal | BP3: normal | BQ3: normal | BR3: normal | BS3: normal | BT3: normal | BU3: normal | BV3: normal | BW3: normal | BX3: Alzheimer's Disease | BY3: Alzheimer's Disease | BZ3: Alzheimer's Disease | CA3: Alzheimer's Disease | CB3: Alzheimer's Disease | CC3: Alzheimer's Disease | CD3: Alzheimer's Disease | CE3: Alzheimer's Disease | CF3: Alzheimer's Disease | CG3: Alzheimer's Disease | CH3: Alzheimer's Disease | CI3: Alzheimer's Disease | CJ3: Alzheimer's Disease | CK3: Alzheimer's Disease | CL3: Alzheimer's Disease | CM3: Alzheimer's Disease | CN3: Alzheimer's Disease | CO3: Alzheimer's Disease | CP3: Alzheimer's Disease | CQ3: Alzheimer's Disease | CR3: Alzheimer's Disease | CS3: Alzheimer's Disease | CT3: Alzheimer's Disease | CU3: Alzheimer's Disease | CV3: Alzheimer's Disease | CW3: Alzheimer's Disease | CX3: Alzheimer's Disease | CY3: Alzheimer's Disease | CZ3: Alzheimer's Disease | DA3: Alzheimer's Disease | DB3: Alzheimer's Disease | DC3: Alzheimer's Disease | DD3: Alzheimer's Disease | DE3: Alzheimer's Disease | DF3: Alzheimer's Disease | DG3: Alzheimer's Disease | DH3: Alzheimer's Disease | DI3: Alzheimer's Disease | DJ3: Alzheimer's Disease | DK3: Alzheimer's Disease | DL3: Alzheimer's Disease | DM3: Alzheimer's Disease | DN3: Alzheimer's Disease | DO3: Alzheimer's Disease | DP3: Alzheimer's Disease | DQ3: Alzheimer's Disease | DR3: Alzheimer's Disease | DS3: Alzheimer's Disease | DT3: Alzheimer's Disease | DU3: Alzheimer's Disease | DV3: Alzheimer's Disease | DW3: Alzheimer's Disease | DX3: Alzheimer's Disease | DY3: Alzheimer's Disease | DZ3: Alzheimer's Disease | EA3: Alzheimer's Disease | EB3: Alzheimer's Disease | EC3: Alzheimer's Disease | ED3: Alzheimer's Disease | EE3: Alzheimer's Disease | EF3: Alzheimer's Disease | EG3: Alzheimer's Disease | EH3: Alzheimer's Disease | EI3: Alzheimer's Disease | EJ3: Alzheimer's Disease | EK3: Alzheimer's Disease | EL3: Alzheimer's Disease | EM3: Alzheimer's Disease | EN3: Alzheimer's Disease | EO3: Alzheimer's Disease | EP3: Alzheimer's Disease | EQ3: Alzheimer's Disease | ER3: Alzheimer's Disease | ES3: Alzheimer's Disease | ET3: Alzheimer's Disease | EU3: Alzheimer's Disease | EV3: Alzheimer's Disease | EW3: Alzheimer's Disease | EX3: Alzheimer's Disease | EY3: Alzheimer's Disease | EZ3: Alzheimer's Disease | FA3: Alzheimer's Disease | FB3: Alzheimer's Disease | FC3: Alzheimer's Disease | FD3: Alzheimer's Disease | FE3: Alzheimer's Disease | FF3: Alzheimer's Disease
A4: Sex | B4: male | C4: male | D4: male | E4: male | F4: female | G4: male | H4: male | I4: male | J4: male | K4: female | L4: female | M4: male | N4: male | O4: male | P4: male | Q4: male | R4: female | S4: male | T4: male | U4: male | V4: male | W4: male | X4: female | Y4: female | Z4: male | AA4: male | AB4: male | AC4: male | AD4: female | AE4: male | AF4: male | AG4: male | AH4: male | AI4: female | AJ4: female | AK4: female | AL4: male | AM4: male | AN4: male | AO4: male | AP4: female | AQ4: male | AR4: male | AS4: male | AT4: male | AU4: male | AV4: female | AW4: female | AX4: female | AY4: male | AZ4: male | BA4: male | BB4: female | BC4: female | BD4: female | BE4: female | BF4: male | BG4: male | BH4: male | BI4: male | BJ4: male | BK4: male | BL4: male | BM4: male | BN4: male | BO4: male | BP4: male | BQ4: male | BR4: male | BS4: female | BT4: female | BU4: female | BV4: male | BW4: male | BX4: female | BY4: female | BZ4: female | CA4: male | CB4: female | CC4: female | CD4: female | CE4: male | CF4: male | CG4: male | CH4: male | CI4: female | CJ4: male | CK4: female | CL4: female | CM4: female | CN4: male | CO4: male | CP4: male | CQ4: male | CR4: female | CS4: male | CT4: male | CU4: male | CV4: male | CW4: male | CX4: male | CY4: female | CZ4: male | DA4: female | DB4: female | DC4: male | DD4: female | DE4: male | DF4: male | DG4: female | DH4: female | DI4: male | DJ4: male | DK4: male | DL4: male | DM4: female | DN4: female | DO4: male | DP4: male | DQ4: female | DR4: male | DS4: male | DT4: male | DU4: male | DV4: male | DW4: male | DX4: female | DY4: male | DZ4: female | EA4: female | EB4: female | EC4: female | ED4: female | EE4: female | EF4: male | EG4: male | EH4: female | EI4: male | EJ4: male | EK4: male | EL4: male | EM4: female | EN4: female | EO4: male | EP4: male | EQ4: male | ER4: male | ES4: male | ET4: female | EU4: male | EV4: female | EW4: female | EX4: female | EY4: female | EZ4: male | FA4: male | FB4: female | FC4: male | FD4: male | FE4: male | FF4: female
A5: Age | B5: 63 | C5: 85 | D5: 80 | E5: 80 | F5: 102 | G5: 79 | H5: 76 | I5: 83 | J5: 79 | K5: 88 | L5: 82 | M5: 69 | N5: 78 | O5: 85 days | P5: 80 | Q5: 80 | R5: 102 | S5: 63 | T5: 79 | U5: 76 | V5: 83 | W5: 79 | X5: 88 | Y5: 73 | Z5: 69 | AA5: 78 | AB5: 85 | AC5: 80 | AD5: 102 | AE5: 63 | AF5: 79 | AG5: 83 | AH5: 79 | AI5: 88 | AJ5: 82 | AK5: 73 | AL5: 69 | AM5: 78 | AN5: 85 | AO5: 80 | AP5: 102 | AQ5: 63 | AR5: 79 | AS5: 76 | AT5: 83 | AU5: 79 | AV5: 88 | AW5: 82 | AX5: 73 | AY5: 69 | AZ5: 78 | BA5: 79 | BB5: 88 | BC5: 82 | BD5: 73 | BE5: 102 | BF5: 63 | BG5: 79 | BH5: 76 | BI5: 83 | BJ5: 69 | BK5: 78 | BL5: 85 | BM5: 80 | BN5: 63 | BO5: 79 | BP5: 76 | BQ5: 83 | BR5: 79 | BS5: 88 | BT5: 82 | BU5: 73 | BV5: 69 | BW5: 78 | BX5: 82 | BY5: 86 | BZ5: 93 | CA5: 84 | CB5: 79 | CC5: 78 | CD5: 91 | CE5: 86 | CF5: 97 | CG5: 80 | CH5: 72 | CI5: 73 | CJ5: 75 | CK5: 70 | CL5: 85 | CM5: 77 | CN5: 79 | CO5: 88 | CP5: 81 | CQ5: 78 | CR5: 73 | CS5: 81 | CT5: 72 | CU5: 75 | CV5: 78 | CW5: 75 | CX5: 87 | CY5: >90 | CZ5: 68 | DA5: 81 | DB5: 85 | DC5: 79 | DD5: 82 | DE5: 88 | DF5: 72 | DG5: 80 | DH5: 73 | DI5: 81 | DJ5: 78 | DK5: 75 | DL5: 68 | DM5: 70.8 | DN5: 85 | DO5: 79 | DP5: 88 | DQ5: 73 | DR5: 81 | DS5: 72 | DT5: 75 | DU5: 78 | DV5: 75 | DW5: 87 | DX5: 95 | DY5: 68 | DZ5: 95 | EA5: 70.8 | EB5: 85 | EC5: 83 | ED5: 77 | EE5: 83 | EF5: 68 | EG5: 79 | EH5: 82 | EI5: 80 | EJ5: 88 | EK5: 74 | EL5: 72 | EM5: 80 | EN5: 73 | EO5: 81 | EP5: 75 | EQ5: 78 | ER5: 75 | ES5: 87 | ET5: 95 | EU5: 68 | EV5: >90 | EW5: 81.3 | EX5: 81 | EY5: 85 | EZ5: 79 | FA5: 79 | FB5: 82 | FC5: 88 | FD5: 74 | FE5: 72 | FF5: 80
A6: APOE | B6: =(Original!B6-Average!B6)/SD!B6 -> -0.25922445 | C6: =(Original!C6-Average!C6)/SD!C6 -> -0.34638611 | D6: =(Original!D6-Average!D6)/SD!D6 -> 4.2227856 | E6: =(Original!E6-Average!E6)/SD!E6 -> 2.1451366 | F6: =(Original!F6-Average!F6)/SD!F6 -> 0.0026701604 | G6: =(Original!G6-Average!G6)/SD!G6 -> 0.74989724 | H6: =(Original!H6-Average!H6)/SD!H6 -> 3.0072439 | I6: =(Original!I6-Average!I6)/SD!I6 -> -0.3354325 | ... FF6: =(Original!FF6-Average!FF6)/SD!FF6 -> 1.2378281
A7: APP | B7: =(Original!B7-Average!B7)/SD!B7 -> -0.38615933 | C7: =(Original!C7-Average!C7)/SD!C7 -> -0.21288478 | D7: =(Original!D7-Average!D7)/SD!D7 -> -0.83922615 | E7: =(Original!E7-Average!E7)/SD!E7 -> -0.55297303 | F7: =(Original!F7-Average!F7)/SD!F7 -> 2.7154443 | G7: =(Original!G7-Average!G7)/SD!G7 -> -0.081493428 | H7: =(Original!H7-Average!H7)/SD!H7 -> -0.5706473 | I7: =(Original!I7-Average!I7)/SD!I7 -> -0.37345173 | ... FF7: =(Original!FF7-Average!FF7)/SD!FF7 -> -1.3291947
A8: PSEN1 | B8: =(Original!B8-Average!B8)/SD!B8 -> -0.28650276 | C8: =(Original!C8-Average!C8)/SD!C8 -> -0.29426025 | D8: =(Original!D8-Average!D8)/SD!D8 -> 0.14347784 | E8: =(Original!E8-Average!E8)/SD!E8 -> -0.21893463 | F8: =(Original!F8-Average!F8)/SD!F8 -> -0.22874321 | G8: =(Original!G8-Average!G8)/SD!G8 -> -0.27865997 | H8: =(Original!H8-Average!H8)/SD!H8 -> -0.25063358 | I8: =(Original!I8-Average!I8)/SD!I8 -> -0.22168522 | ... FF8: =(Original!FF8-Average!FF8)/SD!FF8 -> 11.472839
A9: PSEN2 | B9: =(Original!B9-Average!B9)/SD!B9 -> -0.16313992 | C9: =(Original!C9-Average!C9)/SD!C9 -> 0.61996592 | D9: =(Original!D9-Average!D9)/SD!D9 -> -0.66443087 | E9: =(Original!E9-Average!E9)/SD!E9 -> -0.0070111575 | F9: =(Original!F9-Average!F9)/SD!F9 -> 3.8725271 | G9: =(Original!G9-Average!G9)/SD!G9 -> 0.18209006 | H9: =(Original!H9-Average!H9)/SD!H9 -> 0.31892028 | I9: =(Original!I9-Average!I9)/SD!I9 -> -0.056460563 | ... FF9: =(Original!FF9-Average!FF9)/SD!FF9 -> -1.1789798

Sheet Descritized
A1: ID_REF | B1: GSM119615 | C1: GSM119616 | D1: GSM119617 | E1: GSM119618 | F1: GSM119619 | G1: GSM119620 | H1: GSM119621 | I1: GSM119622 | J1: GSM119623 | K1: GSM119624 | L1: GSM119625 | M1: GSM119626 | N1: GSM119627 | O1: GSM119628 | P1: GSM119629 | Q1: GSM119630 | R1: GSM119631 | S1: GSM119632 | T1: GSM119633 | U1: GSM119634 | V1: GSM119635 | W1: GSM119636 | X1: GSM119637 | Y1: GSM119638 | Z1: GSM119639 | AA1: GSM119640 | AB1: GSM119641 | AC1: GSM119642 | AD1: GSM119643 | AE1: GSM119644 | AF1: GSM119645 | AG1: GSM119646 | AH1: GSM119647 | AI1: GSM119648 | AJ1: GSM119649 | AK1: GSM119650 | AL1: GSM119651 | AM1: GSM119652 | AN1: GSM119653 | AO1: GSM119654 | AP1: GSM119655 | AQ1: GSM119656 | AR1: GSM119657 | AS1: GSM119658 | AT1: GSM119659 | AU1: GSM119660 | AV1: GSM119661 | AW1: GSM119662 | AX1: GSM119663 | AY1: GSM119664 | AZ1: GSM119665 | BA1: GSM119666 | BB1: GSM119667 | BC1: GSM119668 | BD1: GSM119669 | BE1: GSM119670 | BF1: GSM119671 | BG1: GSM119672 | BH1: GSM119673 | BI1: GSM119674 | BJ1: GSM119675 | BK1: GSM119676 | BL1: GSM119677 | BM1: GSM119678 | BN1: GSM119679 | BO1: GSM119680 | BP1: GSM119681 | BQ1: GSM119682 | BR1: GSM119683 | BS1: GSM119684 | BT1: GSM119685 | BU1: GSM119686 | BV1: GSM119687 | BW1: GSM119688 | BX1: GSM238763 | BY1: GSM238790 | BZ1: GSM238791 | CA1: GSM238792 | CB1: GSM238793 | CC1: GSM238794 | CD1: GSM238795 | CE1: GSM238796 | CF1: GSM238797 | CG1: GSM238798 | CH1: GSM238799 | CI1: GSM238800 | CJ1: GSM238801 | CK1: GSM238802 | CL1: GSM238803 | CM1: GSM238804 | CN1: GSM238805 | CO1: GSM238806 | CP1: GSM238807 | CQ1: GSM238808 | CR1: GSM238809 | CS1: GSM238810 | CT1: GSM238811 | CU1: GSM238812 | CV1: GSM238813 | CW1: GSM238815 | CX1: GSM238816 | CY1: GSM238817 | CZ1: GSM238818 | DA1: GSM238819 | DB1: GSM238820 | DC1: GSM238821 | DD1: GSM238822 | DE1: GSM238823 | DF1: GSM238824 | DG1: GSM238825 | DH1: GSM238826 | DI1: GSM238827 | DJ1: GSM238834 | DK1: GSM238835 | DL1: GSM238837 | DM1: GSM238838 | DN1: GSM238839 | DO1: GSM238840 | DP1: GSM238841 | DQ1: GSM238842 | DR1: GSM238843 | DS1: GSM238844 | DT1: GSM238845 | DU1: GSM238846 | DV1: GSM238847 | DW1: GSM238848 | DX1: GSM238851 | DY1: GSM238854 | DZ1: GSM238855 | EA1: GSM238856 | EB1: GSM238857 | EC1: GSM238858 | ED1: GSM238860 | EE1: GSM238861 | EF1: GSM238862 | EG1: GSM238863 | EH1: GSM238864 | EI1: GSM238865 | EJ1: GSM238867 | EK1: GSM238868 | EL1: GSM238870 | EM1: GSM238871 | EN1: GSM238872 | EO1: GSM238873 | EP1: GSM238874 | EQ1: GSM238875 | ER1: GSM238877 | ES1: GSM238941 | ET1: GSM238942 | EU1: GSM238943 | EV1: GSM238944 | EW1: GSM238945 | EX1: GSM238946 | EY1: GSM238947 | EZ1: GSM238948 | FA1: GSM238949 | FB1: GSM238951 | FC1: GSM238952 | FD1: GSM238953 | FE1: GSM238955 | FF1: GSM238963
A2: BrainRegion | B2: Entorhinal Cortex | C2: Entorhinal Cortex | D2: Entorhinal Cortex | E2: Entorhinal Cortex | F2: Entorhinal Cortex | G2: Entorhinal Cortex | H2: Entorhinal Cortex | I2: Entorhinal Cortex | J2: Entorhinal Cortex | K2: Entorhinal Cortex | L2: Entorhinal Cortex | M2: Entorhinal Cortex | N2: Entorhinal Cortex | O2: hippocampus | P2: hippocampus | Q2: hippocampus | R2: hippocampus | S2: hippocampus | T2: hippocampus | U2: hippocampus | V2: hippocampus | W2: hippocampus | X2: hippocampus | Y2: hippocampus | Z2: hippocampus | AA2: hippocampus | AB2: Medial Temporal Gyrus | AC2: Medial Temporal Gyrus | AD2: Medial Temporal Gyrus | AE2: Medial Temporal Gyrus | AF2: Medial Temporal Gyrus | AG2: Medial Temporal Gyrus | AH2: Medial Temporal Gyrus | AI2: Medial Temporal Gyrus | AJ2: Medial Temporal Gyrus | AK2: Medial Temporal Gyrus | AL2: Medial Temporal Gyrus | AM2: Medial Temporal Gyrus | AN2: Posterior Cingulate | AO2: Posterior Cingulate | AP2: Posterior Cingulate | AQ2: Posterior Cingulate | AR2: Posterior Cingulate | AS2: Posterior Cingulate | AT2: Posterior cingulate | AU2: Posterior cingulate | AV2: Posterior cingulate | AW2: Posterior cingulate | AX2: Posterior cingulate | AY2: Posterior cingulate | AZ2: Posterior cingulate | BA2: Superior Frontal Gyrus | BB2: Superior Frontal Gyrus | BC2: Superior Frontal Gyrus | BD2: Superior Frontal Gyrus | BE2: Superior Frontal Gyrus | BF2: Superior Frontal Gyrus | BG2: Superior Frontal Gyrus | BH2: Superior Frontal Gyrus | BI2: Superior Frontal Gyrus | BJ2: Superior Frontal Gyrus | BK2: Superior Frontal Gyrus | BL2: Primary Visual Cortex | BM2: Primary Visual Cortex | BN2: Primary Visual Cortex | BO2: Primary Visual Cortex | BP2: Primary Visual Cortex | BQ2: Primary Visual Cortex | BR2: Primary Visual Cortex | BS2: Primary Visual Cortex | BT2: Primary Visual Cortex | BU2: Primary Visual Cortex | BV2: Primary Visual Cortex | BW2: Primary Visual Cortex | BX2: Entorhinal Cortex | BY2: Entorhinal Cortex | BZ2: Entorhinal Cortex | CA2: Entorhinal Cortex | CB2: Entorhinal Cortex | CC2: Entorhinal Cortex | CD2: Entorhinal Cortex | CE2: Entorhinal Cortex | CF2: Entorhinal Cortex | CG2: Entorhinal Cortex | CH2: Hippocampus | CI2: Hippocampus | CJ2: Hippocampus | CK2: Hippocampus | CL2: Hippocampus | CM2: Hippocampus | CN2: Hippocampus | CO2: Hippocampus | CP2: Hippocampus | CQ2: Hippocampus | CR2: Middle temporal gyrus | CS2: Middle temporal gyrus | CT2: Middle temporal gyrus | CU2: Middle temporal gyrus | CV2: Middle temporal gyrus | CW2: Middle temporal gyrus | CX2: Middle temporal gyrus | CY2: Middle temporal gyrus | CZ2: Middle temporal gyrus | DA2: Middle temporal gyrus | DB2: Middle temporal gyrus | DC2: Middle temporal gyrus | DD2: Middle temporal gyrus | DE2: Middle temporal gyrus | DF2: Middle temporal gyrus | DG2: Middle temporal gyrus | DH2: Posterior cingulate cortex | DI2: Posterior cingulate cortex | DJ2: Posterior cingulate cortex | DK2: Posterior cingulate cortex | DL2: Posterior cingulate cortex | DM2: Posterior cingulate cortex | DN2: Posterior cingulate cortex | DO2: Posterior cingulate cortex | DP2: Posterior cingulate cortex | DQ2: Superior frontal gyrus | DR2: Superior frontal gyrus | DS2: Superior frontal gyrus | DT2: Superior frontal gyrus | DU2: Superior frontal gyrus | DV2: Superior frontal gyrus | DW2: Superior frontal gyrus | DX2: Superior frontal gyrus | DY2: Superior frontal gyrus | DZ2: Superior frontal gyrus | EA2: Superior frontal gyrus | EB2: Superior frontal gyrus | EC2: Superior frontal gyrus | ED2: Superior frontal gyrus | EE2: Superior frontal gyrus | EF2: Superior frontal gyrus | EG2: Superior frontal gyrus | EH2: Superior frontal gyrus | EI2: Superior frontal gyrus | EJ2: Superior frontal gyrus | EK2: Superior frontal gyrus | EL2: Superior frontal gyrus | EM2: Superior frontal gyrus | EN2: Primary visual cortex | EO2: Primary visual cortex | EP2: Primary visual cortex | EQ2: Primary visual cortex | ER2: Primary visual cortex | ES2: Primary visual cortex | ET2: Primary visual cortex | EU2: Primary visual cortex | EV2: Primary visual cortex | EW2: Primary visual cortex | EX2: Primary visual cortex | EY2: Primary visual cortex | EZ2: Primary visual cortex | FA2: Primary visual cortex | FB2: Primary visual cortex | FC2: Primary visual cortex | FD2: Primary visual cortex | FE2: Primary visual cortex | FF2: Primary visual cortex
A3: Disease State | B3: =IF('Z-score'!B3=" normal","0","1") -> 0 | C3: =IF('Z-score'!C3=" normal","0","1") -> 0 | D3: =IF('Z-score'!D3=" normal","0","1") -> 0 | E3: =IF('Z-score'!E3=" normal","0","1") -> 0 | F3: =IF('Z-score'!F3=" normal","0","1") -> 0 | G3: =IF('Z-score'!G3=" normal","0","1") -> 0 | H3: =IF('Z-score'!H3=" normal","0","1") -> 0 | I3: =IF('Z-score'!I3=" normal","0","1") -> 0 | ... FF3: =IF('Z-score'!FF3=" normal","0","1") -> 1
A4: Sex | B4: M | C4: M | D4: M | E4: M | F4: F | G4: M | H4: M | I4: M | J4: M | K4: F | L4: F | M4: M | N4: M | O4: M | P4: M | Q4: M | R4: F | S4: M | T4: M | U4: M | V4: M | W4: M | X4: F | Y4: F | Z4: M | AA4: M | AB4: M | AC4: M | AD4: F | AE4: M | AF4: M | AG4: M | AH4: M | AI4: F | AJ4: F | AK4: F | AL4: M | AM4: M | AN4: M | AO4: M | AP4: F | AQ4: M | AR4: M | AS4: M | AT4: M | AU4: M | AV4: F | AW4: F | AX4: F | AY4: M | AZ4: M | BA4: M | BB4: F | BC4: F | BD4: F | BE4: F | BF4: M | BG4: M | BH4: M | BI4: M | BJ4: M | BK4: M | BL4: M | BM4: M | BN4: M | BO4: M | BP4: M | BQ4: M | BR4: M | BS4: F | BT4: F | BU4: F | BV4: M | BW4: M | BX4: F | BY4: F | BZ4: F | CA4: M | CB4: F | CC4: F | CD4: F | CE4: M | CF4: M | CG4: M | CH4: M | CI4: F | CJ4: M | CK4: F | CL4: F | CM4: F | CN4: M | CO4: M | CP4: M | CQ4: M | CR4: F | CS4: M | CT4: M | CU4: M | CV4: M | CW4: M | CX4: M | CY4: F | CZ4: M | DA4: F | DB4: F | DC4: M | DD4: F | DE4: M | DF4: M | DG4: F | DH4: F | DI4: M | DJ4: M | DK4: M | DL4: M | DM4: F | DN4: F | DO4: M | DP4: M | DQ4: F | DR4: M | DS4: M | DT4: M | DU4: M | DV4: M | DW4: M | DX4: F | DY4: M | DZ4: F | EA4: F | EB4: F | EC4: F | ED4: F | EE4: F | EF4: M | EG4: M | EH4: F | EI4: M | EJ4: M | EK4: M | EL4: M | EM4: F | EN4: F | EO4: M | EP4: M | EQ4: M | ER4: M | ES4: M | ET4: F | EU4: M | EV4: F | EW4: F | EX4: F | EY4: F | EZ4: M | FA4: M | FB4: F | FC4: M | FD4: M | FE4: M | FF4: F
A5: Age | B5: 63 | C5: 85 | D5: 80 | E5: 80 | F5: 102 | G5: 79 | H5: 76 | I5: 83 | J5: 79 | K5: 88 | L5: 82 | M5: 69 | N5: 78 | O5: 85 days | P5: 80 | Q5: 80 | R5: 102 | S5: 63 | T5: 79 | U5: 76 | V5: 83 | W5: 79 | X5: 88 | Y5: 73 | Z5: 69 | AA5: 78 | AB5: 85 | AC5: 80 | AD5: 102 | AE5: 63 | AF5: 79 | AG5: 83 | AH5: 79 | AI5: 88 | AJ5: 82 | AK5: 73 | AL5: 69 | AM5: 78 | AN5: 85 | AO5: 80 | AP5: 102 | AQ5: 63 | AR5: 79 | AS5: 76 | AT5: 83 | AU5: 79 | AV5: 88 | AW5: 82 | AX5: 73 | AY5: 69 | AZ5: 78 | BA5: 79 | BB5: 88 | BC5: 82 | BD5: 73 | BE5: 102 | BF5: 63 | BG5: 79 | BH5: 76 | BI5: 83 | BJ5: 69 | BK5: 78 | BL5: 85 | BM5: 80 | BN5: 63 | BO5: 79 | BP5: 76 | BQ5: 83 | BR5: 79 | BS5: 88 | BT5: 82 | BU5: 73 | BV5: 69 | BW5: 78 | BX5: 82 | BY5: 86 | BZ5: 93 | CA5: 84 | CB5: 79 | CC5: 78 | CD5: 91 | CE5: 86 | CF5: 97 | CG5: 80 | CH5: 72 | CI5: 73 | CJ5: 75 | CK5: 70 | CL5: 85 | CM5: 77 | CN5: 79 | CO5: 88 | CP5: 81 | CQ5: 78 | CR5: 73 | CS5: 81 | CT5: 72 | CU5: 75 | CV5: 78 | CW5: 75 | CX5: 87 | CY5: >90 | CZ5: 68 | DA5: 81 | DB5: 85 | DC5: 79 | DD5: 82 | DE5: 88 | DF5: 72 | DG5: 80 | DH5: 73 | DI5: 81 | DJ5: 78 | DK5: 75 | DL5: 68 | DM5: 70.8 | DN5: 85 | DO5: 79 | DP5: 88 | DQ5: 73 | DR5: 81 | DS5: 72 | DT5: 75 | DU5: 78 | DV5: 75 | DW5: 87 | DX5: 95 | DY5: 68 | DZ5: 95 | EA5: 70.8 | EB5: 85 | EC5: 83 | ED5: 77 | EE5: 83 | EF5: 68 | EG5: 79 | EH5: 82 | EI5: 80 | EJ5: 88 | EK5: 74 | EL5: 72 | EM5: 80 | EN5: 73 | EO5: 81 | EP5: 75 | EQ5: 78 | ER5: 75 | ES5: 87 | ET5: 95 | EU5: 68 | EV5: >90 | EW5: 81.3 | EX5: 81 | EY5: 85 | EZ5: 79 | FA5: 79 | FB5: 82 | FC5: 88 | FD5: 74 | FE5: 72 | FF5: 80
A6: APOE | B6: =IF('Z-score'!B6<-1,"0",IF('Z-score'!B6>1,"2","1")) -> 1 | C6: =IF('Z-score'!C6<-1,"0",IF('Z-score'!C6>1,"2","1")) -> 1 | D6: =IF('Z-score'!D6<-1,"0",IF('Z-score'!D6>1,"2","1")) -> 2 | E6: =IF('Z-score'!E6<-1,"0",IF('Z-score'!E6>1,"2","1")) -> 2 | F6: =IF('Z-score'!F6<-1,"0",IF('Z-score'!F6>1,"2","1")) -> 1 | G6: =IF('Z-score'!G6<-1,"0",IF('Z-score'!G6>1,"2","1")) -> 1 | H6: =IF('Z-score'!H6<-1,"0",IF('Z-score'!H6>1,"2","1")) -> 2 | I6: =IF('Z-score'!I6<-1,"0",IF('Z-score'!I6>1,"2","1")) -> 1 | ... FF6: =IF('Z-score'!FF6<-1,"0",IF('Z-score'!FF6>1,"2","1")) -> 2
A7: APP | B7: =IF('Z-score'!B7<-1,"0",IF('Z-score'!B7>1,"2","1")) -> 1 | C7: =IF('Z-score'!C7<-1,"0",IF('Z-score'!C7>1,"2","1")) -> 1 | D7: =IF('Z-score'!D7<-1,"0",IF('Z-score'!D7>1,"2","1")) -> 1 | E7: =IF('Z-score'!E7<-1,"0",IF('Z-score'!E7>1,"2","1")) -> 1 | F7: =IF('Z-score'!F7<-1,"0",IF('Z-score'!F7>1,"2","1")) -> 2 | G7: =IF('Z-score'!G7<-1,"0",IF('Z-score'!G7>1,"2","1")) -> 1 | H7: =IF('Z-score'!H7<-1,"0",IF('Z-score'!H7>1,"2","1")) -> 1 | I7: =IF('Z-score'!I7<-1,"0",IF('Z-score'!I7>1,"2","1")) -> 1 | ... FF7: =IF('Z-score'!FF7<-1,"0",IF('Z-score'!FF7>1,"2","1")) -> 0
A8: PSEN1 | B8: =IF('Z-score'!B8<-1,"0",IF('Z-score'!B8>1,"2","1")) -> 1 | C8: =IF('Z-score'!C8<-1,"0",IF('Z-score'!C8>1,"2","1")) -> 1 | D8: =IF('Z-score'!D8<-1,"0",IF('Z-score'!D8>1,"2","1")) -> 1 | E8: =IF('Z-score'!E8<-1,"0",IF('Z-score'!E8>1,"2","1")) -> 1 | F8: =IF('Z-score'!F8<-1,"0",IF('Z-score'!F8>1,"2","1")) -> 1 | G8: =IF('Z-score'!G8<-1,"0",IF('Z-score'!G8>1,"2","1")) -> 1 | H8: =IF('Z-score'!H8<-1,"0",IF('Z-score'!H8>1,"2","1")) -> 1 | I8: =IF('Z-score'!I8<-1,"0",IF('Z-score'!I8>1,"2","1")) -> 1 | ... FF8: =IF('Z-score'!FF8<-1,"0",IF('Z-score'!FF8>1,"2","1")) -> 2
A9: PSEN2 | B9: =IF('Z-score'!B9<-1,"0",IF('Z-score'!B9>1,"2","1")) -> 1 | C9: =IF('Z-score'!C9<-1,"0",IF('Z-score'!C9>1,"2","1")) -> 1 | D9: =IF('Z-score'!D9<-1,"0",IF('Z-score'!D9>1,"2","1")) -> 1 | E9: =IF('Z-score'!E9<-1,"0",IF('Z-score'!E9>1,"2","1")) -> 1 | F9: =IF('Z-score'!F9<-1,"0",IF('Z-score'!F9>1,"2","1")) -> 2 | G9: =IF('Z-score'!G9<-1,"0",IF('Z-score'!G9>1,"2","1")) -> 1 | H9: =IF('Z-score'!H9<-1,"0",IF('Z-score'!H9>1,"2","1")) -> 1 | I9: =IF('Z-score'!I9<-1,"0",IF('Z-score'!I9>1,"2","1")) -> 1 | ... FF9: =IF('Z-score'!FF9<-1,"0",IF('Z-score'!FF9>1,"2","1")) -> 0
