Workbook

Sheet Original Values
A1: ID_REF | B1: GSM663008 | C1: GSM663009 | D1: GSM663010 | E1: GSM663011 | F1: GSM663012 | G1: GSM663013 | H1: GSM663014 | I1: GSM663015 | J1: GSM663016 | K1: GSM663017 | L1: GSM663018 | M1: GSM663019 | N1: GSM663020 | O1: GSM663021 | P1: GSM663022 | Q1: GSM663023 | R1: GSM663024 | S1: GSM663025 | T1: AVG | U1: SD
A2: Alzheimer | B2: Control | C2: Control | D2: Control | E2: Control | F2: Control | G2: Control | H2: Control | I2: Disease | J2: Disease | K2: Disease | L2: Disease | M2: Disease | N2: Disease | O2: Disease | P2: Disease | Q2: Disease | R2: Disease | S2: Disease
A3: BrainRegion | B3: Entorhinal cortex | C3: Entorhinal cortex | D3: Entorhinal cortex | E3: Entorhinal cortex | F3: Entorhinal cortex | G3: Entorhinal cortex | H3: Entorhinal cortex | I3: Entorhinal cortex | J3: Entorhinal cortex | K3: Entorhinal cortex | L3: Entorhinal cortex | M3: Entorhinal cortex | N3: Entorhinal cortex | O3: Entorhinal cortex | P3: Entorhinal cortex | Q3: Entorhinal cortex | R3: Entorhinal cortex | S3: Entorhinal cortex
A4: Sex | B4: M | C4: F | D4: F | E4: M | F4: M | G4: F | H4: F | I4: F | J4: F | K4: F | L4: M | M4: F | N4: M | O4: M | P4: M | Q4: M | R4: M | S4: F
A5: Age | B5: 70 | C5: 73 | D5: 73 | E5: 59 | F5: 40 | G5: 47 | H5: 47 | I5: 82 | J5: 86 | K5: 82 | L5: 93 | M5: 82 | N5: 72 | O5: 85 | P5: 80 | Q5: 79 | R5: 76 | S5: 77
A6: APOE | B6: 10094.027 | C6: 6955.47 | D6: 13255.236 | E6: 9760.98 | F6: 9724.606 | G6: 9467.093 | H6: 7646.712 | I6: 9034.092 | J6: 9868.033 | K6: 9082.434 | L6: 8018.967 | M6: 8383.594 | N6: 9314.284 | O6: 6465.394 | P6: 8483.398 | Q6: 7316.062 | R6: 10899.361 | S6: 11625.821 | T6: =AVERAGE(B6:S6) -> 9188.6424 | U6: =STDEV(B6:S6) -> 1684.3405
A7: APP | B7: 59.732 | C7: 55.167 | D7: 55.273 | E7: 39.279 | F7: 49.8 | G7: 39.577 | H7: 59.261 | I7: 35.35 | J7: 32.652 | K7: 33.791 | L7: 63.148 | M7: 64.624 | N7: 39.517 | O7: 47.782 | P7: 38.022 | Q7: 36.968 | R7: 39.897 | S7: 63.643 | T7: =AVERAGE(B7:S7) -> 47.415722 | U7: =STDEV(B7:S7) -> 11.426865
A8: APP | B8: 2316.386 | C8: 3174.737 | D8: 2731.305 | E8: 1587.906 | F8: 1403.152 | G8: 2351.023 | H8: 1762.108 | I8: 5130.879 | J8: 3184.637 | K8: 1436.285 | L8: 3388.761 | M8: 1277.179 | N8: 1078.18 | O8: 1346.599 | P8: 1383.777 | Q8: 2142.916 | R8: 2170.834 | S8: 1906.076 | T8: =AVERAGE(B8:S8) -> 2209.5967 | U8: =STDEV(B8:S8) -> 1018.0586
A9: PSEN1 | B9: 35.089 | C9: 38.598 | D9: 51.402 | E9: 38.067 | F9: 31.846 | G9: 30.375 | H9: 35.013 | I9: 36.156 | J9: 57.539 | K9: 46.136 | L9: 41.077 | M9: 38.006 | N9: 58.381 | O9: 39.765 | P9: 30.182 | Q9: 39.355 | R9: 39.645 | S9: 18.534 | T9: =AVERAGE(B9:S9) -> 39.175889 | U9: =STDEV(B9:S9) -> 9.6784153
A10: PSEN1 | B10: 44.569 | C10: 34.129 | D10: 27.924 | E10: 44.163 | F10: 42.334 | G10: 57.392 | H10: 68.493 | I10: 70.313 | J10: 72.38 | K10: 45.849 | L10: 39.802 | M10: 60.309 | N10: 42.736 | O10: 25.527 | P10: 48.263 | Q10: 46.535 | R10: 53.036 | S10: 63.87 | T10: =AVERAGE(B10:S10) -> 49.312444 | U10: =STDEV(B10:S10) -> 13.845778
A11: PSEN2 | B11: 504.308 | C11: 724.256 | D11: 626.209 | E11: 818.96 | F11: 666.541 | G11: 749.921 | H11: 651.024 | I11: 643.951 | J11: 545.169 | K11: 562.981 | L11: 573.194 | M11: 531.951 | N11: 760.994 | O11: 853.391 | P11: 873.146 | Q11: 737.851 | R11: 611.773 | S11: 578.444 | T11: =AVERAGE(B11:S11) -> 667.448 | U11: =STDEV(B11:S11) -> 112.94114

Sheet Average
A1: ID_REF | B1: GSM663008 | C1: GSM663009 | D1: GSM663010 | E1: GSM663011 | F1: GSM663012 | G1: GSM663013 | H1: GSM663014 | I1: GSM663015 | J1: GSM663016 | K1: GSM663017 | L1: GSM663018 | M1: GSM663019 | N1: GSM663020 | O1: GSM663021 | P1: GSM663022 | Q1: GSM663023 | R1: GSM663024 | S1: GSM663025
A2: Alzheimer | B2: Control | C2: Control | D2: Control | E2: Control | F2: Control | G2: Control | H2: Control | I2: Disease | J2: Disease | K2: Disease | L2: Disease | M2: Disease | N2: Disease | O2: Disease | P2: Disease | Q2: Disease | R2: Disease | S2: Disease
A3: BrainRegion | B3: Entorhinal cortex | C3: Entorhinal cortex | D3: Entorhinal cortex | E3: Entorhinal cortex | F3: Entorhinal cortex | G3: Entorhinal cortex | H3: Entorhinal cortex | I3: Entorhinal cortex | J3: Entorhinal cortex | K3: Entorhinal cortex | L3: Entorhinal cortex | M3: Entorhinal cortex | N3: Entorhinal cortex | O3: Entorhinal cortex | P3: Entorhinal cortex | Q3: Entorhinal cortex | R3: Entorhinal cortex | S3: Entorhinal cortex
A4: Sex | B4: M | C4: F | D4: F | E4: M | F4: M | G4: F | H4: F | I4: F | J4: F | K4: F | L4: M | M4: F | N4: M | O4: M | P4: M | Q4: M | R4: M | S4: F
A5: Age | B5: 70 | C5: 73 | D5: 73 | E5: 59 | F5: 40 | G5: 47 | H5: 47 | I5: 82 | J5: 86 | K5: 82 | L5: 93 | M5: 82 | N5: 72 | O5: 85 | P5: 80 | Q5: 79 | R5: 76 | S5: 77
A6: APOE | B6: 9188.6424 | C6: 9188.6424 | D6: 9188.6424 | E6: 9188.6424 | F6: 9188.6424 | G6: 9188.6424 | H6: 9188.6424 | I6: 9188.6424 | J6: 9188.6424 | K6: 9188.6424 | L6: 9188.6424 | M6: 9188.6424 | N6: 9188.6424 | O6: 9188.6424 | P6: 9188.6424 | Q6: 9188.6424 | R6: 9188.6424 | S6: 9188.6424
A7: APP | B7: 47.415722 | C7: 47.415722 | D7: 47.415722 | E7: 47.415722 | F7: 47.415722 | G7: 47.415722 | H7: 47.415722 | I7: 47.415722 | J7: 47.415722 | K7: 47.415722 | L7: 47.415722 | M7: 47.415722 | N7: 47.415722 | O7: 47.415722 | P7: 47.415722 | Q7: 47.415722 | R7: 47.415722 | S7: 47.415722
A8: APP | B8: 2209.5967 | C8: 2209.5967 | D8: 2209.5967 | E8: 2209.5967 | F8: 2209.5967 | G8: 2209.5967 | H8: 2209.5967 | I8: 2209.5967 | J8: 2209.5967 | K8: 2209.5967 | L8: 2209.5967 | M8: 2209.5967 | N8: 2209.5967 | O8: 2209.5967 | P8: 2209.5967 | Q8: 2209.5967 | R8: 2209.5967 | S8: 2209.5967
A9: PSEN1 | B9: 39.175889 | C9: 39.175889 | D9: 39.175889 | E9: 39.175889 | F9: 39.175889 | G9: 39.175889 | H9: 39.175889 | I9: 39.175889 | J9: 39.175889 | K9: 39.175889 | L9: 39.175889 | M9: 39.175889 | N9: 39.175889 | O9: 39.175889 | P9: 39.175889 | Q9: 39.175889 | R9: 39.175889 | S9: 39.175889
A10: PSEN1 | B10: 49.312444 | C10: 49.312444 | D10: 49.312444 | E10: 49.312444 | F10: 49.312444 | G10: 49.312444 | H10: 49.312444 | I10: 49.312444 | J10: 49.312444 | K10: 49.312444 | L10: 49.312444 | M10: 49.312444 | N10: 49.312444 | O10: 49.312444 | P10: 49.312444 | Q10: 49.312444 | R10: 49.312444 | S10: 49.312444
A11: PSEN2 | B11: 667.448 | C11: 667.448 | D11: 667.448 | E11: 667.448 | F11: 667.448 | G11: 667.448 | H11: 667.448 | I11: 667.448 | J11: 667.448 | K11: 667.448 | L11: 667.448 | M11: 667.448 | N11: 667.448 | O11: 667.448 | P11: 667.448 | Q11: 667.448 | R11: 667.448 | S11: 667.448

Sheet SD
A1: ID_REF | B1: GSM663008 | C1: GSM663009 | D1: GSM663010 | E1: GSM663011 | F1: GSM663012 | G1: GSM663013 | H1: GSM663014 | I1: GSM663015 | J1: GSM663016 | K1: GSM663017 | L1: GSM663018 | M1: GSM663019 | N1: GSM663020 | O1: GSM663021 | P1: GSM663022 | Q1: GSM663023 | R1: GSM663024 | S1: GSM663025
A2: Alzheimer | B2: Control | C2: Control | D2: Control | E2: Control | F2: Control | G2: Control | H2: Control | I2: Disease | J2: Disease | K2: Disease | L2: Disease | M2: Disease | N2: Disease | O2: Disease | P2: Disease | Q2: Disease | R2: Disease | S2: Disease
A3: BrainRegion | B3: Entorhinal cortex | C3: Entorhinal cortex | D3: Entorhinal cortex | E3: Entorhinal cortex | F3: Entorhinal cortex | G3: Entorhinal cortex | H3: Entorhinal cortex | I3: Entorhinal cortex | J3: Entorhinal cortex | K3: Entorhinal cortex | L3: Entorhinal cortex | M3: Entorhinal cortex | N3: Entorhinal cortex | O3: Entorhinal cortex | P3: Entorhinal cortex | Q3: Entorhinal cortex | R3: Entorhinal cortex | S3: Entorhinal cortex
A4: Sex | B4: M | C4: F | D4: F | E4: M | F4: M | G4: F | H4: F | I4: F | J4: F | K4: F | L4: M | M4: F | N4: M | O4: M | P4: M | Q4: M | R4: M | S4: F
A5: Age | B5: 70 | C5: 73 | D5: 73 | E5: 59 | F5: 40 | G5: 47 | H5: 47 | I5: 82 | J5: 86 | K5: 82 | L5: 93 | M5: 82 | N5: 72 | O5: 85 | P5: 80 | Q5: 79 | R5: 76 | S5: 77
A6: APOE | B6: 1684.3405 | C6: 1684.3405 | D6: 1684.3405 | E6: 1684.3405 | F6: 1684.3405 | G6: 1684.3405 | H6: 1684.3405 | I6: 1684.3405 | J6: 1684.3405 | K6: 1684.3405 | L6: 1684.3405 | M6: 1684.3405 | N6: 1684.3405 | O6: 1684.3405 | P6: 1684.3405 | Q6: 1684.3405 | R6: 1684.3405 | S6: 1684.3405
A7: APP | B7: 11.426865 | C7: 11.426865 | D7: 11.426865 | E7: 11.426865 | F7: 11.426865 | G7: 11.426865 | H7: 11.426865 | I7: 11.426865 | J7: 11.426865 | K7: 11.426865 | L7: 11.426865 | M7: 11.426865 | N7: 11.426865 | O7: 11.426865 | P7: 11.426865 | Q7: 11.426865 | R7: 11.426865 | S7: 11.426865
A8: APP | B8: 1018.0586 | C8: 1018.0586 | D8: 1018.0586 | E8: 1018.0586 | F8: 1018.0586 | G8: 1018.0586 | H8: 1018.0586 | I8: 1018.0586 | J8: 1018.0586 | K8: 1018.0586 | L8: 1018.0586 | M8: 1018.0586 | N8: 1018.0586 | O8: 1018.0586 | P8: 1018.0586 | Q8: 1018.0586 | R8: 1018.0586 | S8: 1018.0586
A9: PSEN1 | B9: 9.6784153 | C9: 9.6784153 | D9: 9.6784153 | E9: 9.6784153 | F9: 9.6784153 | G9: 9.6784153 | H9: 9.6784153 | I9: 9.6784153 | J9: 9.6784153 | K9: 9.6784153 | L9: 9.6784153 | M9: 9.6784153 | N9: 9.6784153 | O9: 9.6784153 | P9: 9.6784153 | Q9: 9.6784153 | R9: 9.6784153 | S9: 9.6784153
A10: PSEN1 | B10: 13.845778 | C10: 13.845778 | D10: 13.845778 | E10: 13.845778 | F10: 13.845778 | G10: 13.845778 | H10: 13.845778 | I10: 13.845778 | J10: 13.845778 | K10: 13.845778 | L10: 13.845778 | M10: 13.845778 | N10: 13.845778 | O10: 13.845778 | P10: 13.845778 | Q10: 13.845778 | R10: 13.845778 | S10: 13.845778
A11: PSEN2 | B11: 112.94114 | C11: 112.94114 | D11: 112.94114 | E11: 112.94114 | F11: 112.94114 | G11: 112.94114 | H11: 112.94114 | I11: 112.94114 | J11: 112.94114 | K11: 112.94114 | L11: 112.94114 | M11: 112.94114 | N11: 112.94114 | O11: 112.94114 | P11: 112.94114 | Q11: 112.94114 | R11: 112.94114 | S11: 112.94114

Sheet Z-score
A1: ID_REF | B1: GSM663008 | C1: GSM663009 | D1: GSM663010 | E1: GSM663011 | F1: GSM663012 | G1: GSM663013 | H1: GSM663014 | I1: GSM663015 | J1: GSM663016 | K1: GSM663017 | L1: GSM663018 | M1: GSM663019 | N1: GSM663020 | O1: GSM663021 | P1: GSM663022 | Q1: GSM663023 | R1: GSM663024 | S1: GSM663025
A2: Alzheimer | B2: Control | C2: Control | D2: Control | E2: Control | F2: Control | G2: Control | H2: Control | I2: Disease | J2: Disease | K2: Disease | L2: Disease | M2: Disease | N2: Disease | O2: Disease | P2: Disease | Q2: Disease | R2: Disease | S2: Disease
A3: BrainRegion | B3: Entorhinal cortex | C3: Entorhinal cortex | D3: Entorhinal cortex | E3: Entorhinal cortex | F3: Entorhinal cortex | G3: Entorhinal cortex | H3: Entorhinal cortex | I3: Entorhinal cortex | J3: Entorhinal cortex | K3: Entorhinal cortex | L3: Entorhinal cortex | M3: Entorhinal cortex | N3: Entorhinal cortex | O3: Entorhinal cortex | P3: Entorhinal cortex | Q3: Entorhinal cortex | R3: Entorhinal cortex | S3: Entorhinal cortex
A4: Sex | B4: M | C4: F | D4: F | E4: M | F4: M | G4: F | H4: F | I4: F | J4: F | K4: F | L4: M | M4: F | N4: M | O4: M | P4: M | Q4: M | R4: M | S4: F
A5: Age | B5: 70 | C5: 73 | D5: 73 | E5: 59 | F5: 40 | G5: 47 | H5: 47 | I5: 82 | J5: 86 | K5: 82 | L5: 93 | M5: 82 | N5: 72 | O5: 85 | P5: 80 | Q5: 79 | R5: 76 | S5: 77
A6: APOE | B6: =('Original Values'!B6-Average!B6)/SD!B6 -> 0.5375306 | C6: =('Original Values'!C6-Average!C6)/SD!C6 -> -1.3258438 | D6: =('Original Values'!D6-Average!D6)/SD!D6 -> 2.4143536 | E6: =('Original Values'!E6-Average!E6)/SD!E6 -> 0.3397992 | F6: =('Original Values'!F6-Average!F6)/SD!F6 -> 0.31820381 | G6: =('Original Values'!G6-Average!G6)/SD!G6 -> 0.16531726 | H6: =('Original Values'!H6-Average!H6)/SD!H6 -> -0.91545056 | I6: =('Original Values'!I6-Average!I6)/SD!I6 -> -0.091757246 | ... S6: =('Original Values'!S6-Average!S6)/SD!S6 -> 1.4469631
A7: APP | B7: =('Original Values'!B7-Average!B7)/SD!B7 -> 1.0778352 | C7: =('Original Values'!C7-Average!C7)/SD!C7 -> 0.67833808 | D7: =('Original Values'!D7-Average!D7)/SD!D7 -> 0.68761446 | E7: =('Original Values'!E7-Average!E7)/SD!E7 -> -0.7120695 | F7: =('Original Values'!F7-Average!F7)/SD!F7 -> 0.20865546 | G7: =('Original Values'!G7-Average!G7)/SD!G7 -> -0.68599061 | H7: =('Original Values'!H7-Average!H7)/SD!H7 -> 1.0366166 | I7: =('Original Values'!I7-Average!I7)/SD!I7 -> -1.0559083 | ... S7: =('Original Values'!S7-Average!S7)/SD!S7 -> 1.4200988
A8: APP | B8: =('Original Values'!B8-Average!B8)/SD!B8 -> 0.10489508 | C8: =('Original Values'!C8-Average!C8)/SD!C8 -> 0.94802042 | D8: =('Original Values'!D8-Average!D8)/SD!D8 -> 0.51245414 | E8: =('Original Values'!E8-Average!E8)/SD!E8 -> -0.61066296 | F8: =('Original Values'!F8-Average!F8)/SD!F8 -> -0.79213974 | G8: =('Original Values'!G8-Average!G8)/SD!G8 -> 0.13891768 | H8: =('Original Values'!H8-Average!H8)/SD!H8 -> -0.439551 | I8: =('Original Values'!I8-Average!I8)/SD!I8 -> 2.8694639 | ... S8: =('Original Values'!S8-Average!S8)/SD!S8 -> -0.29813674
A9: PSEN1 | B9: =('Original Values'!B9-Average!B9)/SD!B9 -> -0.42226839 | C9: =('Original Values'!C9-Average!C9)/SD!C9 -> -0.05970904 | D9: =('Original Values'!D9-Average!D9)/SD!D9 -> 1.2632348 | E9: =('Original Values'!E9-Average!E9)/SD!E9 -> -0.11457339 | F9: =('Original Values'!F9-Average!F9)/SD!F9 -> -0.75734391 | G9: =('Original Values'!G9-Average!G9)/SD!G9 -> -0.9093316 | H9: =('Original Values'!H9-Average!H9)/SD!H9 -> -0.43012092 | I9: =('Original Values'!I9-Average!I9)/SD!I9 -> -0.31202307 | ... S9: =('Original Values'!S9-Average!S9)/SD!S9 -> -2.1327757
A10: PSEN1 | B10: =('Original Values'!B10-Average!B10)/SD!B10 -> -0.3425914 | C10: =('Original Values'!C10-Average!C10)/SD!C10 -> -1.0966119 | D10: =('Original Values'!D10-Average!D10)/SD!D10 -> -1.5447629 | E10: =('Original Values'!E10-Average!E10)/SD!E10 -> -0.37191441 | F10: =('Original Values'!F10-Average!F10)/SD!F10 -> -0.50401244 | G10: =('Original Values'!G10-Average!G10)/SD!G10 -> 0.58353929 | H10: =('Original Values'!H10-Average!H10)/SD!H10 -> 1.3852999 | I10: =('Original Values'!I10-Average!I10)/SD!I10 -> 1.516748 | ... S10: =('Original Values'!S10-Average!S10)/SD!S10 -> 1.0514075
A11: PSEN2 | B11: =('Original Values'!B11-Average!B11)/SD!B11 -> -1.4444693 | C11: =('Original Values'!C11-Average!C11)/SD!C11 -> 0.50298768 | D11: =('Original Values'!D11-Average!D11)/SD!D11 -> -0.36513711 | E11: =('Original Values'!E11-Average!E11)/SD!E11 -> 1.341513 | F11: =('Original Values'!F11-Average!F11)/SD!F11 -> -0.008030732 | G11: =('Original Values'!G11-Average!G11)/SD!G11 -> 0.73022994 | H11: =('Original Values'!H11-Average!H11)/SD!H11 -> -0.14542088 | I11: =('Original Values'!I11-Average!I11)/SD!I11 -> -0.20804643 | ... S11: =('Original Values'!S11-Average!S11)/SD!S11 -> -0.78805653

Sheet Descritized
A1: ID_REF | B1: GSM663008 | C1: GSM663009 | D1: GSM663010 | E1: GSM663011 | F1: GSM663012 | G1: GSM663013 | H1: GSM663014 | I1: GSM663015 | J1: GSM663016 | K1: GSM663017 | L1: GSM663018 | M1: GSM663019 | N1: GSM663020 | O1: GSM663021 | P1: GSM663022 | Q1: GSM663023 | R1: GSM663024 | S1: GSM663025
A2: Alzheimer | B2: =IF('Z-score'!B2="Control","0","1") -> 0 | C2: =IF('Z-score'!C2="Control","0","1") -> 0 | D2: =IF('Z-score'!D2="Control","0","1") -> 0 | E2: =IF('Z-score'!E2="Control","0","1") -> 0 | F2: =IF('Z-score'!F2="Control","0","1") -> 0 | G2: =IF('Z-score'!G2="Control","0","1") -> 0 | H2: =IF('Z-score'!H2="Control","0","1") -> 0 | I2: =IF('Z-score'!I2="Control","0","1") -> 1 | ... S2: =IF('Z-score'!S2="Control","0","1") -> 1
A3: BrainRegion | B3: Entorhinal cortex | C3: Entorhinal cortex | D3: Entorhinal cortex | E3: Entorhinal cortex | F3: Entorhinal cortex | G3: Entorhinal cortex | H3: Entorhinal cortex | I3: Entorhinal cortex | J3: Entorhinal cortex | K3: Entorhinal cortex | L3: Entorhinal cortex | M3: Entorhinal cortex | N3: Entorhinal cortex | O3: Entorhinal cortex | P3: Entorhinal cortex | Q3: Entorhinal cortex | R3: Entorhinal cortex | S3: Entorhinal cortex
A4: Sex | B4: M | C4: F | D4: F | E4: M | F4: M | G4: F | H4: F | I4: F | J4: F | K4: F | L4: M | M4: F | N4: M | O4: M | P4: M | Q4: M | R4: M | S4: F
A5: Age | B5: 70 | C5: 73 | D5: 73 | E5: 59 | F5: 40 | G5: 47 | H5: 47 | I5: 82 | J5: 86 | K5: 82 | L5: 93 | M5: 82 | N5: 72 | O5: 85 | P5: 80 | Q5: 79 | R5: 76 | S5: 77
A6: APOE | B6: =IF('Z-score'!B6<-1,"0",IF('Z-score'!B6>1,"2","1")) -> 1 | C6: =IF('Z-score'!C6<-1,"0",IF('Z-score'!C6>1,"2","1")) -> 0 | D6: =IF('Z-score'!D6<-1,"0",IF('Z-score'!D6>1,"2","1")) -> 2 | E6: =IF('Z-score'!E6<-1,"0",IF('Z-score'!E6>1,"2","1")) -> 1 | F6: =IF('Z-score'!F6<-1,"0",IF('Z-score'!F6>1,"2","1")) -> 1 | G6: =IF('Z-score'!G6<-1,"0",IF('Z-score'!G6>1,"2","1")) -> 1 | H6: =IF('Z-score'!H6<-1,"0",IF('Z-score'!H6>1,"2","1")) -> 1 | I6: =IF('Z-score'!I6<-1,"0",IF('Z-score'!I6>1,"2","1")) -> 1 | ... S6: =IF('Z-score'!S6<-1,"0",IF('Z-score'!S6>1,"2","1")) -> 2
A7: APP | B7: =IF('Z-score'!B7<-1,"0",IF('Z-score'!B7>1,"2","1")) -> 2 | C7: =IF('Z-score'!C7<-1,"0",IF('Z-score'!C7>1,"2","1")) -> 1 | D7: =IF('Z-score'!D7<-1,"0",IF('Z-score'!D7>1,"2","1")) -> 1 | E7: =IF('Z-score'!E7<-1,"0",IF('Z-score'!E7>1,"2","1")) -> 1 | F7: =IF('Z-score'!F7<-1,"0",IF('Z-score'!F7>1,"2","1")) -> 1 | G7: =IF('Z-score'!G7<-1,"0",IF('Z-score'!G7>1,"2","1")) -> 1 | H7: =IF('Z-score'!H7<-1,"0",IF('Z-score'!H7>1,"2","1")) -> 2 | I7: =IF('Z-score'!I7<-1,"0",IF('Z-score'!I7>1,"2","1")) -> 0 | ... S7: =IF('Z-score'!S7<-1,"0",IF('Z-score'!S7>1,"2","1")) -> 2
A8: APP | B8: =IF('Z-score'!B8<-1,"0",IF('Z-score'!B8>1,"2","1")) -> 1 | C8: =IF('Z-score'!C8<-1,"0",IF('Z-score'!C8>1,"2","1")) -> 1 | D8: =IF('Z-score'!D8<-1,"0",IF('Z-score'!D8>1,"2","1")) -> 1 | E8: =IF('Z-score'!E8<-1,"0",IF('Z-score'!E8>1,"2","1")) -> 1 | F8: =IF('Z-score'!F8<-1,"0",IF('Z-score'!F8>1,"2","1")) -> 1 | G8: =IF('Z-score'!G8<-1,"0",IF('Z-score'!G8>1,"2","1")) -> 1 | H8: =IF('Z-score'!H8<-1,"0",IF('Z-score'!H8>1,"2","1")) -> 1 | I8: =IF('Z-score'!I8<-1,"0",IF('Z-score'!I8>1,"2","1")) -> 2 | ... S8: =IF('Z-score'!S8<-1,"0",IF('Z-score'!S8>1,"2","1")) -> 1
A9: PSEN1 | B9: =IF('Z-score'!B9<-1,"0",IF('Z-score'!B9>1,"2","1")) -> 1 | C9: =IF('Z-score'!C9<-1,"0",IF('Z-score'!C9>1,"2","1")) -> 1 | D9: =IF('Z-score'!D9<-1,"0",IF('Z-score'!D9>1,"2","1")) -> 2 | E9: =IF('Z-score'!E9<-1,"0",IF('Z-score'!E9>1,"2","1")) -> 1 | F9: =IF('Z-score'!F9<-1,"0",IF('Z-score'!F9>1,"2","1")) -> 1 | G9: =IF('Z-score'!G9<-1,"0",IF('Z-score'!G9>1,"2","1")) -> 1 | H9: =IF('Z-score'!H9<-1,"0",IF('Z-score'!H9>1,"2","1")) -> 1 | I9: =IF('Z-score'!I9<-1,"0",IF('Z-score'!I9>1,"2","1")) -> 1 | ... S9: =IF('Z-score'!S9<-1,"0",IF('Z-score'!S9>1,"2","1")) -> 0
A10: PSEN1 | B10: =IF('Z-score'!B10<-1,"0",IF('Z-score'!B10>1,"2","1")) -> 1 | C10: =IF('Z-score'!C10<-1,"0",IF('Z-score'!C10>1,"2","1")) -> 0 | D10: =IF('Z-score'!D10<-1,"0",IF('Z-score'!D10>1,"2","1")) -> 0 | E10: =IF('Z-score'!E10<-1,"0",IF('Z-score'!E10>1,"2","1")) -> 1 | F10: =IF('Z-score'!F10<-1,"0",IF('Z-score'!F10>1,"2","1")) -> 1 | G10: =IF('Z-score'!G10<-1,"0",IF('Z-score'!G10>1,"2","1")) -> 1 | H10: =IF('Z-score'!H10<-1,"0",IF('Z-score'!H10>1,"2","1")) -> 2 | I10: =IF('Z-score'!I10<-1,"0",IF('Z-score'!I10>1,"2","1")) -> 2 | ... S10: =IF('Z-score'!S10<-1,"0",IF('Z-score'!S10>1,"2","1")) -> 2
A11: PSEN2 | B11: =IF('Z-score'!B11<-1,"0",IF('Z-score'!B11>1,"2","1")) -> 0 | C11: =IF('Z-score'!C11<-1,"0",IF('Z-score'!C11>1,"2","1")) -> 1 | D11: =IF('Z-score'!D11<-1,"0",IF('Z-score'!D11>1,"2","1")) -> 1 | E11: =IF('Z-score'!E11<-1,"0",IF('Z-score'!E11>1,"2","1")) -> 2 | F11: =IF('Z-score'!F11<-1,"0",IF('Z-score'!F11>1,"2","1")) -> 1 | G11: =IF('Z-score'!G11<-1,"0",IF('Z-score'!G11>1,"2","1")) -> 1 | H11: =IF('Z-score'!H11<-1,"0",IF('Z-score'!H11>1,"2","1")) -> 1 | I11: =IF('Z-score'!I11<-1,"0",IF('Z-score'!I11>1,"2","1")) -> 1 | ... S11: =IF('Z-score'!S11<-1,"0",IF('Z-score'!S11>1,"2","1")) -> 1
