Workbook

Sheet Original
A1: ID_REF | B1: GSM907792 | C1: GSM907793 | D1: GSM907794 | E1: GSM907795 | F1: GSM907796 | G1: GSM907797 | H1: GSM907798 | I1: GSM907799 | J1: GSM907800 | K1: GSM907801 | L1: GSM907802 | M1: GSM907803 | N1: GSM907804 | O1: GSM907805 | P1: GSM907806 | Q1: GSM907807 | R1: GSM907808 | S1: GSM907809 | T1: GSM907810 | U1: GSM907811 | V1: GSM907812 | W1: GSM907813 | X1: GSM907814 | Y1: GSM907815 | Z1: GSM907816 | AA1: GSM907817 | AB1: GSM907818 | AC1: GSM907819 | AD1: GSM907820 | AE1: GSM907821 | AF1: GSM907822 | AG1: GSM907823 | AH1: GSM907824 | AI1: GSM907825 | AJ1: GSM907826 | AK1: GSM907827 | AL1: GSM907828 | AM1: GSM907829 | AN1: GSM907830 | AO1: GSM907831 | AP1: GSM907832 | AQ1: GSM907833 | AR1: GSM907834 | AS1: GSM907835 | AT1: GSM907836 | AU1: GSM907837 | AV1: GSM907838 | AW1: GSM907839 | AX1: GSM907840 | AY1: GSM907841 | AZ1: GSM907842 | BA1: GSM907843 | BB1: GSM907844 | BC1: GSM907845 | BD1: GSM907846 | BE1: GSM907847 | BF1: GSM907848 | BG1: GSM907849 | BH1: GSM907850 | BI1: GSM907851 | BJ1: GSM907852 | BK1: GSM907853 | BL1: GSM907854 | BM1: GSM907855 | BN1: GSM907856 | BO1: GSM907857 | BP1: GSM907858 | BQ1: GSM907859 | BR1: GSM907860 | BS1: GSM907861 | BT1: GSM907862 | BU1: GSM907863 | BV1: GSM907864 | BW1: GSM907865 | BX1: GSM907866 | BY1: GSM907867 | BZ1: GSM907868 | CA1: GSM907869 | CB1: GSM907870 | CC1: Avg | CD1: SD
A2: Alzheimer | B2: AD brain | C2: AD brain | D2: AD brain | E2: AD brain | F2: AD brain | G2: AD brain | H2: AD brain | I2: AD brain | J2: AD brain | K2: AD brain | L2: AD brain | M2: AD brain | N2: AD brain | O2: AD brain | P2: AD brain | Q2: non-AD brain | R2: non-AD brain | S2: non-AD brain | T2: non-AD brain | U2: non-AD brain | V2: non-AD brain | W2: non-AD brain | X2: non-AD brain | Y2: non-AD brain | Z2: non-AD brain | AA2: non-AD brain | AB2: non-AD brain | AC2: non-AD brain | AD2: non-AD brain | AE2: non-AD brain | AF2: non-AD brain | AG2: non-AD brain | AH2: non-AD brain | AI2: AD brain | AJ2: AD brain | AK2: AD brain | AL2: AD brain | AM2: AD brain | AN2: AD brain | AO2: AD brain | AP2: AD brain | AQ2: AD brain | AR2: AD brain | AS2: non-AD brain | AT2: non-AD brain | AU2: non-AD brain | AV2: non-AD brain | AW2: non-AD brain | AX2: non-AD brain | AY2: non-AD brain | AZ2: non-AD brain | BA2: non-AD brain | BB2: non-AD brain | BC2: non-AD brain | BD2: non-AD brain | BE2: non-AD brain | BF2: non-AD brain | BG2: non-AD brain | BH2: non-AD brain | BI2: non-AD brain | BJ2: non-AD brain | BK2: non-AD brain | BL2: AD brain | BM2: AD brain | BN2: AD brain | BO2: AD brain | BP2: AD brain | BQ2: AD brain | BR2: AD brain | BS2: non-AD brain | BT2: non-AD brain | BU2: non-AD brain | BV2: non-AD brain | BW2: non-AD brain | BX2: non-AD brain | BY2: non-AD brain | BZ2: non-AD brain | CA2: non-AD brain | CB2: non-AD brain
A3: Region | B3: Frontal cortex | C3: Frontal cortex | D3: Frontal cortex | E3: Frontal cortex | F3: Frontal cortex | G3: Frontal cortex | H3: Frontal cortex | I3: Frontal cortex | J3: Frontal cortex | K3: Frontal cortex | L3: Frontal cortex | M3: Frontal cortex | N3: Frontal cortex | O3: Frontal cortex | P3: Frontal cortex | Q3: Frontal cortex | R3: Frontal cortex | S3: Frontal cortex | T3: Frontal cortex | U3: Frontal cortex | V3: Frontal cortex | W3: Frontal cortex | X3: Frontal cortex | Y3: Frontal cortex | Z3: Frontal cortex | AA3: Frontal cortex | AB3: Frontal cortex | AC3: Frontal cortex | AD3: Frontal cortex | AE3: Frontal cortex | AF3: Frontal cortex | AG3: Frontal cortex | AH3: Frontal cortex | AI3: Temporal cortex | AJ3: Temporal cortex | AK3: Temporal cortex | AL3: Temporal cortex | AM3: Temporal cortex | AN3: Temporal cortex | AO3: Temporal cortex | AP3: Temporal cortex | AQ3: Temporal cortex | AR3: Temporal cortex | AS3: Temporal cortex | AT3: Temporal cortex | AU3: Temporal cortex | AV3: Temporal cortex | AW3: Temporal cortex | AX3: Temporal cortex | AY3: Temporal cortex | AZ3: Temporal cortex | BA3: Temporal cortex | BB3: Temporal cortex | BC3: Temporal cortex | BD3: Temporal cortex | BE3: Temporal cortex | BF3: Temporal cortex | BG3: Temporal cortex | BH3: Temporal cortex | BI3: Temporal cortex | BJ3: Temporal cortex | BK3: Temporal cortex | BL3: Hippocampus | BM3: Hippocampus | BN3: Hippocampus | BO3: Hippocampus | BP3: Hippocampus | BQ3: Hippocampus | BR3: Hippocampus | BS3: Hippocampus | BT3: Hippocampus | BU3: Hippocampus | BV3: Hippocampus | BW3: Hippocampus | BX3: Hippocampus | BY3: Hippocampus | BZ3: Hippocampus | CA3: Hippocampus | CB3: Hippocampus
A4: Age | B4: 84 | C4: 105 | D4: 88 | E4: 88 | F4: 91 | G4: 95 | H4: 92 | I4: 95 | J4: 101 | K4: 94 | L4: 89 | M4: 100 | N4: 99 | O4: 83 | P4: 90 | Q4: 80 | R4: 77 | S4: 87 | T4: 80 | U4: 84 | V4: 86 | W4: 77 | X4: 55 | Y4: 72 | Z4: 82 | AA4: 78 | AB4: 83 | AC4: 80 | AD4: 89 | AE4: 100 | AF4: 77 | AG4: 74 | AH4: 81 | AI4: 84 | AJ4: 88 | AK4: 95 | AL4: 88 | AM4: 91 | AN4: 95 | AO4: 95 | AP4: 89 | AQ4: 83 | AR4: 90 | AS4: 77 | AT4: 87 | AU4: 80 | AV4: 84 | AW4: 77 | AX4: 55 | AY4: 72 | AZ4: 89 | BA4: 82 | BB4: 78 | BC4: 83 | BD4: 80 | BE4: 75 | BF4: 89 | BG4: 65 | BH4: 71 | BI4: 74 | BJ4: 86 | BK4: 54 | BL4: 88 | BM4: 95 | BN4: 95 | BO4: 100 | BP4: 99 | BQ4: 83 | BR4: 90 | BS4: 87 | BT4: 80 | BU4: 84 | BV4: 77 | BW4: 55 | BX4: 72 | BY4: 78 | BZ4: 83 | CA4: 80 | CB4: 74
A5: Sex | B5: M | C5: F | D5: F | E5: M | F5: F | G5: F | H5: F | I5: F | J5: F | K5: M | L5: M | M5: F | N5: M | O5: M | P5: M | Q5: M | R5: F | S5: F | T5: F | U5: F | V5: F | W5: M | X5: M | Y5: F | Z5: M | AA5: F | AB5: M | AC5: M | AD5: M | AE5: F | AF5: M | AG5: M | AH5: F | AI5: M | AJ5: F | AK5: F | AL5: M | AM5: F | AN5: F | AO5: F | AP5: M | AQ5: M | AR5: M | AS5: F | AT5: F | AU5: F | AV5: F | AW5: M | AX5: M | AY5: F | AZ5: M | BA5: M | BB5: F | BC5: M | BD5: M | BE5: F | BF5: M | BG5: F | BH5: F | BI5: M | BJ5: F | BK5: F | BL5: F | BM5: F | BN5: F | BO5: F | BP5: M | BQ5: M | BR5: M | BS5: F | BT5: F | BU5: F | BV5: M | BW5: M | BX5: F | BY5: F | BZ5: M | CA5: M | CB5: M
A6: APOE | B6: 9.5621 | C6: 9.47423 | D6: 9.21484 | E6: 9.4219 | F6: 9.4176 | G6: 10.2847 | H6: 9.57425 | I6: 9.52989 | J6: 9.54722 | K6: 9.26659 | L6: 9.55472 | M6: 9.32075 | N6: 9.27694 | O6: 9.47417 | P6: 9.65396 | Q6: 9.35173 | R6: 9.62571 | S6: 9.63923 | T6: 8.90356 | U6: 9.5828 | V6: 9.59635 | W6: 9.37168 | X6: 9.37483 | Y6: 10.878 | Z6: 9.33216 | AA6: 9.24541 | AB6: 9.40147 | AC6: 9.30626 | AD6: 9.19447 | AE6: 9.36374 | AF6: 9.29854 | AG6: 9.4547 | AH6: 9.82474 | AI6: 10.48 | AJ6: 9.94247 | AK6: 10.9946 | AL6: 10.0984 | AM6: 9.98093 | AN6: 10.0474 | AO6: 10.2103 | AP6: 10.431 | AQ6: 10.1 | AR6: 9.98049 | AS6: 10.1402 | AT6: 10.1141 | AU6: 9.85888 | AV6: 10.0708 | AW6: 10.0757 | AX6: 10.1542 | AY6: 11.1562 | AZ6: 10.1164 | BA6: 10.4066 | BB6: 10.3458 | BC6: 9.92939 | BD6: 9.4005 | BE6: 10.1064 | BF6: 9.90443 | BG6: 9.97127 | BH6: 10.2307 | BI6: 10.0895 | BJ6: 10.2383 | BK6: 10.0467 | BL6: 10.3011 | BM6: 10.3017 | BN6: 10.238 | BO6: 10.3118 | BP6: 10.4258 | BQ6: 9.96288 | BR6: 10.1994 | BS6: 10.3239 | BT6: 9.78602 | BU6: 10.1993 | BV6: 9.99153 | BW6: 9.97523 | BX6: 10.9584 | BY6: 10.1311 | BZ6: 10.1204 | CA6: 10.2842 | CB6: 10.0033 | CC6: =AVERAGE(B6:CB6) -> 9.8918349 | CD6: =STDEV(B6:CB6) -> 0.46184631
A7: APP | B7: 12.5705 | C7: 12.3525 | D7: 12.3105 | E7: 12.3874 | F7: 12.437 | G7: 12.2914 | H7: 12.1023 | I7: 12.4783 | J7: 12.4708 | K7: 12.2481 | L7: 12.4377 | M7: 12.4682 | N7: 12.5886 | O7: 12.5015 | P7: 12.5644 | Q7: 12.5598 | R7: 12.5045 | S7: 12.5274 | T7: 12.4985 | U7: 12.5344 | V7: 12.3819 | W7: 12.6041 | X7: 12.649 | Y7: 12.2878 | Z7: 12.573 | AA7: 12.5255 | AB7: 12.5643 | AC7: 12.6578 | AD7: 12.56 | AE7: 12.3929 | AF7: 12.5896 | AG7: 12.5242 | AH7: 12.4965 | AI7: 12.4697 | AJ7: 12.7699 | AK7: 12.4235 | AL7: 12.5688 | AM7: 12.4976 | AN7: 12.6052 | AO7: 12.4548 | AP7: 12.6667 | AQ7: 12.6375 | AR7: 12.8181 | AS7: 12.8039 | AT7: 12.7772 | AU7: 12.7921 | AV7: 12.8291 | AW7: 12.7854 | AX7: 12.7045 | AY7: 12.6224 | AZ7: 12.6585 | BA7: 12.7272 | BB7: 12.6785 | BC7: 12.6691 | BD7: 12.7239 | BE7: 12.7307 | BF7: 12.6785 | BG7: 12.5385 | BH7: 12.7282 | BI7: 12.6768 | BJ7: 12.6699 | BK7: 12.6928 | BL7: 12.4872 | BM7: 12.5323 | BN7: 12.4743 | BO7: 12.1011 | BP7: 12.5218 | BQ7: 12.5901 | BR7: 12.5866 | BS7: 12.6571 | BT7: 12.7713 | BU7: 12.6659 | BV7: 12.7023 | BW7: 12.6749 | BX7: 12.5737 | BY7: 12.5681 | BZ7: 12.5917 | CA7: 12.6159 | CB7: 12.5208 | CC7: =AVERAGE(B7:CB7) -> 12.5655 | CD7: =STDEV(B7:CB7) -> 0.15006004
A8: PSEN1 | B8: 9.70112 | C8: 9.79882 | D8: 9.61614 | E8: 9.41302 | F8: 9.78188 | G8: 9.83357 | H8: 9.55794 | I8: 9.88789 | J8: 9.82485 | K8: 9.70143 | L8: 9.73386 | M8: 9.77234 | N8: 10.0253 | O8: 9.93429 | P8: 9.75023 | Q8: 9.95797 | R8: 9.59947 | S8: 9.71126 | T8: 9.77072 | U8: 9.93595 | V8: 9.55392 | W8: 9.6804 | X8: 9.78596 | Y8: 9.82101 | Z8: 9.74654 | AA8: 9.92843 | AB8: 9.85045 | AC8: 9.89822 | AD8: 9.62704 | AE8: 9.89223 | AF8: 9.66378 | AG8: 9.72951 | AH8: 9.95511 | AI8: 10.1076 | AJ8: 10.0774 | AK8: 10.035 | AL8: 9.93684 | AM8: 9.93183 | AN8: 10.1025 | AO8: 10.0495 | AP8: 9.80593 | AQ8: 9.94746 | AR8: 10.0704 | AS8: 10.0731 | AT8: 10.0033 | AU8: 10.2859 | AV8: 10.3427 | AW8: 10.0834 | AX8: 10.1654 | AY8: 10.1808 | AZ8: 9.79348 | BA8: 9.6165 | BB8: 10.0294 | BC8: 9.96652 | BD8: 9.92977 | BE8: 9.69507 | BF8: 9.61175 | BG8: 9.60483 | BH8: 9.82318 | BI8: 9.67044 | BJ8: 10.0231 | BK8: 9.982 | BL8: 10.1145 | BM8: 10.482 | BN8: 10.9281 | BO8: 10.0983 | BP8: 10.1768 | BQ8: 9.85633 | BR8: 10.4112 | BS8: 9.85153 | BT8: 10.4115 | BU8: 10.1848 | BV8: 9.95676 | BW8: 10.1643 | BX8: 10.6535 | BY8: 10.2356 | BZ8: 10.2395 | CA8: 10.1651 | CB8: 9.8455 | CC8: =AVERAGE(B8:CB8) -> 9.9387477 | CD8: =STDEV(B8:CB8) -> 0.2611141
A9: PSEN2 | B9: 8.24632 | C9: 8.11156 | D9: 7.86318 | E9: 8.19101 | F9: 8.07704 | G9: 8.16395 | H9: 8.03968 | I9: 8.19306 | J9: 8.1997 | K9: 7.9138 | L9: 8.1956 | M9: 8.1654 | N9: 8.23049 | O9: 7.88627 | P9: 8.26337 | Q9: 7.98148 | R9: 8.44974 | S9: 8.20837 | T9: 8.02961 | U9: 8.10317 | V9: 8.12192 | W9: 8.02717 | X9: 8.12878 | Y9: 8.0405 | Z9: 8.21396 | AA9: 8.3109 | AB9: 8.15625 | AC9: 7.81531 | AD9: 8.02098 | AE9: 8.00002 | AF9: 8.1836 | AG9: 8.18834 | AH9: 8.05768 | AI9: 8.06498 | AJ9: 8.21248 | AK9: 8.51001 | AL9: 8.23744 | AM9: 8.28472 | AN9: 8.32146 | AO9: 8.27181 | AP9: 8.19754 | AQ9: 8.21751 | AR9: 8.30532 | AS9: 8.20996 | AT9: 8.15879 | AU9: 8.21248 | AV9: 8.05966 | AW9: 8.24301 | AX9: 8.22562 | AY9: 8.10035 | AZ9: 8.20453 | BA9: 8.43277 | BB9: 8.49635 | BC9: 8.21428 | BD9: 7.85455 | BE9: 8.37826 | BF9: 8.18948 | BG9: 8.08499 | BH9: 8.2434 | BI9: 8.1271 | BJ9: 8.19589 | BK9: 8.18393 | BL9: 8.0261 | BM9: 8.36603 | BN9: 7.98475 | BO9: 7.86253 | BP9: 8.05785 | BQ9: 8.19888 | BR9: 8.22199 | BS9: 8.20055 | BT9: 7.99326 | BU9: 8.09391 | BV9: 8.10482 | BW9: 8.26502 | BX9: 7.7212 | BY9: 8.04614 | BZ9: 7.93857 | CA9: 7.71604 | CB9: 8.16392 | CC9: =AVERAGE(B9:CB9) -> 8.1414992 | CD9: =STDEV(B9:CB9) -> 0.156786

Sheet Average
A1: ID_REF | B1: GSM907792 | C1: GSM907793 | D1: GSM907794 | E1: GSM907795 | F1: GSM907796 | G1: GSM907797 | H1: GSM907798 | I1: GSM907799 | J1: GSM907800 | K1: GSM907801 | L1: GSM907802 | M1: GSM907803 | N1: GSM907804 | O1: GSM907805 | P1: GSM907806 | Q1: GSM907807 | R1: GSM907808 | S1: GSM907809 | T1: GSM907810 | U1: GSM907811 | V1: GSM907812 | W1: GSM907813 | X1: GSM907814 | Y1: GSM907815 | Z1: GSM907816 | AA1: GSM907817 | AB1: GSM907818 | AC1: GSM907819 | AD1: GSM907820 | AE1: GSM907821 | AF1: GSM907822 | AG1: GSM907823 | AH1: GSM907824 | AI1: GSM907825 | AJ1: GSM907826 | AK1: GSM907827 | AL1: GSM907828 | AM1: GSM907829 | AN1: GSM907830 | AO1: GSM907831 | AP1: GSM907832 | AQ1: GSM907833 | AR1: GSM907834 | AS1: GSM907835 | AT1: GSM907836 | AU1: GSM907837 | AV1: GSM907838 | AW1: GSM907839 | AX1: GSM907840 | AY1: GSM907841 | AZ1: GSM907842 | BA1: GSM907843 | BB1: GSM907844 | BC1: GSM907845 | BD1: GSM907846 | BE1: GSM907847 | BF1: GSM907848 | BG1: GSM907849 | BH1: GSM907850 | BI1: GSM907851 | BJ1: GSM907852 | BK1: GSM907853 | BL1: GSM907854 | BM1: GSM907855 | BN1: GSM907856 | BO1: GSM907857 | BP1: GSM907858 | BQ1: GSM907859 | BR1: GSM907860 | BS1: GSM907861 | BT1: GSM907862 | BU1: GSM907863 | BV1: GSM907864 | BW1: GSM907865 | BX1: GSM907866 | BY1: GSM907867 | BZ1: GSM907868 | CA1: GSM907869 | CB1: GSM907870
A2: Alzheimer | B2: AD brain | C2: AD brain | D2: AD brain | E2: AD brain | F2: AD brain | G2: AD brain | H2: AD brain | I2: AD brain | J2: AD brain | K2: AD brain | L2: AD brain | M2: AD brain | N2: AD brain | O2: AD brain | P2: AD brain | Q2: non-AD brain | R2: non-AD brain | S2: non-AD brain | T2: non-AD brain | U2: non-AD brain | V2: non-AD brain | W2: non-AD brain | X2: non-AD brain | Y2: non-AD brain | Z2: non-AD brain | AA2: non-AD brain | AB2: non-AD brain | AC2: non-AD brain | AD2: non-AD brain | AE2: non-AD brain | AF2: non-AD brain | AG2: non-AD brain | AH2: non-AD brain | AI2: AD brain | AJ2: AD brain | AK2: AD brain | AL2: AD brain | AM2: AD brain | AN2: AD brain | AO2: AD brain | AP2: AD brain | AQ2: AD brain | AR2: AD brain | AS2: non-AD brain | AT2: non-AD brain | AU2: non-AD brain | AV2: non-AD brain | AW2: non-AD brain | AX2: non-AD brain | AY2: non-AD brain | AZ2: non-AD brain | BA2: non-AD brain | BB2: non-AD brain | BC2: non-AD brain | BD2: non-AD brain | BE2: non-AD brain | BF2: non-AD brain | BG2: non-AD brain | BH2: non-AD brain | BI2: non-AD brain | BJ2: non-AD brain | BK2: non-AD brain | BL2: AD brain | BM2: AD brain | BN2: AD brain | BO2: AD brain | BP2: AD brain | BQ2: AD brain | BR2: AD brain | BS2: non-AD brain | BT2: non-AD brain | BU2: non-AD brain | BV2: non-AD brain | BW2: non-AD brain | BX2: non-AD brain | BY2: non-AD brain | BZ2: non-AD brain | CA2: non-AD brain | CB2: non-AD brain
A3: Region | B3: Frontal cortex | C3: Frontal cortex | D3: Frontal cortex | E3: Frontal cortex | F3: Frontal cortex | G3: Frontal cortex | H3: Frontal cortex | I3: Frontal cortex | J3: Frontal cortex | K3: Frontal cortex | L3: Frontal cortex | M3: Frontal cortex | N3: Frontal cortex | O3: Frontal cortex | P3: Frontal cortex | Q3: Frontal cortex | R3: Frontal cortex | S3: Frontal cortex | T3: Frontal cortex | U3: Frontal cortex | V3: Frontal cortex | W3: Frontal cortex | X3: Frontal cortex | Y3: Frontal cortex | Z3: Frontal cortex | AA3: Frontal cortex | AB3: Frontal cortex | AC3: Frontal cortex | AD3: Frontal cortex | AE3: Frontal cortex | AF3: Frontal cortex | AG3: Frontal cortex | AH3: Frontal cortex | AI3: Temporal cortex | AJ3: Temporal cortex | AK3: Temporal cortex | AL3: Temporal cortex | AM3: Temporal cortex | AN3: Temporal cortex | AO3: Temporal cortex | AP3: Temporal cortex | AQ3: Temporal cortex | AR3: Temporal cortex | AS3: Temporal cortex | AT3: Temporal cortex | AU3: Temporal cortex | AV3: Temporal cortex | AW3: Temporal cortex | AX3: Temporal cortex | AY3: Temporal cortex | AZ3: Temporal cortex | BA3: Temporal cortex | BB3: Temporal cortex | BC3: Temporal cortex | BD3: Temporal cortex | BE3: Temporal cortex | BF3: Temporal cortex | BG3: Temporal cortex | BH3: Temporal cortex | BI3: Temporal cortex | BJ3: Temporal cortex | BK3: Temporal cortex | BL3: Hippocampus | BM3: Hippocampus | BN3: Hippocampus | BO3: Hippocampus | BP3: Hippocampus | BQ3: Hippocampus | BR3: Hippocampus | BS3: Hippocampus | BT3: Hippocampus | BU3: Hippocampus | BV3: Hippocampus | BW3: Hippocampus | BX3: Hippocampus | BY3: Hippocampus | BZ3: Hippocampus | CA3: Hippocampus | CB3: Hippocampus
A4: Age | B4: 84 | C4: 105 | D4: 88 | E4: 88 | F4: 91 | G4: 95 | H4: 92 | I4: 95 | J4: 101 | K4: 94 | L4: 89 | M4: 100 | N4: 99 | O4: 83 | P4: 90 | Q4: 80 | R4: 77 | S4: 87 | T4: 80 | U4: 84 | V4: 86 | W4: 77 | X4: 55 | Y4: 72 | Z4: 82 | AA4: 78 | AB4: 83 | AC4: 80 | AD4: 89 | AE4: 100 | AF4: 77 | AG4: 74 | AH4: 81 | AI4: 84 | AJ4: 88 | AK4: 95 | AL4: 88 | AM4: 91 | AN4: 95 | AO4: 95 | AP4: 89 | AQ4: 83 | AR4: 90 | AS4: 77 | AT4: 87 | AU4: 80 | AV4: 84 | AW4: 77 | AX4: 55 | AY4: 72 | AZ4: 89 | BA4: 82 | BB4: 78 | BC4: 83 | BD4: 80 | BE4: 75 | BF4: 89 | BG4: 65 | BH4: 71 | BI4: 74 | BJ4: 86 | BK4: 54 | BL4: 88 | BM4: 95 | BN4: 95 | BO4: 100 | BP4: 99 | BQ4: 83 | BR4: 90 | BS4: 87 | BT4: 80 | BU4: 84 | BV4: 77 | BW4: 55 | BX4: 72 | BY4: 78 | BZ4: 83 | CA4: 80 | CB4: 74
A5: Sex | B5: M | C5: F | D5: F | E5: M | F5: F | G5: F | H5: F | I5: F | J5: F | K5: M | L5: M | M5: F | N5: M | O5: M | P5: M | Q5: M | R5: F | S5: F | T5: F | U5: F | V5: F | W5: M | X5: M | Y5: F | Z5: M | AA5: F | AB5: M | AC5: M | AD5: M | AE5: F | AF5: M | AG5: M | AH5: F | AI5: M | AJ5: F | AK5: F | AL5: M | AM5: F | AN5: F | AO5: F | AP5: M | AQ5: M | AR5: M | AS5: F | AT5: F | AU5: F | AV5: F | AW5: M | AX5: M | AY5: F | AZ5: M | BA5: M | BB5: F | BC5: M | BD5: M | BE5: F | BF5: M | BG5: F | BH5: F | BI5: M | BJ5: F | BK5: F | BL5: F | BM5: F | BN5: F | BO5: F | BP5: M | BQ5: M | BR5: M | BS5: F | BT5: F | BU5: F | BV5: M | BW5: M | BX5: F | BY5: F | BZ5: M | CA5: M | CB5: M
A6: APOE | B6: 9.8918349 | C6: 9.8918349 | D6: 9.8918349 | E6: 9.8918349 | F6: 9.8918349 | G6: 9.8918349 | H6: 9.8918349 | I6: 9.8918349 | J6: 9.8918349 | K6: 9.8918349 | L6: 9.8918349 | M6: 9.8918349 | N6: 9.8918349 | O6: 9.8918349 | P6: 9.8918349 | Q6: 9.8918349 | R6: 9.8918349 | S6: 9.8918349 | T6: 9.8918349 | U6: 9.8918349 | V6: 9.8918349 | W6: 9.8918349 | X6: 9.8918349 | Y6: 9.8918349 | Z6: 9.8918349 | AA6: 9.8918349 | AB6: 9.8918349 | AC6: 9.8918349 | AD6: 9.8918349 | AE6: 9.8918349 | AF6: 9.8918349 | AG6: 9.8918349 | AH6: 9.8918349 | AI6: 9.8918349 | AJ6: 9.8918349 | AK6: 9.8918349 | AL6: 9.8918349 | AM6: 9.8918349 | AN6: 9.8918349 | AO6: 9.8918349 | AP6: 9.8918349 | AQ6: 9.8918349 | AR6: 9.8918349 | AS6: 9.8918349 | AT6: 9.8918349 | AU6: 9.8918349 | AV6: 9.8918349 | AW6: 9.8918349 | AX6: 9.8918349 | AY6: 9.8918349 | AZ6: 9.8918349 | BA6: 9.8918349 | BB6: 9.8918349 | BC6: 9.8918349 | BD6: 9.8918349 | BE6: 9.8918349 | BF6: 9.8918349 | BG6: 9.8918349 | BH6: 9.8918349 | BI6: 9.8918349 | BJ6: 9.8918349 | BK6: 9.8918349 | BL6: 9.8918349 | BM6: 9.8918349 | BN6: 9.8918349 | BO6: 9.8918349 | BP6: 9.8918349 | BQ6: 9.8918349 | BR6: 9.8918349 | BS6: 9.8918349 | BT6: 9.8918349 | BU6: 9.8918349 | BV6: 9.8918349 | BW6: 9.8918349 | BX6: 9.8918349 | BY6: 9.8918349 | BZ6: 9.8918349 | CA6: 9.8918349 | CB6: 9.8918349
A7: APP | B7: 12.5655 | C7: 12.5655 | D7: 12.5655 | E7: 12.5655 | F7: 12.5655 | G7: 12.5655 | H7: 12.5655 | I7: 12.5655 | J7: 12.5655 | K7: 12.5655 | L7: 12.5655 | M7: 12.5655 | N7: 12.5655 | O7: 12.5655 | P7: 12.5655 | Q7: 12.5655 | R7: 12.5655 | S7: 12.5655 | T7: 12.5655 | U7: 12.5655 | V7: 12.5655 | W7: 12.5655 | X7: 12.5655 | Y7: 12.5655 | Z7: 12.5655 | AA7: 12.5655 | AB7: 12.5655 | AC7: 12.5655 | AD7: 12.5655 | AE7: 12.5655 | AF7: 12.5655 | AG7: 12.5655 | AH7: 12.5655 | AI7: 12.5655 | AJ7: 12.5655 | AK7: 12.5655 | AL7: 12.5655 | AM7: 12.5655 | AN7: 12.5655 | AO7: 12.5655 | AP7: 12.5655 | AQ7: 12.5655 | AR7: 12.5655 | AS7: 12.5655 | AT7: 12.5655 | AU7: 12.5655 | AV7: 12.5655 | AW7: 12.5655 | AX7: 12.5655 | AY7: 12.5655 | AZ7: 12.5655 | BA7: 12.5655 | BB7: 12.5655 | BC7: 12.5655 | BD7: 12.5655 | BE7: 12.5655 | BF7: 12.5655 | BG7: 12.5655 | BH7: 12.5655 | BI7: 12.5655 | BJ7: 12.5655 | BK7: 12.5655 | BL7: 12.5655 | BM7: 12.5655 | BN7: 12.5655 | BO7: 12.5655 | BP7: 12.5655 | BQ7: 12.5655 | BR7: 12.5655 | BS7: 12.5655 | BT7: 12.5655 | BU7: 12.5655 | BV7: 12.5655 | BW7: 12.5655 | BX7: 12.5655 | BY7: 12.5655 | BZ7: 12.5655 | CA7: 12.5655 | CB7: 12.5655
A8: PSEN1 | B8: 9.9387477 | C8: 9.9387477 | D8: 9.9387477 | E8: 9.9387477 | F8: 9.9387477 | G8: 9.9387477 | H8: 9.9387477 | I8: 9.9387477 | J8: 9.9387477 | K8: 9.9387477 | L8: 9.9387477 | M8: 9.9387477 | N8: 9.9387477 | O8: 9.9387477 | P8: 9.9387477 | Q8: 9.9387477 | R8: 9.9387477 | S8: 9.9387477 | T8: 9.9387477 | U8: 9.9387477 | V8: 9.9387477 | W8: 9.9387477 | X8: 9.9387477 | Y8: 9.9387477 | Z8: 9.9387477 | AA8: 9.9387477 | AB8: 9.9387477 | AC8: 9.9387477 | AD8: 9.9387477 | AE8: 9.9387477 | AF8: 9.9387477 | AG8: 9.9387477 | AH8: 9.9387477 | AI8: 9.9387477 | AJ8: 9.9387477 | AK8: 9.9387477 | AL8: 9.9387477 | AM8: 9.9387477 | AN8: 9.9387477 | AO8: 9.9387477 | AP8: 9.9387477 | AQ8: 9.9387477 | AR8: 9.9387477 | AS8: 9.9387477 | AT8: 9.9387477 | AU8: 9.9387477 | AV8: 9.9387477 | AW8: 9.9387477 | AX8: 9.9387477 | AY8: 9.9387477 | AZ8: 9.9387477 | BA8: 9.9387477 | BB8: 9.9387477 | BC8: 9.9387477 | BD8: 9.9387477 | BE8: 9.9387477 | BF8: 9.9387477 | BG8: 9.9387477 | BH8: 9.9387477 | BI8: 9.9387477 | BJ8: 9.9387477 | BK8: 9.9387477 | BL8: 9.9387477 | BM8: 9.9387477 | BN8: 9.9387477 | BO8: 9.9387477 | BP8: 9.9387477 | BQ8: 9.9387477 | BR8: 9.9387477 | BS8: 9.9387477 | BT8: 9.9387477 | BU8: 9.9387477 | BV8: 9.9387477 | BW8: 9.9387477 | BX8: 9.9387477 | BY8: 9.9387477 | BZ8: 9.9387477 | CA8: 9.9387477 | CB8: 9.9387477
A9: PSEN2 | B9: 8.1414992 | C9: 8.1414992 | D9: 8.1414992 | E9: 8.1414992 | F9: 8.1414992 | G9: 8.1414992 | H9: 8.1414992 | I9: 8.1414992 | J9: 8.1414992 | K9: 8.1414992 | L9: 8.1414992 | M9: 8.1414992 | N9: 8.1414992 | O9: 8.1414992 | P9: 8.1414992 | Q9: 8.1414992 | R9: 8.1414992 | S9: 8.1414992 | T9: 8.1414992 | U9: 8.1414992 | V9: 8.1414992 | W9: 8.1414992 | X9: 8.1414992 | Y9: 8.1414992 | Z9: 8.1414992 | AA9: 8.1414992 | AB9: 8.1414992 | AC9: 8.1414992 | AD9: 8.1414992 | AE9: 8.1414992 | AF9: 8.1414992 | AG9: 8.1414992 | AH9: 8.1414992 | AI9: 8.1414992 | AJ9: 8.1414992 | AK9: 8.1414992 | AL9: 8.1414992 | AM9: 8.1414992 | AN9: 8.1414992 | AO9: 8.1414992 | AP9: 8.1414992 | AQ9: 8.1414992 | AR9: 8.1414992 | AS9: 8.1414992 | AT9: 8.1414992 | AU9: 8.1414992 | AV9: 8.1414992 | AW9: 8.1414992 | AX9: 8.1414992 | AY9: 8.1414992 | AZ9: 8.1414992 | BA9: 8.1414992 | BB9: 8.1414992 | BC9: 8.1414992 | BD9: 8.1414992 | BE9: 8.1414992 | BF9: 8.1414992 | BG9: 8.1414992 | BH9: 8.1414992 | BI9: 8.1414992 | BJ9: 8.1414992 | BK9: 8.1414992 | BL9: 8.1414992 | BM9: 8.1414992 | BN9: 8.1414992 | BO9: 8.1414992 | BP9: 8.1414992 | BQ9: 8.1414992 | BR9: 8.1414992 | BS9: 8.1414992 | BT9: 8.1414992 | BU9: 8.1414992 | BV9: 8.1414992 | BW9: 8.1414992 | BX9: 8.1414992 | BY9: 8.1414992 | BZ9: 8.1414992 | CA9: 8.1414992 | CB9: 8.1414992

Sheet SD
A1: ID_REF | B1: GSM907792 | C1: GSM907793 | D1: GSM907794 | E1: GSM907795 | F1: GSM907796 | G1: GSM907797 | H1: GSM907798 | I1: GSM907799 | J1: GSM907800 | K1: GSM907801 | L1: GSM907802 | M1: GSM907803 | N1: GSM907804 | O1: GSM907805 | P1: GSM907806 | Q1: GSM907807 | R1: GSM907808 | S1: GSM907809 | T1: GSM907810 | U1: GSM907811 | V1: GSM907812 | W1: GSM907813 | X1: GSM907814 | Y1: GSM907815 | Z1: GSM907816 | AA1: GSM907817 | AB1: GSM907818 | AC1: GSM907819 | AD1: GSM907820 | AE1: GSM907821 | AF1: GSM907822 | AG1: GSM907823 | AH1: GSM907824 | AI1: GSM907825 | AJ1: GSM907826 | AK1: GSM907827 | AL1: GSM907828 | AM1: GSM907829 | AN1: GSM907830 | AO1: GSM907831 | AP1: GSM907832 | AQ1: GSM907833 | AR1: GSM907834 | AS1: GSM907835 | AT1: GSM907836 | AU1: GSM907837 | AV1: GSM907838 | AW1: GSM907839 | AX1: GSM907840 | AY1: GSM907841 | AZ1: GSM907842 | BA1: GSM907843 | BB1: GSM907844 | BC1: GSM907845 | BD1: GSM907846 | BE1: GSM907847 | BF1: GSM907848 | BG1: GSM907849 | BH1: GSM907850 | BI1: GSM907851 | BJ1: GSM907852 | BK1: GSM907853 | BL1: GSM907854 | BM1: GSM907855 | BN1: GSM907856 | BO1: GSM907857 | BP1: GSM907858 | BQ1: GSM907859 | BR1: GSM907860 | BS1: GSM907861 | BT1: GSM907862 | BU1: GSM907863 | BV1: GSM907864 | BW1: GSM907865 | BX1: GSM907866 | BY1: GSM907867 | BZ1: GSM907868 | CA1: GSM907869 | CB1: GSM907870
A2: Alzheimer | B2: AD brain | C2: AD brain | D2: AD brain | E2: AD brain | F2: AD brain | G2: AD brain | H2: AD brain | I2: AD brain | J2: AD brain | K2: AD brain | L2: AD brain | M2: AD brain | N2: AD brain | O2: AD brain | P2: AD brain | Q2: non-AD brain | R2: non-AD brain | S2: non-AD brain | T2: non-AD brain | U2: non-AD brain | V2: non-AD brain | W2: non-AD brain | X2: non-AD brain | Y2: non-AD brain | Z2: non-AD brain | AA2: non-AD brain | AB2: non-AD brain | AC2: non-AD brain | AD2: non-AD brain | AE2: non-AD brain | AF2: non-AD brain | AG2: non-AD brain | AH2: non-AD brain | AI2: AD brain | AJ2: AD brain | AK2: AD brain | AL2: AD brain | AM2: AD brain | AN2: AD brain | AO2: AD brain | AP2: AD brain | AQ2: AD brain | AR2: AD brain | AS2: non-AD brain | AT2: non-AD brain | AU2: non-AD brain | AV2: non-AD brain | AW2: non-AD brain | AX2: non-AD brain | AY2: non-AD brain | AZ2: non-AD brain | BA2: non-AD brain | BB2: non-AD brain | BC2: non-AD brain | BD2: non-AD brain | BE2: non-AD brain | BF2: non-AD brain | BG2: non-AD brain | BH2: non-AD brain | BI2: non-AD brain | BJ2: non-AD brain | BK2: non-AD brain | BL2: AD brain | BM2: AD brain | BN2: AD brain | BO2: AD brain | BP2: AD brain | BQ2: AD brain | BR2: AD brain | BS2: non-AD brain | BT2: non-AD brain | BU2: non-AD brain | BV2: non-AD brain | BW2: non-AD brain | BX2: non-AD brain | BY2: non-AD brain | BZ2: non-AD brain | CA2: non-AD brain | CB2: non-AD brain
A3: Region | B3: Frontal cortex | C3: Frontal cortex | D3: Frontal cortex | E3: Frontal cortex | F3: Frontal cortex | G3: Frontal cortex | H3: Frontal cortex | I3: Frontal cortex | J3: Frontal cortex | K3: Frontal cortex | L3: Frontal cortex | M3: Frontal cortex | N3: Frontal cortex | O3: Frontal cortex | P3: Frontal cortex | Q3: Frontal cortex | R3: Frontal cortex | S3: Frontal cortex | T3: Frontal cortex | U3: Frontal cortex | V3: Frontal cortex | W3: Frontal cortex | X3: Frontal cortex | Y3: Frontal cortex | Z3: Frontal cortex | AA3: Frontal cortex | AB3: Frontal cortex | AC3: Frontal cortex | AD3: Frontal cortex | AE3: Frontal cortex | AF3: Frontal cortex | AG3: Frontal cortex | AH3: Frontal cortex | AI3: Temporal cortex | AJ3: Temporal cortex | AK3: Temporal cortex | AL3: Temporal cortex | AM3: Temporal cortex | AN3: Temporal cortex | AO3: Temporal cortex | AP3: Temporal cortex | AQ3: Temporal cortex | AR3: Temporal cortex | AS3: Temporal cortex | AT3: Temporal cortex | AU3: Temporal cortex | AV3: Temporal cortex | AW3: Temporal cortex | AX3: Temporal cortex | AY3: Temporal cortex | AZ3: Temporal cortex | BA3: Temporal cortex | BB3: Temporal cortex | BC3: Temporal cortex | BD3: Temporal cortex | BE3: Temporal cortex | BF3: Temporal cortex | BG3: Temporal cortex | BH3: Temporal cortex | BI3: Temporal cortex | BJ3: Temporal cortex | BK3: Temporal cortex | BL3: Hippocampus | BM3: Hippocampus | BN3: Hippocampus | BO3: Hippocampus | BP3: Hippocampus | BQ3: Hippocampus | BR3: Hippocampus | BS3: Hippocampus | BT3: Hippocampus | BU3: Hippocampus | BV3: Hippocampus | BW3: Hippocampus | BX3: Hippocampus | BY3: Hippocampus | BZ3: Hippocampus | CA3: Hippocampus | CB3: Hippocampus
A4: Age | B4: 84 | C4: 105 | D4: 88 | E4: 88 | F4: 91 | G4: 95 | H4: 92 | I4: 95 | J4: 101 | K4: 94 | L4: 89 | M4: 100 | N4: 99 | O4: 83 | P4: 90 | Q4: 80 | R4: 77 | S4: 87 | T4: 80 | U4: 84 | V4: 86 | W4: 77 | X4: 55 | Y4: 72 | Z4: 82 | AA4: 78 | AB4: 83 | AC4: 80 | AD4: 89 | AE4: 100 | AF4: 77 | AG4: 74 | AH4: 81 | AI4: 84 | AJ4: 88 | AK4: 95 | AL4: 88 | AM4: 91 | AN4: 95 | AO4: 95 | AP4: 89 | AQ4: 83 | AR4: 90 | AS4: 77 | AT4: 87 | AU4: 80 | AV4: 84 | AW4: 77 | AX4: 55 | AY4: 72 | AZ4: 89 | BA4: 82 | BB4: 78 | BC4: 83 | BD4: 80 | BE4: 75 | BF4: 89 | BG4: 65 | BH4: 71 | BI4: 74 | BJ4: 86 | BK4: 54 | BL4: 88 | BM4: 95 | BN4: 95 | BO4: 100 | BP4: 99 | BQ4: 83 | BR4: 90 | BS4: 87 | BT4: 80 | BU4: 84 | BV4: 77 | BW4: 55 | BX4: 72 | BY4: 78 | BZ4: 83 | CA4: 80 | CB4: 74
A5: Sex | B5: M | C5: F | D5: F | E5: M | F5: F | G5: F | H5: F | I5: F | J5: F | K5: M | L5: M | M5: F | N5: M | O5: M | P5: M | Q5: M | R5: F | S5: F | T5: F | U5: F | V5: F | W5: M | X5: M | Y5: F | Z5: M | AA5: F | AB5: M | AC5: M | AD5: M | AE5: F | AF5: M | AG5: M | AH5: F | AI5: M | AJ5: F | AK5: F | AL5: M | AM5: F | AN5: F | AO5: F | AP5: M | AQ5: M | AR5: M | AS5: F | AT5: F | AU5: F | AV5: F | AW5: M | AX5: M | AY5: F | AZ5: M | BA5: M | BB5: F | BC5: M | BD5: M | BE5: F | BF5: M | BG5: F | BH5: F | BI5: M | BJ5: F | BK5: F | BL5: F | BM5: F | BN5: F | BO5: F | BP5: M | BQ5: M | BR5: M | BS5: F | BT5: F | BU5: F | BV5: M | BW5: M | BX5: F | BY5: F | BZ5: M | CA5: M | CB5: M
A6: APOE | B6: 0.46184631 | C6: 0.46184631 | D6: 0.46184631 | E6: 0.46184631 | F6: 0.46184631 | G6: 0.46184631 | H6: 0.46184631 | I6: 0.46184631 | J6: 0.46184631 | K6: 0.46184631 | L6: 0.46184631 | M6: 0.46184631 | N6: 0.46184631 | O6: 0.46184631 | P6: 0.46184631 | Q6: 0.46184631 | R6: 0.46184631 | S6: 0.46184631 | T6: 0.46184631 | U6: 0.46184631 | V6: 0.46184631 | W6: 0.46184631 | X6: 0.46184631 | Y6: 0.46184631 | Z6: 0.46184631 | AA6: 0.46184631 | AB6: 0.46184631 | AC6: 0.46184631 | AD6: 0.46184631 | AE6: 0.46184631 | AF6: 0.46184631 | AG6: 0.46184631 | AH6: 0.46184631 | AI6: 0.46184631 | AJ6: 0.46184631 | AK6: 0.46184631 | AL6: 0.46184631 | AM6: 0.46184631 | AN6: 0.46184631 | AO6: 0.46184631 | AP6: 0.46184631 | AQ6: 0.46184631 | AR6: 0.46184631 | AS6: 0.46184631 | AT6: 0.46184631 | AU6: 0.46184631 | AV6: 0.46184631 | AW6: 0.46184631 | AX6: 0.46184631 | AY6: 0.46184631 | AZ6: 0.46184631 | BA6: 0.46184631 | BB6: 0.46184631 | BC6: 0.46184631 | BD6: 0.46184631 | BE6: 0.46184631 | BF6: 0.46184631 | BG6: 0.46184631 | BH6: 0.46184631 | BI6: 0.46184631 | BJ6: 0.46184631 | BK6: 0.46184631 | BL6: 0.46184631 | BM6: 0.46184631 | BN6: 0.46184631 | BO6: 0.46184631 | BP6: 0.46184631 | BQ6: 0.46184631 | BR6: 0.46184631 | BS6: 0.46184631 | BT6: 0.46184631 | BU6: 0.46184631 | BV6: 0.46184631 | BW6: 0.46184631 | BX6: 0.46184631 | BY6: 0.46184631 | BZ6: 0.46184631 | CA6: 0.46184631 | CB6: 0.46184631
A7: APP | B7: 0.15006004 | C7: 0.15006004 | D7: 0.15006004 | E7: 0.15006004 | F7: 0.15006004 | G7: 0.15006004 | H7: 0.15006004 | I7: 0.15006004 | J7: 0.15006004 | K7: 0.15006004 | L7: 0.15006004 | M7: 0.15006004 | N7: 0.15006004 | O7: 0.15006004 | P7: 0.15006004 | Q7: 0.15006004 | R7: 0.15006004 | S7: 0.15006004 | T7: 0.15006004 | U7: 0.15006004 | V7: 0.15006004 | W7: 0.15006004 | X7: 0.15006004 | Y7: 0.15006004 | Z7: 0.15006004 | AA7: 0.15006004 | AB7: 0.15006004 | AC7: 0.15006004 | AD7: 0.15006004 | AE7: 0.15006004 | AF7: 0.15006004 | AG7: 0.15006004 | AH7: 0.15006004 | AI7: 0.15006004 | AJ7: 0.15006004 | AK7: 0.15006004 | AL7: 0.15006004 | AM7: 0.15006004 | AN7: 0.15006004 | AO7: 0.15006004 | AP7: 0.15006004 | AQ7: 0.15006004 | AR7: 0.15006004 | AS7: 0.15006004 | AT7: 0.15006004 | AU7: 0.15006004 | AV7: 0.15006004 | AW7: 0.15006004 | AX7: 0.15006004 | AY7: 0.15006004 | AZ7: 0.15006004 | BA7: 0.15006004 | BB7: 0.15006004 | BC7: 0.15006004 | BD7: 0.15006004 | BE7: 0.15006004 | BF7: 0.15006004 | BG7: 0.15006004 | BH7: 0.15006004 | BI7: 0.15006004 | BJ7: 0.15006004 | BK7: 0.15006004 | BL7: 0.15006004 | BM7: 0.15006004 | BN7: 0.15006004 | BO7: 0.15006004 | BP7: 0.15006004 | BQ7: 0.15006004 | BR7: 0.15006004 | BS7: 0.15006004 | BT7: 0.15006004 | BU7: 0.15006004 | BV7: 0.15006004 | BW7: 0.15006004 | BX7: 0.15006004 | BY7: 0.15006004 | BZ7: 0.15006004 | CA7: 0.15006004 | CB7: 0.15006004
A8: PSEN1 | B8: 0.2611141 | C8: 0.2611141 | D8: 0.2611141 | E8: 0.2611141 | F8: 0.2611141 | G8: 0.2611141 | H8: 0.2611141 | I8: 0.2611141 | J8: 0.2611141 | K8: 0.2611141 | L8: 0.2611141 | M8: 0.2611141 | N8: 0.2611141 | O8: 0.2611141 | P8: 0.2611141 | Q8: 0.2611141 | R8: 0.2611141 | S8: 0.2611141 | T8: 0.2611141 | U8: 0.2611141 | V8: 0.2611141 | W8: 0.2611141 | X8: 0.2611141 | Y8: 0.2611141 | Z8: 0.2611141 | AA8: 0.2611141 | AB8: 0.2611141 | AC8: 0.2611141 | AD8: 0.2611141 | AE8: 0.2611141 | AF8: 0.2611141 | AG8: 0.2611141 | AH8: 0.2611141 | AI8: 0.2611141 | AJ8: 0.2611141 | AK8: 0.2611141 | AL8: 0.2611141 | AM8: 0.2611141 | AN8: 0.2611141 | AO8: 0.2611141 | AP8: 0.2611141 | AQ8: 0.2611141 | AR8: 0.2611141 | AS8: 0.2611141 | AT8: 0.2611141 | AU8: 0.2611141 | AV8: 0.2611141 | AW8: 0.2611141 | AX8: 0.2611141 | AY8: 0.2611141 | AZ8: 0.2611141 | BA8: 0.2611141 | BB8: 0.2611141 | BC8: 0.2611141 | BD8: 0.2611141 | BE8: 0.2611141 | BF8: 0.2611141 | BG8: 0.2611141 | BH8: 0.2611141 | BI8: 0.2611141 | BJ8: 0.2611141 | BK8: 0.2611141 | BL8: 0.2611141 | BM8: 0.2611141 | BN8: 0.2611141 | BO8: 0.2611141 | BP8: 0.2611141 | BQ8: 0.2611141 | BR8: 0.2611141 | BS8: 0.2611141 | BT8: 0.2611141 | BU8: 0.2611141 | BV8: 0.2611141 | BW8: 0.2611141 | BX8: 0.2611141 | BY8: 0.2611141 | BZ8: 0.2611141 | CA8: 0.2611141 | CB8: 0.2611141
A9: PSEN2 | B9: 0.156786 | C9: 0.156786 | D9: 0.156786 | E9: 0.156786 | F9: 0.156786 | G9: 0.156786 | H9: 0.156786 | I9: 0.156786 | J9: 0.156786 | K9: 0.156786 | L9: 0.156786 | M9: 0.156786 | N9: 0.156786 | O9: 0.156786 | P9: 0.156786 | Q9: 0.156786 | R9: 0.156786 | S9: 0.156786 | T9: 0.156786 | U9: 0.156786 | V9: 0.156786 | W9: 0.156786 | X9: 0.156786 | Y9: 0.156786 | Z9: 0.156786 | AA9: 0.156786 | AB9: 0.156786 | AC9: 0.156786 | AD9: 0.156786 | AE9: 0.156786 | AF9: 0.156786 | AG9: 0.156786 | AH9: 0.156786 | AI9: 0.156786 | AJ9: 0.156786 | AK9: 0.156786 | AL9: 0.156786 | AM9: 0.156786 | AN9: 0.156786 | AO9: 0.156786 | AP9: 0.156786 | AQ9: 0.156786 | AR9: 0.156786 | AS9: 0.156786 | AT9: 0.156786 | AU9: 0.156786 | AV9: 0.156786 | AW9: 0.156786 | AX9: 0.156786 | AY9: 0.156786 | AZ9: 0.156786 | BA9: 0.156786 | BB9: 0.156786 | BC9: 0.156786 | BD9: 0.156786 | BE9: 0.156786 | BF9: 0.156786 | BG9: 0.156786 | BH9: 0.156786 | BI9: 0.156786 | BJ9: 0.156786 | BK9: 0.156786 | BL9: 0.156786 | BM9: 0.156786 | BN9: 0.156786 | BO9: 0.156786 | BP9: 0.156786 | BQ9: 0.156786 | BR9: 0.156786 | BS9: 0.156786 | BT9: 0.156786 | BU9: 0.156786 | BV9: 0.156786 | BW9: 0.156786 | BX9: 0.156786 | BY9: 0.156786 | BZ9: 0.156786 | CA9: 0.156786 | CB9: 0.156786

Sheet Z-score
A1: ID_REF | B1: GSM907792 | C1: GSM907793 | D1: GSM907794 | E1: GSM907795 | F1: GSM907796 | G1: GSM907797 | H1: GSM907798 | I1: GSM907799 | J1: GSM907800 | K1: GSM907801 | L1: GSM907802 | M1: GSM907803 | N1: GSM907804 | O1: GSM907805 | P1: GSM907806 | Q1: GSM907807 | R1: GSM907808 | S1: GSM907809 | T1: GSM907810 | U1: GSM907811 | V1: GSM907812 | W1: GSM907813 | X1: GSM907814 | Y1: GSM907815 | Z1: GSM907816 | AA1: GSM907817 | AB1: GSM907818 | AC1: GSM907819 | AD1: GSM907820 | AE1: GSM907821 | AF1: GSM907822 | AG1: GSM907823 | AH1: GSM907824 | AI1: GSM907825 | AJ1: GSM907826 | AK1: GSM907827 | AL1: GSM907828 | AM1: GSM907829 | AN1: GSM907830 | AO1: GSM907831 | AP1: GSM907832 | AQ1: GSM907833 | AR1: GSM907834 | AS1: GSM907835 | AT1: GSM907836 | AU1: GSM907837 | AV1: GSM907838 | AW1: GSM907839 | AX1: GSM907840 | AY1: GSM907841 | AZ1: GSM907842 | BA1: GSM907843 | BB1: GSM907844 | BC1: GSM907845 | BD1: GSM907846 | BE1: GSM907847 | BF1: GSM907848 | BG1: GSM907849 | BH1: GSM907850 | BI1: GSM907851 | BJ1: GSM907852 | BK1: GSM907853 | BL1: GSM907854 | BM1: GSM907855 | BN1: GSM907856 | BO1: GSM907857 | BP1: GSM907858 | BQ1: GSM907859 | BR1: GSM907860 | BS1: GSM907861 | BT1: GSM907862 | BU1: GSM907863 | BV1: GSM907864 | BW1: GSM907865 | BX1: GSM907866 | BY1: GSM907867 | BZ1: GSM907868 | CA1: GSM907869 | CB1: GSM907870
A2: Alzheimer | B2: AD brain | C2: AD brain | D2: AD brain | E2: AD brain | F2: AD brain | G2: AD brain | H2: AD brain | I2: AD brain | J2: AD brain | K2: AD brain | L2: AD brain | M2: AD brain | N2: AD brain | O2: AD brain | P2: AD brain | Q2: non-AD brain | R2: non-AD brain | S2: non-AD brain | T2: non-AD brain | U2: non-AD brain | V2: non-AD brain | W2: non-AD brain | X2: non-AD brain | Y2: non-AD brain | Z2: non-AD brain | AA2: non-AD brain | AB2: non-AD brain | AC2: non-AD brain | AD2: non-AD brain | AE2: non-AD brain | AF2: non-AD brain | AG2: non-AD brain | AH2: non-AD brain | AI2: AD brain | AJ2: AD brain | AK2: AD brain | AL2: AD brain | AM2: AD brain | AN2: AD brain | AO2: AD brain | AP2: AD brain | AQ2: AD brain | AR2: AD brain | AS2: non-AD brain | AT2: non-AD brain | AU2: non-AD brain | AV2: non-AD brain | AW2: non-AD brain | AX2: non-AD brain | AY2: non-AD brain | AZ2: non-AD brain | BA2: non-AD brain | BB2: non-AD brain | BC2: non-AD brain | BD2: non-AD brain | BE2: non-AD brain | BF2: non-AD brain | BG2: non-AD brain | BH2: non-AD brain | BI2: non-AD brain | BJ2: non-AD brain | BK2: non-AD brain | BL2: AD brain | BM2: AD brain | BN2: AD brain | BO2: AD brain | BP2: AD brain | BQ2: AD brain | BR2: AD brain | BS2: non-AD brain | BT2: non-AD brain | BU2: non-AD brain | BV2: non-AD brain | BW2: non-AD brain | BX2: non-AD brain | BY2: non-AD brain | BZ2: non-AD brain | CA2: non-AD brain | CB2: non-AD brain
A3: Region | B3: Frontal cortex | C3: Frontal cortex | D3: Frontal cortex | E3: Frontal cortex | F3: Frontal cortex | G3: Frontal cortex | H3: Frontal cortex | I3: Frontal cortex | J3: Frontal cortex | K3: Frontal cortex | L3: Frontal cortex | M3: Frontal cortex | N3: Frontal cortex | O3: Frontal cortex | P3: Frontal cortex | Q3: Frontal cortex | R3: Frontal cortex | S3: Frontal cortex | T3: Frontal cortex | U3: Frontal cortex | V3: Frontal cortex | W3: Frontal cortex | X3: Frontal cortex | Y3: Frontal cortex | Z3: Frontal cortex | AA3: Frontal cortex | AB3: Frontal cortex | AC3: Frontal cortex | AD3: Frontal cortex | AE3: Frontal cortex | AF3: Frontal cortex | AG3: Frontal cortex | AH3: Frontal cortex | AI3: Temporal cortex | AJ3: Temporal cortex | AK3: Temporal cortex | AL3: Temporal cortex | AM3: Temporal cortex | AN3: Temporal cortex | AO3: Temporal cortex | AP3: Temporal cortex | AQ3: Temporal cortex | AR3: Temporal cortex | AS3: Temporal cortex | AT3: Temporal cortex | AU3: Temporal cortex | AV3: Temporal cortex | AW3: Temporal cortex | AX3: Temporal cortex | AY3: Temporal cortex | AZ3: Temporal cortex | BA3: Temporal cortex | BB3: Temporal cortex | BC3: Temporal cortex | BD3: Temporal cortex | BE3: Temporal cortex | BF3: Temporal cortex | BG3: Temporal cortex | BH3: Temporal cortex | BI3: Temporal cortex | BJ3: Temporal cortex | BK3: Temporal cortex | BL3: Hippocampus | BM3: Hippocampus | BN3: Hippocampus | BO3: Hippocampus | BP3: Hippocampus | BQ3: Hippocampus | BR3: Hippocampus | BS3: Hippocampus | BT3: Hippocampus | BU3: Hippocampus | BV3: Hippocampus | BW3: Hippocampus | BX3: Hippocampus | BY3: Hippocampus | BZ3: Hippocampus | CA3: Hippocampus | CB3: Hippocampus
A4: Age | B4: 84 | C4: 105 | D4: 88 | E4: 88 | F4: 91 | G4: 95 | H4: 92 | I4: 95 | J4: 101 | K4: 94 | L4: 89 | M4: 100 | N4: 99 | O4: 83 | P4: 90 | Q4: 80 | R4: 77 | S4: 87 | T4: 80 | U4: 84 | V4: 86 | W4: 77 | X4: 55 | Y4: 72 | Z4: 82 | AA4: 78 | AB4: 83 | AC4: 80 | AD4: 89 | AE4: 100 | AF4: 77 | AG4: 74 | AH4: 81 | AI4: 84 | AJ4: 88 | AK4: 95 | AL4: 88 | AM4: 91 | AN4: 95 | AO4: 95 | AP4: 89 | AQ4: 83 | AR4: 90 | AS4: 77 | AT4: 87 | AU4: 80 | AV4: 84 | AW4: 77 | AX4: 55 | AY4: 72 | AZ4: 89 | BA4: 82 | BB4: 78 | BC4: 83 | BD4: 80 | BE4: 75 | BF4: 89 | BG4: 65 | BH4: 71 | BI4: 74 | BJ4: 86 | BK4: 54 | BL4: 88 | BM4: 95 | BN4: 95 | BO4: 100 | BP4: 99 | BQ4: 83 | BR4: 90 | BS4: 87 | BT4: 80 | BU4: 84 | BV4: 77 | BW4: 55 | BX4: 72 | BY4: 78 | BZ4: 83 | CA4: 80 | CB4: 74
A5: Sex | B5: M | C5: F | D5: F | E5: M | F5: F | G5: F | H5: F | I5: F | J5: F | K5: M | L5: M | M5: F | N5: M | O5: M | P5: M | Q5: M | R5: F | S5: F | T5: F | U5: F | V5: F | W5: M | X5: M | Y5: F | Z5: M | AA5: F | AB5: M | AC5: M | AD5: M | AE5: F | AF5: M | AG5: M | AH5: F | AI5: M | AJ5: F | AK5: F | AL5: M | AM5: F | AN5: F | AO5: F | AP5: M | AQ5: M | AR5: M | AS5: F | AT5: F | AU5: F | AV5: F | AW5: M | AX5: M | AY5: F | AZ5: M | BA5: M | BB5: F | BC5: M | BD5: M | BE5: F | BF5: M | BG5: F | BH5: F | BI5: M | BJ5: F | BK5: F | BL5: F | BM5: F | BN5: F | BO5: F | BP5: M | BQ5: M | BR5: M | BS5: F | BT5: F | BU5: F | BV5: M | BW5: M | BX5: F | BY5: F | BZ5: M | CA5: M | CB5: M
A6: APOE | B6: =(Original!B6-Average!B6)/SD!B6 -> -0.71394948 | C6: =(Original!C6-Average!C6)/SD!C6 -> -0.90420758 | D6: =(Original!D6-Average!D6)/SD!D6 -> -1.4658446 | E6: =(Original!E6-Average!E6)/SD!E6 -> -1.0175137 | F6: =(Original!F6-Average!F6)/SD!F6 -> -1.0268241 | G6: =(Original!G6-Average!G6)/SD!G6 -> 0.85064025 | H6: =(Original!H6-Average!H6)/SD!H6 -> -0.68764203 | I6: =(Original!I6-Average!I6)/SD!I6 -> -0.7836913 | ... CB6: =(Original!CB6-Average!CB6)/SD!CB6 -> 0.24134666
A7: APP | B7: =(Original!B7-Average!B7)/SD!B7 -> 0.033319997 | C7: =(Original!C7-Average!C7)/SD!C7 -> -1.4194319 | D7: =(Original!D7-Average!D7)/SD!D7 -> -1.6993198 | E7: =(Original!E7-Average!E7)/SD!E7 -> -1.1868583 | F7: =(Original!F7-Average!F7)/SD!F7 -> -0.85632391 | G7: =(Original!G7-Average!G7)/SD!G7 -> -1.8266022 | H7: =(Original!H7-Average!H7)/SD!H7 -> -3.0867645 | I7: =(Original!I7-Average!I7)/SD!I7 -> -0.58110074 | ... CB7: =(Original!CB7-Average!CB7)/SD!CB7 -> -0.29788077
A8: PSEN1 | B8: =(Original!B8-Average!B8)/SD!B8 -> -0.91005319 | C8: =(Original!C8-Average!C8)/SD!C8 -> -0.53588726 | D8: =(Original!D8-Average!D8)/SD!D8 -> -1.2355048 | E8: =(Original!E8-Average!E8)/SD!E8 -> -2.0134022 | F8: =(Original!F8-Average!F8)/SD!F8 -> -0.60076311 | G8: =(Original!G8-Average!G8)/SD!G8 -> -0.40280368 | H8: =(Original!H8-Average!H8)/SD!H8 -> -1.4583958 | I8: =(Original!I8-Average!I8)/SD!I8 -> -0.19477202 | ... CB8: =(Original!CB8-Average!CB8)/SD!CB8 -> -0.35711484
A9: PSEN2 | B9: =(Original!B9-Average!B9)/SD!B9 -> 0.66855944 | C9: =(Original!C9-Average!C9)/SD!C9 -> -0.19095609 | D9: =(Original!D9-Average!D9)/SD!D9 -> -1.7751537 | E9: =(Original!E9-Average!E9)/SD!E9 -> 0.31578559 | F9: =(Original!F9-Average!F9)/SD!F9 -> -0.41112881 | G9: =(Original!G9-Average!G9)/SD!G9 -> 0.14319365 | H9: =(Original!H9-Average!H9)/SD!H9 -> -0.64941539 | I9: =(Original!I9-Average!I9)/SD!I9 -> 0.32886074 | ... CB9: =(Original!CB9-Average!CB9)/SD!CB9 -> 0.14300231

Sheet Descritized
A1: ID_REF | B1: GSM907792 | C1: GSM907793 | D1: GSM907794 | E1: GSM907795 | F1: GSM907796 | G1: GSM907797 | H1: GSM907798 | I1: GSM907799 | J1: GSM907800 | K1: GSM907801 | L1: GSM907802 | M1: GSM907803 | N1: GSM907804 | O1: GSM907805 | P1: GSM907806 | Q1: GSM907807 | R1: GSM907808 | S1: GSM907809 | T1: GSM907810 | U1: GSM907811 | V1: GSM907812 | W1: GSM907813 | X1: GSM907814 | Y1: GSM907815 | Z1: GSM907816 | AA1: GSM907817 | AB1: GSM907818 | AC1: GSM907819 | AD1: GSM907820 | AE1: GSM907821 | AF1: GSM907822 | AG1: GSM907823 | AH1: GSM907824 | AI1: GSM907825 | AJ1: GSM907826 | AK1: GSM907827 | AL1: GSM907828 | AM1: GSM907829 | AN1: GSM907830 | AO1: GSM907831 | AP1: GSM907832 | AQ1: GSM907833 | AR1: GSM907834 | AS1: GSM907835 | AT1: GSM907836 | AU1: GSM907837 | AV1: GSM907838 | AW1: GSM907839 | AX1: GSM907840 | AY1: GSM907841 | AZ1: GSM907842 | BA1: GSM907843 | BB1: GSM907844 | BC1: GSM907845 | BD1: GSM907846 | BE1: GSM907847 | BF1: GSM907848 | BG1: GSM907849 | BH1: GSM907850 | BI1: GSM907851 | BJ1: GSM907852 | BK1: GSM907853 | BL1: GSM907854 | BM1: GSM907855 | BN1: GSM907856 | BO1: GSM907857 | BP1: GSM907858 | BQ1: GSM907859 | BR1: GSM907860 | BS1: GSM907861 | BT1: GSM907862 | BU1: GSM907863 | BV1: GSM907864 | BW1: GSM907865 | BX1: GSM907866 | BY1: GSM907867 | BZ1: GSM907868 | CA1: GSM907869 | CB1: GSM907870
A2: Alzheimer | B2: =IF('Z-score'!B2="AD brain","1","0") -> 1 | C2: =IF('Z-score'!C2="AD brain","1","0") -> 1 | D2: =IF('Z-score'!D2="AD brain","1","0") -> 1 | E2: =IF('Z-score'!E2="AD brain","1","0") -> 1 | F2: =IF('Z-score'!F2="AD brain","1","0") -> 1 | G2: =IF('Z-score'!G2="AD brain","1","0") -> 1 | H2: =IF('Z-score'!H2="AD brain","1","0") -> 1 | I2: =IF('Z-score'!I2="AD brain","1","0") -> 1 | ... CB2: =IF('Z-score'!CB2="AD brain","1","0") -> 0
A3: Region | B3: Frontal cortex | C3: Frontal cortex | D3: Frontal cortex | E3: Frontal cortex | F3: Frontal cortex | G3: Frontal cortex | H3: Frontal cortex | I3: Frontal cortex | J3: Frontal cortex | K3: Frontal cortex | L3: Frontal cortex | M3: Frontal cortex | N3: Frontal cortex | O3: Frontal cortex | P3: Frontal cortex | Q3: Frontal cortex | R3: Frontal cortex | S3: Frontal cortex | T3: Frontal cortex | U3: Frontal cortex | V3: Frontal cortex | W3: Frontal cortex | X3: Frontal cortex | Y3: Frontal cortex | Z3: Frontal cortex | AA3: Frontal cortex | AB3: Frontal cortex | AC3: Frontal cortex | AD3: Frontal cortex | AE3: Frontal cortex | AF3: Frontal cortex | AG3: Frontal cortex | AH3: Frontal cortex | AI3: Temporal cortex | AJ3: Temporal cortex | AK3: Temporal cortex | AL3: Temporal cortex | AM3: Temporal cortex | AN3: Temporal cortex | AO3: Temporal cortex | AP3: Temporal cortex | AQ3: Temporal cortex | AR3: Temporal cortex | AS3: Temporal cortex | AT3: Temporal cortex | AU3: Temporal cortex | AV3: Temporal cortex | AW3: Temporal cortex | AX3: Temporal cortex | AY3: Temporal cortex | AZ3: Temporal cortex | BA3: Temporal cortex | BB3: Temporal cortex | BC3: Temporal cortex | BD3: Temporal cortex | BE3: Temporal cortex | BF3: Temporal cortex | BG3: Temporal cortex | BH3: Temporal cortex | BI3: Temporal cortex | BJ3: Temporal cortex | BK3: Temporal cortex | BL3: Hippocampus | BM3: Hippocampus | BN3: Hippocampus | BO3: Hippocampus | BP3: Hippocampus | BQ3: Hippocampus | BR3: Hippocampus | BS3: Hippocampus | BT3: Hippocampus | BU3: Hippocampus | BV3: Hippocampus | BW3: Hippocampus | BX3: Hippocampus | BY3: Hippocampus | BZ3: Hippocampus | CA3: Hippocampus | CB3: Hippocampus
A4: Age | B4: 84 | C4: 105 | D4: 88 | E4: 88 | F4: 91 | G4: 95 | H4: 92 | I4: 95 | J4: 101 | K4: 94 | L4: 89 | M4: 100 | N4: 99 | O4: 83 | P4: 90 | Q4: 80 | R4: 77 | S4: 87 | T4: 80 | U4: 84 | V4: 86 | W4: 77 | X4: 55 | Y4: 72 | Z4: 82 | AA4: 78 | AB4: 83 | AC4: 80 | AD4: 89 | AE4: 100 | AF4: 77 | AG4: 74 | AH4: 81 | AI4: 84 | AJ4: 88 | AK4: 95 | AL4: 88 | AM4: 91 | AN4: 95 | AO4: 95 | AP4: 89 | AQ4: 83 | AR4: 90 | AS4: 77 | AT4: 87 | AU4: 80 | AV4: 84 | AW4: 77 | AX4: 55 | AY4: 72 | AZ4: 89 | BA4: 82 | BB4: 78 | BC4: 83 | BD4: 80 | BE4: 75 | BF4: 89 | BG4: 65 | BH4: 71 | BI4: 74 | BJ4: 86 | BK4: 54 | BL4: 88 | BM4: 95 | BN4: 95 | BO4: 100 | BP4: 99 | BQ4: 83 | BR4: 90 | BS4: 87 | BT4: 80 | BU4: 84 | BV4: 77 | BW4: 55 | BX4: 72 | BY4: 78 | BZ4: 83 | CA4: 80 | CB4: 74
A5: Sex | B5: M | C5: F | D5: F | E5: M | F5: F | G5: F | H5: F | I5: F | J5: F | K5: M | L5: M | M5: F | N5: M | O5: M | P5: M | Q5: M | R5: F | S5: F | T5: F | U5: F | V5: F | W5: M | X5: M | Y5: F | Z5: M | AA5: F | AB5: M | AC5: M | AD5: M | AE5: F | AF5: M | AG5: M | AH5: F | AI5: M | AJ5: F | AK5: F | AL5: M | AM5: F | AN5: F | AO5: F | AP5: M | AQ5: M | AR5: M | AS5: F | AT5: F | AU5: F | AV5: F | AW5: M | AX5: M | AY5: F | AZ5: M | BA5: M | BB5: F | BC5: M | BD5: M | BE5: F | BF5: M | BG5: F | BH5: F | BI5: M | BJ5: F | BK5: F | BL5: F | BM5: F | BN5: F | BO5: F | BP5: M | BQ5: M | BR5: M | BS5: F | BT5: F | BU5: F | BV5: M | BW5: M | BX5: F | BY5: F | BZ5: M | CA5: M | CB5: M
A6: APOE | B6: =IF('Z-score'!B6<-1,"0",IF('Z-score'!B6>1,"2","1")) -> 1 | C6: =IF('Z-score'!C6<-1,"0",IF('Z-score'!C6>1,"2","1")) -> 1 | D6: =IF('Z-score'!D6<-1,"0",IF('Z-score'!D6>1,"2","1")) -> 0 | E6: =IF('Z-score'!E6<-1,"0",IF('Z-score'!E6>1,"2","1")) -> 0 | F6: =IF('Z-score'!F6<-1,"0",IF('Z-score'!F6>1,"2","1")) -> 0 | G6: =IF('Z-score'!G6<-1,"0",IF('Z-score'!G6>1,"2","1")) -> 1 | H6: =IF('Z-score'!H6<-1,"0",IF('Z-score'!H6>1,"2","1")) -> 1 | I6: =IF('Z-score'!I6<-1,"0",IF('Z-score'!I6>1,"2","1")) -> 1 | ... CB6: =IF('Z-score'!CB6<-1,"0",IF('Z-score'!CB6>1,"2","1")) -> 1
A7: APP | B7: =IF('Z-score'!B7<-1,"0",IF('Z-score'!B7>1,"2","1")) -> 1 | C7: =IF('Z-score'!C7<-1,"0",IF('Z-score'!C7>1,"2","1")) -> 0 | D7: =IF('Z-score'!D7<-1,"0",IF('Z-score'!D7>1,"2","1")) -> 0 | E7: =IF('Z-score'!E7<-1,"0",IF('Z-score'!E7>1,"2","1")) -> 0 | F7: =IF('Z-score'!F7<-1,"0",IF('Z-score'!F7>1,"2","1")) -> 1 | G7: =IF('Z-score'!G7<-1,"0",IF('Z-score'!G7>1,"2","1")) -> 0 | H7: =IF('Z-score'!H7<-1,"0",IF('Z-score'!H7>1,"2","1")) -> 0 | I7: =IF('Z-score'!I7<-1,"0",IF('Z-score'!I7>1,"2","1")) -> 1 | ... CB7: =IF('Z-score'!CB7<-1,"0",IF('Z-score'!CB7>1,"2","1")) -> 1
A8: PSEN1 | B8: =IF('Z-score'!B8<-1,"0",IF('Z-score'!B8>1,"2","1")) -> 1 | C8: =IF('Z-score'!C8<-1,"0",IF('Z-score'!C8>1,"2","1")) -> 1 | D8: =IF('Z-score'!D8<-1,"0",IF('Z-score'!D8>1,"2","1")) -> 0 | E8: =IF('Z-score'!E8<-1,"0",IF('Z-score'!E8>1,"2","1")) -> 0 | F8: =IF('Z-score'!F8<-1,"0",IF('Z-score'!F8>1,"2","1")) -> 1 | G8: =IF('Z-score'!G8<-1,"0",IF('Z-score'!G8>1,"2","1")) -> 1 | H8: =IF('Z-score'!H8<-1,"0",IF('Z-score'!H8>1,"2","1")) -> 0 | I8: =IF('Z-score'!I8<-1,"0",IF('Z-score'!I8>1,"2","1")) -> 1 | ... CB8: =IF('Z-score'!CB8<-1,"0",IF('Z-score'!CB8>1,"2","1")) -> 1
A9: PSEN2 | B9: =IF('Z-score'!B9<-1,"0",IF('Z-score'!B9>1,"2","1")) -> 1 | C9: =IF('Z-score'!C9<-1,"0",IF('Z-score'!C9>1,"2","1")) -> 1 | D9: =IF('Z-score'!D9<-1,"0",IF('Z-score'!D9>1,"2","1")) -> 0 | E9: =IF('Z-score'!E9<-1,"0",IF('Z-score'!E9>1,"2","1")) -> 1 | F9: =IF('Z-score'!F9<-1,"0",IF('Z-score'!F9>1,"2","1")) -> 1 | G9: =IF('Z-score'!G9<-1,"0",IF('Z-score'!G9>1,"2","1")) -> 1 | H9: =IF('Z-score'!H9<-1,"0",IF('Z-score'!H9>1,"2","1")) -> 1 | I9: =IF('Z-score'!I9<-1,"0",IF('Z-score'!I9>1,"2","1")) -> 1 | ... CB9: =IF('Z-score'!CB9<-1,"0",IF('Z-score'!CB9>1,"2","1")) -> 1
