Workbook

Sheet Original
A1: ID_REF | B1: GSM967918 | C1: GSM967919 | D1: GSM967920 | E1: GSM967921 | F1: GSM967922 | G1: GSM967923 | H1: GSM967924 | I1: GSM967925 | J1: GSM967926 | K1: GSM967927 | L1: GSM967928 | M1: GSM967929 | N1: GSM967930 | O1: GSM967931 | P1: GSM967932 | Q1: GSM967933 | R1: GSM967934 | S1: GSM967935 | T1: GSM967936 | U1: GSM967937 | V1: GSM967938 | W1: Average | X1: SD
A2: !Sample_title | B2: Control | C2: Control | D2: Control | E2: Control | F2: Control | G2: Control | H2: Control | I2: Early-onset Alzheimer disease | J2: Early-onset Alzheimer disease | K2: Early-onset Alzheimer disease | L2: Early-onset Alzheimer disease | M2: Early-onset Alzheimer disease | N2: Early-onset Alzheimer disease | O2: Early-onset Alzheimer disease | P2: Alzheimer's disease PSEN1 mutation carrier patient | Q2: Alzheimer's disease PSEN1 mutation carrier patient | R2: Alzheimer's disease PSEN1 mutation carrier patient | S2: Alzheimer's disease PSEN1 mutation carrier patient | T2: Alzheimer's disease PSEN1 mutation carrier patient | U2: Alzheimer's disease PSEN1 mutation carrier patient | V2: Alzheimer's disease PSEN1 mutation carrier patient
A3: Region | B3: posterior cingulate at thalamus level | C3: posterior cingulate at thalamus level | D3: posterior cingulate at thalamus level | E3: posterior cingulate at thalamus level | F3: posterior cingulate at thalamus level | G3: posterior cingulate at thalamus level | H3: posterior cingulate at thalamus level | I3: posterior cingulate at thalamus level | J3: posterior cingulate at thalamus level | K3: posterior cingulate at thalamus level | L3: posterior cingulate at thalamus level | M3: posterior cingulate at thalamus level | N3: posterior cingulate at thalamus level | O3: posterior cingulate at thalamus level | P3: posterior cingulate at thalamus level | Q3: posterior cingulate at thalamus level | R3: posterior cingulate at thalamus level | S3: posterior cingulate at thalamus level | T3: posterior cingulate at thalamus level | U3: posterior cingulate at thalamus level | V3: posterior cingulate at thalamus level
A4: sex | B4: Female | C4: Female | D4: Male | E4: Male | F4: Male | G4: Male | H4: Male | I4: Female | J4: Female | K4: Male | L4: Male | M4: Male | N4: Male | O4: Male | P4: Female | Q4: Male | R4: Male | S4: Male | T4: Male | U4: Male | V4: Male
A5: Age | B5: 45 | C5: 50 | D5: 58 | E5: 46 | F5: 47 | G5: 49 | H5: 53 | I5: 63 | J5: 65 | K5: 57 | L5: 69 | M5: 61 | N5: 68 | O5: 60 | P5: 48 | Q5: 53 | R5: 54 | S5: 64 | T5: 57 | U5: 57 | V5: 44
A6: APOE | B6: 8.281 | C6: 8.825 | D6: 8.128 | E6: 8.134 | F6: 8.161 | G6: 8.001 | H6: 7.814 | I6: 8.691 | J6: 8.848 | K6: 8.025 | L6: 8.325 | M6: 8.373 | N6: 8.242 | O6: 8.322 | P6: 8.559 | Q6: 8.561 | R6: 8.469 | S6: 8.021 | T6: 8.731 | U6: 8.407 | V6: 8.985 | W6: =AVERAGE(B6:V6) -> 8.3763333 | X6: =STDEV(B6:V6) -> 0.31641213
A7: APP | B7: 11.158 | C7: 11.437 | D7: 11.689 | E7: 11.345 | F7: 11.156 | G7: 11.424 | H7: 11.587 | I7: 11.216 | J7: 10.976 | K7: 11.382 | L7: 11.284 | M7: 11.293 | N7: 11.147 | O7: 11.271 | P7: 11.168 | Q7: 11.302 | R7: 11.303 | S7: 11.293 | T7: 11.316 | U7: 11.157 | V7: 11.284 | W7: =AVERAGE(B7:V7) -> 11.294667 | X7: =STDEV(B7:V7) -> 0.15683123
A8: PSEN1 | B8: 10.418 | C8: 10.129 | D8: 9.695 | E8: 10.371 | F8: 9.371 | G8: 9.034 | H8: 9.34 | I8: 10.019 | J8: 9.654 | K8: 9.654 | L8: 10.271 | M8: 10.38 | N8: 10.285 | O8: 10.492 | P8: 10.329 | Q8: 10.497 | R8: 10.728 | S8: 10.547 | T8: 10.654 | U8: 9.466 | V8: 10.411 | W8: =AVERAGE(B8:V8) -> 10.083095 | X8: =STDEV(B8:V8) -> 0.49439791
A9: PSEN2 | B9: 5.662 | C9: 6.619 | D9: 6.249 | E9: 5.895 | F9: 6.241 | G9: 6.053 | H9: 5.658 | I9: 6.051 | J9: 5.319 | K9: 6.305 | L9: 6.002 | M9: 5.258 | N9: 5.554 | O9: 5.196 | P9: 5.664 | Q9: 5.606 | R9: 5.601 | S9: 5.635 | T9: 5.527 | U9: 6.155 | V9: 5.775 | W9: =AVERAGE(B9:V9) -> 5.8107143 | X9: =STDEV(B9:V9) -> 0.37483985

Sheet Average
A1: ID_REF | B1: GSM967918 | C1: GSM967919 | D1: GSM967920 | E1: GSM967921 | F1: GSM967922 | G1: GSM967923 | H1: GSM967924 | I1: GSM967925 | J1: GSM967926 | K1: GSM967927 | L1: GSM967928 | M1: GSM967929 | N1: GSM967930 | O1: GSM967931 | P1: GSM967932 | Q1: GSM967933 | R1: GSM967934 | S1: GSM967935 | T1: GSM967936 | U1: GSM967937 | V1: GSM967938
A2: !Sample_title | B2: Control | C2: Control | D2: Control | E2: Control | F2: Control | G2: Control | H2: Control | I2: Early-onset Alzheimer disease | J2: Early-onset Alzheimer disease | K2: Early-onset Alzheimer disease | L2: Early-onset Alzheimer disease | M2: Early-onset Alzheimer disease | N2: Early-onset Alzheimer disease | O2: Early-onset Alzheimer disease | P2: Alzheimer's disease PSEN1 mutation carrier patient | Q2: Alzheimer's disease PSEN1 mutation carrier patient | R2: Alzheimer's disease PSEN1 mutation carrier patient | S2: Alzheimer's disease PSEN1 mutation carrier patient | T2: Alzheimer's disease PSEN1 mutation carrier patient | U2: Alzheimer's disease PSEN1 mutation carrier patient | V2: Alzheimer's disease PSEN1 mutation carrier patient
A3: Region | B3: posterior cingulate at thalamus level | C3: posterior cingulate at thalamus level | D3: posterior cingulate at thalamus level | E3: posterior cingulate at thalamus level | F3: posterior cingulate at thalamus level | G3: posterior cingulate at thalamus level | H3: posterior cingulate at thalamus level | I3: posterior cingulate at thalamus level | J3: posterior cingulate at thalamus level | K3: posterior cingulate at thalamus level | L3: posterior cingulate at thalamus level | M3: posterior cingulate at thalamus level | N3: posterior cingulate at thalamus level | O3: posterior cingulate at thalamus level | P3: posterior cingulate at thalamus level | Q3: posterior cingulate at thalamus level | R3: posterior cingulate at thalamus level | S3: posterior cingulate at thalamus level | T3: posterior cingulate at thalamus level | U3: posterior cingulate at thalamus level | V3: posterior cingulate at thalamus level
A4: sex | B4: Female | C4: Female | D4: Male | E4: Male | F4: Male | G4: Male | H4: Male | I4: Female | J4: Female | K4: Male | L4: Male | M4: Male | N4: Male | O4: Male | P4: Female | Q4: Male | R4: Male | S4: Male | T4: Male | U4: Male | V4: Male
A5: Age | B5: 45 | C5: 50 | D5: 58 | E5: 46 | F5: 47 | G5: 49 | H5: 53 | I5: 63 | J5: 65 | K5: 57 | L5: 69 | M5: 61 | N5: 68 | O5: 60 | P5: 48 | Q5: 53 | R5: 54 | S5: 64 | T5: 57 | U5: 57 | V5: 44
A6: APOE | B6: 8.3763333 | C6: 8.3763333 | D6: 8.3763333 | E6: 8.3763333 | F6: 8.3763333 | G6: 8.3763333 | H6: 8.3763333 | I6: 8.3763333 | J6: 8.3763333 | K6: 8.3763333 | L6: 8.3763333 | M6: 8.3763333 | N6: 8.3763333 | O6: 8.3763333 | P6: 8.3763333 | Q6: 8.3763333 | R6: 8.3763333 | S6: 8.3763333 | T6: 8.3763333 | U6: 8.3763333 | V6: 8.3763333
A7: APP | B7: 11.294667 | C7: 11.294667 | D7: 11.294667 | E7: 11.294667 | F7: 11.294667 | G7: 11.294667 | H7: 11.294667 | I7: 11.294667 | J7: 11.294667 | K7: 11.294667 | L7: 11.294667 | M7: 11.294667 | N7: 11.294667 | O7: 11.294667 | P7: 11.294667 | Q7: 11.294667 | R7: 11.294667 | S7: 11.294667 | T7: 11.294667 | U7: 11.294667 | V7: 11.294667
A8: PSEN1 | B8: 10.083095 | C8: 10.083095 | D8: 10.083095 | E8: 10.083095 | F8: 10.083095 | G8: 10.083095 | H8: 10.083095 | I8: 10.083095 | J8: 10.083095 | K8: 10.083095 | L8: 10.083095 | M8: 10.083095 | N8: 10.083095 | O8: 10.083095 | P8: 10.083095 | Q8: 10.083095 | R8: 10.083095 | S8: 10.083095 | T8: 10.083095 | U8: 10.083095 | V8: 10.083095
A9: PSEN2 | B9: 5.8107143 | C9: 5.8107143 | D9: 5.8107143 | E9: 5.8107143 | F9: 5.8107143 | G9: 5.8107143 | H9: 5.8107143 | I9: 5.8107143 | J9: 5.8107143 | K9: 5.8107143 | L9: 5.8107143 | M9: 5.8107143 | N9: 5.8107143 | O9: 5.8107143 | P9: 5.8107143 | Q9: 5.8107143 | R9: 5.8107143 | S9: 5.8107143 | T9: 5.8107143 | U9: 5.8107143 | V9: 5.8107143

Sheet SD
A1: ID_REF | B1: GSM967918 | C1: GSM967919 | D1: GSM967920 | E1: GSM967921 | F1: GSM967922 | G1: GSM967923 | H1: GSM967924 | I1: GSM967925 | J1: GSM967926 | K1: GSM967927 | L1: GSM967928 | M1: GSM967929 | N1: GSM967930 | O1: GSM967931 | P1: GSM967932 | Q1: GSM967933 | R1: GSM967934 | S1: GSM967935 | T1: GSM967936 | U1: GSM967937 | V1: GSM967938
A2: !Sample_title | B2: Control | C2: Control | D2: Control | E2: Control | F2: Control | G2: Control | H2: Control | I2: Early-onset Alzheimer disease | J2: Early-onset Alzheimer disease | K2: Early-onset Alzheimer disease | L2: Early-onset Alzheimer disease | M2: Early-onset Alzheimer disease | N2: Early-onset Alzheimer disease | O2: Early-onset Alzheimer disease | P2: Alzheimer's disease PSEN1 mutation carrier patient | Q2: Alzheimer's disease PSEN1 mutation carrier patient | R2: Alzheimer's disease PSEN1 mutation carrier patient | S2: Alzheimer's disease PSEN1 mutation carrier patient | T2: Alzheimer's disease PSEN1 mutation carrier patient | U2: Alzheimer's disease PSEN1 mutation carrier patient | V2: Alzheimer's disease PSEN1 mutation carrier patient
A3: Region | B3: posterior cingulate at thalamus level | C3: posterior cingulate at thalamus level | D3: posterior cingulate at thalamus level | E3: posterior cingulate at thalamus level | F3: posterior cingulate at thalamus level | G3: posterior cingulate at thalamus level | H3: posterior cingulate at thalamus level | I3: posterior cingulate at thalamus level | J3: posterior cingulate at thalamus level | K3: posterior cingulate at thalamus level | L3: posterior cingulate at thalamus level | M3: posterior cingulate at thalamus level | N3: posterior cingulate at thalamus level | O3: posterior cingulate at thalamus level | P3: posterior cingulate at thalamus level | Q3: posterior cingulate at thalamus level | R3: posterior cingulate at thalamus level | S3: posterior cingulate at thalamus level | T3: posterior cingulate at thalamus level | U3: posterior cingulate at thalamus level | V3: posterior cingulate at thalamus level
A4: sex | B4: Female | C4: Female | D4: Male | E4: Male | F4: Male | G4: Male | H4: Male | I4: Female | J4: Female | K4: Male | L4: Male | M4: Male | N4: Male | O4: Male | P4: Female | Q4: Male | R4: Male | S4: Male | T4: Male | U4: Male | V4: Male
A5: Age | B5: 45 | C5: 50 | D5: 58 | E5: 46 | F5: 47 | G5: 49 | H5: 53 | I5: 63 | J5: 65 | K5: 57 | L5: 69 | M5: 61 | N5: 68 | O5: 60 | P5: 48 | Q5: 53 | R5: 54 | S5: 64 | T5: 57 | U5: 57 | V5: 44
A6: APOE | B6: 0.31641213 | C6: 0.31641213 | D6: 0.31641213 | E6: 0.31641213 | F6: 0.31641213 | G6: 0.31641213 | H6: 0.31641213 | I6: 0.31641213 | J6: 0.31641213 | K6: 0.31641213 | L6: 0.31641213 | M6: 0.31641213 | N6: 0.31641213 | O6: 0.31641213 | P6: 0.31641213 | Q6: 0.31641213 | R6: 0.31641213 | S6: 0.31641213 | T6: 0.31641213 | U6: 0.31641213 | V6: 0.31641213
A7: APP | B7: 0.15683123 | C7: 0.15683123 | D7: 0.15683123 | E7: 0.15683123 | F7: 0.15683123 | G7: 0.15683123 | H7: 0.15683123 | I7: 0.15683123 | J7: 0.15683123 | K7: 0.15683123 | L7: 0.15683123 | M7: 0.15683123 | N7: 0.15683123 | O7: 0.15683123 | P7: 0.15683123 | Q7: 0.15683123 | R7: 0.15683123 | S7: 0.15683123 | T7: 0.15683123 | U7: 0.15683123 | V7: 0.15683123
A8: PSEN1 | B8: 0.49439791 | C8: 0.49439791 | D8: 0.49439791 | E8: 0.49439791 | F8: 0.49439791 | G8: 0.49439791 | H8: 0.49439791 | I8: 0.49439791 | J8: 0.49439791 | K8: 0.49439791 | L8: 0.49439791 | M8: 0.49439791 | N8: 0.49439791 | O8: 0.49439791 | P8: 0.49439791 | Q8: 0.49439791 | R8: 0.49439791 | S8: 0.49439791 | T8: 0.49439791 | U8: 0.49439791 | V8: 0.49439791
A9: PSEN2 | B9: 0.37483985 | C9: 0.37483985 | D9: 0.37483985 | E9: 0.37483985 | F9: 0.37483985 | G9: 0.37483985 | H9: 0.37483985 | I9: 0.37483985 | J9: 0.37483985 | K9: 0.37483985 | L9: 0.37483985 | M9: 0.37483985 | N9: 0.37483985 | O9: 0.37483985 | P9: 0.37483985 | Q9: 0.37483985 | R9: 0.37483985 | S9: 0.37483985 | T9: 0.37483985 | U9: 0.37483985 | V9: 0.37483985

Sheet Z-score
A1: ID_REF | B1: GSM967918 | C1: GSM967919 | D1: GSM967920 | E1: GSM967921 | F1: GSM967922 | G1: GSM967923 | H1: GSM967924 | I1: GSM967925 | J1: GSM967926 | K1: GSM967927 | L1: GSM967928 | M1: GSM967929 | N1: GSM967930 | O1: GSM967931 | P1: GSM967932 | Q1: GSM967933 | R1: GSM967934 | S1: GSM967935 | T1: GSM967936 | U1: GSM967937 | V1: GSM967938
A2: !Sample_title | B2: Control | C2: Control | D2: Control | E2: Control | F2: Control | G2: Control | H2: Control | I2: Early-onset Alzheimer disease | J2: Early-onset Alzheimer disease | K2: Early-onset Alzheimer disease | L2: Early-onset Alzheimer disease | M2: Early-onset Alzheimer disease | N2: Early-onset Alzheimer disease | O2: Early-onset Alzheimer disease | P2: Alzheimer's disease PSEN1 mutation carrier patient | Q2: Alzheimer's disease PSEN1 mutation carrier patient | R2: Alzheimer's disease PSEN1 mutation carrier patient | S2: Alzheimer's disease PSEN1 mutation carrier patient | T2: Alzheimer's disease PSEN1 mutation carrier patient | U2: Alzheimer's disease PSEN1 mutation carrier patient | V2: Alzheimer's disease PSEN1 mutation carrier patient
A3: Region | B3: posterior cingulate at thalamus level | C3: posterior cingulate at thalamus level | D3: posterior cingulate at thalamus level | E3: posterior cingulate at thalamus level | F3: posterior cingulate at thalamus level | G3: posterior cingulate at thalamus level | H3: posterior cingulate at thalamus level | I3: posterior cingulate at thalamus level | J3: posterior cingulate at thalamus level | K3: posterior cingulate at thalamus level | L3: posterior cingulate at thalamus level | M3: posterior cingulate at thalamus level | N3: posterior cingulate at thalamus level | O3: posterior cingulate at thalamus level | P3: posterior cingulate at thalamus level | Q3: posterior cingulate at thalamus level | R3: posterior cingulate at thalamus level | S3: posterior cingulate at thalamus level | T3: posterior cingulate at thalamus level | U3: posterior cingulate at thalamus level | V3: posterior cingulate at thalamus level
A4: sex | B4: Female | C4: Female | D4: Male | E4: Male | F4: Male | G4: Male | H4: Male | I4: Female | J4: Female | K4: Male | L4: Male | M4: Male | N4: Male | O4: Male | P4: Female | Q4: Male | R4: Male | S4: Male | T4: Male | U4: Male | V4: Male
A5: Age | B5: 45 | C5: 50 | D5: 58 | E5: 46 | F5: 47 | G5: 49 | H5: 53 | I5: 63 | J5: 65 | K5: 57 | L5: 69 | M5: 61 | N5: 68 | O5: 60 | P5: 48 | Q5: 53 | R5: 54 | S5: 64 | T5: 57 | U5: 57 | V5: 44
A6: APOE | B6: =(Original!B6-Average!B6)/SD!B6 -> -0.30129482 | C6: =(Original!C6-Average!C6)/SD!C6 -> 1.4179819 | D6: =(Original!D6-Average!D6)/SD!D6 -> -0.78484139 | E6: =(Original!E6-Average!E6)/SD!E6 -> -0.76587878 | F6: =(Original!F6-Average!F6)/SD!F6 -> -0.68054703 | G6: =(Original!G6-Average!G6)/SD!G6 -> -1.1862167 | H6: =(Original!H6-Average!H6)/SD!H6 -> -1.777218 | I6: =(Original!I6-Average!I6)/SD!I6 -> 0.99448359 | ... V6: =(Original!V6-Average!V6)/SD!V6 -> 1.9236515
A7: APP | B7: =(Original!B7-Average!B7)/SD!B7 -> -0.8714251 | C7: =(Original!C7-Average!C7)/SD!C7 -> 0.90755736 | D7: =(Original!D7-Average!D7)/SD!D7 -> 2.5143802 | E7: =(Original!E7-Average!E7)/SD!E7 -> 0.32093949 | F7: =(Original!F7-Average!F7)/SD!F7 -> -0.88417766 | G7: =(Original!G7-Average!G7)/SD!G7 -> 0.82466571 | H7: =(Original!H7-Average!H7)/SD!H7 -> 1.8639995 | I7: =(Original!I7-Average!I7)/SD!I7 -> -0.50160079 | ... V7: =(Original!V7-Average!V7)/SD!V7 -> -0.068013666
A8: PSEN1 | B8: =(Original!B8-Average!B8)/SD!B8 -> 0.67739923 | C8: =(Original!C8-Average!C8)/SD!C8 -> 0.092849831 | D8: =(Original!D8-Average!D8)/SD!D8 -> -0.7849856 | E8: =(Original!E8-Average!E8)/SD!E8 -> 0.5823341 | F8: =(Original!F8-Average!F8)/SD!F8 -> -1.4403282 | G8: =(Original!G8-Average!G8)/SD!G8 -> -2.1219654 | H8: =(Original!H8-Average!H8)/SD!H8 -> -1.5030307 | I8: =(Original!I8-Average!I8)/SD!I8 -> -0.12964302 | ... V8: =(Original!V8-Average!V8)/SD!V8 -> 0.66324059
A9: PSEN2 | B9: =(Original!B9-Average!B9)/SD!B9 -> -0.39674086 | C9: =(Original!C9-Average!C9)/SD!C9 -> 2.1563495 | D9: =(Original!D9-Average!D9)/SD!D9 -> 1.1692613 | E9: =(Original!E9-Average!E9)/SD!E9 -> 0.22485793 | F9: =(Original!F9-Average!F9)/SD!F9 -> 1.1479188 | G9: =(Original!G9-Average!G9)/SD!G9 -> 0.64637128 | H9: =(Original!H9-Average!H9)/SD!H9 -> -0.40741209 | I9: =(Original!I9-Average!I9)/SD!I9 -> 0.64103567 | ... V9: =(Original!V9-Average!V9)/SD!V9 -> -0.095278785

Sheet Descritized
A1: ID_REF | B1: GSM967918 | C1: GSM967919 | D1: GSM967920 | E1: GSM967921 | F1: GSM967922 | G1: GSM967923 | H1: GSM967924 | I1: GSM967925 | J1: GSM967926 | K1: GSM967927 | L1: GSM967928 | M1: GSM967929 | N1: GSM967930 | O1: GSM967931 | P1: GSM967932 | Q1: GSM967933 | R1: GSM967934 | S1: GSM967935 | T1: GSM967936 | U1: GSM967937 | V1: GSM967938
A2: Alzheimer | B2: =IF('Z-score'!B2="Control","0","1") -> 0 | C2: =IF('Z-score'!C2="Control","0","1") -> 0 | D2: =IF('Z-score'!D2="Control","0","1") -> 0 | E2: =IF('Z-score'!E2="Control","0","1") -> 0 | F2: =IF('Z-score'!F2="Control","0","1") -> 0 | G2: =IF('Z-score'!G2="Control","0","1") -> 0 | H2: =IF('Z-score'!H2="Control","0","1") -> 0 | I2: =IF('Z-score'!I2="Control","0","1") -> 1 | ... V2: =IF('Z-score'!V2="Control","0","1") -> 1
A3: Region | B3: posterior cingulate at thalamus level | C3: posterior cingulate at thalamus level | D3: posterior cingulate at thalamus level | E3: posterior cingulate at thalamus level | F3: posterior cingulate at thalamus level | G3: posterior cingulate at thalamus level | H3: posterior cingulate at thalamus level | I3: posterior cingulate at thalamus level | J3: posterior cingulate at thalamus level | K3: posterior cingulate at thalamus level | L3: posterior cingulate at thalamus level | M3: posterior cingulate at thalamus level | N3: posterior cingulate at thalamus level | O3: posterior cingulate at thalamus level | P3: posterior cingulate at thalamus level | Q3: posterior cingulate at thalamus level | R3: posterior cingulate at thalamus level | S3: posterior cingulate at thalamus level | T3: posterior cingulate at thalamus level | U3: posterior cingulate at thalamus level | V3: posterior cingulate at thalamus level
A4: sex | B4: F | C4: F | D4: M | E4: M | F4: M | G4: M | H4: M | I4: F | J4: F | K4: M | L4: M | M4: M | N4: M | O4: M | P4: F | Q4: M | R4: M | S4: M | T4: M | U4: M | V4: M
A5: Age | B5: 45 | C5: 50 | D5: 58 | E5: 46 | F5: 47 | G5: 49 | H5: 53 | I5: 63 | J5: 65 | K5: 57 | L5: 69 | M5: 61 | N5: 68 | O5: 60 | P5: 48 | Q5: 53 | R5: 54 | S5: 64 | T5: 57 | U5: 57 | V5: 44
A6: APOE | B6: =IF('Z-score'!B6<-1,"0",IF('Z-score'!B6>1,"2","1")) -> 1 | C6: =IF('Z-score'!C6<-1,"0",IF('Z-score'!C6>1,"2","1")) -> 2 | D6: =IF('Z-score'!D6<-1,"0",IF('Z-score'!D6>1,"2","1")) -> 1 | E6: =IF('Z-score'!E6<-1,"0",IF('Z-score'!E6>1,"2","1")) -> 1 | F6: =IF('Z-score'!F6<-1,"0",IF('Z-score'!F6>1,"2","1")) -> 1 | G6: =IF('Z-score'!G6<-1,"0",IF('Z-score'!G6>1,"2","1")) -> 0 | H6: =IF('Z-score'!H6<-1,"0",IF('Z-score'!H6>1,"2","1")) -> 0 | I6: =IF('Z-score'!I6<-1,"0",IF('Z-score'!I6>1,"2","1")) -> 1 | ... V6: =IF('Z-score'!V6<-1,"0",IF('Z-score'!V6>1,"2","1")) -> 2
A7: APP | B7: =IF('Z-score'!B7<-1,"0",IF('Z-score'!B7>1,"2","1")) -> 1 | C7: =IF('Z-score'!C7<-1,"0",IF('Z-score'!C7>1,"2","1")) -> 1 | D7: =IF('Z-score'!D7<-1,"0",IF('Z-score'!D7>1,"2","1")) -> 2 | E7: =IF('Z-score'!E7<-1,"0",IF('Z-score'!E7>1,"2","1")) -> 1 | F7: =IF('Z-score'!F7<-1,"0",IF('Z-score'!F7>1,"2","1")) -> 1 | G7: =IF('Z-score'!G7<-1,"0",IF('Z-score'!G7>1,"2","1")) -> 1 | H7: =IF('Z-score'!H7<-1,"0",IF('Z-score'!H7>1,"2","1")) -> 2 | I7: =IF('Z-score'!I7<-1,"0",IF('Z-score'!I7>1,"2","1")) -> 1 | ... V7: =IF('Z-score'!V7<-1,"0",IF('Z-score'!V7>1,"2","1")) -> 1
A8: PSEN1 | B8: =IF('Z-score'!B8<-1,"0",IF('Z-score'!B8>1,"2","1")) -> 1 | C8: =IF('Z-score'!C8<-1,"0",IF('Z-score'!C8>1,"2","1")) -> 1 | D8: =IF('Z-score'!D8<-1,"0",IF('Z-score'!D8>1,"2","1")) -> 1 | E8: =IF('Z-score'!E8<-1,"0",IF('Z-score'!E8>1,"2","1")) -> 1 | F8: =IF('Z-score'!F8<-1,"0",IF('Z-score'!F8>1,"2","1")) -> 0 | G8: =IF('Z-score'!G8<-1,"0",IF('Z-score'!G8>1,"2","1")) -> 0 | H8: =IF('Z-score'!H8<-1,"0",IF('Z-score'!H8>1,"2","1")) -> 0 | I8: =IF('Z-score'!I8<-1,"0",IF('Z-score'!I8>1,"2","1")) -> 1 | ... V8: =IF('Z-score'!V8<-1,"0",IF('Z-score'!V8>1,"2","1")) -> 1
A9: PSEN2 | B9: =IF('Z-score'!B9<-1,"0",IF('Z-score'!B9>1,"2","1")) -> 1 | C9: =IF('Z-score'!C9<-1,"0",IF('Z-score'!C9>1,"2","1")) -> 2 | D9: =IF('Z-score'!D9<-1,"0",IF('Z-score'!D9>1,"2","1")) -> 2 | E9: =IF('Z-score'!E9<-1,"0",IF('Z-score'!E9>1,"2","1")) -> 1 | F9: =IF('Z-score'!F9<-1,"0",IF('Z-score'!F9>1,"2","1")) -> 2 | G9: =IF('Z-score'!G9<-1,"0",IF('Z-score'!G9>1,"2","1")) -> 1 | H9: =IF('Z-score'!H9<-1,"0",IF('Z-score'!H9>1,"2","1")) -> 1 | I9: =IF('Z-score'!I9<-1,"0",IF('Z-score'!I9>1,"2","1")) -> 1 | ... V9: =IF('Z-score'!V9<-1,"0",IF('Z-score'!V9>1,"2","1")) -> 1
