Workbook

Sheet Original
A1: ID_REF | B1: GSM915094 | C1: GSM915095 | D1: GSM915096 | E1: GSM915097 | F1: GSM915098 | G1: GSM915099 | H1: GSM915100 | I1: GSM915101 | J1: GSM915102 | K1: GSM915103 | L1: GSM915104 | M1: GSM915105 | N1: GSM915106 | O1: GSM915107 | P1: GSM915108 | Q1: GSM915109 | R1: Average | S1: SD
A2: Age | B2: 85 | C2: 77 | D2: 83 | E2: 67 | F2: 88 | G2: 66 | H2: 79 | I2: 87 | J2: 66 | K2: 69 | L2: 81 | M2: 63 | N2: 78 | O2: 78 | P2: 67 | Q2: 88
A3: Sex | B3: male | C3: male | D3: male | E3: male | F3: female | G3: male | H3: female | I3: male | J3: male | K3: male | L3: female | M3: female | N3: male | O3: male | P3: female | Q3: female
A4: Alzheimers | B4: control | C4: control | D4: Alzheimer's disease (AD) | E4: Alzheimer's disease (AD) | F4: Alzheimer's disease (AD) | G4: Alzheimer's disease (AD) | H4: control | I4: control | J4: control | K4: Alzheimer's disease (AD) | L4: control | M4: Alzheimer's disease (AD) | N4: Alzheimer's disease (AD) | O4: control | P4: Alzheimer's disease (AD) | Q4: control
A5: Region | B5: neocortex | C5: neocortex | D5: neocortex | E5: neocortex | F5: neocortex | G5: neocortex | H5: neocortex | I5: neocortex | J5: neocortex | K5: neocortex | L5: neocortex | M5: neocortex | N5: neocortex | O5: neocortex | P5: neocortex | Q5: neocortex
A6: PSEN2 | B6: 5.49462 | C6: 5.47331 | D6: 5.21571 | E6: 4.80124 | F6: 4.91962 | G6: 5.09463 | H6: 5.41996 | I6: 5.22918 | J6: 5.20907 | K6: 5.24292 | L6: 4.92352 | M6: 5.06481 | N6: 5.35209 | O6: 5.32647 | P6: 5.04351 | Q6: 5.212 | R6: =AVERAGE(B6:Q6) -> 5.1889162 | S6: =STDEV(B6:Q6) -> 0.20300095
A7: PSEN1 | B7: 6.23305 | C7: 6.20414 | D7: 6.23112 | E7: 6.60694 | F7: 6.22643 | G7: 6.01916 | H7: 6.07873 | I7: 6.35521 | J7: 6.08086 | K7: 5.84264 | L7: 6.07086 | M7: 5.8032 | N7: 6.30093 | O7: 6.25197 | P7: 5.53618 | Q7: 5.90397 | R7: =AVERAGE(B7:Q7) -> 6.1090869 | S7: =STDEV(B7:Q7) -> 0.25361907
A8: APP | B8: 9.90893 | C8: 9.76698 | D8: 9.21344 | E8: 9.15325 | F8: 8.94348 | G8: 9.83824 | H8: 9.49957 | I8: 9.47783 | J8: 9.36625 | K8: 8.45232 | L8: 8.94901 | M8: 9.34227 | N8: 9.75214 | O8: 10.043 | P8: 9.02504 | Q8: 9.86776 | R8: =AVERAGE(B8:Q8) -> 9.4124694 | S8: =STDEV(B8:Q8) -> 0.44016135
A9: APOE | B9: 8.76803 | C9: 8.4387 | D9: 8.53774 | E9: 9.09512 | F9: 8.50959 | G9: 8.52961 | H9: 8.49757 | I9: 8.52354 | J9: 9.34384 | K9: 9.68535 | L9: 8.95469 | M9: 8.08141 | N9: 8.75229 | O9: 7.5738 | P9: 9.64907 | Q9: 7.48993 | R9: =AVERAGE(B9:Q9) -> 8.6518925 | S9: =STDEV(B9:Q9) -> 0.62315105

Sheet Average
A1: ID_REF | B1: GSM915094 | C1: GSM915095 | D1: GSM915096 | E1: GSM915097 | F1: GSM915098 | G1: GSM915099 | H1: GSM915100 | I1: GSM915101 | J1: GSM915102 | K1: GSM915103 | L1: GSM915104 | M1: GSM915105 | N1: GSM915106 | O1: GSM915107 | P1: GSM915108 | Q1: GSM915109
A2: Age | B2: 85 | C2: 77 | D2: 83 | E2: 67 | F2: 88 | G2: 66 | H2: 79 | I2: 87 | J2: 66 | K2: 69 | L2: 81 | M2: 63 | N2: 78 | O2: 78 | P2: 67 | Q2: 88
A3: Sex | B3: male | C3: male | D3: male | E3: male | F3: female | G3: male | H3: female | I3: male | J3: male | K3: male | L3: female | M3: female | N3: male | O3: male | P3: female | Q3: female
A4: Alzheimers | B4: control | C4: control | D4: Alzheimer's disease (AD) | E4: Alzheimer's disease (AD) | F4: Alzheimer's disease (AD) | G4: Alzheimer's disease (AD) | H4: control | I4: control | J4: control | K4: Alzheimer's disease (AD) | L4: control | M4: Alzheimer's disease (AD) | N4: Alzheimer's disease (AD) | O4: control | P4: Alzheimer's disease (AD) | Q4: control
A5: Region | B5: neocortex | C5: neocortex | D5: neocortex | E5: neocortex | F5: neocortex | G5: neocortex | H5: neocortex | I5: neocortex | J5: neocortex | K5: neocortex | L5: neocortex | M5: neocortex | N5: neocortex | O5: neocortex | P5: neocortex | Q5: neocortex
A6: PSEN2 | B6: 5.1889162 | C6: 5.1889162 | D6: 5.1889162 | E6: 5.1889162 | F6: 5.1889162 | G6: 5.1889162 | H6: 5.1889162 | I6: 5.1889162 | J6: 5.1889162 | K6: 5.1889162 | L6: 5.1889162 | M6: 5.1889162 | N6: 5.1889162 | O6: 5.1889162 | P6: 5.1889162 | Q6: 5.1889162
A7: PSEN1 | B7: 6.1090869 | C7: 6.1090869 | D7: 6.1090869 | E7: 6.1090869 | F7: 6.1090869 | G7: 6.1090869 | H7: 6.1090869 | I7: 6.1090869 | J7: 6.1090869 | K7: 6.1090869 | L7: 6.1090869 | M7: 6.1090869 | N7: 6.1090869 | O7: 6.1090869 | P7: 6.1090869 | Q7: 6.1090869
A8: APP | B8: 9.4124694 | C8: 9.4124694 | D8: 9.4124694 | E8: 9.4124694 | F8: 9.4124694 | G8: 9.4124694 | H8: 9.4124694 | I8: 9.4124694 | J8: 9.4124694 | K8: 9.4124694 | L8: 9.4124694 | M8: 9.4124694 | N8: 9.4124694 | O8: 9.4124694 | P8: 9.4124694 | Q8: 9.4124694
A9: APOE | B9: 8.6518925 | C9: 8.6518925 | D9: 8.6518925 | E9: 8.6518925 | F9: 8.6518925 | G9: 8.6518925 | H9: 8.6518925 | I9: 8.6518925 | J9: 8.6518925 | K9: 8.6518925 | L9: 8.6518925 | M9: 8.6518925 | N9: 8.6518925 | O9: 8.6518925 | P9: 8.6518925 | Q9: 8.6518925

Sheet SD
A1: ID_REF | B1: GSM915094 | C1: GSM915095 | D1: GSM915096 | E1: GSM915097 | F1: GSM915098 | G1: GSM915099 | H1: GSM915100 | I1: GSM915101 | J1: GSM915102 | K1: GSM915103 | L1: GSM915104 | M1: GSM915105 | N1: GSM915106 | O1: GSM915107 | P1: GSM915108 | Q1: GSM915109
A2: Age | B2: 85 | C2: 77 | D2: 83 | E2: 67 | F2: 88 | G2: 66 | H2: 79 | I2: 87 | J2: 66 | K2: 69 | L2: 81 | M2: 63 | N2: 78 | O2: 78 | P2: 67 | Q2: 88
A3: Sex | B3: male | C3: male | D3: male | E3: male | F3: female | G3: male | H3: female | I3: male | J3: male | K3: male | L3: female | M3: female | N3: male | O3: male | P3: female | Q3: female
A4: Alzheimers | B4: control | C4: control | D4: Alzheimer's disease (AD) | E4: Alzheimer's disease (AD) | F4: Alzheimer's disease (AD) | G4: Alzheimer's disease (AD) | H4: control | I4: control | J4: control | K4: Alzheimer's disease (AD) | L4: control | M4: Alzheimer's disease (AD) | N4: Alzheimer's disease (AD) | O4: control | P4: Alzheimer's disease (AD) | Q4: control
A5: Region | B5: neocortex | C5: neocortex | D5: neocortex | E5: neocortex | F5: neocortex | G5: neocortex | H5: neocortex | I5: neocortex | J5: neocortex | K5: neocortex | L5: neocortex | M5: neocortex | N5: neocortex | O5: neocortex | P5: neocortex | Q5: neocortex
A6: PSEN2 | B6: 0.20300095 | C6: 0.20300095 | D6: 0.20300095 | E6: 0.20300095 | F6: 0.20300095 | G6: 0.20300095 | H6: 0.20300095 | I6: 0.20300095 | J6: 0.20300095 | K6: 0.20300095 | L6: 0.20300095 | M6: 0.20300095 | N6: 0.20300095 | O6: 0.20300095 | P6: 0.20300095 | Q6: 0.20300095
A7: PSEN1 | B7: 0.25361907 | C7: 0.25361907 | D7: 0.25361907 | E7: 0.25361907 | F7: 0.25361907 | G7: 0.25361907 | H7: 0.25361907 | I7: 0.25361907 | J7: 0.25361907 | K7: 0.25361907 | L7: 0.25361907 | M7: 0.25361907 | N7: 0.25361907 | O7: 0.25361907 | P7: 0.25361907 | Q7: 0.25361907
A8: APP | B8: 0.44016135 | C8: 0.44016135 | D8: 0.44016135 | E8: 0.44016135 | F8: 0.44016135 | G8: 0.44016135 | H8: 0.44016135 | I8: 0.44016135 | J8: 0.44016135 | K8: 0.44016135 | L8: 0.44016135 | M8: 0.44016135 | N8: 0.44016135 | O8: 0.44016135 | P8: 0.44016135 | Q8: 0.44016135
A9: APOE | B9: 0.62315105 | C9: 0.62315105 | D9: 0.62315105 | E9: 0.62315105 | F9: 0.62315105 | G9: 0.62315105 | H9: 0.62315105 | I9: 0.62315105 | J9: 0.62315105 | K9: 0.62315105 | L9: 0.62315105 | M9: 0.62315105 | N9: 0.62315105 | O9: 0.62315105 | P9: 0.62315105 | Q9: 0.62315105

Sheet Z-score
A1: ID_REF | B1: GSM915094 | C1: GSM915095 | D1: GSM915096 | E1: GSM915097 | F1: GSM915098 | G1: GSM915099 | H1: GSM915100 | I1: GSM915101 | J1: GSM915102 | K1: GSM915103 | L1: GSM915104 | M1: GSM915105 | N1: GSM915106 | O1: GSM915107 | P1: GSM915108 | Q1: GSM915109
A2: Age | B2: 85 | C2: 77 | D2: 83 | E2: 67 | F2: 88 | G2: 66 | H2: 79 | I2: 87 | J2: 66 | K2: 69 | L2: 81 | M2: 63 | N2: 78 | O2: 78 | P2: 67 | Q2: 88
A3: Sex | B3: male | C3: male | D3: male | E3: male | F3: female | G3: male | H3: female | I3: male | J3: male | K3: male | L3: female | M3: female | N3: male | O3: male | P3: female | Q3: female
A4: Alzheimers | B4: control | C4: control | D4: Alzheimer's disease (AD) | E4: Alzheimer's disease (AD) | F4: Alzheimer's disease (AD) | G4: Alzheimer's disease (AD) | H4: control | I4: control | J4: control | K4: Alzheimer's disease (AD) | L4: control | M4: Alzheimer's disease (AD) | N4: Alzheimer's disease (AD) | O4: control | P4: Alzheimer's disease (AD) | Q4: control
A5: Region | B5: neocortex | C5: neocortex | D5: neocortex | E5: neocortex | F5: neocortex | G5: neocortex | H5: neocortex | I5: neocortex | J5: neocortex | K5: neocortex | L5: neocortex | M5: neocortex | N5: neocortex | O5: neocortex | P5: neocortex | Q5: neocortex
A6: PSEN2 | B6: =(Original!B6-Average!B6)/SD!B6 -> 1.5059228 | C6: =(Original!C6-Average!C6)/SD!C6 -> 1.4009479 | D6: =(Original!D6-Average!D6)/SD!D6 -> 0.1319883 | E6: =(Original!E6-Average!E6)/SD!E6 -> -1.9097263 | F6: =(Original!F6-Average!F6)/SD!F6 -> -1.3265763 | G6: =(Original!G6-Average!G6)/SD!G6 -> -0.46446212 | H6: =(Original!H6-Average!H6)/SD!H6 -> 1.1381412 | I6: =(Original!I6-Average!I6)/SD!I6 -> 0.19834267 | ... Q6: =(Original!Q6-Average!Q6)/SD!Q6 -> 0.11371252
A7: PSEN1 | B7: =(Original!B7-Average!B7)/SD!B7 -> 0.48877682 | C7: =(Original!C7-Average!C7)/SD!C7 -> 0.37478697 | D7: =(Original!D7-Average!D7)/SD!D7 -> 0.48116699 | E7: =(Original!E7-Average!E7)/SD!E7 -> 1.9629956 | F7: =(Original!F7-Average!F7)/SD!F7 -> 0.46267469 | G7: =(Original!G7-Average!G7)/SD!G7 -> -0.35457457 | H7: =(Original!H7-Average!H7)/SD!H7 -> -0.11969476 | I7: =(Original!I7-Average!I7)/SD!I7 -> 0.97044407 | ... Q7: =(Original!Q7-Average!Q7)/SD!Q7 -> -0.80875966
A8: APP | B8: =(Original!B8-Average!B8)/SD!B8 -> 1.127906 | C8: =(Original!C8-Average!C8)/SD!C8 -> 0.80541062 | D8: =(Original!D8-Average!D8)/SD!D8 -> -0.45217368 | E8: =(Original!E8-Average!E8)/SD!E8 -> -0.58891899 | F8: =(Original!F8-Average!F8)/SD!F8 -> -1.0654942 | G8: =(Original!G8-Average!G8)/SD!G8 -> 0.9673058 | H8: =(Original!H8-Average!H8)/SD!H8 -> 0.1978834 | I8: =(Original!I8-Average!I8)/SD!I8 -> 0.14849242 | ... Q8: =(Original!Q8-Average!Q8)/SD!Q8 -> 1.0343721
A9: APOE | B9: =(Original!B9-Average!B9)/SD!B9 -> 0.18637135 | C9: =(Original!C9-Average!C9)/SD!C9 -> -0.3421201 | D9: =(Original!D9-Average!D9)/SD!D9 -> -0.18318592 | E9: =(Original!E9-Average!E9)/SD!E9 -> 0.71126816 | F9: =(Original!F9-Average!F9)/SD!F9 -> -0.22835956 | G9: =(Original!G9-Average!G9)/SD!G9 -> -0.19623252 | H9: =(Original!H9-Average!H9)/SD!H9 -> -0.24764862 | I9: =(Original!I9-Average!I9)/SD!I9 -> -0.20597334 | ... Q9: =(Original!Q9-Average!Q9)/SD!Q9 -> -1.8646563

Sheet Descritized
A1: ID_REF | B1: GSM915094 | C1: GSM915095 | D1: GSM915096 | E1: GSM915097 | F1: GSM915098 | G1: GSM915099 | H1: GSM915100 | I1: GSM915101 | J1: GSM915102 | K1: GSM915103 | L1: GSM915104 | M1: GSM915105 | N1: GSM915106 | O1: GSM915107 | P1: GSM915108 | Q1: GSM915109
A2: Age | B2: 85 | C2: 77 | D2: 83 | E2: 67 | F2: 88 | G2: 66 | H2: 79 | I2: 87 | J2: 66 | K2: 69 | L2: 81 | M2: 63 | N2: 78 | O2: 78 | P2: 67 | Q2: 88
A3: Sex | B3: M | C3: M | D3: M | E3: M | F3: F | G3: M | H3: F | I3: M | J3: M | K3: M | L3: F | M3: F | N3: M | O3: M | P3: F | Q3: F
A4: Alzheimers | B4: =IF('Z-score'!B4="Alzheimer's disease (AD)","1","0") -> 0 | C4: =IF('Z-score'!C4="Alzheimer's disease (AD)","1","0") -> 0 | D4: =IF('Z-score'!D4="Alzheimer's disease (AD)","1","0") -> 1 | E4: =IF('Z-score'!E4="Alzheimer's disease (AD)","1","0") -> 1 | F4: =IF('Z-score'!F4="Alzheimer's disease (AD)","1","0") -> 1 | G4: =IF('Z-score'!G4="Alzheimer's disease (AD)","1","0") -> 1 | H4: =IF('Z-score'!H4="Alzheimer's disease (AD)","1","0") -> 0 | I4: =IF('Z-score'!I4="Alzheimer's disease (AD)","1","0") -> 0 | ... Q4: =IF('Z-score'!Q4="Alzheimer's disease (AD)","1","0") -> 0
A5: Region | B5: neocortex | C5: neocortex | D5: neocortex | E5: neocortex | F5: neocortex | G5: neocortex | H5: neocortex | I5: neocortex | J5: neocortex | K5: neocortex | L5: neocortex | M5: neocortex | N5: neocortex | O5: neocortex | P5: neocortex | Q5: neocortex
A6: PSEN2 | B6: =IF('Z-score'!B6<-1,"0",IF('Z-score'!B6>1,"2","1")) -> 2 | C6: =IF('Z-score'!C6<-1,"0",IF('Z-score'!C6>1,"2","1")) -> 2 | D6: =IF('Z-score'!D6<-1,"0",IF('Z-score'!D6>1,"2","1")) -> 1 | E6: =IF('Z-score'!E6<-1,"0",IF('Z-score'!E6>1,"2","1")) -> 0 | F6: =IF('Z-score'!F6<-1,"0",IF('Z-score'!F6>1,"2","1")) -> 0 | G6: =IF('Z-score'!G6<-1,"0",IF('Z-score'!G6>1,"2","1")) -> 1 | H6: =IF('Z-score'!H6<-1,"0",IF('Z-score'!H6>1,"2","1")) -> 2 | I6: =IF('Z-score'!I6<-1,"0",IF('Z-score'!I6>1,"2","1")) -> 1 | ... Q6: =IF('Z-score'!Q6<-1,"0",IF('Z-score'!Q6>1,"2","1")) -> 1
A7: PSEN1 | B7: =IF('Z-score'!B7<-1,"0",IF('Z-score'!B7>1,"2","1")) -> 1 | C7: =IF('Z-score'!C7<-1,"0",IF('Z-score'!C7>1,"2","1")) -> 1 | D7: =IF('Z-score'!D7<-1,"0",IF('Z-score'!D7>1,"2","1")) -> 1 | E7: =IF('Z-score'!E7<-1,"0",IF('Z-score'!E7>1,"2","1")) -> 2 | F7: =IF('Z-score'!F7<-1,"0",IF('Z-score'!F7>1,"2","1")) -> 1 | G7: =IF('Z-score'!G7<-1,"0",IF('Z-score'!G7>1,"2","1")) -> 1 | H7: =IF('Z-score'!H7<-1,"0",IF('Z-score'!H7>1,"2","1")) -> 1 | I7: =IF('Z-score'!I7<-1,"0",IF('Z-score'!I7>1,"2","1")) -> 1 | ... Q7: =IF('Z-score'!Q7<-1,"0",IF('Z-score'!Q7>1,"2","1")) -> 1
A8: APP | B8: =IF('Z-score'!B8<-1,"0",IF('Z-score'!B8>1,"2","1")) -> 2 | C8: =IF('Z-score'!C8<-1,"0",IF('Z-score'!C8>1,"2","1")) -> 1 | D8: =IF('Z-score'!D8<-1,"0",IF('Z-score'!D8>1,"2","1")) -> 1 | E8: =IF('Z-score'!E8<-1,"0",IF('Z-score'!E8>1,"2","1")) -> 1 | F8: =IF('Z-score'!F8<-1,"0",IF('Z-score'!F8>1,"2","1")) -> 0 | G8: =IF('Z-score'!G8<-1,"0",IF('Z-score'!G8>1,"2","1")) -> 1 | H8: =IF('Z-score'!H8<-1,"0",IF('Z-score'!H8>1,"2","1")) -> 1 | I8: =IF('Z-score'!I8<-1,"0",IF('Z-score'!I8>1,"2","1")) -> 1 | ... Q8: =IF('Z-score'!Q8<-1,"0",IF('Z-score'!Q8>1,"2","1")) -> 2
A9: APOE | B9: =IF('Z-score'!B9<-1,"0",IF('Z-score'!B9>1,"2","1")) -> 1 | C9: =IF('Z-score'!C9<-1,"0",IF('Z-score'!C9>1,"2","1")) -> 1 | D9: =IF('Z-score'!D9<-1,"0",IF('Z-score'!D9>1,"2","1")) -> 1 | E9: =IF('Z-score'!E9<-1,"0",IF('Z-score'!E9>1,"2","1")) -> 1 | F9: =IF('Z-score'!F9<-1,"0",IF('Z-score'!F9>1,"2","1")) -> 1 | G9: =IF('Z-score'!G9<-1,"0",IF('Z-score'!G9>1,"2","1")) -> 1 | H9: =IF('Z-score'!H9<-1,"0",IF('Z-score'!H9>1,"2","1")) -> 1 | I9: =IF('Z-score'!I9<-1,"0",IF('Z-score'!I9>1,"2","1")) -> 1 | ... Q9: =IF('Z-score'!Q9<-1,"0",IF('Z-score'!Q9>1,"2","1")) -> 0
