Workbook

Sheet Original
A1: ID_REF | B1: GSM2233519 | C1: GSM2233520 | D1: GSM2233521 | E1: GSM2233522 | F1: GSM2233523 | G1: GSM2233524 | H1: GSM2233525 | I1: GSM2233526 | J1: GSM2233527 | K1: GSM2233528 | L1: GSM2233529 | M1: GSM2233530 | N1: GSM2233531 | O1: GSM2233532 | P1: GSM2233533 | Q1: GSM2233534 | R1: GSM2233535 | S1: GSM2233536 | T1: GSM2233537 | U1: GSM2233538 | V1: GSM2233539 | W1: GSM2233540 | X1: GSM2233541 | Y1: GSM2233542 | Z1: GSM2233543 | AA1: GSM2233544 | AB1: GSM2233545 | AC1: GSM2233546 | AD1: GSM2233547 | AE1: GSM2233548 | AF1: GSM2233549 | AG1: GSM2233550 | AH1: GSM2233551 | AI1: GSM2233552 | AJ1: GSM2233553 | AK1: GSM2233554 | AL1: GSM2233555 | AM1: GSM2233556 | AN1: GSM2233557 | AO1: GSM2233558 | AP1: GSM2233559 | AQ1: GSM2233560 | AR1: GSM2233561 | AS1: GSM2233562 | AT1: GSM2233563 | AU1: GSM2233564 | AV1: GSM2233565 | AW1: GSM2233566 | AX1: GSM2233567 | AY1: GSM2233568 | AZ1: GSM2233569 | BA1: GSM2233570 | BB1: GSM2233571 | BC1: GSM2233572 | BD1: GSM2233573 | BE1: GSM2233574 | BF1: GSM2233575 | BG1: GSM2233576 | BH1: GSM2233577 | BI1: GSM2233578 | BJ1: GSM2233579 | BK1: GSM2233580 | BL1: GSM2233581 | BM1: GSM2233582 | BN1: GSM2233583 | BO1: GSM2233584 | BP1: GSM2233585 | BQ1: GSM2233586 | BR1: GSM2233587 | BS1: GSM2233588 | BT1: GSM2233589 | BU1: GSM2233590 | BV1: GSM2233591 | BW1: GSM2233592 | BX1: GSM2233593 | BY1: GSM2233594 | BZ1: GSM2233595 | CA1: GSM2233596 | CB1: GSM2233597 | CC1: GSM2233598 | CD1: GSM2233599 | CE1: GSM2233600 | CF1: GSM2233601 | CG1: GSM2233602 | CH1: GSM2233603 | CI1: GSM2233604 | CJ1: GSM2233605 | CK1: GSM2233606 | CL1: GSM2233607 | CM1: GSM2233608 | CN1: GSM2233609 | CO1: GSM2233610 | CP1: GSM2233611 | CQ1: GSM2233612 | CR1: GSM2233613 | CS1: GSM2233614 | CT1: GSM2233615 | CU1: GSM2233616 | CV1: GSM2233617 | CW1: GSM2233618 | CX1: GSM2233619 | CY1: GSM2233620 | CZ1: Average | DA1: SD
A2: Alzheimer | B2: Normal | C2: Normal | D2: Normal | E2: Normal | F2: Normal | G2: Normal | H2: Normal | I2: Normal | J2: Normal | K2: Normal | L2: Normal | M2: Normal | N2: Normal | O2: Normal | P2: Normal | Q2: definite AD | R2: definite AD | S2: Possible AD | T2: definite AD | U2: definite AD | V2: definite AD | W2: definite AD | X2: definite AD | Y2: definite AD | Z2: Possible AD | AA2: definite AD | AB2: Probable AD | AC2: Probable AD | AD2: definite AD | AE2: Probable AD | AF2: definite AD | AG2: definite AD | AH2: definite AD | AI2: definite AD | AJ2: Probable AD | AK2: Probable AD | AL2: definite AD | AM2: Probable AD | AN2: Possible AD | AO2: Possible AD | AP2: Possible AD | AQ2: Probable AD | AR2: Probable AD | AS2: definite AD | AT2: Probable AD | AU2: Probable AD | AV2: Possible AD | AW2: Probable AD | AX2: Possible AD | AY2: Probable AD | AZ2: definite AD | BA2: Normal | BB2: Normal | BC2: Normal | BD2: Normal | BE2: Normal | BF2: Normal | BG2: Normal | BH2: Normal | BI2: Normal | BJ2: Normal | BK2: Normal | BL2: Normal | BM2: Normal | BN2: Probable AD | BO2: definite AD | BP2: definite AD | BQ2: Possible AD | BR2: definite AD | BS2: definite AD | BT2: definite AD | BU2: definite AD | BV2: definite AD | BW2: Possible AD | BX2: definite AD | BY2: definite AD | BZ2: Probable AD | CA2: Probable AD | CB2: Possible AD | CC2: Possible AD | CD2: definite AD | CE2: definite AD | CF2: Probable AD | CG2: definite AD | CH2: definite AD | CI2: definite AD | CJ2: Probable AD | CK2: definite AD | CL2: definite AD | CM2: Probable AD | CN2: Possible AD | CO2: Possible AD | CP2: Possible AD | CQ2: Probable AD | CR2: Probable AD | CS2: definite AD | CT2: Probable AD | CU2: Probable AD | CV2: Possible AD | CW2: Possible AD | CX2: Probable AD | CY2: Possible AD
A3: Age | B3: 69 | C3: 85 | D3: 102 | E3: 95 | F3: 89 | G3: 92 | H3: 66 | I3: 69 | J3: 96 | K3: 85 | L3: 78 | M3: 76 | N3: 79 | O3: 64 | P3: 93 | Q3: 72 | R3: 91 | S3: 99 | T3: 99 | U3: 94 | V3: 84 | W3: 84 | X3: 87 | Y3: 84 | Z3: 91 | AA3: 89 | AB3: 95 | AC3: 100 | AD3: 88 | AE3: 92 | AF3: 87 | AG3: 85 | AH3: 96 | AI3: 78 | AJ3: 84 | AK3: 93 | AL3: 85 | AM3: 90 | AN3: 79 | AO3: 89 | AP3: 83 | AQ3: 90 | AR3: 94 | AS3: 102 | AT3: 84 | AU3: 93 | AV3: 96 | AW3: 79 | AX3: 98 | AY3: 98 | AZ3: 92 | BA3: 85 | BB3: 102 | BC3: 95 | BD3: 96 | BE3: 83 | BF3: 69 | BG3: 66 | BH3: 69 | BI3: 96 | BJ3: 74 | BK3: 62 | BL3: 85 | BM3: 78 | BN3: 93 | BO3: 72 | BP3: 91 | BQ3: 99 | BR3: 99 | BS3: 94 | BT3: 84 | BU3: 84 | BV3: 87 | BW3: 91 | BX3: 87 | BY3: 89 | BZ3: 95 | CA3: 100 | CB3: 82 | CC3: 91 | CD3: 88 | CE3: 84 | CF3: 92 | CG3: 85 | CH3: 96 | CI3: 78 | CJ3: 84 | CK3: 95 | CL3: 85 | CM3: 90 | CN3: 79 | CO3: 89 | CP3: 83 | CQ3: 90 | CR3: 94 | CS3: 102 | CT3: 84 | CU3: 93 | CV3: 91 | CW3: 96 | CX3: 79 | CY3: 98
A4: Sex | B4: male | C4: female | D4: female | E4: male | F4: female | G4: female | H4: male | I4: male | J4: female | K4: male | L4: male | M4: male | N4: female | O4: male | P4: male | Q4: female | R4: female | S4: female | T4: female | U4: female | V4: female | W4: female | X4: female | Y4: female | Z4: female | AA4: female | AB4: female | AC4: female | AD4: female | AE4: female | AF4: female | AG4: female | AH4: female | AI4: female | AJ4: female | AK4: female | AL4: female | AM4: female | AN4: female | AO4: female | AP4: female | AQ4: female | AR4: female | AS4: female | AT4: female | AU4: female | AV4: female | AW4: female | AX4: female | AY4: female | AZ4: female | BA4: female | BB4: female | BC4: male | BD4: female | BE4: female | BF4: male | BG4: male | BH4: male | BI4: female | BJ4: male | BK4: female | BL4: male | BM4: male | BN4: female | BO4: female | BP4: female | BQ4: female | BR4: female | BS4: female | BT4: female | BU4: female | BV4: female | BW4: female | BX4: female | BY4: female | BZ4: female | CA4: female | CB4: female | CC4: female | CD4: female | CE4: female | CF4: female | CG4: female | CH4: female | CI4: female | CJ4: female | CK4: female | CL4: female | CM4: female | CN4: female | CO4: female | CP4: female | CQ4: female | CR4: female | CS4: female | CT4: female | CU4: female | CV4: female | CW4: female | CX4: female | CY4: female
A5: Region | B5: Amygdala | C5: Amygdala | D5: Amygdala | E5: Amygdala | F5: Amygdala | G5: Amygdala | H5: Amygdala | I5: Amygdala | J5: Amygdala | K5: Amygdala | L5: Amygdala | M5: Amygdala | N5: Amygdala | O5: Amygdala | P5: Amygdala | Q5: Amygdala | R5: Amygdala | S5: Amygdala | T5: Amygdala | U5: Amygdala | V5: Amygdala | W5: Amygdala | X5: Amygdala | Y5: Amygdala | Z5: Amygdala | AA5: Amygdala | AB5: Amygdala | AC5: Amygdala | AD5: Amygdala | AE5: Amygdala | AF5: Amygdala | AG5: Amygdala | AH5: Amygdala | AI5: Amygdala | AJ5: Amygdala | AK5: Amygdala | AL5: Amygdala | AM5: Amygdala | AN5: Amygdala | AO5: Amygdala | AP5: Amygdala | AQ5: Amygdala | AR5: Amygdala | AS5: Amygdala | AT5: Amygdala | AU5: Amygdala | AV5: Amygdala | AW5: Amygdala | AX5: Amygdala | AY5: Amygdala | AZ5: Amygdala | BA5: Nucleus Accumbens | BB5: Nucleus Accumbens | BC5: Nucleus Accumbens | BD5: Nucleus Accumbens | BE5: Nucleus Accumbens | BF5: Nucleus Accumbens | BG5: Nucleus Accumbens | BH5: Nucleus Accumbens | BI5: Nucleus Accumbens | BJ5: Nucleus Accumbens | BK5: Nucleus Accumbens | BL5: Nucleus Accumbens | BM5: Nucleus Accumbens | BN5: Nucleus Accumbens | BO5: Nucleus Accumbens | BP5: Nucleus Accumbens | BQ5: Nucleus Accumbens | BR5: Nucleus Accumbens | BS5: Nucleus Accumbens | BT5: Nucleus Accumbens | BU5: Nucleus Accumbens | BV5: Nucleus Accumbens | BW5: Nucleus Accumbens | BX5: Nucleus Accumbens | BY5: Nucleus Accumbens | BZ5: Nucleus Accumbens | CA5: Nucleus Accumbens | CB5: Nucleus Accumbens | CC5: Nucleus Accumbens | CD5: Nucleus Accumbens | CE5: Nucleus Accumbens | CF5: Nucleus Accumbens | CG5: Nucleus Accumbens | CH5: Nucleus Accumbens | CI5: Nucleus Accumbens | CJ5: Nucleus Accumbens | CK5: Nucleus Accumbens | CL5: Nucleus Accumbens | CM5: Nucleus Accumbens | CN5: Nucleus Accumbens | CO5: Nucleus Accumbens | CP5: Nucleus Accumbens | CQ5: Nucleus Accumbens | CR5: Nucleus Accumbens | CS5: Nucleus Accumbens | CT5: Nucleus Accumbens | CU5: Nucleus Accumbens | CV5: Nucleus Accumbens | CW5: Nucleus Accumbens | CX5: Nucleus Accumbens | CY5: Nucleus Accumbens
A6: APOE | B6: 9.6410496 | C6: 9.7902423 | D6: 9.618182 | E6: 10.112515 | F6: 10.48708 | G6: 10.56191 | H6: 10.553144 | I6: 10.072987 | J6: 10.347517 | K6: 9.5700313 | L6: 9.8786906 | M6: 10.15158 | N6: 10.369214 | O6: 10.265612 | P6: 10.411277 | Q6: 9.9508887 | R6: 9.6148898 | S6: 10.009624 | T6: 10.085105 | U6: 10.746807 | V6: 9.9775129 | W6: 9.7659147 | X6: 10.162962 | Y6: 10.452091 | Z6: 10.440698 | AA6: 10.464721 | AB6: 10.555245 | AC6: 10.106371 | AD6: 9.5912374 | AE6: 10.315992 | AF6: 10.41415 | AG6: 10.122673 | AH6: 10.483169 | AI6: 9.2753657 | AJ6: 10.392481 | AK6: 8.7678083 | AL6: 10.601921 | AM6: 9.9900431 | AN6: 10.403875 | AO6: 9.1350225 | AP6: 10.365145 | AQ6: 10.333287 | AR6: 10.151038 | AS6: 9.9816974 | AT6: 9.8641028 | AU6: 10.617741 | AV6: 9.0956847 | AW6: 10.227757 | AX6: 10.282591 | AY6: 9.4345419 | AZ6: 9.7111726 | BA6: 9.7057254 | BB6: 9.4822157 | BC6: 10.365918 | BD6: 9.7546122 | BE6: 9.8572898 | BF6: 10.6129 | BG6: 9.901597 | BH6: 10.010663 | BI6: 9.2582914 | BJ6: 9.1991465 | BK6: 10.504094 | BL6: 9.9326757 | BM6: 10.051739 | BN6: 10.607999 | BO6: 9.9903432 | BP6: 10.324005 | BQ6: 9.3818844 | BR6: 10.755452 | BS6: 10.665933 | BT6: 9.6119306 | BU6: 9.4512382 | BV6: 10.153121 | BW6: 10.555645 | BX6: 10.239183 | BY6: 10.540869 | BZ6: 9.5330499 | CA6: 10.081204 | CB6: 10.82767 | CC6: 10.65538 | CD6: 8.8170992 | CE6: 10.474176 | CF6: 10.045788 | CG6: 10.243056 | CH6: 10.042175 | CI6: 10.13921 | CJ6: 9.8737508 | CK6: 9.4603692 | CL6: 10.581927 | CM6: 9.3153838 | CN6: 9.7334745 | CO6: 8.544877 | CP6: 10.542044 | CQ6: 9.8513857 | CR6: 9.5828312 | CS6: 10.771702 | CT6: 9.6763588 | CU6: 10.40742 | CV6: 10.364891 | CW6: 9.7406508 | CX6: 10.425847 | CY6: 9.8976086 | CZ6: =AVERAGE(B6:CY6) -> 10.041825 | DA6: =STDEV(B6:CY6) -> 0.47881611
A7: APP | B7: 9.757348 | C7: 9.6682758 | D7: 9.3707556 | E7: 9.0628517 | F7: 9.4516709 | G7: 8.4528293 | H7: 9.1610203 | I7: 9.5747013 | J7: 9.1414849 | K7: 9.933508 | L7: 9.41301 | M7: 9.6121296 | N7: 9.3526107 | O7: 10.079456 | P7: 9.5782867 | Q7: 11.189194 | R7: 10.795768 | S7: 10.735981 | T7: 11.153618 | U7: 11.561244 | V7: 11.024953 | W7: 9.3351243 | X7: 8.6594488 | Y7: 9.2225499 | Z7: 9.1626687 | AA7: 9.3308116 | AB7: 9.3284403 | AC7: 9.1588511 | AD7: 8.7036008 | AE7: 9.6720636 | AF7: 8.9269424 | AG7: 9.2819222 | AH7: 9.4318028 | AI7: 9.4334567 | AJ7: 9.5714034 | AK7: 9.0720111 | AL7: 9.4403886 | AM7: 9.2264763 | AN7: 9.9682936 | AO7: 9.4131881 | AP7: 9.4886684 | AQ7: 9.2821747 | AR7: 9.5585611 | AS7: 9.2324014 | AT7: 9.4688326 | AU7: 9.5026879 | AV7: 9.5534492 | AW7: 10.248242 | AX7: 9.3049712 | AY7: 9.2470334 | AZ7: 9.0126031 | BA7: 9.7005431 | BB7: 9.0500391 | BC7: 9.6325383 | BD7: 9.2071279 | BE7: 8.823164 | BF7: 9.883923 | BG7: 9.5933771 | BH7: 9.7793286 | BI7: 9.721127 | BJ7: 9.9815814 | BK7: 9.8177001 | BL7: 9.9426942 | BM7: 9.6418573 | BN7: 11.080064 | BO7: 11.239966 | BP7: 11.232262 | BQ7: 11.185715 | BR7: 11.194688 | BS7: 11.357278 | BT7: 11.141964 | BU7: 8.5652961 | BV7: 9.552312 | BW7: 9.1263767 | BX7: 9.3433797 | BY7: 9.6658222 | BZ7: 9.8473471 | CA7: 9.6114209 | CB7: 9.2968607 | CC7: 8.769993 | CD7: 9.1593671 | CE7: 9.7781182 | CF7: 9.2859618 | CG7: 9.3967116 | CH7: 9.6274721 | CI7: 9.3207986 | CJ7: 9.2803621 | CK7: 9.5467926 | CL7: 9.5231056 | CM7: 9.7632652 | CN7: 9.9754505 | CO7: 9.0949839 | CP7: 9.9502099 | CQ7: 9.7194164 | CR7: 9.6027285 | CS7: 9.3188993 | CT7: 9.6976856 | CU7: 9.686545 | CV7: 10.320202 | CW7: 10.111635 | CX7: 9.8613373 | CY7: 9.738961 | CZ7: =AVERAGE(B7:CY7) -> 9.6770149 | DA7: =STDEV(B7:CY7) -> 0.66204182
A8: PSEN1 | B8: 2.2022051 | C8: 1.8091281 | D8: 2.0442877 | E8: 1.7954677 | F8: 1.9196285 | G8: 2.0756928 | H8: 1.8266699 | I8: 1.8646594 | J8: 1.7803893 | K8: 1.85256 | L8: 1.7737554 | M8: 1.8319904 | N8: 1.9867476 | O8: 1.9223633 | P8: 1.7122638 | Q8: 1.5876926 | R8: 1.8508791 | S8: 1.7507351 | T8: 1.5906417 | U8: 1.5826662 | V8: 1.6416946 | W8: 1.7698782 | X8: 1.8564687 | Y8: 1.7576807 | Z8: 2.3329079 | AA8: 1.818736 | AB8: 1.6782594 | AC8: 1.612531 | AD8: 1.7554474 | AE8: 1.7699365 | AF8: 1.9211992 | AG8: 2.1351036 | AH8: 1.8815596 | AI8: 1.7402696 | AJ8: 2.221583 | AK8: 2.0298726 | AL8: 1.7822389 | AM8: 1.858153 | AN8: 1.5233598 | AO8: 2.0462457 | AP8: 1.9446394 | AQ8: 1.8041419 | AR8: 2.1540922 | AS8: 1.997922 | AT8: 1.7878488 | AU8: 2.1482208 | AV8: 1.9092796 | AW8: 2.0247552 | AX8: 1.6527403 | AY8: 1.9809017 | AZ8: 1.7995405 | BA8: 1.9881911 | BB8: 1.5707044 | BC8: 1.8701991 | BD8: 1.8198951 | BE8: 2.3358741 | BF8: 1.8307864 | BG8: 2.0519004 | BH8: 1.9435268 | BI8: 1.9635905 | BJ8: 2.0446094 | BK8: 2.2885924 | BL8: 1.8926612 | BM8: 1.9710042 | BN8: 1.7457038 | BO8: 2.0936658 | BP8: 1.7605556 | BQ8: 1.9214504 | BR8: 2.0194876 | BS8: 1.7534596 | BT8: 2.2626824 | BU8: 2.1220881 | BV8: 1.7491965 | BW8: 1.5676927 | BX8: 1.9222501 | BY8: 1.9335865 | BZ8: 1.5709326 | CA8: 1.7300825 | CB8: 1.90375 | CC8: 1.9619897 | CD8: 2.0975984 | CE8: 1.9254682 | CF8: 2.047121 | CG8: 1.8173497 | CH8: 2.1640969 | CI8: 1.9395416 | CJ8: 1.8435635 | CK8: 2.2524692 | CL8: 2.1404813 | CM8: 1.8692219 | CN8: 1.9144768 | CO8: 2.0800997 | CP8: 1.8100676 | CQ8: 2.2743586 | CR8: 1.9639791 | CS8: 2.5489454 | CT8: 1.7773961 | CU8: 1.6866763 | CV8: 1.63814 | CW8: 1.8769145 | CX8: 1.8882945 | CY8: 1.973496 | CZ8: =AVERAGE(B8:CY8) -> 1.9040931 | DA8: =STDEV(B8:CY8) -> 0.19484827
A9: PSEN2 | B9: 4.0150458 | C9: 4.1597606 | D9: 4.0210175 | E9: 3.6359801 | F9: 4.1146566 | G9: 4.0334892 | H9: 4.4366634 | I9: 4.1226981 | J9: 4.0248299 | K9: 4.1633988 | L9: 3.9889958 | M9: 4.2789991 | N9: 4.1679133 | O9: 4.459159 | P9: 4.0033429 | Q9: 3.9571742 | R9: 3.7214174 | S9: 4.216277 | T9: 3.8717272 | U9: 4.2954849 | V9: 4.3835395 | W9: 4.203484 | X9: 4.4344445 | Y9: 4.7233086 | Z9: 4.6074413 | AA9: 4.6235464 | AB9: 4.105552 | AC9: 4.2587104 | AD9: 3.7185204 | AE9: 3.851657 | AF9: 4.0316262 | AG9: 3.9156835 | AH9: 3.9928623 | AI9: 4.2329397 | AJ9: 3.8973526 | AK9: 4.022098 | AL9: 3.862115 | AM9: 4.4184861 | AN9: 4.5479771 | AO9: 3.6626091 | AP9: 4.559556 | AQ9: 3.9429379 | AR9: 4.2636634 | AS9: 3.7434982 | AT9: 4.3514648 | AU9: 4.7598613 | AV9: 3.7151543 | AW9: 4.7431184 | AX9: 3.7864792 | AY9: 3.574517 | AZ9: 3.635369 | BA9: 3.8626118 | BB9: 3.9979628 | BC9: 4.278272 | BD9: 4.2527028 | BE9: 3.8014373 | BF9: 4.4365251 | BG9: 4.297034 | BH9: 4.1573531 | BI9: 4.3847923 | BJ9: 4.065357 | BK9: 3.9800194 | BL9: 3.8541873 | BM9: 4.0127433 | BN9: 3.7579934 | BO9: 4.2444935 | BP9: 4.1612754 | BQ9: 4.1104405 | BR9: 4.2262558 | BS9: 4.5380054 | BT9: 4.200005 | BU9: 3.7831173 | BV9: 4.0833737 | BW9: 4.1255464 | BX9: 4.1922987 | BY9: 4.5196828 | BZ9: 4.4728033 | CA9: 4.0156005 | CB9: 3.9941439 | CC9: 4.3328188 | CD9: 3.1598598 | CE9: 4.1181922 | CF9: 4.0572769 | CG9: 3.9650485 | CH9: 4.3449997 | CI9: 5.0723839 | CJ9: 4.0389164 | CK9: 4.188821 | CL9: 4.6796363 | CM9: 4.3109398 | CN9: 4.2773825 | CO9: 4.0213711 | CP9: 3.6493089 | CQ9: 4.402545 | CR9: 4.2985658 | CS9: 4.6907506 | CT9: 4.087691 | CU9: 4.3037627 | CV9: 4.0509706 | CW9: 4.1005009 | CX9: 4.2730401 | CY9: 3.7941923 | CZ9: =AVERAGE(B9:CY9) -> 4.1400256 | DA9: =STDEV(B9:CY9) -> 0.30329996

Sheet Average
A1: ID_REF | B1: GSM2233519 | C1: GSM2233520 | D1: GSM2233521 | E1: GSM2233522 | F1: GSM2233523 | G1: GSM2233524 | H1: GSM2233525 | I1: GSM2233526 | J1: GSM2233527 | K1: GSM2233528 | L1: GSM2233529 | M1: GSM2233530 | N1: GSM2233531 | O1: GSM2233532 | P1: GSM2233533 | Q1: GSM2233534 | R1: GSM2233535 | S1: GSM2233536 | T1: GSM2233537 | U1: GSM2233538 | V1: GSM2233539 | W1: GSM2233540 | X1: GSM2233541 | Y1: GSM2233542 | Z1: GSM2233543 | AA1: GSM2233544 | AB1: GSM2233545 | AC1: GSM2233546 | AD1: GSM2233547 | AE1: GSM2233548 | AF1: GSM2233549 | AG1: GSM2233550 | AH1: GSM2233551 | AI1: GSM2233552 | AJ1: GSM2233553 | AK1: GSM2233554 | AL1: GSM2233555 | AM1: GSM2233556 | AN1: GSM2233557 | AO1: GSM2233558 | AP1: GSM2233559 | AQ1: GSM2233560 | AR1: GSM2233561 | AS1: GSM2233562 | AT1: GSM2233563 | AU1: GSM2233564 | AV1: GSM2233565 | AW1: GSM2233566 | AX1: GSM2233567 | AY1: GSM2233568 | AZ1: GSM2233569 | BA1: GSM2233570 | BB1: GSM2233571 | BC1: GSM2233572 | BD1: GSM2233573 | BE1: GSM2233574 | BF1: GSM2233575 | BG1: GSM2233576 | BH1: GSM2233577 | BI1: GSM2233578 | BJ1: GSM2233579 | BK1: GSM2233580 | BL1: GSM2233581 | BM1: GSM2233582 | BN1: GSM2233583 | BO1: GSM2233584 | BP1: GSM2233585 | BQ1: GSM2233586 | BR1: GSM2233587 | BS1: GSM2233588 | BT1: GSM2233589 | BU1: GSM2233590 | BV1: GSM2233591 | BW1: GSM2233592 | BX1: GSM2233593 | BY1: GSM2233594 | BZ1: GSM2233595 | CA1: GSM2233596 | CB1: GSM2233597 | CC1: GSM2233598 | CD1: GSM2233599 | CE1: GSM2233600 | CF1: GSM2233601 | CG1: GSM2233602 | CH1: GSM2233603 | CI1: GSM2233604 | CJ1: GSM2233605 | CK1: GSM2233606 | CL1: GSM2233607 | CM1: GSM2233608 | CN1: GSM2233609 | CO1: GSM2233610 | CP1: GSM2233611 | CQ1: GSM2233612 | CR1: GSM2233613 | CS1: GSM2233614 | CT1: GSM2233615 | CU1: GSM2233616 | CV1: GSM2233617 | CW1: GSM2233618 | CX1: GSM2233619 | CY1: GSM2233620
A2: Alzheimer | B2: Normal | C2: Normal | D2: Normal | E2: Normal | F2: Normal | G2: Normal | H2: Normal | I2: Normal | J2: Normal | K2: Normal | L2: Normal | M2: Normal | N2: Normal | O2: Normal | P2: Normal | Q2: definite AD | R2: definite AD | S2: Possible AD | T2: definite AD | U2: definite AD | V2: definite AD | W2: definite AD | X2: definite AD | Y2: definite AD | Z2: Possible AD | AA2: definite AD | AB2: Probable AD | AC2: Probable AD | AD2: definite AD | AE2: Probable AD | AF2: definite AD | AG2: definite AD | AH2: definite AD | AI2: definite AD | AJ2: Probable AD | AK2: Probable AD | AL2: definite AD | AM2: Probable AD | AN2: Possible AD | AO2: Possible AD | AP2: Possible AD | AQ2: Probable AD | AR2: Probable AD | AS2: definite AD | AT2: Probable AD | AU2: Probable AD | AV2: Possible AD | AW2: Probable AD | AX2: Possible AD | AY2: Probable AD | AZ2: definite AD | BA2: Normal | BB2: Normal | BC2: Normal | BD2: Normal | BE2: Normal | BF2: Normal | BG2: Normal | BH2: Normal | BI2: Normal | BJ2: Normal | BK2: Normal | BL2: Normal | BM2: Normal | BN2: Probable AD | BO2: definite AD | BP2: definite AD | BQ2: Possible AD | BR2: definite AD | BS2: definite AD | BT2: definite AD | BU2: definite AD | BV2: definite AD | BW2: Possible AD | BX2: definite AD | BY2: definite AD | BZ2: Probable AD | CA2: Probable AD | CB2: Possible AD | CC2: Possible AD | CD2: definite AD | CE2: definite AD | CF2: Probable AD | CG2: definite AD | CH2: definite AD | CI2: definite AD | CJ2: Probable AD | CK2: definite AD | CL2: definite AD | CM2: Probable AD | CN2: Possible AD | CO2: Possible AD | CP2: Possible AD | CQ2: Probable AD | CR2: Probable AD | CS2: definite AD | CT2: Probable AD | CU2: Probable AD | CV2: Possible AD | CW2: Possible AD | CX2: Probable AD | CY2: Possible AD
A3: Age | B3: 69 | C3: 85 | D3: 102 | E3: 95 | F3: 89 | G3: 92 | H3: 66 | I3: 69 | J3: 96 | K3: 85 | L3: 78 | M3: 76 | N3: 79 | O3: 64 | P3: 93 | Q3: 72 | R3: 91 | S3: 99 | T3: 99 | U3: 94 | V3: 84 | W3: 84 | X3: 87 | Y3: 84 | Z3: 91 | AA3: 89 | AB3: 95 | AC3: 100 | AD3: 88 | AE3: 92 | AF3: 87 | AG3: 85 | AH3: 96 | AI3: 78 | AJ3: 84 | AK3: 93 | AL3: 85 | AM3: 90 | AN3: 79 | AO3: 89 | AP3: 83 | AQ3: 90 | AR3: 94 | AS3: 102 | AT3: 84 | AU3: 93 | AV3: 96 | AW3: 79 | AX3: 98 | AY3: 98 | AZ3: 92 | BA3: 85 | BB3: 102 | BC3: 95 | BD3: 96 | BE3: 83 | BF3: 69 | BG3: 66 | BH3: 69 | BI3: 96 | BJ3: 74 | BK3: 62 | BL3: 85 | BM3: 78 | BN3: 93 | BO3: 72 | BP3: 91 | BQ3: 99 | BR3: 99 | BS3: 94 | BT3: 84 | BU3: 84 | BV3: 87 | BW3: 91 | BX3: 87 | BY3: 89 | BZ3: 95 | CA3: 100 | CB3: 82 | CC3: 91 | CD3: 88 | CE3: 84 | CF3: 92 | CG3: 85 | CH3: 96 | CI3: 78 | CJ3: 84 | CK3: 95 | CL3: 85 | CM3: 90 | CN3: 79 | CO3: 89 | CP3: 83 | CQ3: 90 | CR3: 94 | CS3: 102 | CT3: 84 | CU3: 93 | CV3: 91 | CW3: 96 | CX3: 79 | CY3: 98
A4: Sex | B4: male | C4: female | D4: female | E4: male | F4: female | G4: female | H4: male | I4: male | J4: female | K4: male | L4: male | M4: male | N4: female | O4: male | P4: male | Q4: female | R4: female | S4: female | T4: female | U4: female | V4: female | W4: female | X4: female | Y4: female | Z4: female | AA4: female | AB4: female | AC4: female | AD4: female | AE4: female | AF4: female | AG4: female | AH4: female | AI4: female | AJ4: female | AK4: female | AL4: female | AM4: female | AN4: female | AO4: female | AP4: female | AQ4: female | AR4: female | AS4: female | AT4: female | AU4: female | AV4: female | AW4: female | AX4: female | AY4: female | AZ4: female | BA4: female | BB4: female | BC4: male | BD4: female | BE4: female | BF4: male | BG4: male | BH4: male | BI4: female | BJ4: male | BK4: female | BL4: male | BM4: male | BN4: female | BO4: female | BP4: female | BQ4: female | BR4: female | BS4: female | BT4: female | BU4: female | BV4: female | BW4: female | BX4: female | BY4: female | BZ4: female | CA4: female | CB4: female | CC4: female | CD4: female | CE4: female | CF4: female | CG4: female | CH4: female | CI4: female | CJ4: female | CK4: female | CL4: female | CM4: female | CN4: female | CO4: female | CP4: female | CQ4: female | CR4: female | CS4: female | CT4: female | CU4: female | CV4: female | CW4: female | CX4: female | CY4: female
A5: Region | B5: Amygdala | C5: Amygdala | D5: Amygdala | E5: Amygdala | F5: Amygdala | G5: Amygdala | H5: Amygdala | I5: Amygdala | J5: Amygdala | K5: Amygdala | L5: Amygdala | M5: Amygdala | N5: Amygdala | O5: Amygdala | P5: Amygdala | Q5: Amygdala | R5: Amygdala | S5: Amygdala | T5: Amygdala | U5: Amygdala | V5: Amygdala | W5: Amygdala | X5: Amygdala | Y5: Amygdala | Z5: Amygdala | AA5: Amygdala | AB5: Amygdala | AC5: Amygdala | AD5: Amygdala | AE5: Amygdala | AF5: Amygdala | AG5: Amygdala | AH5: Amygdala | AI5: Amygdala | AJ5: Amygdala | AK5: Amygdala | AL5: Amygdala | AM5: Amygdala | AN5: Amygdala | AO5: Amygdala | AP5: Amygdala | AQ5: Amygdala | AR5: Amygdala | AS5: Amygdala | AT5: Amygdala | AU5: Amygdala | AV5: Amygdala | AW5: Amygdala | AX5: Amygdala | AY5: Amygdala | AZ5: Amygdala | BA5: Nucleus Accumbens | BB5: Nucleus Accumbens | BC5: Nucleus Accumbens | BD5: Nucleus Accumbens | BE5: Nucleus Accumbens | BF5: Nucleus Accumbens | BG5: Nucleus Accumbens | BH5: Nucleus Accumbens | BI5: Nucleus Accumbens | BJ5: Nucleus Accumbens | BK5: Nucleus Accumbens | BL5: Nucleus Accumbens | BM5: Nucleus Accumbens | BN5: Nucleus Accumbens | BO5: Nucleus Accumbens | BP5: Nucleus Accumbens | BQ5: Nucleus Accumbens | BR5: Nucleus Accumbens | BS5: Nucleus Accumbens | BT5: Nucleus Accumbens | BU5: Nucleus Accumbens | BV5: Nucleus Accumbens | BW5: Nucleus Accumbens | BX5: Nucleus Accumbens | BY5: Nucleus Accumbens | BZ5: Nucleus Accumbens | CA5: Nucleus Accumbens | CB5: Nucleus Accumbens | CC5: Nucleus Accumbens | CD5: Nucleus Accumbens | CE5: Nucleus Accumbens | CF5: Nucleus Accumbens | CG5: Nucleus Accumbens | CH5: Nucleus Accumbens | CI5: Nucleus Accumbens | CJ5: Nucleus Accumbens | CK5: Nucleus Accumbens | CL5: Nucleus Accumbens | CM5: Nucleus Accumbens | CN5: Nucleus Accumbens | CO5: Nucleus Accumbens | CP5: Nucleus Accumbens | CQ5: Nucleus Accumbens | CR5: Nucleus Accumbens | CS5: Nucleus Accumbens | CT5: Nucleus Accumbens | CU5: Nucleus Accumbens | CV5: Nucleus Accumbens | CW5: Nucleus Accumbens | CX5: Nucleus Accumbens | CY5: Nucleus Accumbens
A6: APOE | B6: 10.041825 | C6: 10.041825 | D6: 10.041825 | E6: 10.041825 | F6: 10.041825 | G6: 10.041825 | H6: 10.041825 | I6: 10.041825 | J6: 10.041825 | K6: 10.041825 | L6: 10.041825 | M6: 10.041825 | N6: 10.041825 | O6: 10.041825 | P6: 10.041825 | Q6: 10.041825 | R6: 10.041825 | S6: 10.041825 | T6: 10.041825 | U6: 10.041825 | V6: 10.041825 | W6: 10.041825 | X6: 10.041825 | Y6: 10.041825 | Z6: 10.041825 | AA6: 10.041825 | AB6: 10.041825 | AC6: 10.041825 | AD6: 10.041825 | AE6: 10.041825 | AF6: 10.041825 | AG6: 10.041825 | AH6: 10.041825 | AI6: 10.041825 | AJ6: 10.041825 | AK6: 10.041825 | AL6: 10.041825 | AM6: 10.041825 | AN6: 10.041825 | AO6: 10.041825 | AP6: 10.041825 | AQ6: 10.041825 | AR6: 10.041825 | AS6: 10.041825 | AT6: 10.041825 | AU6: 10.041825 | AV6: 10.041825 | AW6: 10.041825 | AX6: 10.041825 | AY6: 10.041825 | AZ6: 10.041825 | BA6: 10.041825 | BB6: 10.041825 | BC6: 10.041825 | BD6: 10.041825 | BE6: 10.041825 | BF6: 10.041825 | BG6: 10.041825 | BH6: 10.041825 | BI6: 10.041825 | BJ6: 10.041825 | BK6: 10.041825 | BL6: 10.041825 | BM6: 10.041825 | BN6: 10.041825 | BO6: 10.041825 | BP6: 10.041825 | BQ6: 10.041825 | BR6: 10.041825 | BS6: 10.041825 | BT6: 10.041825 | BU6: 10.041825 | BV6: 10.041825 | BW6: 10.041825 | BX6: 10.041825 | BY6: 10.041825 | BZ6: 10.041825 | CA6: 10.041825 | CB6: 10.041825 | CC6: 10.041825 | CD6: 10.041825 | CE6: 10.041825 | CF6: 10.041825 | CG6: 10.041825 | CH6: 10.041825 | CI6: 10.041825 | CJ6: 10.041825 | CK6: 10.041825 | CL6: 10.041825 | CM6: 10.041825 | CN6: 10.041825 | CO6: 10.041825 | CP6: 10.041825 | CQ6: 10.041825 | CR6: 10.041825 | CS6: 10.041825 | CT6: 10.041825 | CU6: 10.041825 | CV6: 10.041825 | CW6: 10.041825 | CX6: 10.041825 | CY6: 10.041825
A7: APP | B7: 9.6770149 | C7: 9.6770149 | D7: 9.6770149 | E7: 9.6770149 | F7: 9.6770149 | G7: 9.6770149 | H7: 9.6770149 | I7: 9.6770149 | J7: 9.6770149 | K7: 9.6770149 | L7: 9.6770149 | M7: 9.6770149 | N7: 9.6770149 | O7: 9.6770149 | P7: 9.6770149 | Q7: 9.6770149 | R7: 9.6770149 | S7: 9.6770149 | T7: 9.6770149 | U7: 9.6770149 | V7: 9.6770149 | W7: 9.6770149 | X7: 9.6770149 | Y7: 9.6770149 | Z7: 9.6770149 | AA7: 9.6770149 | AB7: 9.6770149 | AC7: 9.6770149 | AD7: 9.6770149 | AE7: 9.6770149 | AF7: 9.6770149 | AG7: 9.6770149 | AH7: 9.6770149 | AI7: 9.6770149 | AJ7: 9.6770149 | AK7: 9.6770149 | AL7: 9.6770149 | AM7: 9.6770149 | AN7: 9.6770149 | AO7: 9.6770149 | AP7: 9.6770149 | AQ7: 9.6770149 | AR7: 9.6770149 | AS7: 9.6770149 | AT7: 9.6770149 | AU7: 9.6770149 | AV7: 9.6770149 | AW7: 9.6770149 | AX7: 9.6770149 | AY7: 9.6770149 | AZ7: 9.6770149 | BA7: 9.6770149 | BB7: 9.6770149 | BC7: 9.6770149 | BD7: 9.6770149 | BE7: 9.6770149 | BF7: 9.6770149 | BG7: 9.6770149 | BH7: 9.6770149 | BI7: 9.6770149 | BJ7: 9.6770149 | BK7: 9.6770149 | BL7: 9.6770149 | BM7: 9.6770149 | BN7: 9.6770149 | BO7: 9.6770149 | BP7: 9.6770149 | BQ7: 9.6770149 | BR7: 9.6770149 | BS7: 9.6770149 | BT7: 9.6770149 | BU7: 9.6770149 | BV7: 9.6770149 | BW7: 9.6770149 | BX7: 9.6770149 | BY7: 9.6770149 | BZ7: 9.6770149 | CA7: 9.6770149 | CB7: 9.6770149 | CC7: 9.6770149 | CD7: 9.6770149 | CE7: 9.6770149 | CF7: 9.6770149 | CG7: 9.6770149 | CH7: 9.6770149 | CI7: 9.6770149 | CJ7: 9.6770149 | CK7: 9.6770149 | CL7: 9.6770149 | CM7: 9.6770149 | CN7: 9.6770149 | CO7: 9.6770149 | CP7: 9.6770149 | CQ7: 9.6770149 | CR7: 9.6770149 | CS7: 9.6770149 | CT7: 9.6770149 | CU7: 9.6770149 | CV7: 9.6770149 | CW7: 9.6770149 | CX7: 9.6770149 | CY7: 9.6770149
A8: PSEN1 | B8: 1.9040931 | C8: 1.9040931 | D8: 1.9040931 | E8: 1.9040931 | F8: 1.9040931 | G8: 1.9040931 | H8: 1.9040931 | I8: 1.9040931 | J8: 1.9040931 | K8: 1.9040931 | L8: 1.9040931 | M8: 1.9040931 | N8: 1.9040931 | O8: 1.9040931 | P8: 1.9040931 | Q8: 1.9040931 | R8: 1.9040931 | S8: 1.9040931 | T8: 1.9040931 | U8: 1.9040931 | V8: 1.9040931 | W8: 1.9040931 | X8: 1.9040931 | Y8: 1.9040931 | Z8: 1.9040931 | AA8: 1.9040931 | AB8: 1.9040931 | AC8: 1.9040931 | AD8: 1.9040931 | AE8: 1.9040931 | AF8: 1.9040931 | AG8: 1.9040931 | AH8: 1.9040931 | AI8: 1.9040931 | AJ8: 1.9040931 | AK8: 1.9040931 | AL8: 1.9040931 | AM8: 1.9040931 | AN8: 1.9040931 | AO8: 1.9040931 | AP8: 1.9040931 | AQ8: 1.9040931 | AR8: 1.9040931 | AS8: 1.9040931 | AT8: 1.9040931 | AU8: 1.9040931 | AV8: 1.9040931 | AW8: 1.9040931 | AX8: 1.9040931 | AY8: 1.9040931 | AZ8: 1.9040931 | BA8: 1.9040931 | BB8: 1.9040931 | BC8: 1.9040931 | BD8: 1.9040931 | BE8: 1.9040931 | BF8: 1.9040931 | BG8: 1.9040931 | BH8: 1.9040931 | BI8: 1.9040931 | BJ8: 1.9040931 | BK8: 1.9040931 | BL8: 1.9040931 | BM8: 1.9040931 | BN8: 1.9040931 | BO8: 1.9040931 | BP8: 1.9040931 | BQ8: 1.9040931 | BR8: 1.9040931 | BS8: 1.9040931 | BT8: 1.9040931 | BU8: 1.9040931 | BV8: 1.9040931 | BW8: 1.9040931 | BX8: 1.9040931 | BY8: 1.9040931 | BZ8: 1.9040931 | CA8: 1.9040931 | CB8: 1.9040931 | CC8: 1.9040931 | CD8: 1.9040931 | CE8: 1.9040931 | CF8: 1.9040931 | CG8: 1.9040931 | CH8: 1.9040931 | CI8: 1.9040931 | CJ8: 1.9040931 | CK8: 1.9040931 | CL8: 1.9040931 | CM8: 1.9040931 | CN8: 1.9040931 | CO8: 1.9040931 | CP8: 1.9040931 | CQ8: 1.9040931 | CR8: 1.9040931 | CS8: 1.9040931 | CT8: 1.9040931 | CU8: 1.9040931 | CV8: 1.9040931 | CW8: 1.9040931 | CX8: 1.9040931 | CY8: 1.9040931
A9: PSEN2 | B9: 4.1400256 | C9: 4.1400256 | D9: 4.1400256 | E9: 4.1400256 | F9: 4.1400256 | G9: 4.1400256 | H9: 4.1400256 | I9: 4.1400256 | J9: 4.1400256 | K9: 4.1400256 | L9: 4.1400256 | M9: 4.1400256 | N9: 4.1400256 | O9: 4.1400256 | P9: 4.1400256 | Q9: 4.1400256 | R9: 4.1400256 | S9: 4.1400256 | T9: 4.1400256 | U9: 4.1400256 | V9: 4.1400256 | W9: 4.1400256 | X9: 4.1400256 | Y9: 4.1400256 | Z9: 4.1400256 | AA9: 4.1400256 | AB9: 4.1400256 | AC9: 4.1400256 | AD9: 4.1400256 | AE9: 4.1400256 | AF9: 4.1400256 | AG9: 4.1400256 | AH9: 4.1400256 | AI9: 4.1400256 | AJ9: 4.1400256 | AK9: 4.1400256 | AL9: 4.1400256 | AM9: 4.1400256 | AN9: 4.1400256 | AO9: 4.1400256 | AP9: 4.1400256 | AQ9: 4.1400256 | AR9: 4.1400256 | AS9: 4.1400256 | AT9: 4.1400256 | AU9: 4.1400256 | AV9: 4.1400256 | AW9: 4.1400256 | AX9: 4.1400256 | AY9: 4.1400256 | AZ9: 4.1400256 | BA9: 4.1400256 | BB9: 4.1400256 | BC9: 4.1400256 | BD9: 4.1400256 | BE9: 4.1400256 | BF9: 4.1400256 | BG9: 4.1400256 | BH9: 4.1400256 | BI9: 4.1400256 | BJ9: 4.1400256 | BK9: 4.1400256 | BL9: 4.1400256 | BM9: 4.1400256 | BN9: 4.1400256 | BO9: 4.1400256 | BP9: 4.1400256 | BQ9: 4.1400256 | BR9: 4.1400256 | BS9: 4.1400256 | BT9: 4.1400256 | BU9: 4.1400256 | BV9: 4.1400256 | BW9: 4.1400256 | BX9: 4.1400256 | BY9: 4.1400256 | BZ9: 4.1400256 | CA9: 4.1400256 | CB9: 4.1400256 | CC9: 4.1400256 | CD9: 4.1400256 | CE9: 4.1400256 | CF9: 4.1400256 | CG9: 4.1400256 | CH9: 4.1400256 | CI9: 4.1400256 | CJ9: 4.1400256 | CK9: 4.1400256 | CL9: 4.1400256 | CM9: 4.1400256 | CN9: 4.1400256 | CO9: 4.1400256 | CP9: 4.1400256 | CQ9: 4.1400256 | CR9: 4.1400256 | CS9: 4.1400256 | CT9: 4.1400256 | CU9: 4.1400256 | CV9: 4.1400256 | CW9: 4.1400256 | CX9: 4.1400256 | CY9: 4.1400256

Sheet SD
A1: ID_REF | B1: GSM2233519 | C1: GSM2233520 | D1: GSM2233521 | E1: GSM2233522 | F1: GSM2233523 | G1: GSM2233524 | H1: GSM2233525 | I1: GSM2233526 | J1: GSM2233527 | K1: GSM2233528 | L1: GSM2233529 | M1: GSM2233530 | N1: GSM2233531 | O1: GSM2233532 | P1: GSM2233533 | Q1: GSM2233534 | R1: GSM2233535 | S1: GSM2233536 | T1: GSM2233537 | U1: GSM2233538 | V1: GSM2233539 | W1: GSM2233540 | X1: GSM2233541 | Y1: GSM2233542 | Z1: GSM2233543 | AA1: GSM2233544 | AB1: GSM2233545 | AC1: GSM2233546 | AD1: GSM2233547 | AE1: GSM2233548 | AF1: GSM2233549 | AG1: GSM2233550 | AH1: GSM2233551 | AI1: GSM2233552 | AJ1: GSM2233553 | AK1: GSM2233554 | AL1: GSM2233555 | AM1: GSM2233556 | AN1: GSM2233557 | AO1: GSM2233558 | AP1: GSM2233559 | AQ1: GSM2233560 | AR1: GSM2233561 | AS1: GSM2233562 | AT1: GSM2233563 | AU1: GSM2233564 | AV1: GSM2233565 | AW1: GSM2233566 | AX1: GSM2233567 | AY1: GSM2233568 | AZ1: GSM2233569 | BA1: GSM2233570 | BB1: GSM2233571 | BC1: GSM2233572 | BD1: GSM2233573 | BE1: GSM2233574 | BF1: GSM2233575 | BG1: GSM2233576 | BH1: GSM2233577 | BI1: GSM2233578 | BJ1: GSM2233579 | BK1: GSM2233580 | BL1: GSM2233581 | BM1: GSM2233582 | BN1: GSM2233583 | BO1: GSM2233584 | BP1: GSM2233585 | BQ1: GSM2233586 | BR1: GSM2233587 | BS1: GSM2233588 | BT1: GSM2233589 | BU1: GSM2233590 | BV1: GSM2233591 | BW1: GSM2233592 | BX1: GSM2233593 | BY1: GSM2233594 | BZ1: GSM2233595 | CA1: GSM2233596 | CB1: GSM2233597 | CC1: GSM2233598 | CD1: GSM2233599 | CE1: GSM2233600 | CF1: GSM2233601 | CG1: GSM2233602 | CH1: GSM2233603 | CI1: GSM2233604 | CJ1: GSM2233605 | CK1: GSM2233606 | CL1: GSM2233607 | CM1: GSM2233608 | CN1: GSM2233609 | CO1: GSM2233610 | CP1: GSM2233611 | CQ1: GSM2233612 | CR1: GSM2233613 | CS1: GSM2233614 | CT1: GSM2233615 | CU1: GSM2233616 | CV1: GSM2233617 | CW1: GSM2233618 | CX1: GSM2233619 | CY1: GSM2233620
A2: Alzheimer | B2: Normal | C2: Normal | D2: Normal | E2: Normal | F2: Normal | G2: Normal | H2: Normal | I2: Normal | J2: Normal | K2: Normal | L2: Normal | M2: Normal | N2: Normal | O2: Normal | P2: Normal | Q2: definite AD | R2: definite AD | S2: Possible AD | T2: definite AD | U2: definite AD | V2: definite AD | W2: definite AD | X2: definite AD | Y2: definite AD | Z2: Possible AD | AA2: definite AD | AB2: Probable AD | AC2: Probable AD | AD2: definite AD | AE2: Probable AD | AF2: definite AD | AG2: definite AD | AH2: definite AD | AI2: definite AD | AJ2: Probable AD | AK2: Probable AD | AL2: definite AD | AM2: Probable AD | AN2: Possible AD | AO2: Possible AD | AP2: Possible AD | AQ2: Probable AD | AR2: Probable AD | AS2: definite AD | AT2: Probable AD | AU2: Probable AD | AV2: Possible AD | AW2: Probable AD | AX2: Possible AD | AY2: Probable AD | AZ2: definite AD | BA2: Normal | BB2: Normal | BC2: Normal | BD2: Normal | BE2: Normal | BF2: Normal | BG2: Normal | BH2: Normal | BI2: Normal | BJ2: Normal | BK2: Normal | BL2: Normal | BM2: Normal | BN2: Probable AD | BO2: definite AD | BP2: definite AD | BQ2: Possible AD | BR2: definite AD | BS2: definite AD | BT2: definite AD | BU2: definite AD | BV2: definite AD | BW2: Possible AD | BX2: definite AD | BY2: definite AD | BZ2: Probable AD | CA2: Probable AD | CB2: Possible AD | CC2: Possible AD | CD2: definite AD | CE2: definite AD | CF2: Probable AD | CG2: definite AD | CH2: definite AD | CI2: definite AD | CJ2: Probable AD | CK2: definite AD | CL2: definite AD | CM2: Probable AD | CN2: Possible AD | CO2: Possible AD | CP2: Possible AD | CQ2: Probable AD | CR2: Probable AD | CS2: definite AD | CT2: Probable AD | CU2: Probable AD | CV2: Possible AD | CW2: Possible AD | CX2: Probable AD | CY2: Possible AD
A3: Age | B3: 69 | C3: 85 | D3: 102 | E3: 95 | F3: 89 | G3: 92 | H3: 66 | I3: 69 | J3: 96 | K3: 85 | L3: 78 | M3: 76 | N3: 79 | O3: 64 | P3: 93 | Q3: 72 | R3: 91 | S3: 99 | T3: 99 | U3: 94 | V3: 84 | W3: 84 | X3: 87 | Y3: 84 | Z3: 91 | AA3: 89 | AB3: 95 | AC3: 100 | AD3: 88 | AE3: 92 | AF3: 87 | AG3: 85 | AH3: 96 | AI3: 78 | AJ3: 84 | AK3: 93 | AL3: 85 | AM3: 90 | AN3: 79 | AO3: 89 | AP3: 83 | AQ3: 90 | AR3: 94 | AS3: 102 | AT3: 84 | AU3: 93 | AV3: 96 | AW3: 79 | AX3: 98 | AY3: 98 | AZ3: 92 | BA3: 85 | BB3: 102 | BC3: 95 | BD3: 96 | BE3: 83 | BF3: 69 | BG3: 66 | BH3: 69 | BI3: 96 | BJ3: 74 | BK3: 62 | BL3: 85 | BM3: 78 | BN3: 93 | BO3: 72 | BP3: 91 | BQ3: 99 | BR3: 99 | BS3: 94 | BT3: 84 | BU3: 84 | BV3: 87 | BW3: 91 | BX3: 87 | BY3: 89 | BZ3: 95 | CA3: 100 | CB3: 82 | CC3: 91 | CD3: 88 | CE3: 84 | CF3: 92 | CG3: 85 | CH3: 96 | CI3: 78 | CJ3: 84 | CK3: 95 | CL3: 85 | CM3: 90 | CN3: 79 | CO3: 89 | CP3: 83 | CQ3: 90 | CR3: 94 | CS3: 102 | CT3: 84 | CU3: 93 | CV3: 91 | CW3: 96 | CX3: 79 | CY3: 98
A4: Sex | B4: male | C4: female | D4: female | E4: male | F4: female | G4: female | H4: male | I4: male | J4: female | K4: male | L4: male | M4: male | N4: female | O4: male | P4: male | Q4: female | R4: female | S4: female | T4: female | U4: female | V4: female | W4: female | X4: female | Y4: female | Z4: female | AA4: female | AB4: female | AC4: female | AD4: female | AE4: female | AF4: female | AG4: female | AH4: female | AI4: female | AJ4: female | AK4: female | AL4: female | AM4: female | AN4: female | AO4: female | AP4: female | AQ4: female | AR4: female | AS4: female | AT4: female | AU4: female | AV4: female | AW4: female | AX4: female | AY4: female | AZ4: female | BA4: female | BB4: female | BC4: male | BD4: female | BE4: female | BF4: male | BG4: male | BH4: male | BI4: female | BJ4: male | BK4: female | BL4: male | BM4: male | BN4: female | BO4: female | BP4: female | BQ4: female | BR4: female | BS4: female | BT4: female | BU4: female | BV4: female | BW4: female | BX4: female | BY4: female | BZ4: female | CA4: female | CB4: female | CC4: female | CD4: female | CE4: female | CF4: female | CG4: female | CH4: female | CI4: female | CJ4: female | CK4: female | CL4: female | CM4: female | CN4: female | CO4: female | CP4: female | CQ4: female | CR4: female | CS4: female | CT4: female | CU4: female | CV4: female | CW4: female | CX4: female | CY4: female
A5: Region | B5: Amygdala | C5: Amygdala | D5: Amygdala | E5: Amygdala | F5: Amygdala | G5: Amygdala | H5: Amygdala | I5: Amygdala | J5: Amygdala | K5: Amygdala | L5: Amygdala | M5: Amygdala | N5: Amygdala | O5: Amygdala | P5: Amygdala | Q5: Amygdala | R5: Amygdala | S5: Amygdala | T5: Amygdala | U5: Amygdala | V5: Amygdala | W5: Amygdala | X5: Amygdala | Y5: Amygdala | Z5: Amygdala | AA5: Amygdala | AB5: Amygdala | AC5: Amygdala | AD5: Amygdala | AE5: Amygdala | AF5: Amygdala | AG5: Amygdala | AH5: Amygdala | AI5: Amygdala | AJ5: Amygdala | AK5: Amygdala | AL5: Amygdala | AM5: Amygdala | AN5: Amygdala | AO5: Amygdala | AP5: Amygdala | AQ5: Amygdala | AR5: Amygdala | AS5: Amygdala | AT5: Amygdala | AU5: Amygdala | AV5: Amygdala | AW5: Amygdala | AX5: Amygdala | AY5: Amygdala | AZ5: Amygdala | BA5: Nucleus Accumbens | BB5: Nucleus Accumbens | BC5: Nucleus Accumbens | BD5: Nucleus Accumbens | BE5: Nucleus Accumbens | BF5: Nucleus Accumbens | BG5: Nucleus Accumbens | BH5: Nucleus Accumbens | BI5: Nucleus Accumbens | BJ5: Nucleus Accumbens | BK5: Nucleus Accumbens | BL5: Nucleus Accumbens | BM5: Nucleus Accumbens | BN5: Nucleus Accumbens | BO5: Nucleus Accumbens | BP5: Nucleus Accumbens | BQ5: Nucleus Accumbens | BR5: Nucleus Accumbens | BS5: Nucleus Accumbens | BT5: Nucleus Accumbens | BU5: Nucleus Accumbens | BV5: Nucleus Accumbens | BW5: Nucleus Accumbens | BX5: Nucleus Accumbens | BY5: Nucleus Accumbens | BZ5: Nucleus Accumbens | CA5: Nucleus Accumbens | CB5: Nucleus Accumbens | CC5: Nucleus Accumbens | CD5: Nucleus Accumbens | CE5: Nucleus Accumbens | CF5: Nucleus Accumbens | CG5: Nucleus Accumbens | CH5: Nucleus Accumbens | CI5: Nucleus Accumbens | CJ5: Nucleus Accumbens | CK5: Nucleus Accumbens | CL5: Nucleus Accumbens | CM5: Nucleus Accumbens | CN5: Nucleus Accumbens | CO5: Nucleus Accumbens | CP5: Nucleus Accumbens | CQ5: Nucleus Accumbens | CR5: Nucleus Accumbens | CS5: Nucleus Accumbens | CT5: Nucleus Accumbens | CU5: Nucleus Accumbens | CV5: Nucleus Accumbens | CW5: Nucleus Accumbens | CX5: Nucleus Accumbens | CY5: Nucleus Accumbens
A6: APOE | B6: 0.47881611 | C6: 0.47881611 | D6: 0.47881611 | E6: 0.47881611 | F6: 0.47881611 | G6: 0.47881611 | H6: 0.47881611 | I6: 0.47881611 | J6: 0.47881611 | K6: 0.47881611 | L6: 0.47881611 | M6: 0.47881611 | N6: 0.47881611 | O6: 0.47881611 | P6: 0.47881611 | Q6: 0.47881611 | R6: 0.47881611 | S6: 0.47881611 | T6: 0.47881611 | U6: 0.47881611 | V6: 0.47881611 | W6: 0.47881611 | X6: 0.47881611 | Y6: 0.47881611 | Z6: 0.47881611 | AA6: 0.47881611 | AB6: 0.47881611 | AC6: 0.47881611 | AD6: 0.47881611 | AE6: 0.47881611 | AF6: 0.47881611 | AG6: 0.47881611 | AH6: 0.47881611 | AI6: 0.47881611 | AJ6: 0.47881611 | AK6: 0.47881611 | AL6: 0.47881611 | AM6: 0.47881611 | AN6: 0.47881611 | AO6: 0.47881611 | AP6: 0.47881611 | AQ6: 0.47881611 | AR6: 0.47881611 | AS6: 0.47881611 | AT6: 0.47881611 | AU6: 0.47881611 | AV6: 0.47881611 | AW6: 0.47881611 | AX6: 0.47881611 | AY6: 0.47881611 | AZ6: 0.47881611 | BA6: 0.47881611 | BB6: 0.47881611 | BC6: 0.47881611 | BD6: 0.47881611 | BE6: 0.47881611 | BF6: 0.47881611 | BG6: 0.47881611 | BH6: 0.47881611 | BI6: 0.47881611 | BJ6: 0.47881611 | BK6: 0.47881611 | BL6: 0.47881611 | BM6: 0.47881611 | BN6: 0.47881611 | BO6: 0.47881611 | BP6: 0.47881611 | BQ6: 0.47881611 | BR6: 0.47881611 | BS6: 0.47881611 | BT6: 0.47881611 | BU6: 0.47881611 | BV6: 0.47881611 | BW6: 0.47881611 | BX6: 0.47881611 | BY6: 0.47881611 | BZ6: 0.47881611 | CA6: 0.47881611 | CB6: 0.47881611 | CC6: 0.47881611 | CD6: 0.47881611 | CE6: 0.47881611 | CF6: 0.47881611 | CG6: 0.47881611 | CH6: 0.47881611 | CI6: 0.47881611 | CJ6: 0.47881611 | CK6: 0.47881611 | CL6: 0.47881611 | CM6: 0.47881611 | CN6: 0.47881611 | CO6: 0.47881611 | CP6: 0.47881611 | CQ6: 0.47881611 | CR6: 0.47881611 | CS6: 0.47881611 | CT6: 0.47881611 | CU6: 0.47881611 | CV6: 0.47881611 | CW6: 0.47881611 | CX6: 0.47881611 | CY6: 0.47881611
A7: APP | B7: 0.66204182 | C7: 0.66204182 | D7: 0.66204182 | E7: 0.66204182 | F7: 0.66204182 | G7: 0.66204182 | H7: 0.66204182 | I7: 0.66204182 | J7: 0.66204182 | K7: 0.66204182 | L7: 0.66204182 | M7: 0.66204182 | N7: 0.66204182 | O7: 0.66204182 | P7: 0.66204182 | Q7: 0.66204182 | R7: 0.66204182 | S7: 0.66204182 | T7: 0.66204182 | U7: 0.66204182 | V7: 0.66204182 | W7: 0.66204182 | X7: 0.66204182 | Y7: 0.66204182 | Z7: 0.66204182 | AA7: 0.66204182 | AB7: 0.66204182 | AC7: 0.66204182 | AD7: 0.66204182 | AE7: 0.66204182 | AF7: 0.66204182 | AG7: 0.66204182 | AH7: 0.66204182 | AI7: 0.66204182 | AJ7: 0.66204182 | AK7: 0.66204182 | AL7: 0.66204182 | AM7: 0.66204182 | AN7: 0.66204182 | AO7: 0.66204182 | AP7: 0.66204182 | AQ7: 0.66204182 | AR7: 0.66204182 | AS7: 0.66204182 | AT7: 0.66204182 | AU7: 0.66204182 | AV7: 0.66204182 | AW7: 0.66204182 | AX7: 0.66204182 | AY7: 0.66204182 | AZ7: 0.66204182 | BA7: 0.66204182 | BB7: 0.66204182 | BC7: 0.66204182 | BD7: 0.66204182 | BE7: 0.66204182 | BF7: 0.66204182 | BG7: 0.66204182 | BH7: 0.66204182 | BI7: 0.66204182 | BJ7: 0.66204182 | BK7: 0.66204182 | BL7: 0.66204182 | BM7: 0.66204182 | BN7: 0.66204182 | BO7: 0.66204182 | BP7: 0.66204182 | BQ7: 0.66204182 | BR7: 0.66204182 | BS7: 0.66204182 | BT7: 0.66204182 | BU7: 0.66204182 | BV7: 0.66204182 | BW7: 0.66204182 | BX7: 0.66204182 | BY7: 0.66204182 | BZ7: 0.66204182 | CA7: 0.66204182 | CB7: 0.66204182 | CC7: 0.66204182 | CD7: 0.66204182 | CE7: 0.66204182 | CF7: 0.66204182 | CG7: 0.66204182 | CH7: 0.66204182 | CI7: 0.66204182 | CJ7: 0.66204182 | CK7: 0.66204182 | CL7: 0.66204182 | CM7: 0.66204182 | CN7: 0.66204182 | CO7: 0.66204182 | CP7: 0.66204182 | CQ7: 0.66204182 | CR7: 0.66204182 | CS7: 0.66204182 | CT7: 0.66204182 | CU7: 0.66204182 | CV7: 0.66204182 | CW7: 0.66204182 | CX7: 0.66204182 | CY7: 0.66204182
A8: PSEN1 | B8: 0.19484827 | C8: 0.19484827 | D8: 0.19484827 | E8: 0.19484827 | F8: 0.19484827 | G8: 0.19484827 | H8: 0.19484827 | I8: 0.19484827 | J8: 0.19484827 | K8: 0.19484827 | L8: 0.19484827 | M8: 0.19484827 | N8: 0.19484827 | O8: 0.19484827 | P8: 0.19484827 | Q8: 0.19484827 | R8: 0.19484827 | S8: 0.19484827 | T8: 0.19484827 | U8: 0.19484827 | V8: 0.19484827 | W8: 0.19484827 | X8: 0.19484827 | Y8: 0.19484827 | Z8: 0.19484827 | AA8: 0.19484827 | AB8: 0.19484827 | AC8: 0.19484827 | AD8: 0.19484827 | AE8: 0.19484827 | AF8: 0.19484827 | AG8: 0.19484827 | AH8: 0.19484827 | AI8: 0.19484827 | AJ8: 0.19484827 | AK8: 0.19484827 | AL8: 0.19484827 | AM8: 0.19484827 | AN8: 0.19484827 | AO8: 0.19484827 | AP8: 0.19484827 | AQ8: 0.19484827 | AR8: 0.19484827 | AS8: 0.19484827 | AT8: 0.19484827 | AU8: 0.19484827 | AV8: 0.19484827 | AW8: 0.19484827 | AX8: 0.19484827 | AY8: 0.19484827 | AZ8: 0.19484827 | BA8: 0.19484827 | BB8: 0.19484827 | BC8: 0.19484827 | BD8: 0.19484827 | BE8: 0.19484827 | BF8: 0.19484827 | BG8: 0.19484827 | BH8: 0.19484827 | BI8: 0.19484827 | BJ8: 0.19484827 | BK8: 0.19484827 | BL8: 0.19484827 | BM8: 0.19484827 | BN8: 0.19484827 | BO8: 0.19484827 | BP8: 0.19484827 | BQ8: 0.19484827 | BR8: 0.19484827 | BS8: 0.19484827 | BT8: 0.19484827 | BU8: 0.19484827 | BV8: 0.19484827 | BW8: 0.19484827 | BX8: 0.19484827 | BY8: 0.19484827 | BZ8: 0.19484827 | CA8: 0.19484827 | CB8: 0.19484827 | CC8: 0.19484827 | CD8: 0.19484827 | CE8: 0.19484827 | CF8: 0.19484827 | CG8: 0.19484827 | CH8: 0.19484827 | CI8: 0.19484827 | CJ8: 0.19484827 | CK8: 0.19484827 | CL8: 0.19484827 | CM8: 0.19484827 | CN8: 0.19484827 | CO8: 0.19484827 | CP8: 0.19484827 | CQ8: 0.19484827 | CR8: 0.19484827 | CS8: 0.19484827 | CT8: 0.19484827 | CU8: 0.19484827 | CV8: 0.19484827 | CW8: 0.19484827 | CX8: 0.19484827 | CY8: 0.19484827
A9: PSEN2 | B9: 0.30329996 | C9: 0.30329996 | D9: 0.30329996 | E9: 0.30329996 | F9: 0.30329996 | G9: 0.30329996 | H9: 0.30329996 | I9: 0.30329996 | J9: 0.30329996 | K9: 0.30329996 | L9: 0.30329996 | M9: 0.30329996 | N9: 0.30329996 | O9: 0.30329996 | P9: 0.30329996 | Q9: 0.30329996 | R9: 0.30329996 | S9: 0.30329996 | T9: 0.30329996 | U9: 0.30329996 | V9: 0.30329996 | W9: 0.30329996 | X9: 0.30329996 | Y9: 0.30329996 | Z9: 0.30329996 | AA9: 0.30329996 | AB9: 0.30329996 | AC9: 0.30329996 | AD9: 0.30329996 | AE9: 0.30329996 | AF9: 0.30329996 | AG9: 0.30329996 | AH9: 0.30329996 | AI9: 0.30329996 | AJ9: 0.30329996 | AK9: 0.30329996 | AL9: 0.30329996 | AM9: 0.30329996 | AN9: 0.30329996 | AO9: 0.30329996 | AP9: 0.30329996 | AQ9: 0.30329996 | AR9: 0.30329996 | AS9: 0.30329996 | AT9: 0.30329996 | AU9: 0.30329996 | AV9: 0.30329996 | AW9: 0.30329996 | AX9: 0.30329996 | AY9: 0.30329996 | AZ9: 0.30329996 | BA9: 0.30329996 | BB9: 0.30329996 | BC9: 0.30329996 | BD9: 0.30329996 | BE9: 0.30329996 | BF9: 0.30329996 | BG9: 0.30329996 | BH9: 0.30329996 | BI9: 0.30329996 | BJ9: 0.30329996 | BK9: 0.30329996 | BL9: 0.30329996 | BM9: 0.30329996 | BN9: 0.30329996 | BO9: 0.30329996 | BP9: 0.30329996 | BQ9: 0.30329996 | BR9: 0.30329996 | BS9: 0.30329996 | BT9: 0.30329996 | BU9: 0.30329996 | BV9: 0.30329996 | BW9: 0.30329996 | BX9: 0.30329996 | BY9: 0.30329996 | BZ9: 0.30329996 | CA9: 0.30329996 | CB9: 0.30329996 | CC9: 0.30329996 | CD9: 0.30329996 | CE9: 0.30329996 | CF9: 0.30329996 | CG9: 0.30329996 | CH9: 0.30329996 | CI9: 0.30329996 | CJ9: 0.30329996 | CK9: 0.30329996 | CL9: 0.30329996 | CM9: 0.30329996 | CN9: 0.30329996 | CO9: 0.30329996 | CP9: 0.30329996 | CQ9: 0.30329996 | CR9: 0.30329996 | CS9: 0.30329996 | CT9: 0.30329996 | CU9: 0.30329996 | CV9: 0.30329996 | CW9: 0.30329996 | CX9: 0.30329996 | CY9: 0.30329996

Sheet Z-score
A1: ID_REF | B1: GSM2233519 | C1: GSM2233520 | D1: GSM2233521 | E1: GSM2233522 | F1: GSM2233523 | G1: GSM2233524 | H1: GSM2233525 | I1: GSM2233526 | J1: GSM2233527 | K1: GSM2233528 | L1: GSM2233529 | M1: GSM2233530 | N1: GSM2233531 | O1: GSM2233532 | P1: GSM2233533 | Q1: GSM2233534 | R1: GSM2233535 | S1: GSM2233536 | T1: GSM2233537 | U1: GSM2233538 | V1: GSM2233539 | W1: GSM2233540 | X1: GSM2233541 | Y1: GSM2233542 | Z1: GSM2233543 | AA1: GSM2233544 | AB1: GSM2233545 | AC1: GSM2233546 | AD1: GSM2233547 | AE1: GSM2233548 | AF1: GSM2233549 | AG1: GSM2233550 | AH1: GSM2233551 | AI1: GSM2233552 | AJ1: GSM2233553 | AK1: GSM2233554 | AL1: GSM2233555 | AM1: GSM2233556 | AN1: GSM2233557 | AO1: GSM2233558 | AP1: GSM2233559 | AQ1: GSM2233560 | AR1: GSM2233561 | AS1: GSM2233562 | AT1: GSM2233563 | AU1: GSM2233564 | AV1: GSM2233565 | AW1: GSM2233566 | AX1: GSM2233567 | AY1: GSM2233568 | AZ1: GSM2233569 | BA1: GSM2233570 | BB1: GSM2233571 | BC1: GSM2233572 | BD1: GSM2233573 | BE1: GSM2233574 | BF1: GSM2233575 | BG1: GSM2233576 | BH1: GSM2233577 | BI1: GSM2233578 | BJ1: GSM2233579 | BK1: GSM2233580 | BL1: GSM2233581 | BM1: GSM2233582 | BN1: GSM2233583 | BO1: GSM2233584 | BP1: GSM2233585 | BQ1: GSM2233586 | BR1: GSM2233587 | BS1: GSM2233588 | BT1: GSM2233589 | BU1: GSM2233590 | BV1: GSM2233591 | BW1: GSM2233592 | BX1: GSM2233593 | BY1: GSM2233594 | BZ1: GSM2233595 | CA1: GSM2233596 | CB1: GSM2233597 | CC1: GSM2233598 | CD1: GSM2233599 | CE1: GSM2233600 | CF1: GSM2233601 | CG1: GSM2233602 | CH1: GSM2233603 | CI1: GSM2233604 | CJ1: GSM2233605 | CK1: GSM2233606 | CL1: GSM2233607 | CM1: GSM2233608 | CN1: GSM2233609 | CO1: GSM2233610 | CP1: GSM2233611 | CQ1: GSM2233612 | CR1: GSM2233613 | CS1: GSM2233614 | CT1: GSM2233615 | CU1: GSM2233616 | CV1: GSM2233617 | CW1: GSM2233618 | CX1: GSM2233619 | CY1: GSM2233620
A2: Alzheimer | B2: Normal | C2: Normal | D2: Normal | E2: Normal | F2: Normal | G2: Normal | H2: Normal | I2: Normal | J2: Normal | K2: Normal | L2: Normal | M2: Normal | N2: Normal | O2: Normal | P2: Normal | Q2: definite AD | R2: definite AD | S2: Possible AD | T2: definite AD | U2: definite AD | V2: definite AD | W2: definite AD | X2: definite AD | Y2: definite AD | Z2: Possible AD | AA2: definite AD | AB2: Probable AD | AC2: Probable AD | AD2: definite AD | AE2: Probable AD | AF2: definite AD | AG2: definite AD | AH2: definite AD | AI2: definite AD | AJ2: Probable AD | AK2: Probable AD | AL2: definite AD | AM2: Probable AD | AN2: Possible AD | AO2: Possible AD | AP2: Possible AD | AQ2: Probable AD | AR2: Probable AD | AS2: definite AD | AT2: Probable AD | AU2: Probable AD | AV2: Possible AD | AW2: Probable AD | AX2: Possible AD | AY2: Probable AD | AZ2: definite AD | BA2: Normal | BB2: Normal | BC2: Normal | BD2: Normal | BE2: Normal | BF2: Normal | BG2: Normal | BH2: Normal | BI2: Normal | BJ2: Normal | BK2: Normal | BL2: Normal | BM2: Normal | BN2: Probable AD | BO2: definite AD | BP2: definite AD | BQ2: Possible AD | BR2: definite AD | BS2: definite AD | BT2: definite AD | BU2: definite AD | BV2: definite AD | BW2: Possible AD | BX2: definite AD | BY2: definite AD | BZ2: Probable AD | CA2: Probable AD | CB2: Possible AD | CC2: Possible AD | CD2: definite AD | CE2: definite AD | CF2: Probable AD | CG2: definite AD | CH2: definite AD | CI2: definite AD | CJ2: Probable AD | CK2: definite AD | CL2: definite AD | CM2: Probable AD | CN2: Possible AD | CO2: Possible AD | CP2: Possible AD | CQ2: Probable AD | CR2: Probable AD | CS2: definite AD | CT2: Probable AD | CU2: Probable AD | CV2: Possible AD | CW2: Possible AD | CX2: Probable AD | CY2: Possible AD
A3: Age | B3: 69 | C3: 85 | D3: 102 | E3: 95 | F3: 89 | G3: 92 | H3: 66 | I3: 69 | J3: 96 | K3: 85 | L3: 78 | M3: 76 | N3: 79 | O3: 64 | P3: 93 | Q3: 72 | R3: 91 | S3: 99 | T3: 99 | U3: 94 | V3: 84 | W3: 84 | X3: 87 | Y3: 84 | Z3: 91 | AA3: 89 | AB3: 95 | AC3: 100 | AD3: 88 | AE3: 92 | AF3: 87 | AG3: 85 | AH3: 96 | AI3: 78 | AJ3: 84 | AK3: 93 | AL3: 85 | AM3: 90 | AN3: 79 | AO3: 89 | AP3: 83 | AQ3: 90 | AR3: 94 | AS3: 102 | AT3: 84 | AU3: 93 | AV3: 96 | AW3: 79 | AX3: 98 | AY3: 98 | AZ3: 92 | BA3: 85 | BB3: 102 | BC3: 95 | BD3: 96 | BE3: 83 | BF3: 69 | BG3: 66 | BH3: 69 | BI3: 96 | BJ3: 74 | BK3: 62 | BL3: 85 | BM3: 78 | BN3: 93 | BO3: 72 | BP3: 91 | BQ3: 99 | BR3: 99 | BS3: 94 | BT3: 84 | BU3: 84 | BV3: 87 | BW3: 91 | BX3: 87 | BY3: 89 | BZ3: 95 | CA3: 100 | CB3: 82 | CC3: 91 | CD3: 88 | CE3: 84 | CF3: 92 | CG3: 85 | CH3: 96 | CI3: 78 | CJ3: 84 | CK3: 95 | CL3: 85 | CM3: 90 | CN3: 79 | CO3: 89 | CP3: 83 | CQ3: 90 | CR3: 94 | CS3: 102 | CT3: 84 | CU3: 93 | CV3: 91 | CW3: 96 | CX3: 79 | CY3: 98
A4: Sex | B4: male | C4: female | D4: female | E4: male | F4: female | G4: female | H4: male | I4: male | J4: female | K4: male | L4: male | M4: male | N4: female | O4: male | P4: male | Q4: female | R4: female | S4: female | T4: female | U4: female | V4: female | W4: female | X4: female | Y4: female | Z4: female | AA4: female | AB4: female | AC4: female | AD4: female | AE4: female | AF4: female | AG4: female | AH4: female | AI4: female | AJ4: female | AK4: female | AL4: female | AM4: female | AN4: female | AO4: female | AP4: female | AQ4: female | AR4: female | AS4: female | AT4: female | AU4: female | AV4: female | AW4: female | AX4: female | AY4: female | AZ4: female | BA4: female | BB4: female | BC4: male | BD4: female | BE4: female | BF4: male | BG4: male | BH4: male | BI4: female | BJ4: male | BK4: female | BL4: male | BM4: male | BN4: female | BO4: female | BP4: female | BQ4: female | BR4: female | BS4: female | BT4: female | BU4: female | BV4: female | BW4: female | BX4: female | BY4: female | BZ4: female | CA4: female | CB4: female | CC4: female | CD4: female | CE4: female | CF4: female | CG4: female | CH4: female | CI4: female | CJ4: female | CK4: female | CL4: female | CM4: female | CN4: female | CO4: female | CP4: female | CQ4: female | CR4: female | CS4: female | CT4: female | CU4: female | CV4: female | CW4: female | CX4: female | CY4: female
A5: Region | B5: Amygdala | C5: Amygdala | D5: Amygdala | E5: Amygdala | F5: Amygdala | G5: Amygdala | H5: Amygdala | I5: Amygdala | J5: Amygdala | K5: Amygdala | L5: Amygdala | M5: Amygdala | N5: Amygdala | O5: Amygdala | P5: Amygdala | Q5: Amygdala | R5: Amygdala | S5: Amygdala | T5: Amygdala | U5: Amygdala | V5: Amygdala | W5: Amygdala | X5: Amygdala | Y5: Amygdala | Z5: Amygdala | AA5: Amygdala | AB5: Amygdala | AC5: Amygdala | AD5: Amygdala | AE5: Amygdala | AF5: Amygdala | AG5: Amygdala | AH5: Amygdala | AI5: Amygdala | AJ5: Amygdala | AK5: Amygdala | AL5: Amygdala | AM5: Amygdala | AN5: Amygdala | AO5: Amygdala | AP5: Amygdala | AQ5: Amygdala | AR5: Amygdala | AS5: Amygdala | AT5: Amygdala | AU5: Amygdala | AV5: Amygdala | AW5: Amygdala | AX5: Amygdala | AY5: Amygdala | AZ5: Amygdala | BA5: Nucleus Accumbens | BB5: Nucleus Accumbens | BC5: Nucleus Accumbens | BD5: Nucleus Accumbens | BE5: Nucleus Accumbens | BF5: Nucleus Accumbens | BG5: Nucleus Accumbens | BH5: Nucleus Accumbens | BI5: Nucleus Accumbens | BJ5: Nucleus Accumbens | BK5: Nucleus Accumbens | BL5: Nucleus Accumbens | BM5: Nucleus Accumbens | BN5: Nucleus Accumbens | BO5: Nucleus Accumbens | BP5: Nucleus Accumbens | BQ5: Nucleus Accumbens | BR5: Nucleus Accumbens | BS5: Nucleus Accumbens | BT5: Nucleus Accumbens | BU5: Nucleus Accumbens | BV5: Nucleus Accumbens | BW5: Nucleus Accumbens | BX5: Nucleus Accumbens | BY5: Nucleus Accumbens | BZ5: Nucleus Accumbens | CA5: Nucleus Accumbens | CB5: Nucleus Accumbens | CC5: Nucleus Accumbens | CD5: Nucleus Accumbens | CE5: Nucleus Accumbens | CF5: Nucleus Accumbens | CG5: Nucleus Accumbens | CH5: Nucleus Accumbens | CI5: Nucleus Accumbens | CJ5: Nucleus Accumbens | CK5: Nucleus Accumbens | CL5: Nucleus Accumbens | CM5: Nucleus Accumbens | CN5: Nucleus Accumbens | CO5: Nucleus Accumbens | CP5: Nucleus Accumbens | CQ5: Nucleus Accumbens | CR5: Nucleus Accumbens | CS5: Nucleus Accumbens | CT5: Nucleus Accumbens | CU5: Nucleus Accumbens | CV5: Nucleus Accumbens | CW5: Nucleus Accumbens | CX5: Nucleus Accumbens | CY5: Nucleus Accumbens
A6: APOE | B6: =(Original!B6-Average!B6)/SD!B6 -> -0.8370133 | C6: =(Original!C6-Average!C6)/SD!C6 -> -0.52542675 | D6: =(Original!D6-Average!D6)/SD!D6 -> -0.88477201 | E6: =(Original!E6-Average!E6)/SD!E6 -> 0.14763498 | F6: =(Original!F6-Average!F6)/SD!F6 -> 0.92990858 | G6: =(Original!G6-Average!G6)/SD!G6 -> 1.0861888 | H6: =(Original!H6-Average!H6)/SD!H6 -> 1.0678808 | I6: =(Original!I6-Average!I6)/SD!I6 -> 0.065081993 | ... CY6: =(Original!CY6-Average!CY6)/SD!CY6 -> -0.3011939
A7: APP | B7: =(Original!B7-Average!B7)/SD!B7 -> 0.12134145 | C7: =(Original!C7-Average!C7)/SD!C7 -> -0.013200251 | D7: =(Original!D7-Average!D7)/SD!D7 -> -0.46259815 | E7: =(Original!E7-Average!E7)/SD!E7 -> -0.9276804 | F7: =(Original!F7-Average!F7)/SD!F7 -> -0.34037732 | G7: =(Original!G7-Average!G7)/SD!G7 -> -1.8491062 | H7: =(Original!H7-Average!H7)/SD!H7 -> -0.77939883 | I7: =(Original!I7-Average!I7)/SD!I7 -> -0.15454253 | ... CY7: =(Original!CY7-Average!CY7)/SD!CY7 -> 0.093568231
A8: PSEN1 | B8: =(Original!B8-Average!B8)/SD!B8 -> 1.5299698 | C8: =(Original!C8-Average!C8)/SD!C8 -> -0.48737926 | D8: =(Original!D8-Average!D8)/SD!D8 -> 0.71950649 | E8: =(Original!E8-Average!E8)/SD!E8 -> -0.55748714 | F8: =(Original!F8-Average!F8)/SD!F8 -> 0.07973073 | G8: =(Original!G8-Average!G8)/SD!G8 -> 0.8806837 | H8: =(Original!H8-Average!H8)/SD!H8 -> -0.39735126 | I8: =(Original!I8-Average!I8)/SD!I8 -> -0.2023816 | ... CY8: =(Original!CY8-Average!CY8)/SD!CY8 -> 0.35618943
A9: PSEN2 | B9: =(Original!B9-Average!B9)/SD!B9 -> -0.4120668 | C9: =(Original!C9-Average!C9)/SD!C9 -> 0.065067555 | D9: =(Original!D9-Average!D9)/SD!D9 -> -0.39237761 | E9: =(Original!E9-Average!E9)/SD!E9 -> -1.6618714 | F9: =(Original!F9-Average!F9)/SD!F9 -> -0.083643314 | G9: =(Original!G9-Average!G9)/SD!G9 -> -0.3512576 | H9: =(Original!H9-Average!H9)/SD!H9 -> 0.97803439 | I9: =(Original!I9-Average!I9)/SD!I9 -> -0.057129957 | ... CY9: =(Original!CY9-Average!CY9)/SD!CY9 -> -1.1402353

Sheet Descritized
A1: ID_REF | B1: GSM2233519 | C1: GSM2233520 | D1: GSM2233521 | E1: GSM2233522 | F1: GSM2233523 | G1: GSM2233524 | H1: GSM2233525 | I1: GSM2233526 | J1: GSM2233527 | K1: GSM2233528 | L1: GSM2233529 | M1: GSM2233530 | N1: GSM2233531 | O1: GSM2233532 | P1: GSM2233533 | Q1: GSM2233534 | R1: GSM2233535 | S1: GSM2233536 | T1: GSM2233537 | U1: GSM2233538 | V1: GSM2233539 | W1: GSM2233540 | X1: GSM2233541 | Y1: GSM2233542 | Z1: GSM2233543 | AA1: GSM2233544 | AB1: GSM2233545 | AC1: GSM2233546 | AD1: GSM2233547 | AE1: GSM2233548 | AF1: GSM2233549 | AG1: GSM2233550 | AH1: GSM2233551 | AI1: GSM2233552 | AJ1: GSM2233553 | AK1: GSM2233554 | AL1: GSM2233555 | AM1: GSM2233556 | AN1: GSM2233557 | AO1: GSM2233558 | AP1: GSM2233559 | AQ1: GSM2233560 | AR1: GSM2233561 | AS1: GSM2233562 | AT1: GSM2233563 | AU1: GSM2233564 | AV1: GSM2233565 | AW1: GSM2233566 | AX1: GSM2233567 | AY1: GSM2233568 | AZ1: GSM2233569 | BA1: GSM2233570 | BB1: GSM2233571 | BC1: GSM2233572 | BD1: GSM2233573 | BE1: GSM2233574 | BF1: GSM2233575 | BG1: GSM2233576 | BH1: GSM2233577 | BI1: GSM2233578 | BJ1: GSM2233579 | BK1: GSM2233580 | BL1: GSM2233581 | BM1: GSM2233582 | BN1: GSM2233583 | BO1: GSM2233584 | BP1: GSM2233585 | BQ1: GSM2233586 | BR1: GSM2233587 | BS1: GSM2233588 | BT1: GSM2233589 | BU1: GSM2233590 | BV1: GSM2233591 | BW1: GSM2233592 | BX1: GSM2233593 | BY1: GSM2233594 | BZ1: GSM2233595 | CA1: GSM2233596 | CB1: GSM2233597 | CC1: GSM2233598 | CD1: GSM2233599 | CE1: GSM2233600 | CF1: GSM2233601 | CG1: GSM2233602 | CH1: GSM2233603 | CI1: GSM2233604 | CJ1: GSM2233605 | CK1: GSM2233606 | CL1: GSM2233607 | CM1: GSM2233608 | CN1: GSM2233609 | CO1: GSM2233610 | CP1: GSM2233611 | CQ1: GSM2233612 | CR1: GSM2233613 | CS1: GSM2233614 | CT1: GSM2233615 | CU1: GSM2233616 | CV1: GSM2233617 | CW1: GSM2233618 | CX1: GSM2233619 | CY1: GSM2233620
A2: Alzheimer | B2: Normal | C2: Normal | D2: Normal | E2: Normal | F2: Normal | G2: Normal | H2: Normal | I2: Normal | J2: Normal | K2: Normal | L2: Normal | M2: Normal | N2: Normal | O2: Normal | P2: Normal | Q2: definite AD | R2: definite AD | S2: Possible AD | T2: definite AD | U2: definite AD | V2: definite AD | W2: definite AD | X2: definite AD | Y2: definite AD | Z2: Possible AD | AA2: definite AD | AB2: Probable AD | AC2: Probable AD | AD2: definite AD | AE2: Probable AD | AF2: definite AD | AG2: definite AD | AH2: definite AD | AI2: definite AD | AJ2: Probable AD | AK2: Probable AD | AL2: definite AD | AM2: Probable AD | AN2: Possible AD | AO2: Possible AD | AP2: Possible AD | AQ2: Probable AD | AR2: Probable AD | AS2: definite AD | AT2: Probable AD | AU2: Probable AD | AV2: Possible AD | AW2: Probable AD | AX2: Possible AD | AY2: Probable AD | AZ2: definite AD | BA2: Normal | BB2: Normal | BC2: Normal | BD2: Normal | BE2: Normal | BF2: Normal | BG2: Normal | BH2: Normal | BI2: Normal | BJ2: Normal | BK2: Normal | BL2: Normal | BM2: Normal | BN2: Probable AD | BO2: definite AD | BP2: definite AD | BQ2: Possible AD | BR2: definite AD | BS2: definite AD | BT2: definite AD | BU2: definite AD | BV2: definite AD | BW2: Possible AD | BX2: definite AD | BY2: definite AD | BZ2: Probable AD | CA2: Probable AD | CB2: Possible AD | CC2: Possible AD | CD2: definite AD | CE2: definite AD | CF2: Probable AD | CG2: definite AD | CH2: definite AD | CI2: definite AD | CJ2: Probable AD | CK2: definite AD | CL2: definite AD | CM2: Probable AD | CN2: Possible AD | CO2: Possible AD | CP2: Possible AD | CQ2: Probable AD | CR2: Probable AD | CS2: definite AD | CT2: Probable AD | CU2: Probable AD | CV2: Possible AD | CW2: Possible AD | CX2: Probable AD | CY2: Possible AD
A3: Age | B3: 69 | C3: 85 | D3: 102 | E3: 95 | F3: 89 | G3: 92 | H3: 66 | I3: 69 | J3: 96 | K3: 85 | L3: 78 | M3: 76 | N3: 79 | O3: 64 | P3: 93 | Q3: 72 | R3: 91 | S3: 99 | T3: 99 | U3: 94 | V3: 84 | W3: 84 | X3: 87 | Y3: 84 | Z3: 91 | AA3: 89 | AB3: 95 | AC3: 100 | AD3: 88 | AE3: 92 | AF3: 87 | AG3: 85 | AH3: 96 | AI3: 78 | AJ3: 84 | AK3: 93 | AL3: 85 | AM3: 90 | AN3: 79 | AO3: 89 | AP3: 83 | AQ3: 90 | AR3: 94 | AS3: 102 | AT3: 84 | AU3: 93 | AV3: 96 | AW3: 79 | AX3: 98 | AY3: 98 | AZ3: 92 | BA3: 85 | BB3: 102 | BC3: 95 | BD3: 96 | BE3: 83 | BF3: 69 | BG3: 66 | BH3: 69 | BI3: 96 | BJ3: 74 | BK3: 62 | BL3: 85 | BM3: 78 | BN3: 93 | BO3: 72 | BP3: 91 | BQ3: 99 | BR3: 99 | BS3: 94 | BT3: 84 | BU3: 84 | BV3: 87 | BW3: 91 | BX3: 87 | BY3: 89 | BZ3: 95 | CA3: 100 | CB3: 82 | CC3: 91 | CD3: 88 | CE3: 84 | CF3: 92 | CG3: 85 | CH3: 96 | CI3: 78 | CJ3: 84 | CK3: 95 | CL3: 85 | CM3: 90 | CN3: 79 | CO3: 89 | CP3: 83 | CQ3: 90 | CR3: 94 | CS3: 102 | CT3: 84 | CU3: 93 | CV3: 91 | CW3: 96 | CX3: 79 | CY3: 98
A4: Sex | B4: M | C4: F | D4: F | E4: M | F4: F | G4: F | H4: M | I4: M | J4: F | K4: M | L4: M | M4: M | N4: F | O4: M | P4: M | Q4: F | R4: F | S4: F | T4: F | U4: F | V4: F | W4: F | X4: F | Y4: F | Z4: F | AA4: F | AB4: F | AC4: F | AD4: F | AE4: F | AF4: F | AG4: F | AH4: F | AI4: F | AJ4: F | AK4: F | AL4: F | AM4: F | AN4: F | AO4: F | AP4: F | AQ4: F | AR4: F | AS4: F | AT4: F | AU4: F | AV4: F | AW4: F | AX4: F | AY4: F | AZ4: F | BA4: F | BB4: F | BC4: M | BD4: F | BE4: F | BF4: M | BG4: M | BH4: M | BI4: F | BJ4: M | BK4: F | BL4: M | BM4: M | BN4: F | BO4: F | BP4: F | BQ4: F | BR4: F | BS4: F | BT4: F | BU4: F | BV4: F | BW4: F | BX4: F | BY4: F | BZ4: F | CA4: F | CB4: F | CC4: F | CD4: F | CE4: F | CF4: F | CG4: F | CH4: F | CI4: F | CJ4: F | CK4: F | CL4: F | CM4: F | CN4: F | CO4: F | CP4: F | CQ4: F | CR4: F | CS4: F | CT4: F | CU4: F | CV4: F | CW4: F | CX4: F | CY4: F
A5: Region | B5: Amygdala | C5: Amygdala | D5: Amygdala | E5: Amygdala | F5: Amygdala | G5: Amygdala | H5: Amygdala | I5: Amygdala | J5: Amygdala | K5: Amygdala | L5: Amygdala | M5: Amygdala | N5: Amygdala | O5: Amygdala | P5: Amygdala | Q5: Amygdala | R5: Amygdala | S5: Amygdala | T5: Amygdala | U5: Amygdala | V5: Amygdala | W5: Amygdala | X5: Amygdala | Y5: Amygdala | Z5: Amygdala | AA5: Amygdala | AB5: Amygdala | AC5: Amygdala | AD5: Amygdala | AE5: Amygdala | AF5: Amygdala | AG5: Amygdala | AH5: Amygdala | AI5: Amygdala | AJ5: Amygdala | AK5: Amygdala | AL5: Amygdala | AM5: Amygdala | AN5: Amygdala | AO5: Amygdala | AP5: Amygdala | AQ5: Amygdala | AR5: Amygdala | AS5: Amygdala | AT5: Amygdala | AU5: Amygdala | AV5: Amygdala | AW5: Amygdala | AX5: Amygdala | AY5: Amygdala | AZ5: Amygdala | BA5: Nucleus Accumbens | BB5: Nucleus Accumbens | BC5: Nucleus Accumbens | BD5: Nucleus Accumbens | BE5: Nucleus Accumbens | BF5: Nucleus Accumbens | BG5: Nucleus Accumbens | BH5: Nucleus Accumbens | BI5: Nucleus Accumbens | BJ5: Nucleus Accumbens | BK5: Nucleus Accumbens | BL5: Nucleus Accumbens | BM5: Nucleus Accumbens | BN5: Nucleus Accumbens | BO5: Nucleus Accumbens | BP5: Nucleus Accumbens | BQ5: Nucleus Accumbens | BR5: Nucleus Accumbens | BS5: Nucleus Accumbens | BT5: Nucleus Accumbens | BU5: Nucleus Accumbens | BV5: Nucleus Accumbens | BW5: Nucleus Accumbens | BX5: Nucleus Accumbens | BY5: Nucleus Accumbens | BZ5: Nucleus Accumbens | CA5: Nucleus Accumbens | CB5: Nucleus Accumbens | CC5: Nucleus Accumbens | CD5: Nucleus Accumbens | CE5: Nucleus Accumbens | CF5: Nucleus Accumbens | CG5: Nucleus Accumbens | CH5: Nucleus Accumbens | CI5: Nucleus Accumbens | CJ5: Nucleus Accumbens | CK5: Nucleus Accumbens | CL5: Nucleus Accumbens | CM5: Nucleus Accumbens | CN5: Nucleus Accumbens | CO5: Nucleus Accumbens | CP5: Nucleus Accumbens | CQ5: Nucleus Accumbens | CR5: Nucleus Accumbens | CS5: Nucleus Accumbens | CT5: Nucleus Accumbens | CU5: Nucleus Accumbens | CV5: Nucleus Accumbens | CW5: Nucleus Accumbens | CX5: Nucleus Accumbens | CY5: Nucleus Accumbens
A6: APOE | B6: =IF('Z-score'!B6<-1,"0",IF('Z-score'!B6>1,"2","1")) -> 1 | C6: =IF('Z-score'!C6<-1,"0",IF('Z-score'!C6>1,"2","1")) -> 1 | D6: =IF('Z-score'!D6<-1,"0",IF('Z-score'!D6>1,"2","1")) -> 1 | E6: =IF('Z-score'!E6<-1,"0",IF('Z-score'!E6>1,"2","1")) -> 1 | F6: =IF('Z-score'!F6<-1,"0",IF('Z-score'!F6>1,"2","1")) -> 1 | G6: =IF('Z-score'!G6<-1,"0",IF('Z-score'!G6>1,"2","1")) -> 2 | H6: =IF('Z-score'!H6<-1,"0",IF('Z-score'!H6>1,"2","1")) -> 2 | I6: =IF('Z-score'!I6<-1,"0",IF('Z-score'!I6>1,"2","1")) -> 1 | ... CY6: =IF('Z-score'!CY6<-1,"0",IF('Z-score'!CY6>1,"2","1")) -> 1
A7: APP | B7: =IF('Z-score'!B7<-1,"0",IF('Z-score'!B7>1,"2","1")) -> 1 | C7: =IF('Z-score'!C7<-1,"0",IF('Z-score'!C7>1,"2","1")) -> 1 | D7: =IF('Z-score'!D7<-1,"0",IF('Z-score'!D7>1,"2","1")) -> 1 | E7: =IF('Z-score'!E7<-1,"0",IF('Z-score'!E7>1,"2","1")) -> 1 | F7: =IF('Z-score'!F7<-1,"0",IF('Z-score'!F7>1,"2","1")) -> 1 | G7: =IF('Z-score'!G7<-1,"0",IF('Z-score'!G7>1,"2","1")) -> 0 | H7: =IF('Z-score'!H7<-1,"0",IF('Z-score'!H7>1,"2","1")) -> 1 | I7: =IF('Z-score'!I7<-1,"0",IF('Z-score'!I7>1,"2","1")) -> 1 | ... CY7: =IF('Z-score'!CY7<-1,"0",IF('Z-score'!CY7>1,"2","1")) -> 1
A8: PSEN1 | B8: =IF('Z-score'!B8<-1,"0",IF('Z-score'!B8>1,"2","1")) -> 2 | C8: =IF('Z-score'!C8<-1,"0",IF('Z-score'!C8>1,"2","1")) -> 1 | D8: =IF('Z-score'!D8<-1,"0",IF('Z-score'!D8>1,"2","1")) -> 1 | E8: =IF('Z-score'!E8<-1,"0",IF('Z-score'!E8>1,"2","1")) -> 1 | F8: =IF('Z-score'!F8<-1,"0",IF('Z-score'!F8>1,"2","1")) -> 1 | G8: =IF('Z-score'!G8<-1,"0",IF('Z-score'!G8>1,"2","1")) -> 1 | H8: =IF('Z-score'!H8<-1,"0",IF('Z-score'!H8>1,"2","1")) -> 1 | I8: =IF('Z-score'!I8<-1,"0",IF('Z-score'!I8>1,"2","1")) -> 1 | ... CY8: =IF('Z-score'!CY8<-1,"0",IF('Z-score'!CY8>1,"2","1")) -> 1
A9: PSEN2 | B9: =IF('Z-score'!B9<-1,"0",IF('Z-score'!B9>1,"2","1")) -> 1 | C9: =IF('Z-score'!C9<-1,"0",IF('Z-score'!C9>1,"2","1")) -> 1 | D9: =IF('Z-score'!D9<-1,"0",IF('Z-score'!D9>1,"2","1")) -> 1 | E9: =IF('Z-score'!E9<-1,"0",IF('Z-score'!E9>1,"2","1")) -> 0 | F9: =IF('Z-score'!F9<-1,"0",IF('Z-score'!F9>1,"2","1")) -> 1 | G9: =IF('Z-score'!G9<-1,"0",IF('Z-score'!G9>1,"2","1")) -> 1 | H9: =IF('Z-score'!H9<-1,"0",IF('Z-score'!H9>1,"2","1")) -> 1 | I9: =IF('Z-score'!I9<-1,"0",IF('Z-score'!I9>1,"2","1")) -> 1 | ... CY9: =IF('Z-score'!CY9<-1,"0",IF('Z-score'!CY9>1,"2","1")) -> 0

Sheet Descritized Normal and Definite
A1: ID_REF | B1: GSM2233534 | C1: GSM2233535 | D1: GSM2233537 | E1: GSM2233538 | F1: GSM2233539 | G1: GSM2233540 | H1: GSM2233541 | I1: GSM2233542 | J1: GSM2233544 | K1: GSM2233547 | L1: GSM2233549 | M1: GSM2233550 | N1: GSM2233551 | O1: GSM2233552 | P1: GSM2233555 | Q1: GSM2233562 | R1: GSM2233569 | S1: GSM2233584 | T1: GSM2233585 | U1: GSM2233587 | V1: GSM2233588 | W1: GSM2233589 | X1: GSM2233590 | Y1: GSM2233591 | Z1: GSM2233593 | AA1: GSM2233594 | AB1: GSM2233599 | AC1: GSM2233600 | AD1: GSM2233602 | AE1: GSM2233603 | AF1: GSM2233604 | AG1: GSM2233606 | AH1: GSM2233607 | AI1: GSM2233614 | AJ1: GSM2233519 | AK1: GSM2233520 | AL1: GSM2233521 | AM1: GSM2233522 | AN1: GSM2233523 | AO1: GSM2233524 | AP1: GSM2233525 | AQ1: GSM2233526 | AR1: GSM2233527 | AS1: GSM2233528 | AT1: GSM2233529 | AU1: GSM2233530 | AV1: GSM2233531 | AW1: GSM2233532 | AX1: GSM2233533 | AY1: GSM2233570 | AZ1: GSM2233571 | BA1: GSM2233572 | BB1: GSM2233573 | BC1: GSM2233574 | BD1: GSM2233575 | BE1: GSM2233576 | BF1: GSM2233577 | BG1: GSM2233578 | BH1: GSM2233579 | BI1: GSM2233580 | BJ1: GSM2233581 | BK1: GSM2233582
A2: Alzheimer | B2: definite AD | C2: definite AD | D2: definite AD | E2: definite AD | F2: definite AD | G2: definite AD | H2: definite AD | I2: definite AD | J2: definite AD | K2: definite AD | L2: definite AD | M2: definite AD | N2: definite AD | O2: definite AD | P2: definite AD | Q2: definite AD | R2: definite AD | S2: definite AD | T2: definite AD | U2: definite AD | V2: definite AD | W2: definite AD | X2: definite AD | Y2: definite AD | Z2: definite AD | AA2: definite AD | AB2: definite AD | AC2: definite AD | AD2: definite AD | AE2: definite AD | AF2: definite AD | AG2: definite AD | AH2: definite AD | AI2: definite AD | AJ2: Normal | AK2: Normal | AL2: Normal | AM2: Normal | AN2: Normal | AO2: Normal | AP2: Normal | AQ2: Normal | AR2: Normal | AS2: Normal | AT2: Normal | AU2: Normal | AV2: Normal | AW2: Normal | AX2: Normal | AY2: Normal | AZ2: Normal | BA2: Normal | BB2: Normal | BC2: Normal | BD2: Normal | BE2: Normal | BF2: Normal | BG2: Normal | BH2: Normal | BI2: Normal | BJ2: Normal | BK2: Normal
A3: Age | B3: 72 | C3: 91 | D3: 99 | E3: 94 | F3: 84 | G3: 84 | H3: 87 | I3: 84 | J3: 89 | K3: 88 | L3: 87 | M3: 85 | N3: 96 | O3: 78 | P3: 85 | Q3: 102 | R3: 92 | S3: 72 | T3: 91 | U3: 99 | V3: 94 | W3: 84 | X3: 84 | Y3: 87 | Z3: 87 | AA3: 89 | AB3: 88 | AC3: 84 | AD3: 85 | AE3: 96 | AF3: 78 | AG3: 95 | AH3: 85 | AI3: 102 | AJ3: 69 | AK3: 85 | AL3: 102 | AM3: 95 | AN3: 89 | AO3: 92 | AP3: 66 | AQ3: 69 | AR3: 96 | AS3: 85 | AT3: 78 | AU3: 76 | AV3: 79 | AW3: 64 | AX3: 93 | AY3: 85 | AZ3: 102 | BA3: 95 | BB3: 96 | BC3: 83 | BD3: 69 | BE3: 66 | BF3: 69 | BG3: 96 | BH3: 74 | BI3: 62 | BJ3: 85 | BK3: 78
A4: Sex | B4: F | C4: F | D4: F | E4: F | F4: F | G4: F | H4: F | I4: F | J4: F | K4: F | L4: F | M4: F | N4: F | O4: F | P4: F | Q4: F | R4: F | S4: F | T4: F | U4: F | V4: F | W4: F | X4: F | Y4: F | Z4: F | AA4: F | AB4: F | AC4: F | AD4: F | AE4: F | AF4: F | AG4: F | AH4: F | AI4: F | AJ4: M | AK4: F | AL4: F | AM4: M | AN4: F | AO4: F | AP4: M | AQ4: M | AR4: F | AS4: M | AT4: M | AU4: M | AV4: F | AW4: M | AX4: M | AY4: F | AZ4: F | BA4: M | BB4: F | BC4: F | BD4: M | BE4: M | BF4: M | BG4: F | BH4: M | BI4: F | BJ4: M | BK4: M
A5: Region | B5: Amygdala | C5: Amygdala | D5: Amygdala | E5: Amygdala | F5: Amygdala | G5: Amygdala | H5: Amygdala | I5: Amygdala | J5: Amygdala | K5: Amygdala | L5: Amygdala | M5: Amygdala | N5: Amygdala | O5: Amygdala | P5: Amygdala | Q5: Amygdala | R5: Amygdala | S5: Nucleus Accumbens | T5: Nucleus Accumbens | U5: Nucleus Accumbens | V5: Nucleus Accumbens | W5: Nucleus Accumbens | X5: Nucleus Accumbens | Y5: Nucleus Accumbens | Z5: Nucleus Accumbens | AA5: Nucleus Accumbens | AB5: Nucleus Accumbens | AC5: Nucleus Accumbens | AD5: Nucleus Accumbens | AE5: Nucleus Accumbens | AF5: Nucleus Accumbens | AG5: Nucleus Accumbens | AH5: Nucleus Accumbens | AI5: Nucleus Accumbens | AJ5: Amygdala | AK5: Amygdala | AL5: Amygdala | AM5: Amygdala | AN5: Amygdala | AO5: Amygdala | AP5: Amygdala | AQ5: Amygdala | AR5: Amygdala | AS5: Amygdala | AT5: Amygdala | AU5: Amygdala | AV5: Amygdala | AW5: Amygdala | AX5: Amygdala | AY5: Nucleus Accumbens | AZ5: Nucleus Accumbens | BA5: Nucleus Accumbens | BB5: Nucleus Accumbens | BC5: Nucleus Accumbens | BD5: Nucleus Accumbens | BE5: Nucleus Accumbens | BF5: Nucleus Accumbens | BG5: Nucleus Accumbens | BH5: Nucleus Accumbens | BI5: Nucleus Accumbens | BJ5: Nucleus Accumbens | BK5: Nucleus Accumbens
A6: APOE | B6: =IF('Z-score'!Q6<-1,"0",IF('Z-score'!Q6>1,"2","1")) -> 1 | C6: =IF('Z-score'!R6<-1,"0",IF('Z-score'!R6>1,"2","1")) -> 1 | D6: =IF('Z-score'!T6<-1,"0",IF('Z-score'!T6>1,"2","1")) -> 1 | E6: =IF('Z-score'!U6<-1,"0",IF('Z-score'!U6>1,"2","1")) -> 2 | F6: =IF('Z-score'!V6<-1,"0",IF('Z-score'!V6>1,"2","1")) -> 1 | G6: =IF('Z-score'!W6<-1,"0",IF('Z-score'!W6>1,"2","1")) -> 1 | H6: =IF('Z-score'!X6<-1,"0",IF('Z-score'!X6>1,"2","1")) -> 1 | I6: =IF('Z-score'!Y6<-1,"0",IF('Z-score'!Y6>1,"2","1")) -> 1 | J6: =IF('Z-score'!AA6<-1,"0",IF('Z-score'!AA6>1,"2","1")) -> 1 | K6: =IF('Z-score'!AD6<-1,"0",IF('Z-score'!AD6>1,"2","1")) -> 1 | L6: =IF('Z-score'!AF6<-1,"0",IF('Z-score'!AF6>1,"2","1")) -> 1 | M6: =IF('Z-score'!AG6<-1,"0",IF('Z-score'!AG6>1,"2","1")) -> 1 | N6: =IF('Z-score'!AH6<-1,"0",IF('Z-score'!AH6>1,"2","1")) -> 1 | O6: =IF('Z-score'!AI6<-1,"0",IF('Z-score'!AI6>1,"2","1")) -> 0 | P6: =IF('Z-score'!AL6<-1,"0",IF('Z-score'!AL6>1,"2","1")) -> 2 | Q6: =IF('Z-score'!AS6<-1,"0",IF('Z-score'!AS6>1,"2","1")) -> 1 | R6: =IF('Z-score'!AZ6<-1,"0",IF('Z-score'!AZ6>1,"2","1")) -> 1 | S6: =IF('Z-score'!BO6<-1,"0",IF('Z-score'!BO6>1,"2","1")) -> 1 | T6: =IF('Z-score'!BP6<-1,"0",IF('Z-score'!BP6>1,"2","1")) -> 1 | U6: =IF('Z-score'!BR6<-1,"0",IF('Z-score'!BR6>1,"2","1")) -> 2 | V6: =IF('Z-score'!BS6<-1,"0",IF('Z-score'!BS6>1,"2","1")) -> 2 | W6: =IF('Z-score'!BT6<-1,"0",IF('Z-score'!BT6>1,"2","1")) -> 1 | X6: =IF('Z-score'!BU6<-1,"0",IF('Z-score'!BU6>1,"2","1")) -> 0 | Y6: =IF('Z-score'!BV6<-1,"0",IF('Z-score'!BV6>1,"2","1")) -> 1 | Z6: =IF('Z-score'!BX6<-1,"0",IF('Z-score'!BX6>1,"2","1")) -> 1 | AA6: =IF('Z-score'!BY6<-1,"0",IF('Z-score'!BY6>1,"2","1")) -> 2 | AB6: =IF('Z-score'!CD6<-1,"0",IF('Z-score'!CD6>1,"2","1")) -> 0 | AC6: =IF('Z-score'!CE6<-1,"0",IF('Z-score'!CE6>1,"2","1")) -> 1 | AD6: =IF('Z-score'!CG6<-1,"0",IF('Z-score'!CG6>1,"2","1")) -> 1 | AE6: =IF('Z-score'!CH6<-1,"0",IF('Z-score'!CH6>1,"2","1")) -> 1 | AF6: =IF('Z-score'!CI6<-1,"0",IF('Z-score'!CI6>1,"2","1")) -> 1 | AG6: =IF('Z-score'!CK6<-1,"0",IF('Z-score'!CK6>1,"2","1")) -> 0 | AH6: =IF('Z-score'!CL6<-1,"0",IF('Z-score'!CL6>1,"2","1")) -> 2 | AI6: =IF('Z-score'!CS6<-1,"0",IF('Z-score'!CS6>1,"2","1")) -> 2 | AJ6: =IF('Z-score'!B6<-1,"0",IF('Z-score'!B6>1,"2","1")) -> 1 | AK6: =IF('Z-score'!C6<-1,"0",IF('Z-score'!C6>1,"2","1")) -> 1 | AL6: =IF('Z-score'!D6<-1,"0",IF('Z-score'!D6>1,"2","1")) -> 1 | AM6: =IF('Z-score'!E6<-1,"0",IF('Z-score'!E6>1,"2","1")) -> 1 | AN6: =IF('Z-score'!F6<-1,"0",IF('Z-score'!F6>1,"2","1")) -> 1 | AO6: =IF('Z-score'!G6<-1,"0",IF('Z-score'!G6>1,"2","1")) -> 2 | AP6: =IF('Z-score'!H6<-1,"0",IF('Z-score'!H6>1,"2","1")) -> 2 | AQ6: =IF('Z-score'!I6<-1,"0",IF('Z-score'!I6>1,"2","1")) -> 1 | ... AX6: =IF('Z-score'!P6<-1,"0",IF('Z-score'!P6>1,"2","1")) -> 1 | AY6: =IF('Z-score'!BA6<-1,"0",IF('Z-score'!BA6>1,"2","1")) -> 1 | AZ6: =IF('Z-score'!BB6<-1,"0",IF('Z-score'!BB6>1,"2","1")) -> 0 | BA6: =IF('Z-score'!BC6<-1,"0",IF('Z-score'!BC6>1,"2","1")) -> 1 | BB6: =IF('Z-score'!BD6<-1,"0",IF('Z-score'!BD6>1,"2","1")) -> 1 | BC6: =IF('Z-score'!BE6<-1,"0",IF('Z-score'!BE6>1,"2","1")) -> 1 | BD6: =IF('Z-score'!BF6<-1,"0",IF('Z-score'!BF6>1,"2","1")) -> 2 | BE6: =IF('Z-score'!BG6<-1,"0",IF('Z-score'!BG6>1,"2","1")) -> 1 | BF6: =IF('Z-score'!BH6<-1,"0",IF('Z-score'!BH6>1,"2","1")) -> 1 | ... BK6: =IF('Z-score'!BM6<-1,"0",IF('Z-score'!BM6>1,"2","1")) -> 1
A7: APP | B7: =IF('Z-score'!Q7<-1,"0",IF('Z-score'!Q7>1,"2","1")) -> 2 | C7: =IF('Z-score'!R7<-1,"0",IF('Z-score'!R7>1,"2","1")) -> 2 | D7: =IF('Z-score'!T7<-1,"0",IF('Z-score'!T7>1,"2","1")) -> 2 | E7: =IF('Z-score'!U7<-1,"0",IF('Z-score'!U7>1,"2","1")) -> 2 | F7: =IF('Z-score'!V7<-1,"0",IF('Z-score'!V7>1,"2","1")) -> 2 | G7: =IF('Z-score'!W7<-1,"0",IF('Z-score'!W7>1,"2","1")) -> 1 | H7: =IF('Z-score'!X7<-1,"0",IF('Z-score'!X7>1,"2","1")) -> 0 | I7: =IF('Z-score'!Y7<-1,"0",IF('Z-score'!Y7>1,"2","1")) -> 1 | J7: =IF('Z-score'!AA7<-1,"0",IF('Z-score'!AA7>1,"2","1")) -> 1 | K7: =IF('Z-score'!AD7<-1,"0",IF('Z-score'!AD7>1,"2","1")) -> 0 | L7: =IF('Z-score'!AF7<-1,"0",IF('Z-score'!AF7>1,"2","1")) -> 0 | M7: =IF('Z-score'!AG7<-1,"0",IF('Z-score'!AG7>1,"2","1")) -> 1 | N7: =IF('Z-score'!AH7<-1,"0",IF('Z-score'!AH7>1,"2","1")) -> 1 | O7: =IF('Z-score'!AI7<-1,"0",IF('Z-score'!AI7>1,"2","1")) -> 1 | P7: =IF('Z-score'!AL7<-1,"0",IF('Z-score'!AL7>1,"2","1")) -> 1 | Q7: =IF('Z-score'!AS7<-1,"0",IF('Z-score'!AS7>1,"2","1")) -> 1 | R7: =IF('Z-score'!AZ7<-1,"0",IF('Z-score'!AZ7>1,"2","1")) -> 0 | S7: =IF('Z-score'!BO7<-1,"0",IF('Z-score'!BO7>1,"2","1")) -> 2 | T7: =IF('Z-score'!BP7<-1,"0",IF('Z-score'!BP7>1,"2","1")) -> 2 | U7: =IF('Z-score'!BR7<-1,"0",IF('Z-score'!BR7>1,"2","1")) -> 2 | V7: =IF('Z-score'!BS7<-1,"0",IF('Z-score'!BS7>1,"2","1")) -> 2 | W7: =IF('Z-score'!BT7<-1,"0",IF('Z-score'!BT7>1,"2","1")) -> 2 | X7: =IF('Z-score'!BU7<-1,"0",IF('Z-score'!BU7>1,"2","1")) -> 0 | Y7: =IF('Z-score'!BV7<-1,"0",IF('Z-score'!BV7>1,"2","1")) -> 1 | Z7: =IF('Z-score'!BX7<-1,"0",IF('Z-score'!BX7>1,"2","1")) -> 1 | AA7: =IF('Z-score'!BY7<-1,"0",IF('Z-score'!BY7>1,"2","1")) -> 1 | AB7: =IF('Z-score'!CD7<-1,"0",IF('Z-score'!CD7>1,"2","1")) -> 1 | AC7: =IF('Z-score'!CE7<-1,"0",IF('Z-score'!CE7>1,"2","1")) -> 1 | AD7: =IF('Z-score'!CG7<-1,"0",IF('Z-score'!CG7>1,"2","1")) -> 1 | AE7: =IF('Z-score'!CH7<-1,"0",IF('Z-score'!CH7>1,"2","1")) -> 1 | AF7: =IF('Z-score'!CI7<-1,"0",IF('Z-score'!CI7>1,"2","1")) -> 1 | AG7: =IF('Z-score'!CK7<-1,"0",IF('Z-score'!CK7>1,"2","1")) -> 1 | AH7: =IF('Z-score'!CL7<-1,"0",IF('Z-score'!CL7>1,"2","1")) -> 1 | AI7: =IF('Z-score'!CS7<-1,"0",IF('Z-score'!CS7>1,"2","1")) -> 1 | AJ7: =IF('Z-score'!B7<-1,"0",IF('Z-score'!B7>1,"2","1")) -> 1 | AK7: =IF('Z-score'!C7<-1,"0",IF('Z-score'!C7>1,"2","1")) -> 1 | AL7: =IF('Z-score'!D7<-1,"0",IF('Z-score'!D7>1,"2","1")) -> 1 | AM7: =IF('Z-score'!E7<-1,"0",IF('Z-score'!E7>1,"2","1")) -> 1 | AN7: =IF('Z-score'!F7<-1,"0",IF('Z-score'!F7>1,"2","1")) -> 1 | AO7: =IF('Z-score'!G7<-1,"0",IF('Z-score'!G7>1,"2","1")) -> 0 | AP7: =IF('Z-score'!H7<-1,"0",IF('Z-score'!H7>1,"2","1")) -> 1 | AQ7: =IF('Z-score'!I7<-1,"0",IF('Z-score'!I7>1,"2","1")) -> 1 | ... AX7: =IF('Z-score'!P7<-1,"0",IF('Z-score'!P7>1,"2","1")) -> 1 | AY7: =IF('Z-score'!BA7<-1,"0",IF('Z-score'!BA7>1,"2","1")) -> 1 | AZ7: =IF('Z-score'!BB7<-1,"0",IF('Z-score'!BB7>1,"2","1")) -> 1 | BA7: =IF('Z-score'!BC7<-1,"0",IF('Z-score'!BC7>1,"2","1")) -> 1 | BB7: =IF('Z-score'!BD7<-1,"0",IF('Z-score'!BD7>1,"2","1")) -> 1 | BC7: =IF('Z-score'!BE7<-1,"0",IF('Z-score'!BE7>1,"2","1")) -> 0 | BD7: =IF('Z-score'!BF7<-1,"0",IF('Z-score'!BF7>1,"2","1")) -> 1 | BE7: =IF('Z-score'!BG7<-1,"0",IF('Z-score'!BG7>1,"2","1")) -> 1 | BF7: =IF('Z-score'!BH7<-1,"0",IF('Z-score'!BH7>1,"2","1")) -> 1 | ... BK7: =IF('Z-score'!BM7<-1,"0",IF('Z-score'!BM7>1,"2","1")) -> 1
A8: PSEN1 | B8: =IF('Z-score'!Q8<-1,"0",IF('Z-score'!Q8>1,"2","1")) -> 0 | C8: =IF('Z-score'!R8<-1,"0",IF('Z-score'!R8>1,"2","1")) -> 1 | D8: =IF('Z-score'!T8<-1,"0",IF('Z-score'!T8>1,"2","1")) -> 0 | E8: =IF('Z-score'!U8<-1,"0",IF('Z-score'!U8>1,"2","1")) -> 0 | F8: =IF('Z-score'!V8<-1,"0",IF('Z-score'!V8>1,"2","1")) -> 0 | G8: =IF('Z-score'!W8<-1,"0",IF('Z-score'!W8>1,"2","1")) -> 1 | H8: =IF('Z-score'!X8<-1,"0",IF('Z-score'!X8>1,"2","1")) -> 1 | I8: =IF('Z-score'!Y8<-1,"0",IF('Z-score'!Y8>1,"2","1")) -> 1 | J8: =IF('Z-score'!AA8<-1,"0",IF('Z-score'!AA8>1,"2","1")) -> 1 | K8: =IF('Z-score'!AD8<-1,"0",IF('Z-score'!AD8>1,"2","1")) -> 1 | L8: =IF('Z-score'!AF8<-1,"0",IF('Z-score'!AF8>1,"2","1")) -> 1 | M8: =IF('Z-score'!AG8<-1,"0",IF('Z-score'!AG8>1,"2","1")) -> 2 | N8: =IF('Z-score'!AH8<-1,"0",IF('Z-score'!AH8>1,"2","1")) -> 1 | O8: =IF('Z-score'!AI8<-1,"0",IF('Z-score'!AI8>1,"2","1")) -> 1 | P8: =IF('Z-score'!AL8<-1,"0",IF('Z-score'!AL8>1,"2","1")) -> 1 | Q8: =IF('Z-score'!AS8<-1,"0",IF('Z-score'!AS8>1,"2","1")) -> 1 | R8: =IF('Z-score'!AZ8<-1,"0",IF('Z-score'!AZ8>1,"2","1")) -> 1 | S8: =IF('Z-score'!BO8<-1,"0",IF('Z-score'!BO8>1,"2","1")) -> 1 | T8: =IF('Z-score'!BP8<-1,"0",IF('Z-score'!BP8>1,"2","1")) -> 1 | U8: =IF('Z-score'!BR8<-1,"0",IF('Z-score'!BR8>1,"2","1")) -> 1 | V8: =IF('Z-score'!BS8<-1,"0",IF('Z-score'!BS8>1,"2","1")) -> 1 | W8: =IF('Z-score'!BT8<-1,"0",IF('Z-score'!BT8>1,"2","1")) -> 2 | X8: =IF('Z-score'!BU8<-1,"0",IF('Z-score'!BU8>1,"2","1")) -> 2 | Y8: =IF('Z-score'!BV8<-1,"0",IF('Z-score'!BV8>1,"2","1")) -> 1 | Z8: =IF('Z-score'!BX8<-1,"0",IF('Z-score'!BX8>1,"2","1")) -> 1 | AA8: =IF('Z-score'!BY8<-1,"0",IF('Z-score'!BY8>1,"2","1")) -> 1 | AB8: =IF('Z-score'!CD8<-1,"0",IF('Z-score'!CD8>1,"2","1")) -> 1 | AC8: =IF('Z-score'!CE8<-1,"0",IF('Z-score'!CE8>1,"2","1")) -> 1 | AD8: =IF('Z-score'!CG8<-1,"0",IF('Z-score'!CG8>1,"2","1")) -> 1 | AE8: =IF('Z-score'!CH8<-1,"0",IF('Z-score'!CH8>1,"2","1")) -> 2 | AF8: =IF('Z-score'!CI8<-1,"0",IF('Z-score'!CI8>1,"2","1")) -> 1 | AG8: =IF('Z-score'!CK8<-1,"0",IF('Z-score'!CK8>1,"2","1")) -> 2 | AH8: =IF('Z-score'!CL8<-1,"0",IF('Z-score'!CL8>1,"2","1")) -> 2 | AI8: =IF('Z-score'!CS8<-1,"0",IF('Z-score'!CS8>1,"2","1")) -> 2 | AJ8: =IF('Z-score'!B8<-1,"0",IF('Z-score'!B8>1,"2","1")) -> 2 | AK8: =IF('Z-score'!C8<-1,"0",IF('Z-score'!C8>1,"2","1")) -> 1 | AL8: =IF('Z-score'!D8<-1,"0",IF('Z-score'!D8>1,"2","1")) -> 1 | AM8: =IF('Z-score'!E8<-1,"0",IF('Z-score'!E8>1,"2","1")) -> 1 | AN8: =IF('Z-score'!F8<-1,"0",IF('Z-score'!F8>1,"2","1")) -> 1 | AO8: =IF('Z-score'!G8<-1,"0",IF('Z-score'!G8>1,"2","1")) -> 1 | AP8: =IF('Z-score'!H8<-1,"0",IF('Z-score'!H8>1,"2","1")) -> 1 | AQ8: =IF('Z-score'!I8<-1,"0",IF('Z-score'!I8>1,"2","1")) -> 1 | ... AX8: =IF('Z-score'!P8<-1,"0",IF('Z-score'!P8>1,"2","1")) -> 1 | AY8: =IF('Z-score'!BA8<-1,"0",IF('Z-score'!BA8>1,"2","1")) -> 1 | AZ8: =IF('Z-score'!BB8<-1,"0",IF('Z-score'!BB8>1,"2","1")) -> 0 | BA8: =IF('Z-score'!BC8<-1,"0",IF('Z-score'!BC8>1,"2","1")) -> 1 | BB8: =IF('Z-score'!BD8<-1,"0",IF('Z-score'!BD8>1,"2","1")) -> 1 | BC8: =IF('Z-score'!BE8<-1,"0",IF('Z-score'!BE8>1,"2","1")) -> 2 | BD8: =IF('Z-score'!BF8<-1,"0",IF('Z-score'!BF8>1,"2","1")) -> 1 | BE8: =IF('Z-score'!BG8<-1,"0",IF('Z-score'!BG8>1,"2","1")) -> 1 | BF8: =IF('Z-score'!BH8<-1,"0",IF('Z-score'!BH8>1,"2","1")) -> 1 | ... BK8: =IF('Z-score'!BM8<-1,"0",IF('Z-score'!BM8>1,"2","1")) -> 1
A9: PSEN2 | B9: =IF('Z-score'!Q9<-1,"0",IF('Z-score'!Q9>1,"2","1")) -> 1 | C9: =IF('Z-score'!R9<-1,"0",IF('Z-score'!R9>1,"2","1")) -> 0 | D9: =IF('Z-score'!T9<-1,"0",IF('Z-score'!T9>1,"2","1")) -> 1 | E9: =IF('Z-score'!U9<-1,"0",IF('Z-score'!U9>1,"2","1")) -> 1 | F9: =IF('Z-score'!V9<-1,"0",IF('Z-score'!V9>1,"2","1")) -> 1 | G9: =IF('Z-score'!W9<-1,"0",IF('Z-score'!W9>1,"2","1")) -> 1 | H9: =IF('Z-score'!X9<-1,"0",IF('Z-score'!X9>1,"2","1")) -> 1 | I9: =IF('Z-score'!Y9<-1,"0",IF('Z-score'!Y9>1,"2","1")) -> 2 | J9: =IF('Z-score'!AA9<-1,"0",IF('Z-score'!AA9>1,"2","1")) -> 2 | K9: =IF('Z-score'!AD9<-1,"0",IF('Z-score'!AD9>1,"2","1")) -> 0 | L9: =IF('Z-score'!AF9<-1,"0",IF('Z-score'!AF9>1,"2","1")) -> 1 | M9: =IF('Z-score'!AG9<-1,"0",IF('Z-score'!AG9>1,"2","1")) -> 1 | N9: =IF('Z-score'!AH9<-1,"0",IF('Z-score'!AH9>1,"2","1")) -> 1 | O9: =IF('Z-score'!AI9<-1,"0",IF('Z-score'!AI9>1,"2","1")) -> 1 | P9: =IF('Z-score'!AL9<-1,"0",IF('Z-score'!AL9>1,"2","1")) -> 1 | Q9: =IF('Z-score'!AS9<-1,"0",IF('Z-score'!AS9>1,"2","1")) -> 0 | R9: =IF('Z-score'!AZ9<-1,"0",IF('Z-score'!AZ9>1,"2","1")) -> 0 | S9: =IF('Z-score'!BO9<-1,"0",IF('Z-score'!BO9>1,"2","1")) -> 1 | T9: =IF('Z-score'!BP9<-1,"0",IF('Z-score'!BP9>1,"2","1")) -> 1 | U9: =IF('Z-score'!BR9<-1,"0",IF('Z-score'!BR9>1,"2","1")) -> 1 | V9: =IF('Z-score'!BS9<-1,"0",IF('Z-score'!BS9>1,"2","1")) -> 2 | W9: =IF('Z-score'!BT9<-1,"0",IF('Z-score'!BT9>1,"2","1")) -> 1 | X9: =IF('Z-score'!BU9<-1,"0",IF('Z-score'!BU9>1,"2","1")) -> 0 | Y9: =IF('Z-score'!BV9<-1,"0",IF('Z-score'!BV9>1,"2","1")) -> 1 | Z9: =IF('Z-score'!BX9<-1,"0",IF('Z-score'!BX9>1,"2","1")) -> 1 | AA9: =IF('Z-score'!BY9<-1,"0",IF('Z-score'!BY9>1,"2","1")) -> 2 | AB9: =IF('Z-score'!CD9<-1,"0",IF('Z-score'!CD9>1,"2","1")) -> 0 | AC9: =IF('Z-score'!CE9<-1,"0",IF('Z-score'!CE9>1,"2","1")) -> 1 | AD9: =IF('Z-score'!CG9<-1,"0",IF('Z-score'!CG9>1,"2","1")) -> 1 | AE9: =IF('Z-score'!CH9<-1,"0",IF('Z-score'!CH9>1,"2","1")) -> 1 | AF9: =IF('Z-score'!CI9<-1,"0",IF('Z-score'!CI9>1,"2","1")) -> 2 | AG9: =IF('Z-score'!CK9<-1,"0",IF('Z-score'!CK9>1,"2","1")) -> 1 | AH9: =IF('Z-score'!CL9<-1,"0",IF('Z-score'!CL9>1,"2","1")) -> 2 | AI9: =IF('Z-score'!CS9<-1,"0",IF('Z-score'!CS9>1,"2","1")) -> 2 | AJ9: =IF('Z-score'!B9<-1,"0",IF('Z-score'!B9>1,"2","1")) -> 1 | AK9: =IF('Z-score'!C9<-1,"0",IF('Z-score'!C9>1,"2","1")) -> 1 | AL9: =IF('Z-score'!D9<-1,"0",IF('Z-score'!D9>1,"2","1")) -> 1 | AM9: =IF('Z-score'!E9<-1,"0",IF('Z-score'!E9>1,"2","1")) -> 0 | AN9: =IF('Z-score'!F9<-1,"0",IF('Z-score'!F9>1,"2","1")) -> 1 | AO9: =IF('Z-score'!G9<-1,"0",IF('Z-score'!G9>1,"2","1")) -> 1 | AP9: =IF('Z-score'!H9<-1,"0",IF('Z-score'!H9>1,"2","1")) -> 1 | AQ9: =IF('Z-score'!I9<-1,"0",IF('Z-score'!I9>1,"2","1")) -> 1 | ... AX9: =IF('Z-score'!P9<-1,"0",IF('Z-score'!P9>1,"2","1")) -> 1 | AY9: =IF('Z-score'!BA9<-1,"0",IF('Z-score'!BA9>1,"2","1")) -> 1 | AZ9: =IF('Z-score'!BB9<-1,"0",IF('Z-score'!BB9>1,"2","1")) -> 1 | BA9: =IF('Z-score'!BC9<-1,"0",IF('Z-score'!BC9>1,"2","1")) -> 1 | BB9: =IF('Z-score'!BD9<-1,"0",IF('Z-score'!BD9>1,"2","1")) -> 1 | BC9: =IF('Z-score'!BE9<-1,"0",IF('Z-score'!BE9>1,"2","1")) -> 0 | BD9: =IF('Z-score'!BF9<-1,"0",IF('Z-score'!BF9>1,"2","1")) -> 1 | BE9: =IF('Z-score'!BG9<-1,"0",IF('Z-score'!BG9>1,"2","1")) -> 1 | BF9: =IF('Z-score'!BH9<-1,"0",IF('Z-score'!BH9>1,"2","1")) -> 1 | ... BK9: =IF('Z-score'!BM9<-1,"0",IF('Z-score'!BM9>1,"2","1")) -> 1
