Workbook

Sheet Original
A1: ID_REF | B1: GSM2233623 | C1: GSM2233629 | D1: GSM2233632 | E1: GSM2233633 | F1: GSM2233634 | G1: GSM2233635 | H1: GSM2233637 | I1: GSM2233638 | J1: GSM2233640 | K1: GSM2233641 | L1: GSM2233642 | M1: GSM2233643 | N1: GSM2233644 | O1: GSM2233645 | P1: GSM2233647 | Q1: GSM2233651 | R1: GSM2233655 | S1: GSM2233658 | T1: GSM2233660 | U1: GSM2233662 | V1: GSM2233663 | W1: GSM2233672 | X1: GSM2233680 | Y1: GSM2233683 | Z1: GSM2233685 | AA1: GSM2233686 | AB1: GSM2233689 | AC1: GSM2233691 | AD1: GSM2233692 | AE1: GSM2233693 | AF1: GSM2233694 | AG1: GSM2233695 | AH1: GSM2233696 | AI1: GSM2233700 | AJ1: GSM2233703 | AK1: GSM2233707 | AL1: GSM2233709 | AM1: GSM2233726 | AN1: GSM2233740 | AO1: GSM2233744 | AP1: GSM2233745 | AQ1: GSM2233747 | AR1: GSM2233750 | AS1: GSM2233751 | AT1: GSM2233752 | AU1: GSM2233753 | AV1: GSM2233754 | AW1: GSM2233756 | AX1: GSM2233757 | AY1: GSM2233758 | AZ1: GSM2233759 | BA1: GSM2233760 | BB1: GSM2233761 | BC1: GSM2233765 | BD1: GSM2233771 | BE1: GSM2233782 | BF1: GSM2233793 | BG1: GSM2233798 | BH1: GSM2233802 | BI1: GSM2233805 | BJ1: GSM2233806 | BK1: GSM2233807 | BL1: GSM2233808 | BM1: GSM2233809 | BN1: GSM2233810 | BO1: GSM2233811 | BP1: GSM2233812 | BQ1: GSM2233813 | BR1: GSM2233814 | BS1: GSM2233816 | BT1: GSM2233821 | BU1: GSM2233825 | BV1: GSM2233828 | BW1: GSM2233831 | BX1: GSM2233833 | BY1: GSM2233841 | BZ1: GSM2233851 | CA1: GSM2233857 | CB1: GSM2233858 | CC1: GSM2233861 | CD1: GSM2233866 | CE1: GSM2233867 | CF1: GSM2233868 | CG1: GSM2233869 | CH1: GSM2233870 | CI1: GSM2233872 | CJ1: GSM2233873 | CK1: GSM2233876 | CL1: GSM2233877 | CM1: GSM2233878 | CN1: GSM2233880 | CO1: GSM2233883 | CP1: GSM2233886 | CQ1: GSM2233889 | CR1: GSM2233891 | CS1: GSM2233892 | CT1: GSM2233894 | CU1: GSM2233896 | CV1: GSM2233903 | CW1: GSM2233914 | CX1: GSM2233917 | CY1: GSM2233920 | CZ1: GSM2233924 | DA1: GSM2233925 | DB1: GSM2233926 | DC1: GSM2233928 | DD1: GSM2233930 | DE1: GSM2233931 | DF1: GSM2233932 | DG1: GSM2233933 | DH1: GSM2233934 | DI1: GSM2233935 | DJ1: GSM2233937 | DK1: GSM2233941 | DL1: GSM2233945 | DM1: GSM2233947 | DN1: GSM2233949 | DO1: GSM2233950 | DP1: GSM2233952 | DQ1: GSM2233961 | DR1: GSM2233968 | DS1: GSM2233970 | DT1: GSM2233972 | DU1: GSM2233976 | DV1: GSM2233978 | DW1: GSM2233982 | DX1: GSM2233983 | DY1: GSM2233984 | DZ1: GSM2233985 | EA1: GSM2233987 | EB1: GSM2233988 | EC1: GSM2233990 | ED1: GSM2233991 | EE1: GSM2233992 | EF1: GSM2233993 | EG1: GSM2233994 | EH1: GSM2233995 | EI1: GSM2233997 | EJ1: GSM2234002 | EK1: GSM2234007 | EL1: GSM2234010 | EM1: GSM2234012 | EN1: GSM2234031 | EO1: GSM2234034 | EP1: GSM2234039 | EQ1: GSM2234041 | ER1: GSM2234043 | ES1: GSM2234045 | ET1: GSM2234046 | EU1: GSM2234048 | EV1: GSM2234050 | EW1: GSM2234051 | EX1: GSM2234052 | EY1: GSM2234053 | EZ1: GSM2234054 | FA1: GSM2234056 | FB1: GSM2234058 | FC1: GSM2234061 | FD1: GSM2234063 | FE1: GSM2234064 | FF1: GSM2234066 | FG1: GSM2234068 | FH1: GSM2234071 | FI1: GSM2234073 | FJ1: GSM2234080 | FK1: GSM2234097 | FL1: GSM2234101 | FM1: GSM2234102 | FN1: GSM2234104 | FO1: GSM2234106 | FP1: GSM2234107 | FQ1: GSM2234108 | FR1: GSM2234109 | FS1: GSM2234110 | FT1: GSM2234111 | FU1: GSM2234113 | FV1: GSM2234118 | FW1: GSM2234123 | FX1: GSM2234125 | FY1: GSM2234127 | FZ1: GSM2234136 | GA1: GSM2234144 | GB1: GSM2234146 | GC1: GSM2234150 | GD1: GSM2234153 | GE1: GSM2234154 | GF1: GSM2234156 | GG1: GSM2234160 | GH1: GSM2234161 | GI1: GSM2234162 | GJ1: GSM2234164 | GK1: GSM2234165 | GL1: GSM2234166 | GM1: GSM2234167 | GN1: GSM2234168 | GO1: GSM2234169 | GP1: GSM2234171 | GQ1: GSM2234174 | GR1: GSM2234178 | GS1: GSM2234182 | GT1: GSM2234183 | GU1: GSM2234191 | GV1: GSM2234198 | GW1: GSM2234201 | GX1: GSM2234203 | GY1: GSM2234207 | GZ1: GSM2234208 | HA1: GSM2234209 | HB1: GSM2234211 | HC1: GSM2234214 | HD1: GSM2234215 | HE1: GSM2234216 | HF1: GSM2234217 | HG1: GSM2234218 | HH1: GSM2234219 | HI1: GSM2234221 | HJ1: GSM2234225 | HK1: GSM2234231 | HL1: GSM2234233 | HM1: GSM2234242 | HN1: GSM2234248 | HO1: GSM2234253 | HP1: GSM2234256 | HQ1: GSM2234259 | HR1: GSM2234263 | HS1: GSM2234264 | HT1: GSM2234265 | HU1: GSM2234266 | HV1: GSM2234268 | HW1: GSM2234269 | HX1: GSM2234270 | HY1: GSM2234271 | HZ1: GSM2234273 | IA1: GSM2234281 | IB1: GSM2234283 | IC1: GSM2234285 | ID1: GSM2234295 | IE1: GSM2234305 | IF1: GSM2234308 | IG1: GSM2234311 | IH1: GSM2234315 | II1: GSM2234317 | IJ1: GSM2234318 | IK1: GSM2234320 | IL1: GSM2234321 | IM1: GSM2234322 | IN1: GSM2234324 | IO1: GSM2234328 | IP1: GSM2234336 | IQ1: GSM2234338 | IR1: GSM2234347 | IS1: GSM2234361 | IT1: GSM2234364 | IU1: GSM2234368 | IV1: GSM2234369 | IW1: GSM2234370 | IX1: GSM2234372 | IY1: GSM2234373 | IZ1: GSM2234375 | JA1: GSM2234376 | JB1: GSM2234378 | JC1: GSM2234379 | JD1: GSM2234380 | JE1: GSM2234381 | JF1: GSM2234382 | JG1: GSM2234383 | JH1: GSM2234385 | JI1: GSM2234387 | JJ1: GSM2234394 | JK1: GSM2234396 | JL1: GSM2234404 | JM1: GSM2234412 | JN1: GSM2234414 | JO1: GSM2234415 | JP1: GSM2234418 | JQ1: GSM2234419 | JR1: GSM2234420 | JS1: GSM2234422 | JT1: GSM2234424 | JU1: GSM2234425 | JV1: GSM2234426 | JW1: GSM2234427 | JX1: GSM2234428 | JY1: GSM2234430 | JZ1: GSM2234440 | KA1: GSM2234442 | KB1: GSM2234444 | KC1: GSM2234446 | KD1: GSM2234453 | KE1: GSM2234464 | KF1: GSM2234467 | KG1: GSM2234475 | KH1: GSM2234476 | KI1: GSM2234477 | KJ1: GSM2234478 | KK1: GSM2234479 | KL1: GSM2234481 | KM1: GSM2234482 | KN1: GSM2234483 | KO1: GSM2234484 | KP1: GSM2234486 | KQ1: GSM2234493 | KR1: GSM2234495 | KS1: GSM2234497 | KT1: GSM2234498 | KU1: GSM2234499 | KV1: GSM2234501 | KW1: GSM2234510 | KX1: GSM2234525 | KY1: GSM2234528 | KZ1: GSM2234529 | LA1: GSM2234530 | LB1: GSM2234531 | LC1: GSM2234532 | LD1: GSM2234533 | LE1: GSM2234534 | LF1: GSM2234535 | LG1: GSM2234536 | LH1: GSM2234537 | LI1: GSM2234539 | LJ1: GSM2234544 | LK1: GSM2234550 | LL1: GSM2234552 | LM1: GSM2234553 | LN1: GSM2234561 | LO1: GSM2234568 | LP1: GSM2234570 | LQ1: GSM2234571 | LR1: GSM2233622 | LS1: GSM2233625 | LT1: GSM2233628 | LU1: GSM2233630 | LV1: GSM2233648 | LW1: GSM2233649 | LX1: GSM2233650 | LY1: GSM2233656 | LZ1: GSM2233661 | MA1: GSM2233664 | MB1: GSM2233665 | MC1: GSM2233668 | MD1: GSM2233669 | ME1: GSM2233676 | MF1: GSM2233682 | MG1: GSM2233688 | MH1: GSM2233698 | MI1: GSM2233701 | MJ1: GSM2233702 | MK1: GSM2233706 | ML1: GSM2233711 | MM1: GSM2233715 | MN1: GSM2233716 | MO1: GSM2233718 | MP1: GSM2233722 | MQ1: GSM2233723 | MR1: GSM2233731 | MS1: GSM2233734 | MT1: GSM2233739 | MU1: GSM2233742 | MV1: GSM2233748 | MW1: GSM2233762 | MX1: GSM2233763 | MY1: GSM2233764 | MZ1: GSM2233769 | NA1: GSM2233772 | NB1: GSM2233774 | NC1: GSM2233775 | ND1: GSM2233778 | NE1: GSM2233779 | NF1: GSM2233787 | NG1: GSM2233794 | NH1: GSM2233797 | NI1: GSM2233799 | NJ1: GSM2233801 | NK1: GSM2233803 | NL1: GSM2233817 | NM1: GSM2233819 | NN1: GSM2233820 | NO1: GSM2233826 | NP1: GSM2233832 | NQ1: GSM2233834 | NR1: GSM2233835 | NS1: GSM2233839 | NT1: GSM2233845 | NU1: GSM2233852 | NV1: GSM2233854 | NW1: GSM2233855 | NX1: GSM2233860 | NY1: GSM2233862 | NZ1: GSM2233865 | OA1: GSM2233881 | OB1: GSM2233882 | OC1: GSM2233888 | OD1: GSM2233895 | OE1: GSM2233897 | OF1: GSM2233898 | OG1: GSM2233901 | OH1: GSM2233906 | OI1: GSM2233912 | OJ1: GSM2233919 | OK1: GSM2233921 | OL1: GSM2233938 | OM1: GSM2233939 | ON1: GSM2233940 | OO1: GSM2233946 | OP1: GSM2233951 | OQ1: GSM2233953 | OR1: GSM2233955 | OS1: GSM2233958 | OT1: GSM2233959 | OU1: GSM2233966 | OV1: GSM2233971 | OW1: GSM2233974 | OX1: GSM2233977 | OY1: GSM2233979 | OZ1: GSM2233998 | PA1: GSM2233999 | PB1: GSM2234000 | PC1: GSM2234001 | PD1: GSM2234005 | PE1: GSM2234011 | PF1: GSM2234013 | PG1: GSM2234014 | PH1: GSM2234017 | PI1: GSM2234020 | PJ1: GSM2234027 | PK1: GSM2234029 | PL1: GSM2234030 | PM1: GSM2234033 | PN1: GSM2234035 | PO1: GSM2234038 | PP1: GSM2234040 | PQ1: GSM2234057 | PR1: GSM2234059 | PS1: GSM2234060 | PT1: GSM2234072 | PU1: GSM2234074 | PV1: GSM2234077 | PW1: GSM2234078 | PX1: GSM2234081 | PY1: GSM2234084 | PZ1: GSM2234089 | QA1: GSM2234093 | QB1: GSM2234096 | QC1: GSM2234098 | QD1: GSM2234114 | QE1: GSM2234115 | QF1: GSM2234116 | QG1: GSM2234117 | QH1: GSM2234126 | QI1: GSM2234128 | QJ1: GSM2234129 | QK1: GSM2234132 | QL1: GSM2234133 | QM1: GSM2234140 | QN1: GSM2234147 | QO1: GSM2234151 | QP1: GSM2234157 | QQ1: GSM2234172 | QR1: GSM2234184 | QS1: GSM2234186 | QT1: GSM2234202 | QU1: GSM2234204 | QV1: GSM2234222 | QW1: GSM2234223 | QX1: GSM2234224 | QY1: GSM2234229 | QZ1: GSM2234234 | RA1: GSM2234235 | RB1: GSM2234237 | RC1: GSM2234240 | RD1: GSM2234246 | RE1: GSM2234252 | RF1: GSM2234254 | RG1: GSM2234258 | RH1: GSM2234260 | RI1: GSM2234274 | RJ1: GSM2234275 | RK1: GSM2234276 | RL1: GSM2234279 | RM1: GSM2234282 | RN1: GSM2234284 | RO1: GSM2234287 | RP1: GSM2234289 | RQ1: GSM2234292 | RR1: GSM2234299 | RS1: GSM2234303 | RT1: GSM2234306 | RU1: GSM2234310 | RV1: GSM2234312 | RW1: GSM2234325 | RX1: GSM2234326 | RY1: GSM2234327 | RZ1: GSM2234332 | SA1: GSM2234337 | SB1: GSM2234339 | SC1: GSM2234341 | SD1: GSM2234344 | SE1: GSM2234345 | SF1: GSM2234351 | SG1: GSM2234354 | SH1: GSM2234363 | SI1: GSM2234365 | SJ1: GSM2234366 | SK1: GSM2234386 | SL1: GSM2234392 | SM1: GSM2234395 | SN1: GSM2234397 | SO1: GSM2234398 | SP1: GSM2234401 | SQ1: GSM2234402 | SR1: GSM2234406 | SS1: GSM2234431 | ST1: GSM2234432 | SU1: GSM2234433 | SV1: GSM2234434 | SW1: GSM2234438 | SX1: GSM2234443 | SY1: GSM2234445 | SZ1: GSM2234447 | TA1: GSM2234449 | TB1: GSM2234450 | TC1: GSM2234458 | TD1: GSM2234471 | TE1: GSM2234472 | TF1: GSM2234487 | TG1: GSM2234488 | TH1: GSM2234489 | TI1: GSM2234494 | TJ1: GSM2234500 | TK1: GSM2234503 | TL1: GSM2234507 | TM1: GSM2234513 | TN1: GSM2234517 | TO1: GSM2234524 | TP1: GSM2234526 | TQ1: GSM2234540 | TR1: GSM2234541 | TS1: GSM2234542 | TT1: GSM2234543 | TU1: GSM2234548 | TV1: GSM2234554 | TW1: GSM2234558 | TX1: GSM2233621 | TY1: GSM2233631 | TZ1: GSM2233646 | UA1: GSM2233653 | UB1: GSM2233654 | UC1: GSM2233657 | UD1: GSM2233666 | UE1: GSM2233667 | UF1: GSM2233670 | UG1: GSM2233674 | UH1: GSM2233675 | UI1: GSM2233677 | UJ1: GSM2233678 | UK1: GSM2233684 | UL1: GSM2233690 | UM1: GSM2233697 | UN1: GSM2233705 | UO1: GSM2233708 | UP1: GSM2233717 | UQ1: GSM2233719 | UR1: GSM2233721 | US1: GSM2233724 | UT1: GSM2233727 | UU1: GSM2233729 | UV1: GSM2233730 | UW1: GSM2233732 | UX1: GSM2233735 | UY1: GSM2233737 | UZ1: GSM2233749 | VA1: GSM2233755 | VB1: GSM2233767 | VC1: GSM2233768 | VD1: GSM2233770 | VE1: GSM2233776 | VF1: GSM2233777 | VG1: GSM2233780 | VH1: GSM2233783 | VI1: GSM2233785 | VJ1: GSM2233786 | VK1: GSM2233788 | VL1: GSM2233789 | VM1: GSM2233795 | VN1: GSM2233804 | VO1: GSM2233815 | VP1: GSM2233823 | VQ1: GSM2233824 | VR1: GSM2233827 | VS1: GSM2233836 | VT1: GSM2233838 | VU1: GSM2233840 | VV1: GSM2233843 | VW1: GSM2233844 | VX1: GSM2233846 | VY1: GSM2233847 | VZ1: GSM2233864 | WA1: GSM2233871 | WB1: GSM2233874 | WC1: GSM2233875 | WD1: GSM2233879 | WE1: GSM2233884 | WF1: GSM2233887 | WG1: GSM2233890 | WH1: GSM2233899 | WI1: GSM2233900 | WJ1: GSM2233902 | WK1: GSM2233905 | WL1: GSM2233907 | WM1: GSM2233908 | WN1: GSM2233910 | WO1: GSM2233913 | WP1: GSM2233923 | WQ1: GSM2233927 | WR1: GSM2233936 | WS1: GSM2233943 | WT1: GSM2233944 | WU1: GSM2233948 | WV1: GSM2233954 | WW1: GSM2233956 | WX1: GSM2233957 | WY1: GSM2233960 | WZ1: GSM2233962 | XA1: GSM2233963 | XB1: GSM2233964 | XC1: GSM2233967 | XD1: GSM2233981 | XE1: GSM2233996 | XF1: GSM2234004 | XG1: GSM2234006 | XH1: GSM2234015 | XI1: GSM2234016 | XJ1: GSM2234018 | XK1: GSM2234021 | XL1: GSM2234024 | XM1: GSM2234025 | XN1: GSM2234026 | XO1: GSM2234037 | XP1: GSM2234044 | XQ1: GSM2234047 | XR1: GSM2234049 | XS1: GSM2234055 | XT1: GSM2234065 | XU1: GSM2234067 | XV1: GSM2234075 | XW1: GSM2234076 | XX1: GSM2234079 | XY1: GSM2234083 | XZ1: GSM2234085 | YA1: GSM2234087 | YB1: GSM2234090 | YC1: GSM2234100 | YD1: GSM2234105 | YE1: GSM2234112 | YF1: GSM2234120 | YG1: GSM2234121 | YH1: GSM2234122 | YI1: GSM2234130 | YJ1: GSM2234131 | YK1: GSM2234134 | YL1: GSM2234137 | YM1: GSM2234139 | YN1: GSM2234141 | YO1: GSM2234142 | YP1: GSM2234143 | YQ1: GSM2234148 | YR1: GSM2234159 | YS1: GSM2234163 | YT1: GSM2234170 | YU1: GSM2234176 | YV1: GSM2234177 | YW1: GSM2234185 | YX1: GSM2234187 | YY1: GSM2234188 | YZ1: GSM2234189 | ZA1: GSM2234193 | ZB1: GSM2234194 | ZC1: GSM2234195 | ZD1: GSM2234197 | ZE1: GSM2234206 | ZF1: GSM2234212 | ZG1: GSM2234220 | ZH1: GSM2234227 | ZI1: GSM2234228 | ZJ1: GSM2234230 | ZK1: GSM2234236 | ZL1: GSM2234238 | ZM1: GSM2234239 | ZN1: GSM2234241 | ZO1: GSM2234243 | ZP1: GSM2234244 | ZQ1: GSM2234245 | ZR1: GSM2234247 | ZS1: GSM2234250 | ZT1: GSM2234262 | ZU1: GSM2234272 | ZV1: GSM2234278 | ZW1: GSM2234280 | ZX1: GSM2234288 | ZY1: GSM2234290 | ZZ1: GSM2234291 | AAA1: GSM2234293 | AAB1: GSM2234297 | AAC1: GSM2234298 | AAD1: GSM2234300 | AAE1: GSM2234301 | AAF1: GSM2234307 | AAG1: GSM2234314 | AAH1: GSM2234319 | AAI1: GSM2234323 | AAJ1: GSM2234330 | AAK1: GSM2234331 | AAL1: GSM2234333 | AAM1: GSM2234340 | AAN1: GSM2234342 | AAO1: GSM2234343 | AAP1: GSM2234346 | AAQ1: GSM2234349 | AAR1: GSM2234350 | AAS1: GSM2234352 | AAT1: GSM2234355 | AAU1: GSM2234357 | AAV1: GSM2234367 | AAW1: GSM2234377 | AAX1: GSM2234384 | AAY1: GSM2234388 | AAZ1: GSM2234390 | ABA1: GSM2234391 | ABB1: GSM2234393 | ABC1: GSM2234399 | ABD1: GSM2234400 | ABE1: GSM2234407 | ABF1: GSM2234410 | ABG1: GSM2234429 | ABH1: GSM2234436 | ABI1: GSM2234437 | ABJ1: GSM2234439 | ABK1: GSM2234448 | ABL1: GSM2234451 | ABM1: GSM2234454 | ABN1: GSM2234456 | ABO1: GSM2234457 | ABP1: GSM2234459 | ABQ1: GSM2234460 | ABR1: GSM2234462 | ABS1: GSM2234465 | ABT1: GSM2234474 | ABU1: GSM2234480 | ABV1: GSM2234485 | ABW1: GSM2234491 | ABX1: GSM2234492 | ABY1: GSM2234496 | ABZ1: GSM2234504 | ACA1: GSM2234506 | ACB1: GSM2234508 | ACC1: GSM2234512 | ACD1: GSM2234514 | ACE1: GSM2234515 | ACF1: GSM2234518 | ACG1: GSM2234520 | ACH1: GSM2234527 | ACI1: GSM2234538 | ACJ1: GSM2234546 | ACK1: GSM2234547 | ACL1: GSM2234549 | ACM1: GSM2234555 | ACN1: GSM2234557 | ACO1: GSM2234559 | ACP1: GSM2234562 | ACQ1: GSM2234565 | ACR1: GSM2234566 | ACS1: GSM2233624 | ACT1: GSM2233626 | ACU1: GSM2233627 | ACV1: GSM2233636 | ACW1: GSM2233639 | ACX1: GSM2233652 | ACY1: GSM2233659 | ACZ1: GSM2233671 | ADA1: GSM2233673 | ADB1: GSM2233679 | ADC1: GSM2233681 | ADD1: GSM2233687 | ADE1: GSM2233699 | ADF1: GSM2233704 | ADG1: GSM2233710 | ADH1: GSM2233712 | ADI1: GSM2233713 | ADJ1: GSM2233714 | ADK1: GSM2233720 | ADL1: GSM2233725 | ADM1: GSM2233728 | ADN1: GSM2233733 | ADO1: GSM2233736 | ADP1: GSM2233738 | ADQ1: GSM2233741 | ADR1: GSM2233743 | ADS1: GSM2233746 | ADT1: GSM2233766 | ADU1: GSM2233773 | ADV1: GSM2233781 | ADW1: GSM2233784 | ADX1: GSM2233790 | ADY1: GSM2233791 | ADZ1: GSM2233792 | AEA1: GSM2233796 | AEB1: GSM2233800 | AEC1: GSM2233818 | AED1: GSM2233822 | AEE1: GSM2233829 | AEF1: GSM2233830 | AEG1: GSM2233837 | AEH1: GSM2233842 | AEI1: GSM2233848 | AEJ1: GSM2233849 | AEK1: GSM2233850 | AEL1: GSM2233853 | AEM1: GSM2233856 | AEN1: GSM2233859 | AEO1: GSM2233863 | AEP1: GSM2233885 | AEQ1: GSM2233893 | AER1: GSM2233904 | AES1: GSM2233909 | AET1: GSM2233911 | AEU1: GSM2233915 | AEV1: GSM2233916 | AEW1: GSM2233918 | AEX1: GSM2233922 | AEY1: GSM2233929 | AEZ1: GSM2233942 | AFA1: GSM2233965 | AFB1: GSM2233969 | AFC1: GSM2233973 | AFD1: GSM2233975 | AFE1: GSM2233980 | AFF1: GSM2233986 | AFG1: GSM2233989 | AFH1: GSM2234003 | AFI1: GSM2234008 | AFJ1: GSM2234009 | AFK1: GSM2234019 | AFL1: GSM2234022 | AFM1: GSM2234023 | AFN1: GSM2234028 | AFO1: GSM2234032 | AFP1: GSM2234036 | AFQ1: GSM2234042 | AFR1: GSM2234062 | AFS1: GSM2234069 | AFT1: GSM2234070 | AFU1: GSM2234082 | AFV1: GSM2234086 | AFW1: GSM2234088 | AFX1: GSM2234091 | AFY1: GSM2234092 | AFZ1: GSM2234094 | AGA1: GSM2234095 | AGB1: GSM2234099 | AGC1: GSM2234103 | AGD1: GSM2234119 | AGE1: GSM2234124 | AGF1: GSM2234135 | AGG1: GSM2234138 | AGH1: GSM2234145 | AGI1: GSM2234149 | AGJ1: GSM2234152 | AGK1: GSM2234155 | AGL1: GSM2234158 | AGM1: GSM2234173 | AGN1: GSM2234175 | AGO1: GSM2234179 | AGP1: GSM2234180 | AGQ1: GSM2234181 | AGR1: GSM2234190 | AGS1: GSM2234192 | AGT1: GSM2234196 | AGU1: GSM2234199 | AGV1: GSM2234200 | AGW1: GSM2234205 | AGX1: GSM2234210 | AGY1: GSM2234213 | AGZ1: GSM2234226 | AHA1: GSM2234232 | AHB1: GSM2234249 | AHC1: GSM2234251 | AHD1: GSM2234255 | AHE1: GSM2234257 | AHF1: GSM2234261 | AHG1: GSM2234267 | AHH1: GSM2234277 | AHI1: GSM2234286 | AHJ1: GSM2234294 | AHK1: GSM2234296 | AHL1: GSM2234302 | AHM1: GSM2234304 | AHN1: GSM2234309 | AHO1: GSM2234313 | AHP1: GSM2234316 | AHQ1: GSM2234329 | AHR1: GSM2234334 | AHS1: GSM2234335 | AHT1: GSM2234348 | AHU1: GSM2234353 | AHV1: GSM2234356 | AHW1: GSM2234358 | AHX1: GSM2234359 | AHY1: GSM2234360 | AHZ1: GSM2234362 | AIA1: GSM2234371 | AIB1: GSM2234374 | AIC1: GSM2234389 | AID1: GSM2234403 | AIE1: GSM2234405 | AIF1: GSM2234408 | AIG1: GSM2234409 | AIH1: GSM2234411 | AII1: GSM2234413 | AIJ1: GSM2234416 | AIK1: GSM2234417 | AIL1: GSM2234421 | AIM1: GSM2234423 | AIN1: GSM2234435 | AIO1: GSM2234441 | AIP1: GSM2234452 | AIQ1: GSM2234455 | AIR1: GSM2234461 | AIS1: GSM2234463 | AIT1: GSM2234466 | AIU1: GSM2234468 | AIV1: GSM2234469 | AIW1: GSM2234470 | AIX1: GSM2234473 | AIY1: GSM2234490 | AIZ1: GSM2234502 | AJA1: GSM2234505 | AJB1: GSM2234509 | AJC1: GSM2234511 | AJD1: GSM2234516 | AJE1: GSM2234519 | AJF1: GSM2234521 | AJG1: GSM2234522 | AJH1: GSM2234523 | AJI1: GSM2234545 | AJJ1: GSM2234551 | AJK1: GSM2234556 | AJL1: GSM2234560 | AJM1: GSM2234563 | AJN1: GSM2234564 | AJO1: GSM2234567 | AJP1: GSM2234569 | AJQ1: Average | AJR1: SD
A2: Age | B2: 92 | C2: 91 | D2: 99 | E2: 92 | F2: 64 | G2: 94 | H2: 84 | I2: 84 | J2: 100 | K2: 87 | L2: 80 | M2: 83 | N2: 84 | O2: 87 | P2: 87 | Q2: 89 | R2: 85 | S2: 89 | T2: 87 | U2: 95 | V2: 73 | W2: 85 | X2: 90 | Y2: 88 | Z2: 92 | AA2: 94 | AB2: 91 | AC2: 94 | AD2: 87 | AE2: 80 | AF2: 83 | AG2: 84 | AH2: 87 | AI2: 94 | AJ2: 89 | AK2: 88 | AL2: 89 | AM2: 85 | AN2: 92 | AO2: 94 | AP2: 72 | AQ2: 91 | AR2: 99 | AS2: 92 | AT2: 64 | AU2: 94 | AV2: 84 | AW2: 87 | AX2: 80 | AY2: 83 | AZ2: 84 | BA2: 87 | BB2: 87 | BC2: 89 | BD2: 89 | BE2: 85 | BF2: 73 | BG2: 92 | BH2: 91 | BI2: 99 | BJ2: 92 | BK2: 64 | BL2: 94 | BM2: 84 | BN2: 87 | BO2: 80 | BP2: 83 | BQ2: 84 | BR2: 87 | BS2: 87 | BT2: 89 | BU2: 85 | BV2: 89 | BW2: 87 | BX2: 95 | BY2: 85 | BZ2: 73 | CA2: 94 | CB2: 72 | CC2: 91 | CD2: 99 | CE2: 92 | CF2: 64 | CG2: 94 | CH2: 84 | CI2: 84 | CJ2: 87 | CK2: 83 | CL2: 87 | CM2: 90 | CN2: 94 | CO2: 89 | CP2: 103 | CQ2: 94 | CR2: 94 | CS2: 89 | CT2: 87 | CU2: 92 | CV2: 85 | CW2: 92 | CX2: 72 | CY2: 91 | CZ2: 99 | DA2: 94 | DB2: 84 | DC2: 84 | DD2: 100 | DE2: 87 | DF2: 80 | DG2: 83 | DH2: 84 | DI2: 87 | DJ2: 87 | DK2: 89 | DL2: 85 | DM2: 88 | DN2: 89 | DO2: 87 | DP2: 95 | DQ2: 85 | DR2: 90 | DS2: 73 | DT2: 92 | DU2: 94 | DV2: 91 | DW2: 99 | DX2: 92 | DY2: 64 | DZ2: 94 | EA2: 84 | EB2: 84 | EC2: 87 | ED2: 80 | EE2: 83 | EF2: 84 | EG2: 87 | EH2: 90 | EI2: 87 | EJ2: 89 | EK2: 89 | EL2: 87 | EM2: 95 | EN2: 94 | EO2: 91 | EP2: 99 | EQ2: 94 | ER2: 84 | ES2: 84 | ET2: 87 | EU2: 96 | EV2: 80 | EW2: 83 | EX2: 84 | EY2: 87 | EZ2: 90 | FA2: 87 | FB2: 94 | FC2: 89 | FD2: 103 | FE2: 87 | FF2: 94 | FG2: 89 | FH2: 87 | FI2: 95 | FJ2: 85 | FK2: 91 | FL2: 92 | FM2: 64 | FN2: 84 | FO2: 87 | FP2: 96 | FQ2: 83 | FR2: 84 | FS2: 87 | FT2: 90 | FU2: 87 | FV2: 89 | FW2: 89 | FX2: 87 | FY2: 95 | FZ2: 85 | GA2: 90 | GB2: 73 | GC2: 92 | GD2: 94 | GE2: 72 | GF2: 91 | GG2: 92 | GH2: 94 | GI2: 84 | GJ2: 87 | GK2: 96 | GL2: 80 | GM2: 83 | GN2: 87 | GO2: 90 | GP2: 87 | GQ2: 89 | GR2: 89 | GS2: 87 | GT2: 95 | GU2: 85 | GV2: 92 | GW2: 94 | GX2: 91 | GY2: 99 | GZ2: 64 | HA2: 94 | HB2: 84 | HC2: 87 | HD2: 80 | HE2: 83 | HF2: 84 | HG2: 87 | HH2: 90 | HI2: 87 | HJ2: 89 | HK2: 89 | HL2: 87 | HM2: 85 | HN2: 90 | HO2: 92 | HP2: 94 | HQ2: 91 | HR2: 99 | HS2: 64 | HT2: 94 | HU2: 84 | HV2: 87 | HW2: 84 | HX2: 87 | HY2: 90 | HZ2: 87 | IA2: 89 | IB2: 87 | IC2: 95 | ID2: 85 | IE2: 73 | IF2: 94 | IG2: 91 | IH2: 94 | II2: 84 | IJ2: 87 | IK2: 62 | IL2: 80 | IM2: 87 | IN2: 87 | IO2: 89 | IP2: 87 | IQ2: 95 | IR2: 85 | IS2: 94 | IT2: 91 | IU2: 99 | IV2: 64 | IW2: 94 | IX2: 84 | IY2: 84 | IZ2: 83 | JA2: 87 | JB2: 62 | JC2: 80 | JD2: 83 | JE2: 84 | JF2: 87 | JG2: 74 | JH2: 87 | JI2: 89 | JJ2: 87 | JK2: 95 | JL2: 85 | JM2: 88 | JN2: 92 | JO2: 72 | JP2: 99 | JQ2: 64 | JR2: 94 | JS2: 84 | JT2: 87 | JU2: 80 | JV2: 83 | JW2: 84 | JX2: 90 | JY2: 87 | JZ2: 89 | KA2: 87 | KB2: 95 | KC2: 74 | KD2: 85 | KE2: 73 | KF2: 92 | KG2: 99 | KH2: 64 | KI2: 94 | KJ2: 84 | KK2: 87 | KL2: 80 | KM2: 83 | KN2: 84 | KO2: 87 | KP2: 87 | KQ2: 85 | KR2: 88 | KS2: 89 | KT2: 87 | KU2: 87 | KV2: 95 | KW2: 85 | KX2: 91 | KY2: 99 | KZ2: 92 | LA2: 64 | LB2: 94 | LC2: 84 | LD2: 87 | LE2: 80 | LF2: 84 | LG2: 87 | LH2: 90 | LI2: 87 | LJ2: 89 | LK2: 89 | LL2: 87 | LM2: 95 | LN2: 85 | LO2: 90 | LP2: 73 | LQ2: 88 | LR2: 60 | LS2: 85 | LT2: 70 | LU2: 96 | LV2: 69 | LW2: 82 | LX2: 85 | LY2: 102 | LZ2: 95 | MA2: 89 | MB2: 86 | MC2: 83 | MD2: 66 | ME2: 69 | MF2: 62 | MG2: 70 | MH2: 69 | MI2: 82 | MJ2: 85 | MK2: 102 | ML2: 84 | MM2: 95 | MN2: 89 | MO2: 86 | MP2: 83 | MQ2: 66 | MR2: 69 | MS2: 74 | MT2: 60 | MU2: 85 | MV2: 96 | MW2: 69 | MX2: 82 | MY2: 85 | MZ2: 102 | NA2: 95 | NB2: 89 | NC2: 86 | ND2: 83 | NE2: 66 | NF2: 69 | NG2: 62 | NH2: 60 | NI2: 85 | NJ2: 70 | NK2: 96 | NL2: 69 | NM2: 82 | NN2: 85 | NO2: 102 | NP2: 95 | NQ2: 89 | NR2: 86 | NS2: 83 | NT2: 69 | NU2: 62 | NV2: 60 | NW2: 85 | NX2: 70 | NY2: 96 | NZ2: 90 | OA2: 82 | OB2: 85 | OC2: 102 | OD2: 95 | OE2: 89 | OF2: 86 | OG2: 83 | OH2: 69 | OI2: 62 | OJ2: 70 | OK2: 96 | OL2: 69 | OM2: 82 | ON2: 85 | OO2: 102 | OP2: 95 | OQ2: 89 | OR2: 86 | OS2: 83 | OT2: 66 | OU2: 74 | OV2: 60 | OW2: 85 | OX2: 70 | OY2: 96 | OZ2: 69 | PA2: 82 | PB2: 92 | PC2: 85 | PD2: 102 | PE2: 95 | PF2: 89 | PG2: 86 | PH2: 83 | PI2: 75 | PJ2: 74 | PK2: 62 | PL2: 85 | PM2: 70 | PN2: 96 | PO2: 90 | PP2: 88 | PQ2: 69 | PR2: 82 | PS2: 85 | PT2: 95 | PU2: 89 | PV2: 83 | PW2: 66 | PX2: 75 | PY2: 69 | PZ2: 62 | QA2: 85 | QB2: 70 | QC2: 96 | QD2: 69 | QE2: 82 | QF2: 92 | QG2: 85 | QH2: 95 | QI2: 89 | QJ2: 86 | QK2: 83 | QL2: 66 | QM2: 69 | QN2: 62 | QO2: 85 | QP2: 96 | QQ2: 69 | QR2: 89 | QS2: 86 | QT2: 70 | QU2: 96 | QV2: 69 | QW2: 82 | QX2: 85 | QY2: 102 | QZ2: 95 | RA2: 89 | RB2: 86 | RC2: 83 | RD2: 74 | RE2: 60 | RF2: 85 | RG2: 70 | RH2: 96 | RI2: 69 | RJ2: 82 | RK2: 85 | RL2: 102 | RM2: 84 | RN2: 95 | RO2: 89 | RP2: 86 | RQ2: 83 | RR2: 69 | RS2: 74 | RT2: 62 | RU2: 70 | RV2: 96 | RW2: 69 | RX2: 92 | RY2: 85 | RZ2: 102 | SA2: 95 | SB2: 89 | SC2: 86 | SD2: 83 | SE2: 66 | SF2: 69 | SG2: 74 | SH2: 70 | SI2: 96 | SJ2: 74 | SK2: 69 | SL2: 102 | SM2: 95 | SN2: 89 | SO2: 86 | SP2: 83 | SQ2: 66 | SR2: 69 | SS2: 69 | ST2: 82 | SU2: 92 | SV2: 85 | SW2: 102 | SX2: 95 | SY2: 89 | SZ2: 86 | TA2: 83 | TB2: 66 | TC2: 69 | TD2: 70 | TE2: 96 | TF2: 69 | TG2: 82 | TH2: 85 | TI2: 102 | TJ2: 95 | TK2: 89 | TL2: 66 | TM2: 69 | TN2: 74 | TO2: 70 | TP2: 96 | TQ2: 69 | TR2: 82 | TS2: 92 | TT2: 85 | TU2: 102 | TV2: 89 | TW2: 66 | TX2: 98 | TY2: 99 | TZ2: 91 | UA2: 91 | UB2: 82 | UC2: 86 | UD2: 90 | UE2: 64 | UF2: 79 | UG2: 90 | UH2: 89 | UI2: 83 | UJ2: 88 | UK2: 98 | UL2: 99 | UM2: 91 | UN2: 82 | UO2: 86 | UP2: 82 | UQ2: 90 | UR2: 64 | US2: 79 | UT2: 91 | UU2: 90 | UV2: 89 | UW2: 88 | UX2: 96 | UY2: 98 | UZ2: 99 | VA2: 82 | VB2: 91 | VC2: 82 | VD2: 86 | VE2: 90 | VF2: 64 | VG2: 79 | VH2: 91 | VI2: 90 | VJ2: 89 | VK2: 83 | VL2: 88 | VM2: 98 | VN2: 99 | VO2: 91 | VP2: 91 | VQ2: 82 | VR2: 86 | VS2: 90 | VT2: 64 | VU2: 79 | VV2: 90 | VW2: 89 | VX2: 83 | VY2: 88 | VZ2: 99 | WA2: 82 | WB2: 83 | WC2: 90 | WD2: 91 | WE2: 90 | WF2: 91 | WG2: 86 | WH2: 90 | WI2: 64 | WJ2: 79 | WK2: 89 | WL2: 83 | WM2: 88 | WN2: 96 | WO2: 98 | WP2: 99 | WQ2: 82 | WR2: 91 | WS2: 91 | WT2: 82 | WU2: 86 | WV2: 82 | WW2: 90 | WX2: 64 | WY2: 79 | WZ2: 90 | XA2: 89 | XB2: 88 | XC2: 96 | XD2: 99 | XE2: 91 | XF2: 82 | XG2: 86 | XH2: 90 | XI2: 64 | XJ2: 79 | XK2: 91 | XL2: 89 | XM2: 83 | XN2: 88 | XO2: 99 | XP2: 82 | XQ2: 83 | XR2: 90 | XS2: 91 | XT2: 91 | XU2: 86 | XV2: 90 | XW2: 64 | XX2: 79 | XY2: 89 | XZ2: 88 | YA2: 96 | YB2: 98 | YC2: 99 | YD2: 82 | YE2: 91 | YF2: 91 | YG2: 82 | YH2: 86 | YI2: 90 | YJ2: 64 | YK2: 79 | YL2: 91 | YM2: 89 | YN2: 83 | YO2: 88 | YP2: 96 | YQ2: 98 | YR2: 99 | YS2: 82 | YT2: 91 | YU2: 91 | YV2: 82 | YW2: 82 | YX2: 90 | YY2: 64 | YZ2: 79 | ZA2: 89 | ZB2: 83 | ZC2: 88 | ZD2: 98 | ZE2: 99 | ZF2: 82 | ZG2: 91 | ZH2: 91 | ZI2: 82 | ZJ2: 86 | ZK2: 82 | ZL2: 90 | ZM2: 64 | ZN2: 79 | ZO2: 91 | ZP2: 90 | ZQ2: 89 | ZR2: 96 | ZS2: 98 | ZT2: 99 | ZU2: 91 | ZV2: 82 | ZW2: 86 | ZX2: 82 | ZY2: 90 | ZZ2: 64 | AAA2: 79 | AAB2: 90 | AAC2: 89 | AAD2: 83 | AAE2: 88 | AAF2: 98 | AAG2: 99 | AAH2: 90 | AAI2: 91 | AAJ2: 91 | AAK2: 82 | AAL2: 86 | AAM2: 82 | AAN2: 90 | AAO2: 64 | AAP2: 79 | AAQ2: 90 | AAR2: 89 | AAS2: 88 | AAT2: 96 | AAU2: 98 | AAV2: 99 | AAW2: 83 | AAX2: 91 | AAY2: 90 | AAZ2: 91 | ABA2: 82 | ABB2: 86 | ABC2: 90 | ABD2: 64 | ABE2: 88 | ABF2: 96 | ABG2: 91 | ABH2: 91 | ABI2: 82 | ABJ2: 86 | ABK2: 90 | ABL2: 79 | ABM2: 91 | ABN2: 90 | ABO2: 89 | ABP2: 83 | ABQ2: 88 | ABR2: 96 | ABS2: 98 | ABT2: 99 | ABU2: 83 | ABV2: 91 | ABW2: 91 | ABX2: 82 | ABY2: 86 | ABZ2: 90 | ACA2: 64 | ACB2: 79 | ACC2: 89 | ACD2: 83 | ACE2: 88 | ACF2: 96 | ACG2: 98 | ACH2: 99 | ACI2: 91 | ACJ2: 91 | ACK2: 82 | ACL2: 86 | ACM2: 90 | ACN2: 64 | ACO2: 79 | ACP2: 91 | ACQ2: 83 | ACR2: 88 | ACS2: 80 | ACT2: 93 | ACU2: 86 | ACV2: 83 | ACW2: 93 | ACX2: 95 | ACY2: 84 | ACZ2: 93 | ADA2: 90 | ADB2: 90 | ADC2: 79 | ADD2: 86 | ADE2: 85 | ADF2: 95 | ADG2: 92 | ADH2: 100 | ADI2: 94 | ADJ2: 84 | ADK2: 88 | ADL2: 93 | ADM2: 90 | ADN2: 93 | ADO2: 79 | ADP2: 98 | ADQ2: 80 | ADR2: 93 | ADS2: 86 | ADT2: 95 | ADU2: 81 | ADV2: 93 | ADW2: 90 | ADX2: 93 | ADY2: 90 | ADZ2: 79 | AEA2: 98 | AEB2: 93 | AEC2: 85 | AED2: 95 | AEE2: 92 | AEF2: 84 | AEG2: 88 | AEH2: 90 | AEI2: 93 | AEJ2: 90 | AEK2: 79 | AEL2: 98 | AEM2: 93 | AEN2: 86 | AEO2: 100 | AEP2: 95 | AEQ2: 84 | AER2: 90 | AES2: 93 | AET2: 79 | AEU2: 80 | AEV2: 93 | AEW2: 86 | AEX2: 100 | AEY2: 93 | AEZ2: 95 | AFA2: 93 | AFB2: 79 | AFC2: 80 | AFD2: 93 | AFE2: 100 | AFF2: 83 | AFG2: 93 | AFH2: 95 | AFI2: 92 | AFJ2: 94 | AFK2: 93 | AFL2: 90 | AFM2: 85 | AFN2: 79 | AFO2: 86 | AFP2: 100 | AFQ2: 83 | AFR2: 95 | AFS2: 92 | AFT2: 94 | AFU2: 90 | AFV2: 90 | AFW2: 79 | AFX2: 98 | AFY2: 80 | AFZ2: 93 | AGA2: 86 | AGB2: 100 | AGC2: 83 | AGD2: 95 | AGE2: 92 | AGF2: 93 | AGG2: 90 | AGH2: 79 | AGI2: 98 | AGJ2: 93 | AGK2: 86 | AGL2: 100 | AGM2: 85 | AGN2: 95 | AGO2: 92 | AGP2: 94 | AGQ2: 84 | AGR2: 93 | AGS2: 90 | AGT2: 79 | AGU2: 80 | AGV2: 93 | AGW2: 100 | AGX2: 83 | AGY2: 93 | AGZ2: 95 | AHA2: 84 | AHB2: 79 | AHC2: 98 | AHD2: 93 | AHE2: 86 | AHF2: 100 | AHG2: 93 | AHH2: 95 | AHI2: 81 | AHJ2: 93 | AHK2: 90 | AHL2: 90 | AHM2: 79 | AHN2: 86 | AHO2: 100 | AHP2: 83 | AHQ2: 95 | AHR2: 92 | AHS2: 94 | AHT2: 90 | AHU2: 93 | AHV2: 79 | AHW2: 98 | AHX2: 80 | AHY2: 93 | AHZ2: 86 | AIA2: 83 | AIB2: 93 | AIC2: 95 | AID2: 93 | AIE2: 90 | AIF2: 93 | AIG2: 93 | AIH2: 79 | AII2: 98 | AIJ2: 86 | AIK2: 100 | AIL2: 83 | AIM2: 93 | AIN2: 95 | AIO2: 84 | AIP2: 93 | AIQ2: 90 | AIR2: 90 | AIS2: 79 | AIT2: 98 | AIU2: 80 | AIV2: 93 | AIW2: 86 | AIX2: 100 | AIY2: 95 | AIZ2: 81 | AJA2: 88 | AJB2: 93 | AJC2: 90 | AJD2: 90 | AJE2: 79 | AJF2: 98 | AJG2: 80 | AJH2: 86 | AJI2: 95 | AJJ2: 84 | AJK2: 88 | AJL2: 93 | AJM2: 90 | AJN2: 85 | AJO2: 90 | AJP2: 79
A3: Sex | B3: female | C3: female | D3: female | E3: male | F3: male | G3: female | H3: female | I3: female | J3: male | K3: female | L3: male | M3: male | N3: female | O3: male | P3: female | Q3: female | R3: male | S3: male | T3: male | U3: female | V3: female | W3: female | X3: female | Y3: female | Z3: female | AA3: female | AB3: female | AC3: female | AD3: female | AE3: male | AF3: male | AG3: female | AH3: male | AI3: female | AJ3: female | AK3: female | AL3: male | AM3: female | AN3: female | AO3: female | AP3: female | AQ3: female | AR3: female | AS3: male | AT3: male | AU3: female | AV3: female | AW3: female | AX3: male | AY3: male | AZ3: female | BA3: male | BB3: female | BC3: female | BD3: male | BE3: female | BF3: male | BG3: female | BH3: female | BI3: female | BJ3: male | BK3: male | BL3: female | BM3: female | BN3: female | BO3: male | BP3: male | BQ3: female | BR3: male | BS3: female | BT3: female | BU3: male | BV3: male | BW3: male | BX3: female | BY3: female | BZ3: male | CA3: female | CB3: female | CC3: female | CD3: female | CE3: male | CF3: male | CG3: female | CH3: female | CI3: female | CJ3: female | CK3: male | CL3: male | CM3: female | CN3: female | CO3: female | CP3: female | CQ3: female | CR3: female | CS3: male | CT3: male | CU3: female | CV3: female | CW3: female | CX3: female | CY3: female | CZ3: female | DA3: female | DB3: female | DC3: female | DD3: male | DE3: female | DF3: male | DG3: male | DH3: female | DI3: male | DJ3: female | DK3: female | DL3: male | DM3: female | DN3: male | DO3: male | DP3: female | DQ3: female | DR3: female | DS3: male | DT3: female | DU3: female | DV3: female | DW3: female | DX3: male | DY3: male | DZ3: female | EA3: female | EB3: female | EC3: female | ED3: male | EE3: male | EF3: female | EG3: male | EH3: female | EI3: female | EJ3: female | EK3: male | EL3: male | EM3: female | EN3: female | EO3: female | EP3: female | EQ3: female | ER3: female | ES3: female | ET3: female | EU3: male | EV3: male | EW3: male | EX3: female | EY3: male | EZ3: female | FA3: female | FB3: female | FC3: female | FD3: female | FE3: female | FF3: female | FG3: male | FH3: male | FI3: female | FJ3: female | FK3: female | FL3: male | FM3: male | FN3: female | FO3: female | FP3: male | FQ3: male | FR3: female | FS3: male | FT3: female | FU3: female | FV3: female | FW3: male | FX3: male | FY3: female | FZ3: female | GA3: female | GB3: male | GC3: female | GD3: female | GE3: female | GF3: female | GG3: male | GH3: female | GI3: female | GJ3: female | GK3: male | GL3: male | GM3: male | GN3: male | GO3: female | GP3: female | GQ3: female | GR3: male | GS3: male | GT3: female | GU3: female | GV3: female | GW3: female | GX3: female | GY3: female | GZ3: male | HA3: female | HB3: female | HC3: female | HD3: male | HE3: male | HF3: female | HG3: male | HH3: female | HI3: female | HJ3: female | HK3: male | HL3: male | HM3: female | HN3: female | HO3: female | HP3: female | HQ3: female | HR3: female | HS3: male | HT3: female | HU3: female | HV3: female | HW3: female | HX3: male | HY3: female | HZ3: female | IA3: male | IB3: male | IC3: female | ID3: female | IE3: male | IF3: female | IG3: female | IH3: female | II3: female | IJ3: female | IK3: male | IL3: male | IM3: male | IN3: female | IO3: female | IP3: male | IQ3: female | IR3: female | IS3: female | IT3: female | IU3: female | IV3: male | IW3: female | IX3: female | IY3: female | IZ3: female | JA3: female | JB3: male | JC3: male | JD3: male | JE3: female | JF3: male | JG3: male | JH3: female | JI3: female | JJ3: male | JK3: female | JL3: female | JM3: female | JN3: female | JO3: female | JP3: female | JQ3: male | JR3: female | JS3: female | JT3: female | JU3: male | JV3: male | JW3: female | JX3: female | JY3: female | JZ3: male | KA3: male | KB3: female | KC3: male | KD3: female | KE3: male | KF3: female | KG3: female | KH3: male | KI3: female | KJ3: female | KK3: female | KL3: male | KM3: male | KN3: female | KO3: male | KP3: female | KQ3: male | KR3: female | KS3: male | KT3: female | KU3: male | KV3: female | KW3: female | KX3: female | KY3: female | KZ3: male | LA3: male | LB3: female | LC3: female | LD3: female | LE3: male | LF3: female | LG3: male | LH3: female | LI3: female | LJ3: female | LK3: male | LL3: male | LM3: female | LN3: female | LO3: female | LP3: male | LQ3: female | LR3: male | LS3: male | LT3: male | LU3: female | LV3: male | LW3: female | LX3: female | LY3: female | LZ3: male | MA3: female | MB3: female | MC3: female | MD3: male | ME3: male | MF3: female | MG3: male | MH3: male | MI3: female | MJ3: female | MK3: female | ML3: female | MM3: male | MN3: female | MO3: female | MP3: female | MQ3: male | MR3: male | MS3: male | MT3: male | MU3: male | MV3: female | MW3: male | MX3: female | MY3: female | MZ3: female | NA3: male | NB3: female | NC3: female | ND3: female | NE3: male | NF3: male | NG3: female | NH3: male | NI3: male | NJ3: male | NK3: female | NL3: male | NM3: female | NN3: female | NO3: female | NP3: male | NQ3: female | NR3: female | NS3: female | NT3: male | NU3: female | NV3: male | NW3: male | NX3: male | NY3: female | NZ3: female | OA3: female | OB3: female | OC3: female | OD3: male | OE3: female | OF3: female | OG3: female | OH3: male | OI3: female | OJ3: male | OK3: female | OL3: male | OM3: female | ON3: female | OO3: female | OP3: male | OQ3: female | OR3: female | OS3: female | OT3: male | OU3: male | OV3: male | OW3: male | OX3: male | OY3: female | OZ3: male | PA3: female | PB3: female | PC3: female | PD3: female | PE3: male | PF3: female | PG3: female | PH3: female | PI3: female | PJ3: male | PK3: female | PL3: male | PM3: male | PN3: female | PO3: female | PP3: female | PQ3: male | PR3: female | PS3: female | PT3: male | PU3: female | PV3: female | PW3: male | PX3: female | PY3: male | PZ3: female | QA3: male | QB3: male | QC3: female | QD3: male | QE3: female | QF3: female | QG3: female | QH3: male | QI3: female | QJ3: female | QK3: female | QL3: male | QM3: male | QN3: female | QO3: male | QP3: female | QQ3: male | QR3: female | QS3: female | QT3: male | QU3: female | QV3: male | QW3: female | QX3: female | QY3: female | QZ3: male | RA3: female | RB3: female | RC3: female | RD3: male | RE3: male | RF3: male | RG3: male | RH3: female | RI3: male | RJ3: female | RK3: female | RL3: female | RM3: female | RN3: male | RO3: female | RP3: female | RQ3: female | RR3: male | RS3: male | RT3: female | RU3: male | RV3: female | RW3: male | RX3: female | RY3: female | RZ3: female | SA3: male | SB3: female | SC3: female | SD3: female | SE3: male | SF3: male | SG3: male | SH3: male | SI3: female | SJ3: female | SK3: male | SL3: female | SM3: male | SN3: female | SO3: female | SP3: female | SQ3: male | SR3: male | SS3: male | ST3: female | SU3: female | SV3: female | SW3: female | SX3: male | SY3: female | SZ3: female | TA3: female | TB3: male | TC3: male | TD3: male | TE3: female | TF3: male | TG3: female | TH3: female | TI3: female | TJ3: male | TK3: female | TL3: male | TM3: male | TN3: male | TO3: male | TP3: female | TQ3: male | TR3: female | TS3: female | TT3: female | TU3: female | TV3: female | TW3: male | TX3: female | TY3: female | TZ3: female | UA3: female | UB3: male | UC3: female | UD3: female | UE3: male | UF3: female | UG3: male | UH3: female | UI3: female | UJ3: male | UK3: female | UL3: female | UM3: female | UN3: male | UO3: female | UP3: male | UQ3: female | UR3: male | US3: female | UT3: female | UU3: male | UV3: female | UW3: male | UX3: female | UY3: female | UZ3: female | VA3: female | VB3: female | VC3: male | VD3: female | VE3: female | VF3: male | VG3: female | VH3: female | VI3: male | VJ3: female | VK3: female | VL3: male | VM3: female | VN3: female | VO3: female | VP3: female | VQ3: male | VR3: female | VS3: female | VT3: male | VU3: female | VV3: male | VW3: female | VX3: female | VY3: male | VZ3: female | WA3: female | WB3: female | WC3: female | WD3: female | WE3: female | WF3: female | WG3: female | WH3: female | WI3: male | WJ3: female | WK3: female | WL3: female | WM3: male | WN3: female | WO3: female | WP3: female | WQ3: female | WR3: female | WS3: female | WT3: male | WU3: female | WV3: male | WW3: female | WX3: male | WY3: female | WZ3: male | XA3: female | XB3: male | XC3: female | XD3: female | XE3: female | XF3: male | XG3: female | XH3: female | XI3: male | XJ3: female | XK3: female | XL3: female | XM3: female | XN3: male | XO3: female | XP3: female | XQ3: female | XR3: female | XS3: female | XT3: female | XU3: female | XV3: female | XW3: male | XX3: female | XY3: female | XZ3: male | YA3: female | YB3: female | YC3: female | YD3: female | YE3: female | YF3: female | YG3: male | YH3: female | YI3: female | YJ3: male | YK3: female | YL3: female | YM3: female | YN3: female | YO3: male | YP3: female | YQ3: female | YR3: female | YS3: female | YT3: female | YU3: female | YV3: male | YW3: male | YX3: female | YY3: male | YZ3: female | ZA3: female | ZB3: female | ZC3: male | ZD3: female | ZE3: female | ZF3: female | ZG3: female | ZH3: female | ZI3: male | ZJ3: female | ZK3: male | ZL3: female | ZM3: male | ZN3: female | ZO3: female | ZP3: male | ZQ3: female | ZR3: female | ZS3: female | ZT3: female | ZU3: female | ZV3: male | ZW3: female | ZX3: male | ZY3: female | ZZ3: male | AAA3: female | AAB3: male | AAC3: female | AAD3: female | AAE3: male | AAF3: female | AAG3: female | AAH3: female | AAI3: female | AAJ3: female | AAK3: male | AAL3: female | AAM3: male | AAN3: female | AAO3: male | AAP3: female | AAQ3: male | AAR3: female | AAS3: male | AAT3: female | AAU3: female | AAV3: female | AAW3: female | AAX3: female | AAY3: female | AAZ3: female | ABA3: male | ABB3: female | ABC3: female | ABD3: male | ABE3: male | ABF3: female | ABG3: female | ABH3: female | ABI3: male | ABJ3: female | ABK3: female | ABL3: female | ABM3: female | ABN3: male | ABO3: female | ABP3: female | ABQ3: male | ABR3: female | ABS3: female | ABT3: female | ABU3: female | ABV3: female | ABW3: female | ABX3: male | ABY3: female | ABZ3: female | ACA3: male | ACB3: female | ACC3: female | ACD3: female | ACE3: male | ACF3: female | ACG3: female | ACH3: female | ACI3: female | ACJ3: female | ACK3: male | ACL3: female | ACM3: female | ACN3: male | ACO3: female | ACP3: female | ACQ3: female | ACR3: male | ACS3: male | ACT3: female | ACU3: female | ACV3: male | ACW3: female | ACX3: female | ACY3: female | ACZ3: female | ADA3: female | ADB3: female | ADC3: female | ADD3: female | ADE3: male | ADF3: female | ADG3: female | ADH3: female | ADI3: female | ADJ3: female | ADK3: female | ADL3: female | ADM3: female | ADN3: female | ADO3: female | ADP3: female | ADQ3: male | ADR3: female | ADS3: female | ADT3: female | ADU3: female | ADV3: female | ADW3: female | ADX3: female | ADY3: female | ADZ3: female | AEA3: female | AEB3: female | AEC3: male | AED3: female | AEE3: female | AEF3: female | AEG3: female | AEH3: female | AEI3: female | AEJ3: female | AEK3: female | AEL3: female | AEM3: female | AEN3: female | AEO3: female | AEP3: female | AEQ3: female | AER3: female | AES3: female | AET3: female | AEU3: male | AEV3: female | AEW3: female | AEX3: female | AEY3: female | AEZ3: female | AFA3: female | AFB3: female | AFC3: male | AFD3: female | AFE3: female | AFF3: male | AFG3: female | AFH3: female | AFI3: female | AFJ3: female | AFK3: female | AFL3: female | AFM3: female | AFN3: female | AFO3: female | AFP3: female | AFQ3: male | AFR3: female | AFS3: female | AFT3: female | AFU3: female | AFV3: female | AFW3: female | AFX3: female | AFY3: male | AFZ3: female | AGA3: female | AGB3: female | AGC3: male | AGD3: female | AGE3: female | AGF3: female | AGG3: female | AGH3: female | AGI3: female | AGJ3: female | AGK3: female | AGL3: female | AGM3: male | AGN3: female | AGO3: female | AGP3: female | AGQ3: female | AGR3: female | AGS3: female | AGT3: female | AGU3: male | AGV3: female | AGW3: female | AGX3: male | AGY3: female | AGZ3: female | AHA3: female | AHB3: female | AHC3: female | AHD3: female | AHE3: female | AHF3: female | AHG3: female | AHH3: female | AHI3: female | AHJ3: female | AHK3: female | AHL3: female | AHM3: female | AHN3: female | AHO3: female | AHP3: male | AHQ3: female | AHR3: female | AHS3: female | AHT3: female | AHU3: female | AHV3: female | AHW3: female | AHX3: male | AHY3: female | AHZ3: female | AIA3: male | AIB3: female | AIC3: female | AID3: female | AIE3: female | AIF3: female | AIG3: female | AIH3: female | AII3: female | AIJ3: female | AIK3: female | AIL3: male | AIM3: female | AIN3: female | AIO3: female | AIP3: female | AIQ3: female | AIR3: female | AIS3: female | AIT3: female | AIU3: male | AIV3: female | AIW3: female | AIX3: female | AIY3: female | AIZ3: female | AJA3: female | AJB3: female | AJC3: female | AJD3: female | AJE3: female | AJF3: female | AJG3: male | AJH3: female | AJI3: female | AJJ3: female | AJK3: female | AJL3: female | AJM3: female | AJN3: female | AJO3: female | AJP3: female
A4: clinical dementia rating | B4: 3 | C4: 2 | D4: 3 | E4: 2 | F4: 5 | G4: 0.5 | H4: 5 | I4: 5 | J4: 4 | K4: 0.5 | L4: 1 | M4: 4 | N4: 1 | O4: 1 | P4: 2 | Q4: 0.5 | R4: 4 | S4: 1 | T4: 5 | U4: 3 | V4: 5 | W4: 5 | X4: 3 | Y4: 5 | Z4: 3 | AA4: 2 | AB4: 2 | AC4: 0.5 | AD4: 0.5 | AE4: 1 | AF4: 4 | AG4: 1 | AH4: 1 | AI4: 5 | AJ4: 0.5 | AK4: 5 | AL4: 1 | AM4: 5 | AN4: 3 | AO4: 2 | AP4: 3 | AQ4: 2 | AR4: 3 | AS4: 2 | AT4: 5 | AU4: 0.5 | AV4: 5 | AW4: 0.5 | AX4: 1 | AY4: 4 | AZ4: 1 | BA4: 1 | BB4: 2 | BC4: 0.5 | BD4: 1 | BE4: 5 | BF4: 5 | BG4: 3 | BH4: 2 | BI4: 3 | BJ4: 2 | BK4: 5 | BL4: 0.5 | BM4: 5 | BN4: 0.5 | BO4: 1 | BP4: 4 | BQ4: 1 | BR4: 1 | BS4: 2 | BT4: 0.5 | BU4: 4 | BV4: 1 | BW4: 5 | BX4: 3 | BY4: 5 | BZ4: 5 | CA4: 2 | CB4: 3 | CC4: 2 | CD4: 3 | CE4: 2 | CF4: 5 | CG4: 0.5 | CH4: 5 | CI4: 5 | CJ4: 0.5 | CK4: 4 | CL4: 1 | CM4: 2 | CN4: 5 | CO4: 0.5 | CP4: 5 | CQ4: 2 | CR4: 3 | CS4: 1 | CT4: 5 | CU4: 3 | CV4: 5 | CW4: 3 | CX4: 3 | CY4: 2 | CZ4: 3 | DA4: 0.5 | DB4: 5 | DC4: 5 | DD4: 4 | DE4: 0.5 | DF4: 1 | DG4: 4 | DH4: 1 | DI4: 1 | DJ4: 2 | DK4: 0.5 | DL4: 4 | DM4: 5 | DN4: 1 | DO4: 5 | DP4: 3 | DQ4: 5 | DR4: 3 | DS4: 5 | DT4: 3 | DU4: 2 | DV4: 2 | DW4: 3 | DX4: 2 | DY4: 5 | DZ4: 0.5 | EA4: 5 | EB4: 5 | EC4: 0.5 | ED4: 1 | EE4: 4 | EF4: 1 | EG4: 1 | EH4: 2 | EI4: 2 | EJ4: 0.5 | EK4: 1 | EL4: 5 | EM4: 3 | EN4: 2 | EO4: 2 | EP4: 3 | EQ4: 0.5 | ER4: 5 | ES4: 5 | ET4: 0.5 | EU4: 5 | EV4: 1 | EW4: 4 | EX4: 1 | EY4: 1 | EZ4: 2 | FA4: 2 | FB4: 5 | FC4: 0.5 | FD4: 5 | FE4: 5 | FF4: 2 | FG4: 1 | FH4: 5 | FI4: 3 | FJ4: 5 | FK4: 2 | FL4: 2 | FM4: 5 | FN4: 5 | FO4: 0.5 | FP4: 5 | FQ4: 4 | FR4: 1 | FS4: 1 | FT4: 5 | FU4: 2 | FV4: 0.5 | FW4: 1 | FX4: 5 | FY4: 3 | FZ4: 5 | GA4: 3 | GB4: 5 | GC4: 3 | GD4: 2 | GE4: 3 | GF4: 2 | GG4: 2 | GH4: 0.5 | GI4: 5 | GJ4: 0.5 | GK4: 5 | GL4: 1 | GM4: 4 | GN4: 1 | GO4: 5 | GP4: 2 | GQ4: 0.5 | GR4: 1 | GS4: 5 | GT4: 3 | GU4: 5 | GV4: 3 | GW4: 2 | GX4: 2 | GY4: 3 | GZ4: 5 | HA4: 0.5 | HB4: 5 | HC4: 0.5 | HD4: 1 | HE4: 4 | HF4: 1 | HG4: 1 | HH4: 2 | HI4: 2 | HJ4: 0.5 | HK4: 1 | HL4: 5 | HM4: 5 | HN4: 3 | HO4: 3 | HP4: 2 | HQ4: 2 | HR4: 3 | HS4: 5 | HT4: 0.5 | HU4: 5 | HV4: 0.5 | HW4: 1 | HX4: 1 | HY4: 2 | HZ4: 2 | IA4: 1 | IB4: 5 | IC4: 3 | ID4: 5 | IE4: 5 | IF4: 2 | IG4: 2 | IH4: 0.5 | II4: 5 | IJ4: 0.5 | IK4: 4 | IL4: 1 | IM4: 1 | IN4: 2 | IO4: 0.5 | IP4: 5 | IQ4: 3 | IR4: 5 | IS4: 2 | IT4: 2 | IU4: 3 | IV4: 5 | IW4: 0.5 | IX4: 5 | IY4: 5 | IZ4: 4 | JA4: 0.5 | JB4: 4 | JC4: 1 | JD4: 4 | JE4: 1 | JF4: 1 | JG4: 2 | JH4: 2 | JI4: 0.5 | JJ4: 5 | JK4: 3 | JL4: 5 | JM4: 5 | JN4: 3 | JO4: 3 | JP4: 3 | JQ4: 5 | JR4: 0.5 | JS4: 5 | JT4: 0.5 | JU4: 1 | JV4: 4 | JW4: 1 | JX4: 2 | JY4: 2 | JZ4: 1 | KA4: 5 | KB4: 3 | KC4: 3 | KD4: 5 | KE4: 5 | KF4: 3 | KG4: 3 | KH4: 5 | KI4: 0.5 | KJ4: 5 | KK4: 0.5 | KL4: 1 | KM4: 4 | KN4: 1 | KO4: 1 | KP4: 2 | KQ4: 4 | KR4: 5 | KS4: 1 | KT4: 3 | KU4: 5 | KV4: 3 | KW4: 5 | KX4: 2 | KY4: 3 | KZ4: 2 | LA4: 5 | LB4: 0.5 | LC4: 5 | LD4: 0.5 | LE4: 1 | LF4: 1 | LG4: 1 | LH4: 2 | LI4: 2 | LJ4: 0.5 | LK4: 1 | LL4: 5 | LM4: 3 | LN4: 5 | LO4: 3 | LP4: 5 | LQ4: 5 | LR4: 0 | LS4: 0 | LT4: 0 | LU4: 0 | LV4: 0.5 | LW4: 0 | LX4: 0 | LY4: 0 | LZ4: 0.5 | MA4: 0 | MB4: 0 | MC4: 0.5 | MD4: 1 | ME4: 0 | MF4: 0.5 | MG4: 0 | MH4: 0.5 | MI4: 0 | MJ4: 0 | MK4: 0 | ML4: 0 | MM4: 0.5 | MN4: 0 | MO4: 0 | MP4: 0.5 | MQ4: 1 | MR4: 0 | MS4: 0.5 | MT4: 0 | MU4: 0 | MV4: 0 | MW4: 0.5 | MX4: 0 | MY4: 0 | MZ4: 0 | NA4: 0.5 | NB4: 0 | NC4: 0 | ND4: 0.5 | NE4: 1 | NF4: 0 | NG4: 0.5 | NH4: 0 | NI4: 0 | NJ4: 0 | NK4: 0 | NL4: 0.5 | NM4: 0 | NN4: 0 | NO4: 0 | NP4: 0.5 | NQ4: 0 | NR4: 0 | NS4: 0.5 | NT4: 0 | NU4: 0.5 | NV4: 0 | NW4: 0 | NX4: 0 | NY4: 0 | NZ4: 0 | OA4: 0 | OB4: 0 | OC4: 0 | OD4: 0.5 | OE4: 0 | OF4: 0 | OG4: 0.5 | OH4: 0 | OI4: 0.5 | OJ4: 0 | OK4: 0 | OL4: 0.5 | OM4: 0 | ON4: 0 | OO4: 0 | OP4: 0.5 | OQ4: 0 | OR4: 0 | OS4: 0.5 | OT4: 1 | OU4: 0.5 | OV4: 0 | OW4: 0 | OX4: 0 | OY4: 0 | OZ4: 0.5 | PA4: 0 | PB4: 4 | PC4: 0 | PD4: 0 | PE4: 0.5 | PF4: 0 | PG4: 0 | PH4: 0.5 | PI4: 1 | PJ4: 0.5 | PK4: 0.5 | PL4: 0 | PM4: 0 | PN4: 0 | PO4: 0 | PP4: 0.5 | PQ4: 0.5 | PR4: 0 | PS4: 0 | PT4: 0.5 | PU4: 0 | PV4: 0.5 | PW4: 1 | PX4: 1 | PY4: 0 | PZ4: 0.5 | QA4: 0 | QB4: 0 | QC4: 0 | QD4: 0.5 | QE4: 0 | QF4: 4 | QG4: 0 | QH4: 0.5 | QI4: 0 | QJ4: 0 | QK4: 0.5 | QL4: 1 | QM4: 0 | QN4: 0.5 | QO4: 0 | QP4: 0 | QQ4: 0.5 | QR4: 0 | QS4: 0 | QT4: 0 | QU4: 0 | QV4: 0.5 | QW4: 0 | QX4: 0 | QY4: 0 | QZ4: 0.5 | RA4: 0 | RB4: 0 | RC4: 0.5 | RD4: 0.5 | RE4: 0 | RF4: 0 | RG4: 0 | RH4: 0 | RI4: 0.5 | RJ4: 0 | RK4: 0 | RL4: 0 | RM4: 0 | RN4: 0.5 | RO4: 0 | RP4: 0 | RQ4: 0.5 | RR4: 0 | RS4: 0.5 | RT4: 0.5 | RU4: 0 | RV4: 0 | RW4: 0.5 | RX4: 4 | RY4: 0 | RZ4: 0 | SA4: 0.5 | SB4: 0 | SC4: 0 | SD4: 0.5 | SE4: 1 | SF4: 0 | SG4: 0.5 | SH4: 0 | SI4: 0 | SJ4: 1 | SK4: 0.5 | SL4: 0 | SM4: 0.5 | SN4: 0 | SO4: 0 | SP4: 0.5 | SQ4: 1 | SR4: 0 | SS4: 0.5 | ST4: 0 | SU4: 4 | SV4: 0 | SW4: 0 | SX4: 0.5 | SY4: 0 | SZ4: 0 | TA4: 0.5 | TB4: 1 | TC4: 0 | TD4: 0 | TE4: 0 | TF4: 0.5 | TG4: 0 | TH4: 0 | TI4: 0 | TJ4: 0.5 | TK4: 0 | TL4: 1 | TM4: 0 | TN4: 0.5 | TO4: 0 | TP4: 0 | TQ4: 0.5 | TR4: 0 | TS4: 4 | TT4: 0 | TU4: 0 | TV4: 0 | TW4: 1 | TX4: 3 | TY4: 1 | TZ4: 0.5 | UA4: 3 | UB4: 3 | UC4: 2 | UD4: 2 | UE4: 0.5 | UF4: 0 | UG4: 3 | UH4: 1 | UI4: 4 | UJ4: 0.5 | UK4: 3 | UL4: 1 | UM4: 0.5 | UN4: 3 | UO4: 2 | UP4: 0 | UQ4: 2 | UR4: 0.5 | US4: 0 | UT4: 1 | UU4: 3 | UV4: 1 | UW4: 0.5 | UX4: 1 | UY4: 3 | UZ4: 1 | VA4: 5 | VB4: 3 | VC4: 3 | VD4: 2 | VE4: 2 | VF4: 0.5 | VG4: 0 | VH4: 1 | VI4: 3 | VJ4: 1 | VK4: 4 | VL4: 0.5 | VM4: 3 | VN4: 1 | VO4: 0.5 | VP4: 3 | VQ4: 3 | VR4: 2 | VS4: 2 | VT4: 0.5 | VU4: 0 | VV4: 3 | VW4: 1 | VX4: 4 | VY4: 0.5 | VZ4: 1 | WA4: 5 | WB4: 1 | WC4: 1 | WD4: 0.5 | WE4: 0.5 | WF4: 3 | WG4: 2 | WH4: 2 | WI4: 0.5 | WJ4: 0 | WK4: 1 | WL4: 4 | WM4: 0.5 | WN4: 1 | WO4: 3 | WP4: 1 | WQ4: 5 | WR4: 0.5 | WS4: 3 | WT4: 3 | WU4: 2 | WV4: 0 | WW4: 2 | WX4: 0.5 | WY4: 0 | WZ4: 3 | XA4: 1 | XB4: 0.5 | XC4: 1 | XD4: 1 | XE4: 0.5 | XF4: 3 | XG4: 2 | XH4: 2 | XI4: 0.5 | XJ4: 0 | XK4: 1 | XL4: 1 | XM4: 4 | XN4: 0.5 | XO4: 1 | XP4: 5 | XQ4: 1 | XR4: 1 | XS4: 0.5 | XT4: 3 | XU4: 2 | XV4: 2 | XW4: 0.5 | XX4: 0 | XY4: 1 | XZ4: 0.5 | YA4: 1 | YB4: 3 | YC4: 1 | YD4: 5 | YE4: 0.5 | YF4: 3 | YG4: 3 | YH4: 2 | YI4: 2 | YJ4: 0.5 | YK4: 0 | YL4: 1 | YM4: 1 | YN4: 4 | YO4: 0.5 | YP4: 1 | YQ4: 3 | YR4: 1 | YS4: 5 | YT4: 0.5 | YU4: 3 | YV4: 3 | YW4: 0 | YX4: 2 | YY4: 0.5 | YZ4: 0 | ZA4: 1 | ZB4: 4 | ZC4: 0.5 | ZD4: 3 | ZE4: 1 | ZF4: 5 | ZG4: 0.5 | ZH4: 3 | ZI4: 3 | ZJ4: 2 | ZK4: 0 | ZL4: 2 | ZM4: 0.5 | ZN4: 0 | ZO4: 1 | ZP4: 3 | ZQ4: 1 | ZR4: 1 | ZS4: 3 | ZT4: 1 | ZU4: 0.5 | ZV4: 3 | ZW4: 2 | ZX4: 0 | ZY4: 2 | ZZ4: 0.5 | AAA4: 0 | AAB4: 3 | AAC4: 1 | AAD4: 4 | AAE4: 0.5 | AAF4: 3 | AAG4: 1 | AAH4: 1 | AAI4: 0.5 | AAJ4: 3 | AAK4: 3 | AAL4: 2 | AAM4: 0 | AAN4: 2 | AAO4: 0.5 | AAP4: 0 | AAQ4: 3 | AAR4: 1 | AAS4: 0.5 | AAT4: 1 | AAU4: 3 | AAV4: 1 | AAW4: 1 | AAX4: 0.5 | AAY4: 0.5 | AAZ4: 3 | ABA4: 3 | ABB4: 2 | ABC4: 2 | ABD4: 0.5 | ABE4: 0.5 | ABF4: 1 | ABG4: 0.5 | ABH4: 3 | ABI4: 3 | ABJ4: 2 | ABK4: 2 | ABL4: 0 | ABM4: 1 | ABN4: 3 | ABO4: 1 | ABP4: 4 | ABQ4: 0.5 | ABR4: 1 | ABS4: 3 | ABT4: 1 | ABU4: 1 | ABV4: 0.5 | ABW4: 3 | ABX4: 3 | ABY4: 2 | ABZ4: 2 | ACA4: 0.5 | ACB4: 0 | ACC4: 1 | ACD4: 4 | ACE4: 0.5 | ACF4: 1 | ACG4: 3 | ACH4: 1 | ACI4: 0.5 | ACJ4: 3 | ACK4: 3 | ACL4: 2 | ACM4: 2 | ACN4: 0.5 | ACO4: 0 | ACP4: 1 | ACQ4: 4 | ACR4: 0.5 | ACS4: 3 | ACT4: 5 | ACU4: 2 | ACV4: 3 | ACW4: 2 | ACX4: 3 | ACY4: 2 | ACZ4: 2 | ADA4: 3 | ADB4: 3 | ADC4: 2 | ADD4: 2 | ADE4: 3 | ADF4: 3 | ADG4: 4 | ADH4: 5 | ADI4: 0.5 | ADJ4: 2 | ADK4: 1 | ADL4: 2 | ADM4: 3 | ADN4: 4 | ADO4: 2 | ADP4: 0 | ADQ4: 3 | ADR4: 5 | ADS4: 2 | ADT4: 3 | ADU4: 1 | ADV4: 2 | ADW4: 3 | ADX4: 4 | ADY4: 3 | ADZ4: 2 | AEA4: 0 | AEB4: 5 | AEC4: 3 | AED4: 3 | AEE4: 4 | AEF4: 2 | AEG4: 1 | AEH4: 3 | AEI4: 4 | AEJ4: 3 | AEK4: 2 | AEL4: 0 | AEM4: 5 | AEN4: 2 | AEO4: 4 | AEP4: 3 | AEQ4: 2 | AER4: 3 | AES4: 1 | AET4: 2 | AEU4: 3 | AEV4: 5 | AEW4: 2 | AEX4: 4 | AEY4: 2 | AEZ4: 3 | AFA4: 4 | AFB4: 2 | AFC4: 3 | AFD4: 5 | AFE4: 4 | AFF4: 3 | AFG4: 2 | AFH4: 3 | AFI4: 4 | AFJ4: 0.5 | AFK4: 2 | AFL4: 3 | AFM4: 0.5 | AFN4: 2 | AFO4: 2 | AFP4: 4 | AFQ4: 3 | AFR4: 3 | AFS4: 4 | AFT4: 0.5 | AFU4: 3 | AFV4: 3 | AFW4: 2 | AFX4: 0 | AFY4: 3 | AFZ4: 5 | AGA4: 2 | AGB4: 4 | AGC4: 3 | AGD4: 3 | AGE4: 4 | AGF4: 2 | AGG4: 3 | AGH4: 2 | AGI4: 0 | AGJ4: 5 | AGK4: 2 | AGL4: 4 | AGM4: 3 | AGN4: 3 | AGO4: 4 | AGP4: 0.5 | AGQ4: 2 | AGR4: 2 | AGS4: 3 | AGT4: 2 | AGU4: 3 | AGV4: 5 | AGW4: 4 | AGX4: 3 | AGY4: 2 | AGZ4: 3 | AHA4: 2 | AHB4: 2 | AHC4: 0 | AHD4: 5 | AHE4: 2 | AHF4: 4 | AHG4: 2 | AHH4: 3 | AHI4: 1 | AHJ4: 2 | AHK4: 3 | AHL4: 3 | AHM4: 2 | AHN4: 2 | AHO4: 4 | AHP4: 3 | AHQ4: 3 | AHR4: 4 | AHS4: 0.5 | AHT4: 3 | AHU4: 4 | AHV4: 2 | AHW4: 0 | AHX4: 3 | AHY4: 5 | AHZ4: 2 | AIA4: 3 | AIB4: 2 | AIC4: 3 | AID4: 2 | AIE4: 3 | AIF4: 1 | AIG4: 4 | AIH4: 2 | AII4: 0 | AIJ4: 2 | AIK4: 4 | AIL4: 3 | AIM4: 2 | AIN4: 3 | AIO4: 2 | AIP4: 2 | AIQ4: 3 | AIR4: 3 | AIS4: 2 | AIT4: 0 | AIU4: 3 | AIV4: 5 | AIW4: 2 | AIX4: 4 | AIY4: 3 | AIZ4: 1 | AJA4: 1 | AJB4: 2 | AJC4: 3 | AJD4: 3 | AJE4: 2 | AJF4: 0 | AJG4: 3 | AJH4: 2 | AJI4: 3 | AJJ4: 2 | AJK4: 1 | AJL4: 2 | AJM4: 3 | AJN4: 0.5 | AJO4: 3 | AJP4: 2
A5: braak neurofibrillary tangle score | B5: 6 | C5: 6 | D5: 3 | E5: 3 | F5: 6 | G5: 1 | H5: 2 | I5: 6 | J5: 3 | K5: 6 | L5: 3 | M5: 4 | N5: 4 | O5: 3 | P5: 6 | Q5: 4 | R5: 6 | S5: 6 | T5: 6 | U5: 6 | V5: 6 | W5: 4 | X5: 5 | Y5: 6 | Z5: 6 | AA5: 3 | AB5: 6 | AC5: 1 | AD5: 6 | AE5: 3 | AF5: 4 | AG5: 4 | AH5: 3 | AI5: 6 | AJ5: 4 | AK5: 6 | AL5: 6 | AM5: 4 | AN5: 6 | AO5: 3 | AP5: 5 | AQ5: 6 | AR5: 3 | AS5: 3 | AT5: 6 | AU5: 1 | AV5: 2 | AW5: 6 | AX5: 3 | AY5: 4 | AZ5: 4 | BA5: 3 | BB5: 6 | BC5: 4 | BD5: 6 | BE5: 4 | BF5: 6 | BG5: 6 | BH5: 6 | BI5: 3 | BJ5: 3 | BK5: 6 | BL5: 1 | BM5: 2 | BN5: 6 | BO5: 3 | BP5: 4 | BQ5: 4 | BR5: 3 | BS5: 6 | BT5: 4 | BU5: 6 | BV5: 6 | BW5: 6 | BX5: 6 | BY5: 4 | BZ5: 6 | CA5: 3 | CB5: 5 | CC5: 6 | CD5: 3 | CE5: 3 | CF5: 6 | CG5: 1 | CH5: 2 | CI5: 6 | CJ5: 6 | CK5: 4 | CL5: 3 | CM5: 5 | CN5: 6 | CO5: 4 | CP5: 6 | CQ5: 2 | CR5: 6 | CS5: 6 | CT5: 6 | CU5: 6 | CV5: 4 | CW5: 6 | CX5: 5 | CY5: 6 | CZ5: 3 | DA5: 1 | DB5: 2 | DC5: 6 | DD5: 3 | DE5: 6 | DF5: 3 | DG5: 4 | DH5: 4 | DI5: 3 | DJ5: 6 | DK5: 4 | DL5: 6 | DM5: 6 | DN5: 6 | DO5: 6 | DP5: 6 | DQ5: 4 | DR5: 5 | DS5: 6 | DT5: 6 | DU5: 3 | DV5: 6 | DW5: 3 | DX5: 3 | DY5: 6 | DZ5: 1 | EA5: 2 | EB5: 6 | EC5: 6 | ED5: 3 | EE5: 4 | EF5: 4 | EG5: 3 | EH5: 5 | EI5: 6 | EJ5: 4 | EK5: 6 | EL5: 6 | EM5: 6 | EN5: 3 | EO5: 6 | EP5: 3 | EQ5: 1 | ER5: 2 | ES5: 6 | ET5: 6 | EU5: 5 | EV5: 3 | EW5: 4 | EX5: 4 | EY5: 3 | EZ5: 5 | FA5: 6 | FB5: 6 | FC5: 4 | FD5: 6 | FE5: 6 | FF5: 2 | FG5: 6 | FH5: 6 | FI5: 6 | FJ5: 4 | FK5: 6 | FL5: 3 | FM5: 6 | FN5: 2 | FO5: 6 | FP5: 5 | FQ5: 4 | FR5: 4 | FS5: 3 | FT5: 6 | FU5: 6 | FV5: 4 | FW5: 6 | FX5: 6 | FY5: 6 | FZ5: 4 | GA5: 5 | GB5: 6 | GC5: 6 | GD5: 3 | GE5: 5 | GF5: 6 | GG5: 3 | GH5: 1 | GI5: 2 | GJ5: 6 | GK5: 5 | GL5: 3 | GM5: 4 | GN5: 3 | GO5: 6 | GP5: 6 | GQ5: 4 | GR5: 6 | GS5: 6 | GT5: 6 | GU5: 4 | GV5: 6 | GW5: 3 | GX5: 6 | GY5: 3 | GZ5: 6 | HA5: 1 | HB5: 2 | HC5: 6 | HD5: 3 | HE5: 4 | HF5: 4 | HG5: 3 | HH5: 5 | HI5: 6 | HJ5: 4 | HK5: 6 | HL5: 6 | HM5: 4 | HN5: 5 | HO5: 6 | HP5: 3 | HQ5: 6 | HR5: 3 | HS5: 6 | HT5: 1 | HU5: 2 | HV5: 6 | HW5: 4 | HX5: 3 | HY5: 5 | HZ5: 6 | IA5: 6 | IB5: 6 | IC5: 6 | ID5: 4 | IE5: 6 | IF5: 3 | IG5: 6 | IH5: 1 | II5: 2 | IJ5: 6 | IK5: 6 | IL5: 3 | IM5: 3 | IN5: 6 | IO5: 4 | IP5: 6 | IQ5: 6 | IR5: 4 | IS5: 3 | IT5: 6 | IU5: 3 | IV5: 6 | IW5: 1 | IX5: 2 | IY5: 6 | IZ5: 6 | JA5: 6 | JB5: 6 | JC5: 3 | JD5: 4 | JE5: 4 | JF5: 3 | JG5: 6 | JH5: 6 | JI5: 4 | JJ5: 6 | JK5: 6 | JL5: 4 | JM5: 6 | JN5: 6 | JO5: 5 | JP5: 3 | JQ5: 6 | JR5: 1 | JS5: 2 | JT5: 6 | JU5: 3 | JV5: 4 | JW5: 4 | JX5: 5 | JY5: 6 | JZ5: 6 | KA5: 6 | KB5: 6 | KC5: 6 | KD5: 4 | KE5: 6 | KF5: 6 | KG5: 3 | KH5: 6 | KI5: 1 | KJ5: 2 | KK5: 6 | KL5: 3 | KM5: 4 | KN5: 4 | KO5: 3 | KP5: 6 | KQ5: 6 | KR5: 6 | KS5: 6 | KT5: 6 | KU5: 6 | KV5: 6 | KW5: 4 | KX5: 6 | KY5: 3 | KZ5: 3 | LA5: 6 | LB5: 1 | LC5: 6 | LD5: 6 | LE5: 3 | LF5: 4 | LG5: 3 | LH5: 5 | LI5: 6 | LJ5: 4 | LK5: 6 | LL5: 6 | LM5: 6 | LN5: 4 | LO5: 5 | LP5: 6 | LQ5: 6 | LR5: 0 | LS5: 2 | LT5: 1 | LU5: 2 | LV5: 1 | LW5: 3 | LX5: 2 | LY5: 6 | LZ5: 2 | MA5: 2 | MB5: 3 | MC5: 1 | MD5: 2 | ME5: 1 | MF5: 1 | MG5: 1 | MH5: 1 | MI5: 3 | MJ5: 2 | MK5: 6 | ML5: 1 | MM5: 2 | MN5: 2 | MO5: 3 | MP5: 1 | MQ5: 2 | MR5: 1 | MS5: 2 | MT5: 0 | MU5: 2 | MV5: 2 | MW5: 1 | MX5: 3 | MY5: 2 | MZ5: 6 | NA5: 2 | NB5: 2 | NC5: 3 | ND5: 1 | NE5: 2 | NF5: 1 | NG5: 1 | NH5: 0 | NI5: 2 | NJ5: 1 | NK5: 2 | NL5: 1 | NM5: 3 | NN5: 2 | NO5: 6 | NP5: 2 | NQ5: 2 | NR5: 3 | NS5: 1 | NT5: 1 | NU5: 1 | NV5: 0 | NW5: 2 | NX5: 1 | NY5: 2 | NZ5: 0 | OA5: 3 | OB5: 2 | OC5: 6 | OD5: 2 | OE5: 2 | OF5: 3 | OG5: 1 | OH5: 1 | OI5: 1 | OJ5: 1 | OK5: 2 | OL5: 1 | OM5: 3 | ON5: 2 | OO5: 6 | OP5: 2 | OQ5: 2 | OR5: 3 | OS5: 1 | OT5: 2 | OU5: 2 | OV5: 0 | OW5: 2 | OX5: 1 | OY5: 2 | OZ5: 1 | PA5: 3 | PB5: 4 | PC5: 2 | PD5: 6 | PE5: 2 | PF5: 2 | PG5: 3 | PH5: 1 | PI5: 0 | PJ5: 2 | PK5: 1 | PL5: 2 | PM5: 1 | PN5: 2 | PO5: 0 | PP5: 2 | PQ5: 1 | PR5: 3 | PS5: 2 | PT5: 2 | PU5: 2 | PV5: 1 | PW5: 2 | PX5: 0 | PY5: 1 | PZ5: 1 | QA5: 2 | QB5: 1 | QC5: 2 | QD5: 1 | QE5: 3 | QF5: 4 | QG5: 2 | QH5: 2 | QI5: 2 | QJ5: 3 | QK5: 1 | QL5: 2 | QM5: 1 | QN5: 1 | QO5: 2 | QP5: 2 | QQ5: 1 | QR5: 2 | QS5: 3 | QT5: 1 | QU5: 2 | QV5: 1 | QW5: 3 | QX5: 2 | QY5: 6 | QZ5: 2 | RA5: 2 | RB5: 3 | RC5: 1 | RD5: 2 | RE5: 0 | RF5: 2 | RG5: 1 | RH5: 2 | RI5: 1 | RJ5: 3 | RK5: 2 | RL5: 6 | RM5: 1 | RN5: 2 | RO5: 2 | RP5: 3 | RQ5: 1 | RR5: 1 | RS5: 2 | RT5: 1 | RU5: 1 | RV5: 2 | RW5: 1 | RX5: 4 | RY5: 2 | RZ5: 6 | SA5: 2 | SB5: 2 | SC5: 3 | SD5: 1 | SE5: 2 | SF5: 1 | SG5: 2 | SH5: 1 | SI5: 2 | SJ5: 2 | SK5: 1 | SL5: 6 | SM5: 2 | SN5: 2 | SO5: 3 | SP5: 1 | SQ5: 2 | SR5: 1 | SS5: 1 | ST5: 3 | SU5: 4 | SV5: 2 | SW5: 6 | SX5: 2 | SY5: 2 | SZ5: 3 | TA5: 1 | TB5: 2 | TC5: 1 | TD5: 1 | TE5: 2 | TF5: 1 | TG5: 3 | TH5: 2 | TI5: 6 | TJ5: 2 | TK5: 2 | TL5: 2 | TM5: 1 | TN5: 2 | TO5: 1 | TP5: 2 | TQ5: 1 | TR5: 3 | TS5: 4 | TT5: 2 | TU5: 6 | TV5: 2 | TW5: 2 | TX5: 4 | TY5: 4 | TZ5: 4 | UA5: 2 | UB5: 3 | UC5: 3 | UD5: 4 | UE5: 2 | UF5: 3 | UG5: 3 | UH5: 3 | UI5: 6 | UJ5: 6 | UK5: 4 | UL5: 4 | UM5: 4 | UN5: 3 | UO5: 3 | UP5: 4 | UQ5: 4 | UR5: 2 | US5: 3 | UT5: 6 | UU5: 3 | UV5: 3 | UW5: 6 | UX5: 1 | UY5: 4 | UZ5: 4 | VA5: 1 | VB5: 2 | VC5: 3 | VD5: 3 | VE5: 4 | VF5: 2 | VG5: 3 | VH5: 6 | VI5: 3 | VJ5: 3 | VK5: 6 | VL5: 6 | VM5: 4 | VN5: 4 | VO5: 4 | VP5: 2 | VQ5: 3 | VR5: 3 | VS5: 4 | VT5: 2 | VU5: 3 | VV5: 3 | VW5: 3 | VX5: 6 | VY5: 6 | VZ5: 4 | WA5: 1 | WB5: 3 | WC5: 3 | WD5: 4 | WE5: 4 | WF5: 2 | WG5: 3 | WH5: 4 | WI5: 2 | WJ5: 3 | WK5: 3 | WL5: 6 | WM5: 6 | WN5: 1 | WO5: 4 | WP5: 4 | WQ5: 1 | WR5: 4 | WS5: 2 | WT5: 3 | WU5: 3 | WV5: 4 | WW5: 4 | WX5: 2 | WY5: 3 | WZ5: 3 | XA5: 3 | XB5: 6 | XC5: 1 | XD5: 4 | XE5: 4 | XF5: 3 | XG5: 3 | XH5: 4 | XI5: 2 | XJ5: 3 | XK5: 6 | XL5: 3 | XM5: 6 | XN5: 6 | XO5: 4 | XP5: 1 | XQ5: 3 | XR5: 3 | XS5: 4 | XT5: 2 | XU5: 3 | XV5: 4 | XW5: 2 | XX5: 3 | XY5: 3 | XZ5: 6 | YA5: 1 | YB5: 4 | YC5: 4 | YD5: 1 | YE5: 4 | YF5: 2 | YG5: 3 | YH5: 3 | YI5: 4 | YJ5: 2 | YK5: 3 | YL5: 6 | YM5: 3 | YN5: 6 | YO5: 6 | YP5: 1 | YQ5: 4 | YR5: 4 | YS5: 1 | YT5: 4 | YU5: 2 | YV5: 3 | YW5: 4 | YX5: 4 | YY5: 2 | YZ5: 3 | ZA5: 3 | ZB5: 6 | ZC5: 6 | ZD5: 4 | ZE5: 4 | ZF5: 1 | ZG5: 4 | ZH5: 2 | ZI5: 3 | ZJ5: 3 | ZK5: 4 | ZL5: 4 | ZM5: 2 | ZN5: 3 | ZO5: 6 | ZP5: 3 | ZQ5: 3 | ZR5: 1 | ZS5: 4 | ZT5: 4 | ZU5: 4 | ZV5: 3 | ZW5: 3 | ZX5: 4 | ZY5: 4 | ZZ5: 2 | AAA5: 3 | AAB5: 3 | AAC5: 3 | AAD5: 6 | AAE5: 6 | AAF5: 4 | AAG5: 4 | AAH5: 3 | AAI5: 4 | AAJ5: 2 | AAK5: 3 | AAL5: 3 | AAM5: 4 | AAN5: 4 | AAO5: 2 | AAP5: 3 | AAQ5: 3 | AAR5: 3 | AAS5: 6 | AAT5: 1 | AAU5: 4 | AAV5: 4 | AAW5: 3 | AAX5: 4 | AAY5: 4 | AAZ5: 2 | ABA5: 3 | ABB5: 3 | ABC5: 4 | ABD5: 2 | ABE5: 6 | ABF5: 1 | ABG5: 4 | ABH5: 2 | ABI5: 3 | ABJ5: 3 | ABK5: 4 | ABL5: 3 | ABM5: 6 | ABN5: 3 | ABO5: 3 | ABP5: 6 | ABQ5: 6 | ABR5: 1 | ABS5: 4 | ABT5: 4 | ABU5: 3 | ABV5: 4 | ABW5: 2 | ABX5: 3 | ABY5: 3 | ABZ5: 4 | ACA5: 2 | ACB5: 3 | ACC5: 3 | ACD5: 6 | ACE5: 6 | ACF5: 1 | ACG5: 4 | ACH5: 4 | ACI5: 4 | ACJ5: 2 | ACK5: 3 | ACL5: 3 | ACM5: 4 | ACN5: 2 | ACO5: 3 | ACP5: 6 | ACQ5: 6 | ACR5: 6 | ACS5: 6 | ACT5: 4 | ACU5: 3 | ACV5: 1 | ACW5: 3 | ACX5: 6 | ACY5: 4 | ACZ5: 6 | ADA5: 6 | ADB5: 3 | ADC5: 3 | ADD5: 3 | ADE5: 5 | ADF5: 6 | ADG5: 2 | ADH5: 6 | ADI5: 3 | ADJ5: 6 | ADK5: 6 | ADL5: 6 | ADM5: 6 | ADN5: 3 | ADO5: 3 | ADP5: 3 | ADQ5: 6 | ADR5: 4 | ADS5: 3 | ADT5: 6 | ADU5: 3 | ADV5: 6 | ADW5: 6 | ADX5: 3 | ADY5: 3 | ADZ5: 3 | AEA5: 3 | AEB5: 4 | AEC5: 5 | AED5: 6 | AEE5: 2 | AEF5: 6 | AEG5: 6 | AEH5: 6 | AEI5: 3 | AEJ5: 3 | AEK5: 3 | AEL5: 3 | AEM5: 4 | AEN5: 3 | AEO5: 2 | AEP5: 6 | AEQ5: 4 | AER5: 6 | AES5: 4 | AET5: 3 | AEU5: 6 | AEV5: 4 | AEW5: 3 | AEX5: 2 | AEY5: 3 | AEZ5: 6 | AFA5: 3 | AFB5: 3 | AFC5: 6 | AFD5: 4 | AFE5: 2 | AFF5: 1 | AFG5: 3 | AFH5: 6 | AFI5: 2 | AFJ5: 3 | AFK5: 6 | AFL5: 6 | AFM5: 3 | AFN5: 3 | AFO5: 3 | AFP5: 2 | AFQ5: 1 | AFR5: 6 | AFS5: 2 | AFT5: 3 | AFU5: 6 | AFV5: 3 | AFW5: 3 | AFX5: 3 | AFY5: 6 | AFZ5: 4 | AGA5: 3 | AGB5: 2 | AGC5: 1 | AGD5: 6 | AGE5: 2 | AGF5: 6 | AGG5: 6 | AGH5: 3 | AGI5: 3 | AGJ5: 4 | AGK5: 3 | AGL5: 2 | AGM5: 5 | AGN5: 6 | AGO5: 2 | AGP5: 3 | AGQ5: 6 | AGR5: 6 | AGS5: 6 | AGT5: 3 | AGU5: 6 | AGV5: 4 | AGW5: 2 | AGX5: 1 | AGY5: 3 | AGZ5: 6 | AHA5: 6 | AHB5: 3 | AHC5: 3 | AHD5: 4 | AHE5: 3 | AHF5: 2 | AHG5: 3 | AHH5: 6 | AHI5: 3 | AHJ5: 6 | AHK5: 6 | AHL5: 3 | AHM5: 3 | AHN5: 3 | AHO5: 2 | AHP5: 1 | AHQ5: 6 | AHR5: 2 | AHS5: 3 | AHT5: 6 | AHU5: 3 | AHV5: 3 | AHW5: 3 | AHX5: 6 | AHY5: 4 | AHZ5: 3 | AIA5: 1 | AIB5: 3 | AIC5: 6 | AID5: 6 | AIE5: 6 | AIF5: 4 | AIG5: 3 | AIH5: 3 | AII5: 3 | AIJ5: 3 | AIK5: 2 | AIL5: 1 | AIM5: 3 | AIN5: 6 | AIO5: 4 | AIP5: 6 | AIQ5: 6 | AIR5: 3 | AIS5: 3 | AIT5: 3 | AIU5: 6 | AIV5: 4 | AIW5: 3 | AIX5: 2 | AIY5: 6 | AIZ5: 3 | AJA5: 6 | AJB5: 6 | AJC5: 6 | AJD5: 3 | AJE5: 3 | AJF5: 3 | AJG5: 6 | AJH5: 3 | AJI5: 6 | AJJ5: 4 | AJK5: 6 | AJL5: 6 | AJM5: 6 | AJN5: 3 | AJO5: 3 | AJP5: 3
A6: Alzheimer’s | B6: definite AD | C6: definite AD | D6: definite AD | E6: definite AD | F6: definite AD | G6: definite AD | H6: definite AD | I6: definite AD | J6: definite AD | K6: definite AD | L6: definite AD | M6: definite AD | N6: definite AD | O6: definite AD | P6: definite AD | Q6: definite AD | R6: definite AD | S6: definite AD | T6: definite AD | U6: definite AD | V6: definite AD | W6: definite AD | X6: definite AD | Y6: definite AD | Z6: definite AD | AA6: definite AD | AB6: definite AD | AC6: definite AD | AD6: definite AD | AE6: definite AD | AF6: definite AD | AG6: definite AD | AH6: definite AD | AI6: definite AD | AJ6: definite AD | AK6: definite AD | AL6: definite AD | AM6: definite AD | AN6: definite AD | AO6: definite AD | AP6: definite AD | AQ6: definite AD | AR6: definite AD | AS6: definite AD | AT6: definite AD | AU6: definite AD | AV6: definite AD | AW6: definite AD | AX6: definite AD | AY6: definite AD | AZ6: definite AD | BA6: definite AD | BB6: definite AD | BC6: definite AD | BD6: definite AD | BE6: definite AD | BF6: definite AD | BG6: definite AD | BH6: definite AD | BI6: definite AD | BJ6: definite AD | BK6: definite AD | BL6: definite AD | BM6: definite AD | BN6: definite AD | BO6: definite AD | BP6: definite AD | BQ6: definite AD | BR6: definite AD | BS6: definite AD | BT6: definite AD | BU6: definite AD | BV6: definite AD | BW6: definite AD | BX6: definite AD | BY6: definite AD | BZ6: definite AD | CA6: definite AD | CB6: definite AD | CC6: definite AD | CD6: definite AD | CE6: definite AD | CF6: definite AD | CG6: definite AD | CH6: definite AD | CI6: definite AD | CJ6: definite AD | CK6: definite AD | CL6: definite AD | CM6: definite AD | CN6: definite AD | CO6: definite AD | CP6: definite AD | CQ6: definite AD | CR6: definite AD | CS6: definite AD | CT6: definite AD | CU6: definite AD | CV6: definite AD | CW6: definite AD | CX6: definite AD | CY6: definite AD | CZ6: definite AD | DA6: definite AD | DB6: definite AD | DC6: definite AD | DD6: definite AD | DE6: definite AD | DF6: definite AD | DG6: definite AD | DH6: definite AD | DI6: definite AD | DJ6: definite AD | DK6: definite AD | DL6: definite AD | DM6: definite AD | DN6: definite AD | DO6: definite AD | DP6: definite AD | DQ6: definite AD | DR6: definite AD | DS6: definite AD | DT6: definite AD | DU6: definite AD | DV6: definite AD | DW6: definite AD | DX6: definite AD | DY6: definite AD | DZ6: definite AD | EA6: definite AD | EB6: definite AD | EC6: definite AD | ED6: definite AD | EE6: definite AD | EF6: definite AD | EG6: definite AD | EH6: definite AD | EI6: definite AD | EJ6: definite AD | EK6: definite AD | EL6: definite AD | EM6: definite AD | EN6: definite AD | EO6: definite AD | EP6: definite AD | EQ6: definite AD | ER6: definite AD | ES6: definite AD | ET6: definite AD | EU6: definite AD | EV6: definite AD | EW6: definite AD | EX6: definite AD | EY6: definite AD | EZ6: definite AD | FA6: definite AD | FB6: definite AD | FC6: definite AD | FD6: definite AD | FE6: definite AD | FF6: definite AD | FG6: definite AD | FH6: definite AD | FI6: definite AD | FJ6: definite AD | FK6: definite AD | FL6: definite AD | FM6: definite AD | FN6: definite AD | FO6: definite AD | FP6: definite AD | FQ6: definite AD | FR6: definite AD | FS6: definite AD | FT6: definite AD | FU6: definite AD | FV6: definite AD | FW6: definite AD | FX6: definite AD | FY6: definite AD | FZ6: definite AD | GA6: definite AD | GB6: definite AD | GC6: definite AD | GD6: definite AD | GE6: definite AD | GF6: definite AD | GG6: definite AD | GH6: definite AD | GI6: definite AD | GJ6: definite AD | GK6: definite AD | GL6: definite AD | GM6: definite AD | GN6: definite AD | GO6: definite AD | GP6: definite AD | GQ6: definite AD | GR6: definite AD | GS6: definite AD | GT6: definite AD | GU6: definite AD | GV6: definite AD | GW6: definite AD | GX6: definite AD | GY6: definite AD | GZ6: definite AD | HA6: definite AD | HB6: definite AD | HC6: definite AD | HD6: definite AD | HE6: definite AD | HF6: definite AD | HG6: definite AD | HH6: definite AD | HI6: definite AD | HJ6: definite AD | HK6: definite AD | HL6: definite AD | HM6: definite AD | HN6: definite AD | HO6: definite AD | HP6: definite AD | HQ6: definite AD | HR6: definite AD | HS6: definite AD | HT6: definite AD | HU6: definite AD | HV6: definite AD | HW6: definite AD | HX6: definite AD | HY6: definite AD | HZ6: definite AD | IA6: definite AD | IB6: definite AD | IC6: definite AD | ID6: definite AD | IE6: definite AD | IF6: definite AD | IG6: definite AD | IH6: definite AD | II6: definite AD | IJ6: definite AD | IK6: definite AD | IL6: definite AD | IM6: definite AD | IN6: definite AD | IO6: definite AD | IP6: definite AD | IQ6: definite AD | IR6: definite AD | IS6: definite AD | IT6: definite AD | IU6: definite AD | IV6: definite AD | IW6: definite AD | IX6: definite AD | IY6: definite AD | IZ6: definite AD | JA6: definite AD | JB6: definite AD | JC6: definite AD | JD6: definite AD | JE6: definite AD | JF6: definite AD | JG6: definite AD | JH6: definite AD | JI6: definite AD | JJ6: definite AD | JK6: definite AD | JL6: definite AD | JM6: definite AD | JN6: definite AD | JO6: definite AD | JP6: definite AD | JQ6: definite AD | JR6: definite AD | JS6: definite AD | JT6: definite AD | JU6: definite AD | JV6: definite AD | JW6: definite AD | JX6: definite AD | JY6: definite AD | JZ6: definite AD | KA6: definite AD | KB6: definite AD | KC6: definite AD | KD6: definite AD | KE6: definite AD | KF6: definite AD | KG6: definite AD | KH6: definite AD | KI6: definite AD | KJ6: definite AD | KK6: definite AD | KL6: definite AD | KM6: definite AD | KN6: definite AD | KO6: definite AD | KP6: definite AD | KQ6: definite AD | KR6: definite AD | KS6: definite AD | KT6: definite AD | KU6: definite AD | KV6: definite AD | KW6: definite AD | KX6: definite AD | KY6: definite AD | KZ6: definite AD | LA6: definite AD | LB6: definite AD | LC6: definite AD | LD6: definite AD | LE6: definite AD | LF6: definite AD | LG6: definite AD | LH6: definite AD | LI6: definite AD | LJ6: definite AD | LK6: definite AD | LL6: definite AD | LM6: definite AD | LN6: definite AD | LO6: definite AD | LP6: definite AD | LQ6: definite AD | LR6: Normal | LS6: Normal | LT6: Normal | LU6: Normal | LV6: Normal | LW6: Normal | LX6: Normal | LY6: Normal | LZ6: Normal | MA6: Normal | MB6: Normal | MC6: Normal | MD6: Normal | ME6: Normal | MF6: Normal | MG6: Normal | MH6: Normal | MI6: Normal | MJ6: Normal | MK6: Normal | ML6: Normal | MM6: Normal | MN6: Normal | MO6: Normal | MP6: Normal | MQ6: Normal | MR6: Normal | MS6: Normal | MT6: Normal | MU6: Normal | MV6: Normal | MW6: Normal | MX6: Normal | MY6: Normal | MZ6: Normal | NA6: Normal | NB6: Normal | NC6: Normal | ND6: Normal | NE6: Normal | NF6: Normal | NG6: Normal | NH6: Normal | NI6: Normal | NJ6: Normal | NK6: Normal | NL6: Normal | NM6: Normal | NN6: Normal | NO6: Normal | NP6: Normal | NQ6: Normal | NR6: Normal | NS6: Normal | NT6: Normal | NU6: Normal | NV6: Normal | NW6: Normal | NX6: Normal | NY6: Normal | NZ6: Normal | OA6: Normal | OB6: Normal | OC6: Normal | OD6: Normal | OE6: Normal | OF6: Normal | OG6: Normal | OH6: Normal | OI6: Normal | OJ6: Normal | OK6: Normal | OL6: Normal | OM6: Normal | ON6: Normal | OO6: Normal | OP6: Normal | OQ6: Normal | OR6: Normal | OS6: Normal | OT6: Normal | OU6: Normal | OV6: Normal | OW6: Normal | OX6: Normal | OY6: Normal | OZ6: Normal | PA6: Normal | PB6: Normal | PC6: Normal | PD6: Normal | PE6: Normal | PF6: Normal | PG6: Normal | PH6: Normal | PI6: Normal | PJ6: Normal | PK6: Normal | PL6: Normal | PM6: Normal | PN6: Normal | PO6: Normal | PP6: Normal | PQ6: Normal | PR6: Normal | PS6: Normal | PT6: Normal | PU6: Normal | PV6: Normal | PW6: Normal | PX6: Normal | PY6: Normal | PZ6: Normal | QA6: Normal | QB6: Normal | QC6: Normal | QD6: Normal | QE6: Normal | QF6: Normal | QG6: Normal | QH6: Normal | QI6: Normal | QJ6: Normal | QK6: Normal | QL6: Normal | QM6: Normal | QN6: Normal | QO6: Normal | QP6: Normal | QQ6: Normal | QR6: Normal | QS6: Normal | QT6: Normal | QU6: Normal | QV6: Normal | QW6: Normal | QX6: Normal | QY6: Normal | QZ6: Normal | RA6: Normal | RB6: Normal | RC6: Normal | RD6: Normal | RE6: Normal | RF6: Normal | RG6: Normal | RH6: Normal | RI6: Normal | RJ6: Normal | RK6: Normal | RL6: Normal | RM6: Normal | RN6: Normal | RO6: Normal | RP6: Normal | RQ6: Normal | RR6: Normal | RS6: Normal | RT6: Normal | RU6: Normal | RV6: Normal | RW6: Normal | RX6: Normal | RY6: Normal | RZ6: Normal | SA6: Normal | SB6: Normal | SC6: Normal | SD6: Normal | SE6: Normal | SF6: Normal | SG6: Normal | SH6: Normal | SI6: Normal | SJ6: Normal | SK6: Normal | SL6: Normal | SM6: Normal | SN6: Normal | SO6: Normal | SP6: Normal | SQ6: Normal | SR6: Normal | SS6: Normal | ST6: Normal | SU6: Normal | SV6: Normal | SW6: Normal | SX6: Normal | SY6: Normal | SZ6: Normal | TA6: Normal | TB6: Normal | TC6: Normal | TD6: Normal | TE6: Normal | TF6: Normal | TG6: Normal | TH6: Normal | TI6: Normal | TJ6: Normal | TK6: Normal | TL6: Normal | TM6: Normal | TN6: Normal | TO6: Normal | TP6: Normal | TQ6: Normal | TR6: Normal | TS6: Normal | TT6: Normal | TU6: Normal | TV6: Normal | TW6: Normal | TX6: Possible AD | TY6: Possible AD | TZ6: Possible AD | UA6: Possible AD | UB6: Possible AD | UC6: Possible AD | UD6: Possible AD | UE6: Possible AD | UF6: Possible AD | UG6: Possible AD | UH6: Possible AD | UI6: Possible AD | UJ6: Possible AD | UK6: Possible AD | UL6: Possible AD | UM6: Possible AD | UN6: Possible AD | UO6: Possible AD | UP6: Possible AD | UQ6: Possible AD | UR6: Possible AD | US6: Possible AD | UT6: Possible AD | UU6: Possible AD | UV6: Possible AD | UW6: Possible AD | UX6: Possible AD | UY6: Possible AD | UZ6: Possible AD | VA6: Possible AD | VB6: Possible AD | VC6: Possible AD | VD6: Possible AD | VE6: Possible AD | VF6: Possible AD | VG6: Possible AD | VH6: Possible AD | VI6: Possible AD | VJ6: Possible AD | VK6: Possible AD | VL6: Possible AD | VM6: Possible AD | VN6: Possible AD | VO6: Possible AD | VP6: Possible AD | VQ6: Possible AD | VR6: Possible AD | VS6: Possible AD | VT6: Possible AD | VU6: Possible AD | VV6: Possible AD | VW6: Possible AD | VX6: Possible AD | VY6: Possible AD | VZ6: Possible AD | WA6: Possible AD | WB6: Possible AD | WC6: Possible AD | WD6: Possible AD | WE6: Possible AD | WF6: Possible AD | WG6: Possible AD | WH6: Possible AD | WI6: Possible AD | WJ6: Possible AD | WK6: Possible AD | WL6: Possible AD | WM6: Possible AD | WN6: Possible AD | WO6: Possible AD | WP6: Possible AD | WQ6: Possible AD | WR6: Possible AD | WS6: Possible AD | WT6: Possible AD | WU6: Possible AD | WV6: Possible AD | WW6: Possible AD | WX6: Possible AD | WY6: Possible AD | WZ6: Possible AD | XA6: Possible AD | XB6: Possible AD | XC6: Possible AD | XD6: Possible AD | XE6: Possible AD | XF6: Possible AD | XG6: Possible AD | XH6: Possible AD | XI6: Possible AD | XJ6: Possible AD | XK6: Possible AD | XL6: Possible AD | XM6: Possible AD | XN6: Possible AD | XO6: Possible AD | XP6: Possible AD | XQ6: Possible AD | XR6: Possible AD | XS6: Possible AD | XT6: Possible AD | XU6: Possible AD | XV6: Possible AD | XW6: Possible AD | XX6: Possible AD | XY6: Possible AD | XZ6: Possible AD | YA6: Possible AD | YB6: Possible AD | YC6: Possible AD | YD6: Possible AD | YE6: Possible AD | YF6: Possible AD | YG6: Possible AD | YH6: Possible AD | YI6: Possible AD | YJ6: Possible AD | YK6: Possible AD | YL6: Possible AD | YM6: Possible AD | YN6: Possible AD | YO6: Possible AD | YP6: Possible AD | YQ6: Possible AD | YR6: Possible AD | YS6: Possible AD | YT6: Possible AD | YU6: Possible AD | YV6: Possible AD | YW6: Possible AD | YX6: Possible AD | YY6: Possible AD | YZ6: Possible AD | ZA6: Possible AD | ZB6: Possible AD | ZC6: Possible AD | ZD6: Possible AD | ZE6: Possible AD | ZF6: Possible AD | ZG6: Possible AD | ZH6: Possible AD | ZI6: Possible AD | ZJ6: Possible AD | ZK6: Possible AD | ZL6: Possible AD | ZM6: Possible AD | ZN6: Possible AD | ZO6: Possible AD | ZP6: Possible AD | ZQ6: Possible AD | ZR6: Possible AD | ZS6: Possible AD | ZT6: Possible AD | ZU6: Possible AD | ZV6: Possible AD | ZW6: Possible AD | ZX6: Possible AD | ZY6: Possible AD | ZZ6: Possible AD | AAA6: Possible AD | AAB6: Possible AD | AAC6: Possible AD | AAD6: Possible AD | AAE6: Possible AD | AAF6: Possible AD | AAG6: Possible AD | AAH6: Possible AD | AAI6: Possible AD | AAJ6: Possible AD | AAK6: Possible AD | AAL6: Possible AD | AAM6: Possible AD | AAN6: Possible AD | AAO6: Possible AD | AAP6: Possible AD | AAQ6: Possible AD | AAR6: Possible AD | AAS6: Possible AD | AAT6: Possible AD | AAU6: Possible AD | AAV6: Possible AD | AAW6: Possible AD | AAX6: Possible AD | AAY6: Possible AD | AAZ6: Possible AD | ABA6: Possible AD | ABB6: Possible AD | ABC6: Possible AD | ABD6: Possible AD | ABE6: Possible AD | ABF6: Possible AD | ABG6: Possible AD | ABH6: Possible AD | ABI6: Possible AD | ABJ6: Possible AD | ABK6: Possible AD | ABL6: Possible AD | ABM6: Possible AD | ABN6: Possible AD | ABO6: Possible AD | ABP6: Possible AD | ABQ6: Possible AD | ABR6: Possible AD | ABS6: Possible AD | ABT6: Possible AD | ABU6: Possible AD | ABV6: Possible AD | ABW6: Possible AD | ABX6: Possible AD | ABY6: Possible AD | ABZ6: Possible AD | ACA6: Possible AD | ACB6: Possible AD | ACC6: Possible AD | ACD6: Possible AD | ACE6: Possible AD | ACF6: Possible AD | ACG6: Possible AD | ACH6: Possible AD | ACI6: Possible AD | ACJ6: Possible AD | ACK6: Possible AD | ACL6: Possible AD | ACM6: Possible AD | ACN6: Possible AD | ACO6: Possible AD | ACP6: Possible AD | ACQ6: Possible AD | ACR6: Possible AD | ACS6: Probable AD | ACT6: Probable AD | ACU6: Probable AD | ACV6: Probable AD | ACW6: Probable AD | ACX6: Probable AD | ACY6: Probable AD | ACZ6: Probable AD | ADA6: Probable AD | ADB6: Probable AD | ADC6: Probable AD | ADD6: Probable AD | ADE6: Probable AD | ADF6: Probable AD | ADG6: Probable AD | ADH6: Probable AD | ADI6: Probable AD | ADJ6: Probable AD | ADK6: Probable AD | ADL6: Probable AD | ADM6: Probable AD | ADN6: Probable AD | ADO6: Probable AD | ADP6: Probable AD | ADQ6: Probable AD | ADR6: Probable AD | ADS6: Probable AD | ADT6: Probable AD | ADU6: Probable AD | ADV6: Probable AD | ADW6: Probable AD | ADX6: Probable AD | ADY6: Probable AD | ADZ6: Probable AD | AEA6: Probable AD | AEB6: Probable AD | AEC6: Probable AD | AED6: Probable AD | AEE6: Probable AD | AEF6: Probable AD | AEG6: Probable AD | AEH6: Probable AD | AEI6: Probable AD | AEJ6: Probable AD | AEK6: Probable AD | AEL6: Probable AD | AEM6: Probable AD | AEN6: Probable AD | AEO6: Probable AD | AEP6: Probable AD | AEQ6: Probable AD | AER6: Probable AD | AES6: Probable AD | AET6: Probable AD | AEU6: Probable AD | AEV6: Probable AD | AEW6: Probable AD | AEX6: Probable AD | AEY6: Probable AD | AEZ6: Probable AD | AFA6: Probable AD | AFB6: Probable AD | AFC6: Probable AD | AFD6: Probable AD | AFE6: Probable AD | AFF6: Probable AD | AFG6: Probable AD | AFH6: Probable AD | AFI6: Probable AD | AFJ6: Probable AD | AFK6: Probable AD | AFL6: Probable AD | AFM6: Probable AD | AFN6: Probable AD | AFO6: Probable AD | AFP6: Probable AD | AFQ6: Probable AD | AFR6: Probable AD | AFS6: Probable AD | AFT6: Probable AD | AFU6: Probable AD | AFV6: Probable AD | AFW6: Probable AD | AFX6: Probable AD | AFY6: Probable AD | AFZ6: Probable AD | AGA6: Probable AD | AGB6: Probable AD | AGC6: Probable AD | AGD6: Probable AD | AGE6: Probable AD | AGF6: Probable AD | AGG6: Probable AD | AGH6: Probable AD | AGI6: Probable AD | AGJ6: Probable AD | AGK6: Probable AD | AGL6: Probable AD | AGM6: Probable AD | AGN6: Probable AD | AGO6: Probable AD | AGP6: Probable AD | AGQ6: Probable AD | AGR6: Probable AD | AGS6: Probable AD | AGT6: Probable AD | AGU6: Probable AD | AGV6: Probable AD | AGW6: Probable AD | AGX6: Probable AD | AGY6: Probable AD | AGZ6: Probable AD | AHA6: Probable AD | AHB6: Probable AD | AHC6: Probable AD | AHD6: Probable AD | AHE6: Probable AD | AHF6: Probable AD | AHG6: Probable AD | AHH6: Probable AD | AHI6: Probable AD | AHJ6: Probable AD | AHK6: Probable AD | AHL6: Probable AD | AHM6: Probable AD | AHN6: Probable AD | AHO6: Probable AD | AHP6: Probable AD | AHQ6: Probable AD | AHR6: Probable AD | AHS6: Probable AD | AHT6: Probable AD | AHU6: Probable AD | AHV6: Probable AD | AHW6: Probable AD | AHX6: Probable AD | AHY6: Probable AD | AHZ6: Probable AD | AIA6: Probable AD | AIB6: Probable AD | AIC6: Probable AD | AID6: Probable AD | AIE6: Probable AD | AIF6: Probable AD | AIG6: Probable AD | AIH6: Probable AD | AII6: Probable AD | AIJ6: Probable AD | AIK6: Probable AD | AIL6: Probable AD | AIM6: Probable AD | AIN6: Probable AD | AIO6: Probable AD | AIP6: Probable AD | AIQ6: Probable AD | AIR6: Probable AD | AIS6: Probable AD | AIT6: Probable AD | AIU6: Probable AD | AIV6: Probable AD | AIW6: Probable AD | AIX6: Probable AD | AIY6: Probable AD | AIZ6: Probable AD | AJA6: Probable AD | AJB6: Probable AD | AJC6: Probable AD | AJD6: Probable AD | AJE6: Probable AD | AJF6: Probable AD | AJG6: Probable AD | AJH6: Probable AD | AJI6: Probable AD | AJJ6: Probable AD | AJK6: Probable AD | AJL6: Probable AD | AJM6: Probable AD | AJN6: Probable AD | AJO6: Probable AD | AJP6: Probable AD
A7: average neuritic plaque density | B7: 6.4 | C7: 29.76 | D7: 8.48 | E7: 20.96 | F7: 35.28 | G7: 12.16 | H7: 14.32 | I7: 20.4 | J7: 17.9 | K7: 13.76 | L7: 9.43 | M7: 7.26 | N7: 14.1 | O7: 18.56 | P7: 25.36 | Q7: 9.12 | R7: 9.6 | S7: 18.49 | T7: 12.16 | U7: 11.04 | V7: 24.88 | W7: 7.04 | X7: 6.72 | Y7: 10.16 | Z7: 6.4 | AA7: 14 | AB7: 29.76 | AC7: 12.16 | AD7: 13.76 | AE7: 9.43 | AF7: 7.26 | AG7: 14.1 | AH7: 18.56 | AI7: 12.88 | AJ7: 9.12 | AK7: 9.68 | AL7: 18.49 | AM7: 7.04 | AN7: 6.4 | AO7: 14 | AP7: 17.52 | AQ7: 29.76 | AR7: 8.48 | AS7: 20.96 | AT7: 35.28 | AU7: 12.16 | AV7: 14.32 | AW7: 13.76 | AX7: 9.43 | AY7: 7.26 | AZ7: 14.1 | BA7: 18.56 | BB7: 25.36 | BC7: 9.12 | BD7: 18.49 | BE7: 7.04 | BF7: 33.84 | BG7: 6.4 | BH7: 29.76 | BI7: 8.48 | BJ7: 20.96 | BK7: 35.28 | BL7: 12.16 | BM7: 14.32 | BN7: 13.76 | BO7: 9.43 | BP7: 7.26 | BQ7: 14.1 | BR7: 18.56 | BS7: 25.36 | BT7: 9.12 | BU7: 9.6 | BV7: 18.49 | BW7: 12.16 | BX7: 11.04 | BY7: 7.04 | BZ7: 33.84 | CA7: 14 | CB7: 17.52 | CC7: 29.76 | CD7: 8.48 | CE7: 20.96 | CF7: 35.28 | CG7: 12.16 | CH7: 14.32 | CI7: 20.4 | CJ7: 13.76 | CK7: 7.26 | CL7: 18.56 | CM7: 25.52 | CN7: 12.88 | CO7: 9.12 | CP7: 8.16 | CQ7: 2.16 | CR7: 14 | CS7: 18.49 | CT7: 12.16 | CU7: 8 | CV7: 7.04 | CW7: 6.4 | CX7: 17.52 | CY7: 29.76 | CZ7: 8.48 | DA7: 12.16 | DB7: 14.32 | DC7: 20.4 | DD7: 17.9 | DE7: 13.76 | DF7: 9.43 | DG7: 7.26 | DH7: 14.1 | DI7: 18.56 | DJ7: 25.36 | DK7: 9.12 | DL7: 9.6 | DM7: 9.68 | DN7: 18.49 | DO7: 12.16 | DP7: 11.04 | DQ7: 7.04 | DR7: 6.72 | DS7: 33.84 | DT7: 6.4 | DU7: 14 | DV7: 29.76 | DW7: 8.48 | DX7: 20.96 | DY7: 35.28 | DZ7: 12.16 | EA7: 14.32 | EB7: 20.4 | EC7: 13.76 | ED7: 9.43 | EE7: 7.26 | EF7: 14.1 | EG7: 18.56 | EH7: 25.52 | EI7: 25.36 | EJ7: 9.12 | EK7: 18.49 | EL7: 12.16 | EM7: 11.04 | EN7: 14 | EO7: 29.76 | EP7: 8.48 | EQ7: 12.16 | ER7: 14.32 | ES7: 20.4 | ET7: 13.76 | EU7: 9.771429 | EV7: 9.43 | EW7: 7.26 | EX7: 14.1 | EY7: 18.56 | EZ7: 25.52 | FA7: 25.36 | FB7: 12.88 | FC7: 9.12 | FD7: 8.16 | FE7: 22.32 | FF7: 2.16 | FG7: 18.49 | FH7: 12.16 | FI7: 11.04 | FJ7: 7.04 | FK7: 29.76 | FL7: 20.96 | FM7: 35.28 | FN7: 14.32 | FO7: 13.76 | FP7: 9.771429 | FQ7: 7.26 | FR7: 14.1 | FS7: 18.56 | FT7: 8.88 | FU7: 25.36 | FV7: 9.12 | FW7: 18.49 | FX7: 12.16 | FY7: 11.04 | FZ7: 7.04 | GA7: 6.72 | GB7: 33.84 | GC7: 6.4 | GD7: 14 | GE7: 17.52 | GF7: 29.76 | GG7: 20.96 | GH7: 12.16 | GI7: 14.32 | GJ7: 13.76 | GK7: 9.771429 | GL7: 9.43 | GM7: 7.26 | GN7: 18.56 | GO7: 8.88 | GP7: 25.36 | GQ7: 9.12 | GR7: 18.49 | GS7: 12.16 | GT7: 11.04 | GU7: 7.04 | GV7: 6.4 | GW7: 14 | GX7: 29.76 | GY7: 8.48 | GZ7: 35.28 | HA7: 12.16 | HB7: 14.32 | HC7: 13.76 | HD7: 9.43 | HE7: 7.26 | HF7: 14.1 | HG7: 18.56 | HH7: 25.52 | HI7: 25.36 | HJ7: 9.12 | HK7: 18.49 | HL7: 12.16 | HM7: 7.04 | HN7: 6.72 | HO7: 6.4 | HP7: 14 | HQ7: 29.76 | HR7: 8.48 | HS7: 35.28 | HT7: 12.16 | HU7: 14.32 | HV7: 13.76 | HW7: 14.1 | HX7: 18.56 | HY7: 25.52 | HZ7: 25.36 | IA7: 18.49 | IB7: 12.16 | IC7: 11.04 | ID7: 7.04 | IE7: 33.84 | IF7: 14 | IG7: 29.76 | IH7: 12.16 | II7: 14.32 | IJ7: 13.76 | IK7: 24.685714 | IL7: 9.43 | IM7: 18.56 | IN7: 25.36 | IO7: 9.12 | IP7: 12.16 | IQ7: 11.04 | IR7: 7.04 | IS7: 14 | IT7: 29.76 | IU7: 8.48 | IV7: 35.28 | IW7: 12.16 | IX7: 14.32 | IY7: 20.4 | IZ7: 17.942857 | JA7: 13.76 | JB7: 24.685714 | JC7: 9.43 | JD7: 7.26 | JE7: 14.1 | JF7: 18.56 | JG7: 41.44 | JH7: 25.36 | JI7: 9.12 | JJ7: 12.16 | JK7: 11.04 | JL7: 7.04 | JM7: 10.16 | JN7: 6.4 | JO7: 17.52 | JP7: 8.48 | JQ7: 35.28 | JR7: 12.16 | JS7: 14.32 | JT7: 13.76 | JU7: 9.43 | JV7: 7.26 | JW7: 14.1 | JX7: 25.52 | JY7: 25.36 | JZ7: 18.49 | KA7: 12.16 | KB7: 11.04 | KC7: 18.88 | KD7: 7.04 | KE7: 33.84 | KF7: 6.4 | KG7: 8.48 | KH7: 35.28 | KI7: 12.16 | KJ7: 14.32 | KK7: 13.76 | KL7: 9.43 | KM7: 7.26 | KN7: 14.1 | KO7: 18.56 | KP7: 25.36 | KQ7: 9.6 | KR7: 9.68 | KS7: 18.49 | KT7: 16.88 | KU7: 12.16 | KV7: 11.04 | KW7: 7.04 | KX7: 29.76 | KY7: 8.48 | KZ7: 20.96 | LA7: 35.28 | LB7: 12.16 | LC7: 20.4 | LD7: 13.76 | LE7: 9.43 | LF7: 14.1 | LG7: 18.56 | LH7: 25.52 | LI7: 25.36 | LJ7: 9.12 | LK7: 18.49 | LL7: 12.16 | LM7: 11.04 | LN7: 7.04 | LO7: 6.72 | LP7: 33.84 | LQ7: 10.16 | LR7: 0 | LS7: 0 | LT7: 0 | LU7: 0 | LV7: 0 | LW7: 7.16 | LX7: 4.08 | LY7: 1.12 | LZ7: 0 | MA7: 1.28 | MB7: 0 | MC7: 0 | MD7: 0 | ME7: 0 | MF7: 0 | MG7: 0 | MH7: 0 | MI7: 7.16 | MJ7: 4.08 | MK7: 1.12 | ML7: 0 | MM7: 0 | MN7: 1.28 | MO7: 0 | MP7: 0 | MQ7: 0 | MR7: 0 | MS7: 0 | MT7: 0 | MU7: 0 | MV7: 0 | MW7: 0 | MX7: 7.16 | MY7: 4.08 | MZ7: 1.12 | NA7: 0 | NB7: 1.28 | NC7: 0 | ND7: 0 | NE7: 0 | NF7: 0 | NG7: 0 | NH7: 0 | NI7: 0 | NJ7: 0 | NK7: 0 | NL7: 0 | NM7: 7.16 | NN7: 4.08 | NO7: 1.12 | NP7: 0 | NQ7: 1.28 | NR7: 0 | NS7: 0 | NT7: 0 | NU7: 0 | NV7: 0 | NW7: 0 | NX7: 0 | NY7: 0 | NZ7: 0 | OA7: 7.16 | OB7: 4.08 | OC7: 1.12 | OD7: 0 | OE7: 1.28 | OF7: 0 | OG7: 0 | OH7: 0 | OI7: 0 | OJ7: 0 | OK7: 0 | OL7: 0 | OM7: 7.16 | ON7: 4.08 | OO7: 1.12 | OP7: 0 | OQ7: 1.28 | OR7: 0 | OS7: 0 | OT7: 0 | OU7: 0 | OV7: 0 | OW7: 0 | OX7: 0 | OY7: 0 | OZ7: 0 | PA7: 7.16 | PB7: 5.36 | PC7: 4.08 | PD7: 1.12 | PE7: 0 | PF7: 1.28 | PG7: 0 | PH7: 0 | PI7: 0 | PJ7: 0 | PK7: 0 | PL7: 0 | PM7: 0 | PN7: 0 | PO7: 0 | PP7: 7.76 | PQ7: 0 | PR7: 7.16 | PS7: 4.08 | PT7: 0 | PU7: 1.28 | PV7: 0 | PW7: 0 | PX7: 0 | PY7: 0 | PZ7: 0 | QA7: 0 | QB7: 0 | QC7: 0 | QD7: 0 | QE7: 7.16 | QF7: 5.36 | QG7: 4.08 | QH7: 0 | QI7: 1.28 | QJ7: 0 | QK7: 0 | QL7: 0 | QM7: 0 | QN7: 0 | QO7: 0 | QP7: 0 | QQ7: 0 | QR7: 1.28 | QS7: 0 | QT7: 0 | QU7: 0 | QV7: 0 | QW7: 7.16 | QX7: 4.08 | QY7: 1.12 | QZ7: 0 | RA7: 1.28 | RB7: 0 | RC7: 0 | RD7: 0 | RE7: 0 | RF7: 0 | RG7: 0 | RH7: 0 | RI7: 0 | RJ7: 7.16 | RK7: 4.08 | RL7: 1.12 | RM7: 0 | RN7: 0 | RO7: 1.28 | RP7: 0 | RQ7: 0 | RR7: 0 | RS7: 0 | RT7: 0 | RU7: 0 | RV7: 0 | RW7: 0 | RX7: 5.36 | RY7: 4.08 | RZ7: 1.12 | SA7: 0 | SB7: 1.28 | SC7: 0 | SD7: 0 | SE7: 0 | SF7: 0 | SG7: 0 | SH7: 0 | SI7: 0 | SJ7: 0 | SK7: 0 | SL7: 1.12 | SM7: 0 | SN7: 1.28 | SO7: 0 | SP7: 0 | SQ7: 0 | SR7: 0 | SS7: 0 | ST7: 7.16 | SU7: 5.36 | SV7: 4.08 | SW7: 1.12 | SX7: 0 | SY7: 1.28 | SZ7: 0 | TA7: 0 | TB7: 0 | TC7: 0 | TD7: 0 | TE7: 0 | TF7: 0 | TG7: 7.16 | TH7: 4.08 | TI7: 1.12 | TJ7: 0 | TK7: 1.28 | TL7: 0 | TM7: 0 | TN7: 0 | TO7: 0 | TP7: 0 | TQ7: 0 | TR7: 7.16 | TS7: 5.36 | TT7: 4.08 | TU7: 1.12 | TV7: 1.28 | TW7: 0 | TX7: 2.48 | TY7: 9.52 | TZ7: 12.32 | UA7: 3.92 | UB7: 1.2 | UC7: 0 | UD7: 7.33 | UE7: 9.04 | UF7: 6.32 | UG7: 1.84 | UH7: 7.04 | UI7: 9.52 | UJ7: 5.52 | UK7: 2.48 | UL7: 9.52 | UM7: 12.32 | UN7: 1.2 | UO7: 0 | UP7: 7.28 | UQ7: 7.33 | UR7: 9.04 | US7: 6.32 | UT7: 13.52 | UU7: 1.84 | UV7: 7.04 | UW7: 5.52 | UX7: 5.52 | UY7: 2.48 | UZ7: 9.52 | VA7: 3.76 | VB7: 3.92 | VC7: 1.2 | VD7: 0 | VE7: 7.33 | VF7: 9.04 | VG7: 6.32 | VH7: 13.52 | VI7: 1.84 | VJ7: 7.04 | VK7: 9.52 | VL7: 5.52 | VM7: 2.48 | VN7: 9.52 | VO7: 12.32 | VP7: 3.92 | VQ7: 1.2 | VR7: 0 | VS7: 7.33 | VT7: 9.04 | VU7: 6.32 | VV7: 1.84 | VW7: 7.04 | VX7: 9.52 | VY7: 5.52 | VZ7: 9.52 | WA7: 3.76 | WB7: 3.6 | WC7: 5.546 | WD7: 12.32 | WE7: 6.56 | WF7: 3.92 | WG7: 0 | WH7: 7.33 | WI7: 9.04 | WJ7: 6.32 | WK7: 7.04 | WL7: 9.52 | WM7: 5.52 | WN7: 5.52 | WO7: 2.48 | WP7: 9.52 | WQ7: 3.76 | WR7: 12.32 | WS7: 3.92 | WT7: 1.2 | WU7: 0 | WV7: 7.28 | WW7: 7.33 | WX7: 9.04 | WY7: 6.32 | WZ7: 1.84 | XA7: 7.04 | XB7: 5.52 | XC7: 5.52 | XD7: 9.52 | XE7: 12.32 | XF7: 1.2 | XG7: 0 | XH7: 7.33 | XI7: 9.04 | XJ7: 6.32 | XK7: 13.52 | XL7: 7.04 | XM7: 9.52 | XN7: 5.52 | XO7: 9.52 | XP7: 3.76 | XQ7: 3.6 | XR7: 5.546 | XS7: 12.32 | XT7: 3.92 | XU7: 0 | XV7: 7.33 | XW7: 9.04 | XX7: 6.32 | XY7: 7.04 | XZ7: 5.52 | YA7: 5.52 | YB7: 2.48 | YC7: 9.52 | YD7: 3.76 | YE7: 12.32 | YF7: 3.92 | YG7: 1.2 | YH7: 0 | YI7: 7.33 | YJ7: 9.04 | YK7: 6.32 | YL7: 13.52 | YM7: 7.04 | YN7: 9.52 | YO7: 5.52 | YP7: 5.52 | YQ7: 2.48 | YR7: 9.52 | YS7: 3.76 | YT7: 12.32 | YU7: 3.92 | YV7: 1.2 | YW7: 7.28 | YX7: 7.33 | YY7: 9.04 | YZ7: 6.32 | ZA7: 7.04 | ZB7: 9.52 | ZC7: 5.52 | ZD7: 2.48 | ZE7: 9.52 | ZF7: 3.76 | ZG7: 12.32 | ZH7: 3.92 | ZI7: 1.2 | ZJ7: 0 | ZK7: 7.28 | ZL7: 7.33 | ZM7: 9.04 | ZN7: 6.32 | ZO7: 13.52 | ZP7: 1.84 | ZQ7: 7.04 | ZR7: 5.52 | ZS7: 2.48 | ZT7: 9.52 | ZU7: 12.32 | ZV7: 1.2 | ZW7: 0 | ZX7: 7.28 | ZY7: 7.33 | ZZ7: 9.04 | AAA7: 6.32 | AAB7: 1.84 | AAC7: 7.04 | AAD7: 9.52 | AAE7: 5.52 | AAF7: 2.48 | AAG7: 9.52 | AAH7: 5.546 | AAI7: 12.32 | AAJ7: 3.92 | AAK7: 1.2 | AAL7: 0 | AAM7: 7.28 | AAN7: 7.33 | AAO7: 9.04 | AAP7: 6.32 | AAQ7: 1.84 | AAR7: 7.04 | AAS7: 5.52 | AAT7: 5.52 | AAU7: 2.48 | AAV7: 9.52 | AAW7: 3.6 | AAX7: 12.32 | AAY7: 6.56 | AAZ7: 3.92 | ABA7: 1.2 | ABB7: 0 | ABC7: 7.33 | ABD7: 9.04 | ABE7: 5.52 | ABF7: 5.52 | ABG7: 12.32 | ABH7: 3.92 | ABI7: 1.2 | ABJ7: 0 | ABK7: 7.33 | ABL7: 6.32 | ABM7: 13.52 | ABN7: 1.84 | ABO7: 7.04 | ABP7: 9.52 | ABQ7: 5.52 | ABR7: 5.52 | ABS7: 2.48 | ABT7: 9.52 | ABU7: 3.6 | ABV7: 12.32 | ABW7: 3.92 | ABX7: 1.2 | ABY7: 0 | ABZ7: 7.33 | ACA7: 9.04 | ACB7: 6.32 | ACC7: 7.04 | ACD7: 9.52 | ACE7: 5.52 | ACF7: 5.52 | ACG7: 2.48 | ACH7: 9.52 | ACI7: 12.32 | ACJ7: 3.92 | ACK7: 1.2 | ACL7: 0 | ACM7: 7.33 | ACN7: 9.04 | ACO7: 6.32 | ACP7: 13.52 | ACQ7: 9.52 | ACR7: 5.52 | ACS7: 7.12 | ACT7: 8.51 | ACU7: 6.8 | ACV7: 4.8 | ACW7: 2.72 | ACX7: 10.48 | ACY7: 7.2 | ACZ7: 9.36 | ADA7: 3.6 | ADB7: 4.08 | ADC7: 10.4 | ADD7: 6.8 | ADE7: 10.72 | ADF7: 10.48 | ADG7: 9.76 | ADH7: 7.2 | ADI7: 8.8 | ADJ7: 5.6 | ADK7: 7.6 | ADL7: 9.36 | ADM7: 3.6 | ADN7: 3.76 | ADO7: 10.4 | ADP7: 4.88 | ADQ7: 7.12 | ADR7: 8.51 | ADS7: 6.8 | ADT7: 10.48 | ADU7: 7.2 | ADV7: 9.36 | ADW7: 3.6 | ADX7: 3.76 | ADY7: 4.08 | ADZ7: 10.4 | AEA7: 4.88 | AEB7: 8.51 | AEC7: 10.72 | AED7: 10.48 | AEE7: 9.76 | AEF7: 5.6 | AEG7: 7.6 | AEH7: 3.6 | AEI7: 3.76 | AEJ7: 4.08 | AEK7: 10.4 | AEL7: 4.88 | AEM7: 8.51 | AEN7: 6.8 | AEO7: 4.88 | AEP7: 10.48 | AEQ7: 7.2 | AER7: 3.6 | AES7: 5.230769 | AET7: 10.4 | AEU7: 7.12 | AEV7: 8.51 | AEW7: 6.8 | AEX7: 4.88 | AEY7: 2.72 | AEZ7: 10.48 | AFA7: 3.76 | AFB7: 10.4 | AFC7: 7.12 | AFD7: 8.51 | AFE7: 4.88 | AFF7: 4.8 | AFG7: 2.72 | AFH7: 10.48 | AFI7: 9.76 | AFJ7: 8.8 | AFK7: 9.36 | AFL7: 3.6 | AFM7: 9.12 | AFN7: 10.4 | AFO7: 6.8 | AFP7: 4.88 | AFQ7: 4.8 | AFR7: 10.48 | AFS7: 9.76 | AFT7: 8.8 | AFU7: 3.6 | AFV7: 4.08 | AFW7: 10.4 | AFX7: 4.88 | AFY7: 7.12 | AFZ7: 8.51 | AGA7: 6.8 | AGB7: 4.88 | AGC7: 4.8 | AGD7: 10.48 | AGE7: 9.76 | AGF7: 9.36 | AGG7: 3.6 | AGH7: 10.4 | AGI7: 4.88 | AGJ7: 8.51 | AGK7: 6.8 | AGL7: 4.88 | AGM7: 10.72 | AGN7: 10.48 | AGO7: 9.76 | AGP7: 8.8 | AGQ7: 5.6 | AGR7: 9.36 | AGS7: 3.6 | AGT7: 10.4 | AGU7: 7.12 | AGV7: 8.51 | AGW7: 4.88 | AGX7: 4.8 | AGY7: 2.72 | AGZ7: 10.48 | AHA7: 5.6 | AHB7: 10.4 | AHC7: 4.88 | AHD7: 8.51 | AHE7: 6.8 | AHF7: 4.88 | AHG7: 2.72 | AHH7: 10.48 | AHI7: 7.2 | AHJ7: 9.36 | AHK7: 3.6 | AHL7: 4.08 | AHM7: 10.4 | AHN7: 6.8 | AHO7: 4.88 | AHP7: 4.8 | AHQ7: 10.48 | AHR7: 9.76 | AHS7: 8.8 | AHT7: 3.6 | AHU7: 3.76 | AHV7: 10.4 | AHW7: 4.88 | AHX7: 7.12 | AHY7: 8.51 | AHZ7: 6.8 | AIA7: 4.8 | AIB7: 2.72 | AIC7: 10.48 | AID7: 9.36 | AIE7: 3.6 | AIF7: 5.230769 | AIG7: 3.76 | AIH7: 10.4 | AII7: 4.88 | AIJ7: 6.8 | AIK7: 4.88 | AIL7: 4.8 | AIM7: 2.72 | AIN7: 10.48 | AIO7: 7.2 | AIP7: 9.36 | AIQ7: 3.6 | AIR7: 4.08 | AIS7: 10.4 | AIT7: 4.88 | AIU7: 7.12 | AIV7: 8.51 | AIW7: 6.8 | AIX7: 4.88 | AIY7: 10.48 | AIZ7: 7.2 | AJA7: 7.6 | AJB7: 9.36 | AJC7: 3.6 | AJD7: 4.08 | AJE7: 10.4 | AJF7: 4.88 | AJG7: 7.12 | AJH7: 6.8 | AJI7: 10.48 | AJJ7: 7.2 | AJK7: 7.6 | AJL7: 9.36 | AJM7: 3.6 | AJN7: 9.12 | AJO7: 4.08 | AJP7: 10.4
A8: sum of cerad rating scores in multiple brain regions | B8: 9 | C8: 29 | D8: 20 | E8: 25 | F8: 31 | G8: 29 | H8: 33 | I8: 35 | J8: 23 | K8: 26 | L8: 19 | M8: 18 | N8: 20 | O8: 33 | P8: 31 | Q8: 17 | R8: 11 | S8: 33 | T8: 21 | U8: 19 | V8: 27 | W8: 14 | X8: 15 | Y8: 19 | Z8: 9 | AA8: 29 | AB8: 29 | AC8: 29 | AD8: 26 | AE8: 19 | AF8: 18 | AG8: 20 | AH8: 33 | AI8: 19 | AJ8: 17 | AK8: 17 | AL8: 33 | AM8: 14 | AN8: 9 | AO8: 29 | AP8: 33 | AQ8: 29 | AR8: 20 | AS8: 25 | AT8: 31 | AU8: 29 | AV8: 33 | AW8: 26 | AX8: 19 | AY8: 18 | AZ8: 20 | BA8: 33 | BB8: 31 | BC8: 17 | BD8: 33 | BE8: 14 | BF8: 31 | BG8: 9 | BH8: 29 | BI8: 20 | BJ8: 25 | BK8: 31 | BL8: 29 | BM8: 33 | BN8: 26 | BO8: 19 | BP8: 18 | BQ8: 20 | BR8: 33 | BS8: 31 | BT8: 17 | BU8: 11 | BV8: 33 | BW8: 21 | BX8: 19 | BY8: 14 | BZ8: 31 | CA8: 29 | CB8: 33 | CC8: 29 | CD8: 20 | CE8: 25 | CF8: 31 | CG8: 29 | CH8: 33 | CI8: 35 | CJ8: 26 | CK8: 18 | CL8: 33 | CM8: 33 | CN8: 19 | CO8: 17 | CP8: 15 | CQ8: 13 | CR8: 25 | CS8: 33 | CT8: 21 | CU8: 19 | CV8: 14 | CW8: 9 | CX8: 33 | CY8: 29 | CZ8: 20 | DA8: 29 | DB8: 33 | DC8: 35 | DD8: 23 | DE8: 26 | DF8: 19 | DG8: 18 | DH8: 20 | DI8: 33 | DJ8: 31 | DK8: 17 | DL8: 11 | DM8: 17 | DN8: 33 | DO8: 21 | DP8: 19 | DQ8: 14 | DR8: 15 | DS8: 31 | DT8: 9 | DU8: 29 | DV8: 29 | DW8: 20 | DX8: 25 | DY8: 31 | DZ8: 29 | EA8: 33 | EB8: 35 | EC8: 26 | ED8: 19 | EE8: 18 | EF8: 20 | EG8: 33 | EH8: 33 | EI8: 31 | EJ8: 17 | EK8: 33 | EL8: 21 | EM8: 19 | EN8: 29 | EO8: 29 | EP8: 20 | EQ8: 29 | ER8: 33 | ES8: 35 | ET8: 26 | EU8: 17 | EV8: 19 | EW8: 18 | EX8: 20 | EY8: 33 | EZ8: 33 | FA8: 31 | FB8: 19 | FC8: 17 | FD8: 15 | FE8: 29 | FF8: 13 | FG8: 33 | FH8: 21 | FI8: 19 | FJ8: 14 | FK8: 29 | FL8: 25 | FM8: 31 | FN8: 33 | FO8: 26 | FP8: 17 | FQ8: 18 | FR8: 20 | FS8: 33 | FT8: 25 | FU8: 31 | FV8: 17 | FW8: 33 | FX8: 21 | FY8: 19 | FZ8: 14 | GA8: 15 | GB8: 31 | GC8: 9 | GD8: 29 | GE8: 33 | GF8: 29 | GG8: 25 | GH8: 29 | GI8: 33 | GJ8: 26 | GK8: 17 | GL8: 19 | GM8: 18 | GN8: 33 | GO8: 25 | GP8: 31 | GQ8: 17 | GR8: 33 | GS8: 21 | GT8: 19 | GU8: 14 | GV8: 9 | GW8: 29 | GX8: 29 | GY8: 20 | GZ8: 31 | HA8: 29 | HB8: 33 | HC8: 26 | HD8: 19 | HE8: 18 | HF8: 20 | HG8: 33 | HH8: 33 | HI8: 31 | HJ8: 17 | HK8: 33 | HL8: 21 | HM8: 14 | HN8: 15 | HO8: 9 | HP8: 29 | HQ8: 29 | HR8: 20 | HS8: 31 | HT8: 29 | HU8: 33 | HV8: 26 | HW8: 20 | HX8: 33 | HY8: 33 | HZ8: 31 | IA8: 33 | IB8: 21 | IC8: 19 | ID8: 14 | IE8: 31 | IF8: 29 | IG8: 29 | IH8: 29 | II8: 33 | IJ8: 26 | IK8: 33 | IL8: 19 | IM8: 33 | IN8: 31 | IO8: 17 | IP8: 21 | IQ8: 19 | IR8: 14 | IS8: 29 | IT8: 29 | IU8: 20 | IV8: 31 | IW8: 29 | IX8: 33 | IY8: 35 | IZ8: 25 | JA8: 26 | JB8: 33 | JC8: 19 | JD8: 18 | JE8: 20 | JF8: 33 | JG8: 35 | JH8: 31 | JI8: 17 | JJ8: 21 | JK8: 19 | JL8: 14 | JM8: 19 | JN8: 9 | JO8: 33 | JP8: 20 | JQ8: 31 | JR8: 29 | JS8: 33 | JT8: 26 | JU8: 19 | JV8: 18 | JW8: 20 | JX8: 33 | JY8: 31 | JZ8: 33 | KA8: 21 | KB8: 19 | KC8: 27 | KD8: 14 | KE8: 31 | KF8: 9 | KG8: 20 | KH8: 31 | KI8: 29 | KJ8: 33 | KK8: 26 | KL8: 19 | KM8: 18 | KN8: 20 | KO8: 33 | KP8: 31 | KQ8: 11 | KR8: 17 | KS8: 33 | KT8: 31 | KU8: 21 | KV8: 19 | KW8: 14 | KX8: 29 | KY8: 20 | KZ8: 25 | LA8: 31 | LB8: 29 | LC8: 35 | LD8: 26 | LE8: 19 | LF8: 20 | LG8: 33 | LH8: 33 | LI8: 31 | LJ8: 17 | LK8: 33 | LL8: 21 | LM8: 19 | LN8: 14 | LO8: 15 | LP8: 31 | LQ8: 19 | LR8: 0 | LS8: 0 | LT8: 0 | LU8: 0 | LV8: 0 | LW8: 13 | LX8: 4 | LY8: 5 | LZ8: 0 | MA8: 1 | MB8: 0 | MC8: 0 | MD8: 0 | ME8: 0 | MF8: 0 | MG8: 0 | MH8: 0 | MI8: 13 | MJ8: 4 | MK8: 5 | ML8: 0 | MM8: 0 | MN8: 1 | MO8: 0 | MP8: 0 | MQ8: 0 | MR8: 0 | MS8: 0 | MT8: 0 | MU8: 0 | MV8: 0 | MW8: 0 | MX8: 13 | MY8: 4 | MZ8: 5 | NA8: 0 | NB8: 1 | NC8: 0 | ND8: 0 | NE8: 0 | NF8: 0 | NG8: 0 | NH8: 0 | NI8: 0 | NJ8: 0 | NK8: 0 | NL8: 0 | NM8: 13 | NN8: 4 | NO8: 5 | NP8: 0 | NQ8: 1 | NR8: 0 | NS8: 0 | NT8: 0 | NU8: 0 | NV8: 0 | NW8: 0 | NX8: 0 | NY8: 0 | NZ8: 0 | OA8: 13 | OB8: 4 | OC8: 5 | OD8: 0 | OE8: 1 | OF8: 0 | OG8: 0 | OH8: 0 | OI8: 0 | OJ8: 0 | OK8: 0 | OL8: 0 | OM8: 13 | ON8: 4 | OO8: 5 | OP8: 0 | OQ8: 1 | OR8: 0 | OS8: 0 | OT8: 0 | OU8: 0 | OV8: 0 | OW8: 0 | OX8: 0 | OY8: 0 | OZ8: 0 | PA8: 13 | PB8: 11 | PC8: 4 | PD8: 5 | PE8: 0 | PF8: 1 | PG8: 0 | PH8: 0 | PI8: 0 | PJ8: 0 | PK8: 0 | PL8: 0 | PM8: 0 | PN8: 0 | PO8: 0 | PP8: 16 | PQ8: 0 | PR8: 13 | PS8: 4 | PT8: 0 | PU8: 1 | PV8: 0 | PW8: 0 | PX8: 0 | PY8: 0 | PZ8: 0 | QA8: 0 | QB8: 0 | QC8: 0 | QD8: 0 | QE8: 13 | QF8: 11 | QG8: 4 | QH8: 0 | QI8: 1 | QJ8: 0 | QK8: 0 | QL8: 0 | QM8: 0 | QN8: 0 | QO8: 0 | QP8: 0 | QQ8: 0 | QR8: 1 | QS8: 0 | QT8: 0 | QU8: 0 | QV8: 0 | QW8: 13 | QX8: 4 | QY8: 5 | QZ8: 0 | RA8: 1 | RB8: 0 | RC8: 0 | RD8: 0 | RE8: 0 | RF8: 0 | RG8: 0 | RH8: 0 | RI8: 0 | RJ8: 13 | RK8: 4 | RL8: 5 | RM8: 0 | RN8: 0 | RO8: 1 | RP8: 0 | RQ8: 0 | RR8: 0 | RS8: 0 | RT8: 0 | RU8: 0 | RV8: 0 | RW8: 0 | RX8: 11 | RY8: 4 | RZ8: 5 | SA8: 0 | SB8: 1 | SC8: 0 | SD8: 0 | SE8: 0 | SF8: 0 | SG8: 0 | SH8: 0 | SI8: 0 | SJ8: 0 | SK8: 0 | SL8: 5 | SM8: 0 | SN8: 1 | SO8: 0 | SP8: 0 | SQ8: 0 | SR8: 0 | SS8: 0 | ST8: 13 | SU8: 11 | SV8: 4 | SW8: 5 | SX8: 0 | SY8: 1 | SZ8: 0 | TA8: 0 | TB8: 0 | TC8: 0 | TD8: 0 | TE8: 0 | TF8: 0 | TG8: 13 | TH8: 4 | TI8: 5 | TJ8: 0 | TK8: 1 | TL8: 0 | TM8: 0 | TN8: 0 | TO8: 0 | TP8: 0 | TQ8: 0 | TR8: 13 | TS8: 11 | TT8: 4 | TU8: 5 | TV8: 1 | TW8: 0 | TX8: 3 | TY8: 15 | TZ8: 21 | UA8: 8 | UB8: 3 | UC8: 0 | UD8: 23 | UE8: 15 | UF8: 16 | UG8: 3 | UH8: 19 | UI8: 19 | UJ8: 9 | UK8: 3 | UL8: 15 | UM8: 21 | UN8: 3 | UO8: 0 | UP8: 13 | UQ8: 23 | UR8: 15 | US8: 16 | UT8: 19 | UU8: 3 | UV8: 19 | UW8: 9 | UX8: 8 | UY8: 3 | UZ8: 15 | VA8: 11 | VB8: 8 | VC8: 3 | VD8: 0 | VE8: 23 | VF8: 15 | VG8: 16 | VH8: 19 | VI8: 3 | VJ8: 19 | VK8: 19 | VL8: 9 | VM8: 3 | VN8: 15 | VO8: 21 | VP8: 8 | VQ8: 3 | VR8: 0 | VS8: 23 | VT8: 15 | VU8: 16 | VV8: 3 | VW8: 19 | VX8: 19 | VY8: 9 | VZ8: 15 | WA8: 11 | WB8: 15 | WC8: 17 | WD8: 21 | WE8: 8 | WF8: 8 | WG8: 0 | WH8: 23 | WI8: 15 | WJ8: 16 | WK8: 19 | WL8: 19 | WM8: 9 | WN8: 8 | WO8: 3 | WP8: 15 | WQ8: 11 | WR8: 21 | WS8: 8 | WT8: 3 | WU8: 0 | WV8: 13 | WW8: 23 | WX8: 15 | WY8: 16 | WZ8: 3 | XA8: 19 | XB8: 9 | XC8: 8 | XD8: 15 | XE8: 21 | XF8: 3 | XG8: 0 | XH8: 23 | XI8: 15 | XJ8: 16 | XK8: 19 | XL8: 19 | XM8: 19 | XN8: 9 | XO8: 15 | XP8: 11 | XQ8: 15 | XR8: 17 | XS8: 21 | XT8: 8 | XU8: 0 | XV8: 23 | XW8: 15 | XX8: 16 | XY8: 19 | XZ8: 9 | YA8: 8 | YB8: 3 | YC8: 15 | YD8: 11 | YE8: 21 | YF8: 8 | YG8: 3 | YH8: 0 | YI8: 23 | YJ8: 15 | YK8: 16 | YL8: 19 | YM8: 19 | YN8: 19 | YO8: 9 | YP8: 8 | YQ8: 3 | YR8: 15 | YS8: 11 | YT8: 21 | YU8: 8 | YV8: 3 | YW8: 13 | YX8: 23 | YY8: 15 | YZ8: 16 | ZA8: 19 | ZB8: 19 | ZC8: 9 | ZD8: 3 | ZE8: 15 | ZF8: 11 | ZG8: 21 | ZH8: 8 | ZI8: 3 | ZJ8: 0 | ZK8: 13 | ZL8: 23 | ZM8: 15 | ZN8: 16 | ZO8: 19 | ZP8: 3 | ZQ8: 19 | ZR8: 8 | ZS8: 3 | ZT8: 15 | ZU8: 21 | ZV8: 3 | ZW8: 0 | ZX8: 13 | ZY8: 23 | ZZ8: 15 | AAA8: 16 | AAB8: 3 | AAC8: 19 | AAD8: 19 | AAE8: 9 | AAF8: 3 | AAG8: 15 | AAH8: 17 | AAI8: 21 | AAJ8: 8 | AAK8: 3 | AAL8: 0 | AAM8: 13 | AAN8: 23 | AAO8: 15 | AAP8: 16 | AAQ8: 3 | AAR8: 19 | AAS8: 9 | AAT8: 8 | AAU8: 3 | AAV8: 15 | AAW8: 15 | AAX8: 21 | AAY8: 8 | AAZ8: 8 | ABA8: 3 | ABB8: 0 | ABC8: 23 | ABD8: 15 | ABE8: 9 | ABF8: 8 | ABG8: 21 | ABH8: 8 | ABI8: 3 | ABJ8: 0 | ABK8: 23 | ABL8: 16 | ABM8: 19 | ABN8: 3 | ABO8: 19 | ABP8: 19 | ABQ8: 9 | ABR8: 8 | ABS8: 3 | ABT8: 15 | ABU8: 15 | ABV8: 21 | ABW8: 8 | ABX8: 3 | ABY8: 0 | ABZ8: 23 | ACA8: 15 | ACB8: 16 | ACC8: 19 | ACD8: 19 | ACE8: 9 | ACF8: 8 | ACG8: 3 | ACH8: 15 | ACI8: 21 | ACJ8: 8 | ACK8: 3 | ACL8: 0 | ACM8: 23 | ACN8: 15 | ACO8: 16 | ACP8: 19 | ACQ8: 19 | ACR8: 9 | ACS8: 15 | ACT8: 19 | ACU8: 8 | ACV8: 9 | ACW8: 9 | ACX8: 23 | ACY8: 16 | ACZ8: 15 | ADA8: 13 | ADB8: 10 | ADC8: 21 | ADD8: 8 | ADE8: 17 | ADF8: 23 | ADG8: 15 | ADH8: 17 | ADI8: 17 | ADJ8: 19 | ADK8: 17 | ADL8: 15 | ADM8: 13 | ADN8: 6 | ADO8: 21 | ADP8: 10 | ADQ8: 15 | ADR8: 19 | ADS8: 8 | ADT8: 23 | ADU8: 10 | ADV8: 15 | ADW8: 13 | ADX8: 6 | ADY8: 10 | ADZ8: 21 | AEA8: 10 | AEB8: 19 | AEC8: 17 | AED8: 23 | AEE8: 15 | AEF8: 19 | AEG8: 17 | AEH8: 13 | AEI8: 6 | AEJ8: 10 | AEK8: 21 | AEL8: 10 | AEM8: 19 | AEN8: 8 | AEO8: 11 | AEP8: 23 | AEQ8: 16 | AER8: 13 | AES8: 15 | AET8: 21 | AEU8: 15 | AEV8: 19 | AEW8: 8 | AEX8: 11 | AEY8: 9 | AEZ8: 23 | AFA8: 6 | AFB8: 21 | AFC8: 15 | AFD8: 19 | AFE8: 11 | AFF8: 9 | AFG8: 9 | AFH8: 23 | AFI8: 15 | AFJ8: 17 | AFK8: 15 | AFL8: 13 | AFM8: 16 | AFN8: 21 | AFO8: 8 | AFP8: 11 | AFQ8: 9 | AFR8: 23 | AFS8: 15 | AFT8: 17 | AFU8: 13 | AFV8: 10 | AFW8: 21 | AFX8: 10 | AFY8: 15 | AFZ8: 19 | AGA8: 8 | AGB8: 11 | AGC8: 9 | AGD8: 23 | AGE8: 15 | AGF8: 15 | AGG8: 13 | AGH8: 21 | AGI8: 10 | AGJ8: 19 | AGK8: 8 | AGL8: 11 | AGM8: 17 | AGN8: 23 | AGO8: 15 | AGP8: 17 | AGQ8: 19 | AGR8: 15 | AGS8: 13 | AGT8: 21 | AGU8: 15 | AGV8: 19 | AGW8: 11 | AGX8: 9 | AGY8: 9 | AGZ8: 23 | AHA8: 19 | AHB8: 21 | AHC8: 10 | AHD8: 19 | AHE8: 8 | AHF8: 11 | AHG8: 9 | AHH8: 23 | AHI8: 10 | AHJ8: 15 | AHK8: 13 | AHL8: 10 | AHM8: 21 | AHN8: 8 | AHO8: 11 | AHP8: 9 | AHQ8: 23 | AHR8: 15 | AHS8: 17 | AHT8: 13 | AHU8: 6 | AHV8: 21 | AHW8: 10 | AHX8: 15 | AHY8: 19 | AHZ8: 8 | AIA8: 9 | AIB8: 9 | AIC8: 23 | AID8: 15 | AIE8: 13 | AIF8: 15 | AIG8: 6 | AIH8: 21 | AII8: 10 | AIJ8: 8 | AIK8: 11 | AIL8: 9 | AIM8: 9 | AIN8: 23 | AIO8: 16 | AIP8: 15 | AIQ8: 13 | AIR8: 10 | AIS8: 21 | AIT8: 10 | AIU8: 15 | AIV8: 19 | AIW8: 8 | AIX8: 11 | AIY8: 23 | AIZ8: 10 | AJA8: 17 | AJB8: 15 | AJC8: 13 | AJD8: 10 | AJE8: 21 | AJF8: 10 | AJG8: 15 | AJH8: 8 | AJI8: 23 | AJJ8: 16 | AJK8: 17 | AJL8: 15 | AJM8: 13 | AJN8: 16 | AJO8: 10 | AJP8: 21
A9: sum of neurofibrillary tangles density in multiple brain regions | B9: 18 | C9: 24 | D9: 9 | E9: 9 | F9: 35 | G9: 2 | H9: 2 | I9: 26 | J9: 12 | K9: 14 | L9: 9 | M9: 20 | N9: 13 | O9: 11 | P9: 31 | Q9: 10 | R9: 13 | S9: 9 | T9: 26 | U9: 16 | V9: 21 | W9: 9 | X9: 16 | Y9: 25 | Z9: 18 | AA9: 14 | AB9: 24 | AC9: 2 | AD9: 14 | AE9: 9 | AF9: 20 | AG9: 13 | AH9: 11 | AI9: 21 | AJ9: 10 | AK9: 28 | AL9: 9 | AM9: 9 | AN9: 18 | AO9: 14 | AP9: 33 | AQ9: 24 | AR9: 9 | AS9: 9 | AT9: 35 | AU9: 2 | AV9: 2 | AW9: 14 | AX9: 9 | AY9: 20 | AZ9: 13 | BA9: 11 | BB9: 31 | BC9: 10 | BD9: 9 | BE9: 9 | BF9: 31 | BG9: 18 | BH9: 24 | BI9: 9 | BJ9: 9 | BK9: 35 | BL9: 2 | BM9: 2 | BN9: 14 | BO9: 9 | BP9: 20 | BQ9: 13 | BR9: 11 | BS9: 31 | BT9: 10 | BU9: 13 | BV9: 9 | BW9: 26 | BX9: 16 | BY9: 9 | BZ9: 31 | CA9: 14 | CB9: 33 | CC9: 24 | CD9: 9 | CE9: 9 | CF9: 35 | CG9: 2 | CH9: 2 | CI9: 26 | CJ9: 14 | CK9: 20 | CL9: 11 | CM9: 20 | CN9: 21 | CO9: 10 | CP9: 16 | CQ9: 17 | CR9: 14 | CS9: 9 | CT9: 26 | CU9: 18 | CV9: 9 | CW9: 18 | CX9: 33 | CY9: 24 | CZ9: 9 | DA9: 2 | DB9: 2 | DC9: 26 | DD9: 12 | DE9: 14 | DF9: 9 | DG9: 20 | DH9: 13 | DI9: 11 | DJ9: 31 | DK9: 10 | DL9: 13 | DM9: 28 | DN9: 9 | DO9: 26 | DP9: 16 | DQ9: 9 | DR9: 16 | DS9: 31 | DT9: 18 | DU9: 14 | DV9: 24 | DW9: 9 | DX9: 9 | DY9: 35 | DZ9: 2 | EA9: 2 | EB9: 26 | EC9: 14 | ED9: 9 | EE9: 20 | EF9: 13 | EG9: 11 | EH9: 20 | EI9: 31 | EJ9: 10 | EK9: 9 | EL9: 26 | EM9: 16 | EN9: 14 | EO9: 24 | EP9: 9 | EQ9: 2 | ER9: 2 | ES9: 26 | ET9: 14 | EU9: 20 | EV9: 9 | EW9: 20 | EX9: 13 | EY9: 11 | EZ9: 20 | FA9: 31 | FB9: 21 | FC9: 10 | FD9: 16 | FE9: 31 | FF9: 17 | FG9: 9 | FH9: 26 | FI9: 16 | FJ9: 9 | FK9: 24 | FL9: 9 | FM9: 35 | FN9: 2 | FO9: 14 | FP9: 20 | FQ9: 20 | FR9: 13 | FS9: 11 | FT9: 31 | FU9: 31 | FV9: 10 | FW9: 9 | FX9: 26 | FY9: 16 | FZ9: 9 | GA9: 16 | GB9: 31 | GC9: 18 | GD9: 14 | GE9: 33 | GF9: 24 | GG9: 9 | GH9: 2 | GI9: 2 | GJ9: 14 | GK9: 20 | GL9: 9 | GM9: 20 | GN9: 11 | GO9: 31 | GP9: 31 | GQ9: 10 | GR9: 9 | GS9: 26 | GT9: 16 | GU9: 9 | GV9: 18 | GW9: 14 | GX9: 24 | GY9: 9 | GZ9: 35 | HA9: 2 | HB9: 2 | HC9: 14 | HD9: 9 | HE9: 20 | HF9: 13 | HG9: 11 | HH9: 20 | HI9: 31 | HJ9: 10 | HK9: 9 | HL9: 26 | HM9: 9 | HN9: 16 | HO9: 18 | HP9: 14 | HQ9: 24 | HR9: 9 | HS9: 35 | HT9: 2 | HU9: 2 | HV9: 14 | HW9: 13 | HX9: 11 | HY9: 20 | HZ9: 31 | IA9: 9 | IB9: 26 | IC9: 16 | ID9: 9 | IE9: 31 | IF9: 14 | IG9: 24 | IH9: 2 | II9: 2 | IJ9: 14 | IK9: 28 | IL9: 9 | IM9: 11 | IN9: 31 | IO9: 10 | IP9: 26 | IQ9: 16 | IR9: 9 | IS9: 14 | IT9: 24 | IU9: 9 | IV9: 35 | IW9: 2 | IX9: 2 | IY9: 26 | IZ9: 24 | JA9: 14 | JB9: 28 | JC9: 9 | JD9: 20 | JE9: 13 | JF9: 11 | JG9: 26 | JH9: 31 | JI9: 10 | JJ9: 26 | JK9: 16 | JL9: 9 | JM9: 25 | JN9: 18 | JO9: 33 | JP9: 9 | JQ9: 35 | JR9: 2 | JS9: 2 | JT9: 14 | JU9: 9 | JV9: 20 | JW9: 13 | JX9: 20 | JY9: 31 | JZ9: 9 | KA9: 26 | KB9: 16 | KC9: 19 | KD9: 9 | KE9: 31 | KF9: 18 | KG9: 9 | KH9: 35 | KI9: 2 | KJ9: 2 | KK9: 14 | KL9: 9 | KM9: 20 | KN9: 13 | KO9: 11 | KP9: 31 | KQ9: 13 | KR9: 28 | KS9: 9 | KT9: 16 | KU9: 26 | KV9: 16 | KW9: 9 | KX9: 24 | KY9: 9 | KZ9: 9 | LA9: 35 | LB9: 2 | LC9: 26 | LD9: 14 | LE9: 9 | LF9: 13 | LG9: 11 | LH9: 20 | LI9: 31 | LJ9: 10 | LK9: 9 | LL9: 26 | LM9: 16 | LN9: 9 | LO9: 16 | LP9: 31 | LQ9: 25 | LR9: 0 | LS9: 4 | LT9: 0 | LU9: 3 | LV9: 1 | LW9: 4 | LX9: 2 | LY9: 10 | LZ9: 4 | MA9: 4 | MB9: 2 | MC9: 2 | MD9: 7 | ME9: 1 | MF9: 0 | MG9: 0 | MH9: 1 | MI9: 4 | MJ9: 2 | MK9: 10 | ML9: 2 | MM9: 4 | MN9: 4 | MO9: 2 | MP9: 2 | MQ9: 7 | MR9: 1 | MS9: 4 | MT9: 0 | MU9: 4 | MV9: 3 | MW9: 1 | MX9: 4 | MY9: 2 | MZ9: 10 | NA9: 4 | NB9: 4 | NC9: 2 | ND9: 2 | NE9: 7 | NF9: 1 | NG9: 0 | NH9: 0 | NI9: 4 | NJ9: 0 | NK9: 3 | NL9: 1 | NM9: 4 | NN9: 2 | NO9: 10 | NP9: 4 | NQ9: 4 | NR9: 2 | NS9: 2 | NT9: 1 | NU9: 0 | NV9: 0 | NW9: 4 | NX9: 0 | NY9: 3 | NZ9: 0 | OA9: 4 | OB9: 2 | OC9: 10 | OD9: 4 | OE9: 4 | OF9: 2 | OG9: 2 | OH9: 1 | OI9: 0 | OJ9: 0 | OK9: 3 | OL9: 1 | OM9: 4 | ON9: 2 | OO9: 10 | OP9: 4 | OQ9: 4 | OR9: 2 | OS9: 2 | OT9: 7 | OU9: 4 | OV9: 0 | OW9: 4 | OX9: 0 | OY9: 3 | OZ9: 1 | PA9: 4 | PB9: 6 | PC9: 2 | PD9: 10 | PE9: 4 | PF9: 4 | PG9: 2 | PH9: 2 | PI9: 1 | PJ9: 4 | PK9: 0 | PL9: 4 | PM9: 0 | PN9: 3 | PO9: 0 | PP9: 5 | PQ9: 1 | PR9: 4 | PS9: 2 | PT9: 4 | PU9: 4 | PV9: 2 | PW9: 7 | PX9: 1 | PY9: 1 | PZ9: 0 | QA9: 4 | QB9: 0 | QC9: 3 | QD9: 1 | QE9: 4 | QF9: 6 | QG9: 2 | QH9: 4 | QI9: 4 | QJ9: 2 | QK9: 2 | QL9: 7 | QM9: 1 | QN9: 0 | QO9: 4 | QP9: 3 | QQ9: 1 | QR9: 4 | QS9: 2 | QT9: 0 | QU9: 3 | QV9: 1 | QW9: 4 | QX9: 2 | QY9: 10 | QZ9: 4 | RA9: 4 | RB9: 2 | RC9: 2 | RD9: 4 | RE9: 0 | RF9: 4 | RG9: 0 | RH9: 3 | RI9: 1 | RJ9: 4 | RK9: 2 | RL9: 10 | RM9: 2 | RN9: 4 | RO9: 4 | RP9: 2 | RQ9: 2 | RR9: 1 | RS9: 4 | RT9: 0 | RU9: 0 | RV9: 3 | RW9: 1 | RX9: 6 | RY9: 2 | RZ9: 10 | SA9: 4 | SB9: 4 | SC9: 2 | SD9: 2 | SE9: 7 | SF9: 1 | SG9: 4 | SH9: 0 | SI9: 3 | SJ9: 5 | SK9: 1 | SL9: 10 | SM9: 4 | SN9: 4 | SO9: 2 | SP9: 2 | SQ9: 7 | SR9: 1 | SS9: 1 | ST9: 4 | SU9: 6 | SV9: 2 | SW9: 10 | SX9: 4 | SY9: 4 | SZ9: 2 | TA9: 2 | TB9: 7 | TC9: 1 | TD9: 0 | TE9: 3 | TF9: 1 | TG9: 4 | TH9: 2 | TI9: 10 | TJ9: 4 | TK9: 4 | TL9: 7 | TM9: 1 | TN9: 4 | TO9: 0 | TP9: 3 | TQ9: 1 | TR9: 4 | TS9: 6 | TT9: 2 | TU9: 10 | TV9: 4 | TW9: 7 | TX9: 10 | TY9: 5 | TZ9: 10 | UA9: 3 | UB9: 11 | UC9: 9 | UD9: 11 | UE9: 3 | UF9: 4 | UG9: 10 | UH9: 9 | UI9: 20 | UJ9: 8 | UK9: 10 | UL9: 5 | UM9: 10 | UN9: 11 | UO9: 9 | UP9: 5 | UQ9: 11 | UR9: 3 | US9: 4 | UT9: 12 | UU9: 10 | UV9: 9 | UW9: 8 | UX9: 2 | UY9: 10 | UZ9: 5 | VA9: 3 | VB9: 3 | VC9: 11 | VD9: 9 | VE9: 11 | VF9: 3 | VG9: 4 | VH9: 12 | VI9: 10 | VJ9: 9 | VK9: 20 | VL9: 8 | VM9: 10 | VN9: 5 | VO9: 10 | VP9: 3 | VQ9: 11 | VR9: 9 | VS9: 11 | VT9: 3 | VU9: 4 | VV9: 10 | VW9: 9 | VX9: 20 | VY9: 8 | VZ9: 5 | WA9: 3 | WB9: 5 | WC9: 7 | WD9: 10 | WE9: 13 | WF9: 3 | WG9: 9 | WH9: 11 | WI9: 3 | WJ9: 4 | WK9: 9 | WL9: 20 | WM9: 8 | WN9: 2 | WO9: 10 | WP9: 5 | WQ9: 3 | WR9: 10 | WS9: 3 | WT9: 11 | WU9: 9 | WV9: 5 | WW9: 11 | WX9: 3 | WY9: 4 | WZ9: 10 | XA9: 9 | XB9: 8 | XC9: 2 | XD9: 5 | XE9: 10 | XF9: 11 | XG9: 9 | XH9: 11 | XI9: 3 | XJ9: 4 | XK9: 12 | XL9: 9 | XM9: 20 | XN9: 8 | XO9: 5 | XP9: 3 | XQ9: 5 | XR9: 7 | XS9: 10 | XT9: 3 | XU9: 9 | XV9: 11 | XW9: 3 | XX9: 4 | XY9: 9 | XZ9: 8 | YA9: 2 | YB9: 10 | YC9: 5 | YD9: 3 | YE9: 10 | YF9: 3 | YG9: 11 | YH9: 9 | YI9: 11 | YJ9: 3 | YK9: 4 | YL9: 12 | YM9: 9 | YN9: 20 | YO9: 8 | YP9: 2 | YQ9: 10 | YR9: 5 | YS9: 3 | YT9: 10 | YU9: 3 | YV9: 11 | YW9: 5 | YX9: 11 | YY9: 3 | YZ9: 4 | ZA9: 9 | ZB9: 20 | ZC9: 8 | ZD9: 10 | ZE9: 5 | ZF9: 3 | ZG9: 10 | ZH9: 3 | ZI9: 11 | ZJ9: 9 | ZK9: 5 | ZL9: 11 | ZM9: 3 | ZN9: 4 | ZO9: 12 | ZP9: 10 | ZQ9: 9 | ZR9: 2 | ZS9: 10 | ZT9: 5 | ZU9: 10 | ZV9: 11 | ZW9: 9 | ZX9: 5 | ZY9: 11 | ZZ9: 3 | AAA9: 4 | AAB9: 10 | AAC9: 9 | AAD9: 20 | AAE9: 8 | AAF9: 10 | AAG9: 5 | AAH9: 7 | AAI9: 10 | AAJ9: 3 | AAK9: 11 | AAL9: 9 | AAM9: 5 | AAN9: 11 | AAO9: 3 | AAP9: 4 | AAQ9: 10 | AAR9: 9 | AAS9: 8 | AAT9: 2 | AAU9: 10 | AAV9: 5 | AAW9: 5 | AAX9: 10 | AAY9: 13 | AAZ9: 3 | ABA9: 11 | ABB9: 9 | ABC9: 11 | ABD9: 3 | ABE9: 8 | ABF9: 2 | ABG9: 10 | ABH9: 3 | ABI9: 11 | ABJ9: 9 | ABK9: 11 | ABL9: 4 | ABM9: 12 | ABN9: 10 | ABO9: 9 | ABP9: 20 | ABQ9: 8 | ABR9: 2 | ABS9: 10 | ABT9: 5 | ABU9: 5 | ABV9: 10 | ABW9: 3 | ABX9: 11 | ABY9: 9 | ABZ9: 11 | ACA9: 3 | ACB9: 4 | ACC9: 9 | ACD9: 20 | ACE9: 8 | ACF9: 2 | ACG9: 10 | ACH9: 5 | ACI9: 10 | ACJ9: 3 | ACK9: 11 | ACL9: 9 | ACM9: 11 | ACN9: 3 | ACO9: 4 | ACP9: 12 | ACQ9: 20 | ACR9: 8 | ACS9: 22 | ACT9: 10 | ACU9: 6 | ACV9: 2 | ACW9: 7 | ACX9: 20 | ACY9: 8 | ACZ9: 20 | ADA9: 9 | ADB9: 10 | ADC9: 16 | ADD9: 6 | ADE9: 20 | ADF9: 20 | ADG9: 5 | ADH9: 15 | ADI9: 4 | ADJ9: 16 | ADK9: 14 | ADL9: 20 | ADM9: 9 | ADN9: 11 | ADO9: 16 | ADP9: 4 | ADQ9: 22 | ADR9: 10 | ADS9: 6 | ADT9: 20 | ADU9: 2 | ADV9: 20 | ADW9: 9 | ADX9: 11 | ADY9: 10 | ADZ9: 16 | AEA9: 4 | AEB9: 10 | AEC9: 20 | AED9: 20 | AEE9: 5 | AEF9: 16 | AEG9: 14 | AEH9: 9 | AEI9: 11 | AEJ9: 10 | AEK9: 16 | AEL9: 4 | AEM9: 10 | AEN9: 6 | AEO9: 9 | AEP9: 20 | AEQ9: 8 | AER9: 9 | AES9: 5 | AET9: 16 | AEU9: 22 | AEV9: 10 | AEW9: 6 | AEX9: 9 | AEY9: 7 | AEZ9: 20 | AFA9: 11 | AFB9: 16 | AFC9: 22 | AFD9: 10 | AFE9: 9 | AFF9: 2 | AFG9: 7 | AFH9: 20 | AFI9: 5 | AFJ9: 4 | AFK9: 20 | AFL9: 9 | AFM9: 8 | AFN9: 16 | AFO9: 6 | AFP9: 9 | AFQ9: 2 | AFR9: 20 | AFS9: 5 | AFT9: 4 | AFU9: 9 | AFV9: 10 | AFW9: 16 | AFX9: 4 | AFY9: 22 | AFZ9: 10 | AGA9: 6 | AGB9: 9 | AGC9: 2 | AGD9: 20 | AGE9: 5 | AGF9: 20 | AGG9: 9 | AGH9: 16 | AGI9: 4 | AGJ9: 10 | AGK9: 6 | AGL9: 9 | AGM9: 20 | AGN9: 20 | AGO9: 5 | AGP9: 4 | AGQ9: 16 | AGR9: 20 | AGS9: 9 | AGT9: 16 | AGU9: 22 | AGV9: 10 | AGW9: 9 | AGX9: 2 | AGY9: 7 | AGZ9: 20 | AHA9: 16 | AHB9: 16 | AHC9: 4 | AHD9: 10 | AHE9: 6 | AHF9: 9 | AHG9: 7 | AHH9: 20 | AHI9: 2 | AHJ9: 20 | AHK9: 9 | AHL9: 10 | AHM9: 16 | AHN9: 6 | AHO9: 9 | AHP9: 2 | AHQ9: 20 | AHR9: 5 | AHS9: 4 | AHT9: 9 | AHU9: 11 | AHV9: 16 | AHW9: 4 | AHX9: 22 | AHY9: 10 | AHZ9: 6 | AIA9: 2 | AIB9: 7 | AIC9: 20 | AID9: 20 | AIE9: 9 | AIF9: 5 | AIG9: 11 | AIH9: 16 | AII9: 4 | AIJ9: 6 | AIK9: 9 | AIL9: 2 | AIM9: 7 | AIN9: 20 | AIO9: 8 | AIP9: 20 | AIQ9: 9 | AIR9: 10 | AIS9: 16 | AIT9: 4 | AIU9: 22 | AIV9: 10 | AIW9: 6 | AIX9: 9 | AIY9: 20 | AIZ9: 2 | AJA9: 14 | AJB9: 20 | AJC9: 9 | AJD9: 10 | AJE9: 16 | AJF9: 4 | AJG9: 22 | AJH9: 6 | AJI9: 20 | AJJ9: 8 | AJK9: 14 | AJL9: 20 | AJM9: 9 | AJN9: 8 | AJO9: 10 | AJP9: 16
A10: BrainRegion | B10: Frontal Pole | C10: Frontal Pole | D10: Frontal Pole | E10: Frontal Pole | F10: Frontal Pole | G10: Frontal Pole | H10: Frontal Pole | I10: Frontal Pole | J10: Frontal Pole | K10: Frontal Pole | L10: Frontal Pole | M10: Frontal Pole | N10: Frontal Pole | O10: Frontal Pole | P10: Frontal Pole | Q10: Frontal Pole | R10: Frontal Pole | S10: Frontal Pole | T10: Frontal Pole | U10: Frontal Pole | V10: Frontal Pole | W10: Frontal Pole | X10: Frontal Pole | Y10: Frontal Pole | Z10: Occipital Visual Cortex | AA10: Occipital Visual Cortex | AB10: Occipital Visual Cortex | AC10: Occipital Visual Cortex | AD10: Occipital Visual Cortex | AE10: Occipital Visual Cortex | AF10: Occipital Visual Cortex | AG10: Occipital Visual Cortex | AH10: Occipital Visual Cortex | AI10: Occipital Visual Cortex | AJ10: Occipital Visual Cortex | AK10: Occipital Visual Cortex | AL10: Occipital Visual Cortex | AM10: Occipital Visual Cortex | AN10: Inferior Temporal Gyrus | AO10: Inferior Temporal Gyrus | AP10: Inferior Temporal Gyrus | AQ10: Inferior Temporal Gyrus | AR10: Inferior Temporal Gyrus | AS10: Inferior Temporal Gyrus | AT10: Inferior Temporal Gyrus | AU10: Inferior Temporal Gyrus | AV10: Inferior Temporal Gyrus | AW10: Inferior Temporal Gyrus | AX10: Inferior Temporal Gyrus | AY10: Inferior Temporal Gyrus | AZ10: Inferior Temporal Gyrus | BA10: Inferior Temporal Gyrus | BB10: Inferior Temporal Gyrus | BC10: Inferior Temporal Gyrus | BD10: Inferior Temporal Gyrus | BE10: Inferior Temporal Gyrus | BF10: Inferior Temporal Gyrus | BG10: Middle Temporal Gyrus | BH10: Middle Temporal Gyrus | BI10: Middle Temporal Gyrus | BJ10: Middle Temporal Gyrus | BK10: Middle Temporal Gyrus | BL10: Middle Temporal Gyrus | BM10: Middle Temporal Gyrus | BN10: Middle Temporal Gyrus | BO10: Middle Temporal Gyrus | BP10: Middle Temporal Gyrus | BQ10: Middle Temporal Gyrus | BR10: Middle Temporal Gyrus | BS10: Middle Temporal Gyrus | BT10: Middle Temporal Gyrus | BU10: Middle Temporal Gyrus | BV10: Middle Temporal Gyrus | BW10: Middle Temporal Gyrus | BX10: Middle Temporal Gyrus | BY10: Middle Temporal Gyrus | BZ10: Middle Temporal Gyrus | CA10: Superior Temporal Gyrus | CB10: Superior Temporal Gyrus | CC10: Superior Temporal Gyrus | CD10: Superior Temporal Gyrus | CE10: Superior Temporal Gyrus | CF10: Superior Temporal Gyrus | CG10: Superior Temporal Gyrus | CH10: Superior Temporal Gyrus | CI10: Superior Temporal Gyrus | CJ10: Superior Temporal Gyrus | CK10: Superior Temporal Gyrus | CL10: Superior Temporal Gyrus | CM10: Superior Temporal Gyrus | CN10: Superior Temporal Gyrus | CO10: Superior Temporal Gyrus | CP10: Superior Temporal Gyrus | CQ10: Superior Temporal Gyrus | CR10: Superior Temporal Gyrus | CS10: Superior Temporal Gyrus | CT10: Superior Temporal Gyrus | CU10: Superior Temporal Gyrus | CV10: Superior Temporal Gyrus | CW10: Posterior Cingulate Cortex | CX10: Posterior Cingulate Cortex | CY10: Posterior Cingulate Cortex | CZ10: Posterior Cingulate Cortex | DA10: Posterior Cingulate Cortex | DB10: Posterior Cingulate Cortex | DC10: Posterior Cingulate Cortex | DD10: Posterior Cingulate Cortex | DE10: Posterior Cingulate Cortex | DF10: Posterior Cingulate Cortex | DG10: Posterior Cingulate Cortex | DH10: Posterior Cingulate Cortex | DI10: Posterior Cingulate Cortex | DJ10: Posterior Cingulate Cortex | DK10: Posterior Cingulate Cortex | DL10: Posterior Cingulate Cortex | DM10: Posterior Cingulate Cortex | DN10: Posterior Cingulate Cortex | DO10: Posterior Cingulate Cortex | DP10: Posterior Cingulate Cortex | DQ10: Posterior Cingulate Cortex | DR10: Posterior Cingulate Cortex | DS10: Posterior Cingulate Cortex | DT10: Anterior Cingulate | DU10: Anterior Cingulate | DV10: Anterior Cingulate | DW10: Anterior Cingulate | DX10: Anterior Cingulate | DY10: Anterior Cingulate | DZ10: Anterior Cingulate | EA10: Anterior Cingulate | EB10: Anterior Cingulate | EC10: Anterior Cingulate | ED10: Anterior Cingulate | EE10: Anterior Cingulate | EF10: Anterior Cingulate | EG10: Anterior Cingulate | EH10: Anterior Cingulate | EI10: Anterior Cingulate | EJ10: Anterior Cingulate | EK10: Anterior Cingulate | EL10: Anterior Cingulate | EM10: Anterior Cingulate | EN10: Parahippocampal Gyrus | EO10: Parahippocampal Gyrus | EP10: Parahippocampal Gyrus | EQ10: Parahippocampal Gyrus | ER10: Parahippocampal Gyrus | ES10: Parahippocampal Gyrus | ET10: Parahippocampal Gyrus | EU10: Parahippocampal Gyrus | EV10: Parahippocampal Gyrus | EW10: Parahippocampal Gyrus | EX10: Parahippocampal Gyrus | EY10: Parahippocampal Gyrus | EZ10: Parahippocampal Gyrus | FA10: Parahippocampal Gyrus | FB10: Parahippocampal Gyrus | FC10: Parahippocampal Gyrus | FD10: Parahippocampal Gyrus | FE10: Parahippocampal Gyrus | FF10: Parahippocampal Gyrus | FG10: Parahippocampal Gyrus | FH10: Parahippocampal Gyrus | FI10: Parahippocampal Gyrus | FJ10: Parahippocampal Gyrus | FK10: Temporal Pole | FL10: Temporal Pole | FM10: Temporal Pole | FN10: Temporal Pole | FO10: Temporal Pole | FP10: Temporal Pole | FQ10: Temporal Pole | FR10: Temporal Pole | FS10: Temporal Pole | FT10: Temporal Pole | FU10: Temporal Pole | FV10: Temporal Pole | FW10: Temporal Pole | FX10: Temporal Pole | FY10: Temporal Pole | FZ10: Temporal Pole | GA10: Temporal Pole | GB10: Temporal Pole | GC10: Precentral Gyrus | GD10: Precentral Gyrus | GE10: Precentral Gyrus | GF10: Precentral Gyrus | GG10: Precentral Gyrus | GH10: Precentral Gyrus | GI10: Precentral Gyrus | GJ10: Precentral Gyrus | GK10: Precentral Gyrus | GL10: Precentral Gyrus | GM10: Precentral Gyrus | GN10: Precentral Gyrus | GO10: Precentral Gyrus | GP10: Precentral Gyrus | GQ10: Precentral Gyrus | GR10: Precentral Gyrus | GS10: Precentral Gyrus | GT10: Precentral Gyrus | GU10: Precentral Gyrus | GV10: Inferior Frontal Gyrus | GW10: Inferior Frontal Gyrus | GX10: Inferior Frontal Gyrus | GY10: Inferior Frontal Gyrus | GZ10: Inferior Frontal Gyrus | HA10: Inferior Frontal Gyrus | HB10: Inferior Frontal Gyrus | HC10: Inferior Frontal Gyrus | HD10: Inferior Frontal Gyrus | HE10: Inferior Frontal Gyrus | HF10: Inferior Frontal Gyrus | HG10: Inferior Frontal Gyrus | HH10: Inferior Frontal Gyrus | HI10: Inferior Frontal Gyrus | HJ10: Inferior Frontal Gyrus | HK10: Inferior Frontal Gyrus | HL10: Inferior Frontal Gyrus | HM10: Inferior Frontal Gyrus | HN10: Inferior Frontal Gyrus | HO10: Dorsolateral Prefrontal Cortex | HP10: Dorsolateral Prefrontal Cortex | HQ10: Dorsolateral Prefrontal Cortex | HR10: Dorsolateral Prefrontal Cortex | HS10: Dorsolateral Prefrontal Cortex | HT10: Dorsolateral Prefrontal Cortex | HU10: Dorsolateral Prefrontal Cortex | HV10: Dorsolateral Prefrontal Cortex | HW10: Dorsolateral Prefrontal Cortex | HX10: Dorsolateral Prefrontal Cortex | HY10: Dorsolateral Prefrontal Cortex | HZ10: Dorsolateral Prefrontal Cortex | IA10: Dorsolateral Prefrontal Cortex | IB10: Dorsolateral Prefrontal Cortex | IC10: Dorsolateral Prefrontal Cortex | ID10: Dorsolateral Prefrontal Cortex | IE10: Dorsolateral Prefrontal Cortex | IF10: Superior Parietal Lobule | IG10: Superior Parietal Lobule | IH10: Superior Parietal Lobule | II10: Superior Parietal Lobule | IJ10: Superior Parietal Lobule | IK10: Superior Parietal Lobule | IL10: Superior Parietal Lobule | IM10: Superior Parietal Lobule | IN10: Superior Parietal Lobule | IO10: Superior Parietal Lobule | IP10: Superior Parietal Lobule | IQ10: Superior Parietal Lobule | IR10: Superior Parietal Lobule | IS10: Prefrontal Cortex | IT10: Prefrontal Cortex | IU10: Prefrontal Cortex | IV10: Prefrontal Cortex | IW10: Prefrontal Cortex | IX10: Prefrontal Cortex | IY10: Prefrontal Cortex | IZ10: Prefrontal Cortex | JA10: Prefrontal Cortex | JB10: Prefrontal Cortex | JC10: Prefrontal Cortex | JD10: Prefrontal Cortex | JE10: Prefrontal Cortex | JF10: Prefrontal Cortex | JG10: Prefrontal Cortex | JH10: Prefrontal Cortex | JI10: Prefrontal Cortex | JJ10: Prefrontal Cortex | JK10: Prefrontal Cortex | JL10: Prefrontal Cortex | JM10: Prefrontal Cortex | JN10: Caudate Nucleus | JO10: Caudate Nucleus | JP10: Caudate Nucleus | JQ10: Caudate Nucleus | JR10: Caudate Nucleus | JS10: Caudate Nucleus | JT10: Caudate Nucleus | JU10: Caudate Nucleus | JV10: Caudate Nucleus | JW10: Caudate Nucleus | JX10: Caudate Nucleus | JY10: Caudate Nucleus | JZ10: Caudate Nucleus | KA10: Caudate Nucleus | KB10: Caudate Nucleus | KC10: Caudate Nucleus | KD10: Caudate Nucleus | KE10: Caudate Nucleus | KF10: Hippocampus | KG10: Hippocampus | KH10: Hippocampus | KI10: Hippocampus | KJ10: Hippocampus | KK10: Hippocampus | KL10: Hippocampus | KM10: Hippocampus | KN10: Hippocampus | KO10: Hippocampus | KP10: Hippocampus | KQ10: Hippocampus | KR10: Hippocampus | KS10: Hippocampus | KT10: Hippocampus | KU10: Hippocampus | KV10: Hippocampus | KW10: Hippocampus | KX10: Putamen | KY10: Putamen | KZ10: Putamen | LA10: Putamen | LB10: Putamen | LC10: Putamen | LD10: Putamen | LE10: Putamen | LF10: Putamen | LG10: Putamen | LH10: Putamen | LI10: Putamen | LJ10: Putamen | LK10: Putamen | LL10: Putamen | LM10: Putamen | LN10: Putamen | LO10: Putamen | LP10: Putamen | LQ10: Putamen | LR10: Frontal Pole | LS10: Frontal Pole | LT10: Frontal Pole | LU10: Frontal Pole | LV10: Frontal Pole | LW10: Frontal Pole | LX10: Frontal Pole | LY10: Frontal Pole | LZ10: Frontal Pole | MA10: Frontal Pole | MB10: Frontal Pole | MC10: Frontal Pole | MD10: Frontal Pole | ME10: Frontal Pole | MF10: Frontal Pole | MG10: Occipital Visual Cortex | MH10: Occipital Visual Cortex | MI10: Occipital Visual Cortex | MJ10: Occipital Visual Cortex | MK10: Occipital Visual Cortex | ML10: Occipital Visual Cortex | MM10: Occipital Visual Cortex | MN10: Occipital Visual Cortex | MO10: Occipital Visual Cortex | MP10: Occipital Visual Cortex | MQ10: Occipital Visual Cortex | MR10: Occipital Visual Cortex | MS10: Occipital Visual Cortex | MT10: Inferior Temporal Gyrus | MU10: Inferior Temporal Gyrus | MV10: Inferior Temporal Gyrus | MW10: Inferior Temporal Gyrus | MX10: Inferior Temporal Gyrus | MY10: Inferior Temporal Gyrus | MZ10: Inferior Temporal Gyrus | NA10: Inferior Temporal Gyrus | NB10: Inferior Temporal Gyrus | NC10: Inferior Temporal Gyrus | ND10: Inferior Temporal Gyrus | NE10: Inferior Temporal Gyrus | NF10: Inferior Temporal Gyrus | NG10: Inferior Temporal Gyrus | NH10: Middle Temporal Gyrus | NI10: Middle Temporal Gyrus | NJ10: Middle Temporal Gyrus | NK10: Middle Temporal Gyrus | NL10: Middle Temporal Gyrus | NM10: Middle Temporal Gyrus | NN10: Middle Temporal Gyrus | NO10: Middle Temporal Gyrus | NP10: Middle Temporal Gyrus | NQ10: Middle Temporal Gyrus | NR10: Middle Temporal Gyrus | NS10: Middle Temporal Gyrus | NT10: Middle Temporal Gyrus | NU10: Middle Temporal Gyrus | NV10: Superior Temporal Gyrus | NW10: Superior Temporal Gyrus | NX10: Superior Temporal Gyrus | NY10: Superior Temporal Gyrus | NZ10: Superior Temporal Gyrus | OA10: Superior Temporal Gyrus | OB10: Superior Temporal Gyrus | OC10: Superior Temporal Gyrus | OD10: Superior Temporal Gyrus | OE10: Superior Temporal Gyrus | OF10: Superior Temporal Gyrus | OG10: Superior Temporal Gyrus | OH10: Superior Temporal Gyrus | OI10: Superior Temporal Gyrus | OJ10: Posterior Cingulate Cortex | OK10: Posterior Cingulate Cortex | OL10: Posterior Cingulate Cortex | OM10: Posterior Cingulate Cortex | ON10: Posterior Cingulate Cortex | OO10: Posterior Cingulate Cortex | OP10: Posterior Cingulate Cortex | OQ10: Posterior Cingulate Cortex | OR10: Posterior Cingulate Cortex | OS10: Posterior Cingulate Cortex | OT10: Posterior Cingulate Cortex | OU10: Posterior Cingulate Cortex | OV10: Anterior Cingulate | OW10: Anterior Cingulate | OX10: Anterior Cingulate | OY10: Anterior Cingulate | OZ10: Anterior Cingulate | PA10: Anterior Cingulate | PB10: Anterior Cingulate | PC10: Anterior Cingulate | PD10: Anterior Cingulate | PE10: Anterior Cingulate | PF10: Anterior Cingulate | PG10: Anterior Cingulate | PH10: Anterior Cingulate | PI10: Anterior Cingulate | PJ10: Anterior Cingulate | PK10: Anterior Cingulate | PL10: Parahippocampal Gyrus | PM10: Parahippocampal Gyrus | PN10: Parahippocampal Gyrus | PO10: Parahippocampal Gyrus | PP10: Parahippocampal Gyrus | PQ10: Parahippocampal Gyrus | PR10: Parahippocampal Gyrus | PS10: Parahippocampal Gyrus | PT10: Parahippocampal Gyrus | PU10: Parahippocampal Gyrus | PV10: Parahippocampal Gyrus | PW10: Parahippocampal Gyrus | PX10: Parahippocampal Gyrus | PY10: Parahippocampal Gyrus | PZ10: Parahippocampal Gyrus | QA10: Temporal Pole | QB10: Temporal Pole | QC10: Temporal Pole | QD10: Temporal Pole | QE10: Temporal Pole | QF10: Temporal Pole | QG10: Temporal Pole | QH10: Temporal Pole | QI10: Temporal Pole | QJ10: Temporal Pole | QK10: Temporal Pole | QL10: Temporal Pole | QM10: Temporal Pole | QN10: Temporal Pole | QO10: Precentral Gyrus | QP10: Precentral Gyrus | QQ10: Precentral Gyrus | QR10: Precentral Gyrus | QS10: Precentral Gyrus | QT10: Inferior Frontal Gyrus | QU10: Inferior Frontal Gyrus | QV10: Inferior Frontal Gyrus | QW10: Inferior Frontal Gyrus | QX10: Inferior Frontal Gyrus | QY10: Inferior Frontal Gyrus | QZ10: Inferior Frontal Gyrus | RA10: Inferior Frontal Gyrus | RB10: Inferior Frontal Gyrus | RC10: Inferior Frontal Gyrus | RD10: Inferior Frontal Gyrus | RE10: Dorsolateral Prefrontal Cortex | RF10: Dorsolateral Prefrontal Cortex | RG10: Dorsolateral Prefrontal Cortex | RH10: Dorsolateral Prefrontal Cortex | RI10: Dorsolateral Prefrontal Cortex | RJ10: Dorsolateral Prefrontal Cortex | RK10: Dorsolateral Prefrontal Cortex | RL10: Dorsolateral Prefrontal Cortex | RM10: Dorsolateral Prefrontal Cortex | RN10: Dorsolateral Prefrontal Cortex | RO10: Dorsolateral Prefrontal Cortex | RP10: Dorsolateral Prefrontal Cortex | RQ10: Dorsolateral Prefrontal Cortex | RR10: Dorsolateral Prefrontal Cortex | RS10: Dorsolateral Prefrontal Cortex | RT10: Dorsolateral Prefrontal Cortex | RU10: Superior Parietal Lobule | RV10: Superior Parietal Lobule | RW10: Superior Parietal Lobule | RX10: Superior Parietal Lobule | RY10: Superior Parietal Lobule | RZ10: Superior Parietal Lobule | SA10: Superior Parietal Lobule | SB10: Superior Parietal Lobule | SC10: Superior Parietal Lobule | SD10: Superior Parietal Lobule | SE10: Superior Parietal Lobule | SF10: Superior Parietal Lobule | SG10: Superior Parietal Lobule | SH10: Prefrontal Cortex | SI10: Prefrontal Cortex | SJ10: Prefrontal Cortex | SK10: Prefrontal Cortex | SL10: Prefrontal Cortex | SM10: Prefrontal Cortex | SN10: Prefrontal Cortex | SO10: Prefrontal Cortex | SP10: Prefrontal Cortex | SQ10: Prefrontal Cortex | SR10: Prefrontal Cortex | SS10: Caudate Nucleus | ST10: Caudate Nucleus | SU10: Caudate Nucleus | SV10: Caudate Nucleus | SW10: Caudate Nucleus | SX10: Caudate Nucleus | SY10: Caudate Nucleus | SZ10: Caudate Nucleus | TA10: Caudate Nucleus | TB10: Caudate Nucleus | TC10: Caudate Nucleus | TD10: Hippocampus | TE10: Hippocampus | TF10: Hippocampus | TG10: Hippocampus | TH10: Hippocampus | TI10: Hippocampus | TJ10: Hippocampus | TK10: Hippocampus | TL10: Hippocampus | TM10: Hippocampus | TN10: Hippocampus | TO10: Putamen | TP10: Putamen | TQ10: Putamen | TR10: Putamen | TS10: Putamen | TT10: Putamen | TU10: Putamen | TV10: Putamen | TW10: Putamen | TX10: Frontal Pole | TY10: Frontal Pole | TZ10: Frontal Pole | UA10: Frontal Pole | UB10: Frontal Pole | UC10: Frontal Pole | UD10: Frontal Pole | UE10: Frontal Pole | UF10: Frontal Pole | UG10: Frontal Pole | UH10: Frontal Pole | UI10: Frontal Pole | UJ10: Frontal Pole | UK10: Occipital Visual Cortex | UL10: Occipital Visual Cortex | UM10: Occipital Visual Cortex | UN10: Occipital Visual Cortex | UO10: Occipital Visual Cortex | UP10: Occipital Visual Cortex | UQ10: Occipital Visual Cortex | UR10: Occipital Visual Cortex | US10: Occipital Visual Cortex | UT10: Occipital Visual Cortex | UU10: Occipital Visual Cortex | UV10: Occipital Visual Cortex | UW10: Occipital Visual Cortex | UX10: Occipital Visual Cortex | UY10: Inferior Temporal Gyrus | UZ10: Inferior Temporal Gyrus | VA10: Inferior Temporal Gyrus | VB10: Inferior Temporal Gyrus | VC10: Inferior Temporal Gyrus | VD10: Inferior Temporal Gyrus | VE10: Inferior Temporal Gyrus | VF10: Inferior Temporal Gyrus | VG10: Inferior Temporal Gyrus | VH10: Inferior Temporal Gyrus | VI10: Inferior Temporal Gyrus | VJ10: Inferior Temporal Gyrus | VK10: Inferior Temporal Gyrus | VL10: Inferior Temporal Gyrus | VM10: Middle Temporal Gyrus | VN10: Middle Temporal Gyrus | VO10: Middle Temporal Gyrus | VP10: Middle Temporal Gyrus | VQ10: Middle Temporal Gyrus | VR10: Middle Temporal Gyrus | VS10: Middle Temporal Gyrus | VT10: Middle Temporal Gyrus | VU10: Middle Temporal Gyrus | VV10: Middle Temporal Gyrus | VW10: Middle Temporal Gyrus | VX10: Middle Temporal Gyrus | VY10: Middle Temporal Gyrus | VZ10: Superior Temporal Gyrus | WA10: Superior Temporal Gyrus | WB10: Superior Temporal Gyrus | WC10: Superior Temporal Gyrus | WD10: Superior Temporal Gyrus | WE10: Superior Temporal Gyrus | WF10: Superior Temporal Gyrus | WG10: Superior Temporal Gyrus | WH10: Superior Temporal Gyrus | WI10: Superior Temporal Gyrus | WJ10: Superior Temporal Gyrus | WK10: Superior Temporal Gyrus | WL10: Superior Temporal Gyrus | WM10: Superior Temporal Gyrus | WN10: Superior Temporal Gyrus | WO10: Posterior Cingulate Cortex | WP10: Posterior Cingulate Cortex | WQ10: Posterior Cingulate Cortex | WR10: Posterior Cingulate Cortex | WS10: Posterior Cingulate Cortex | WT10: Posterior Cingulate Cortex | WU10: Posterior Cingulate Cortex | WV10: Posterior Cingulate Cortex | WW10: Posterior Cingulate Cortex | WX10: Posterior Cingulate Cortex | WY10: Posterior Cingulate Cortex | WZ10: Posterior Cingulate Cortex | XA10: Posterior Cingulate Cortex | XB10: Posterior Cingulate Cortex | XC10: Posterior Cingulate Cortex | XD10: Anterior Cingulate | XE10: Anterior Cingulate | XF10: Anterior Cingulate | XG10: Anterior Cingulate | XH10: Anterior Cingulate | XI10: Anterior Cingulate | XJ10: Anterior Cingulate | XK10: Anterior Cingulate | XL10: Anterior Cingulate | XM10: Anterior Cingulate | XN10: Anterior Cingulate | XO10: Parahippocampal Gyrus | XP10: Parahippocampal Gyrus | XQ10: Parahippocampal Gyrus | XR10: Parahippocampal Gyrus | XS10: Parahippocampal Gyrus | XT10: Parahippocampal Gyrus | XU10: Parahippocampal Gyrus | XV10: Parahippocampal Gyrus | XW10: Parahippocampal Gyrus | XX10: Parahippocampal Gyrus | XY10: Parahippocampal Gyrus | XZ10: Parahippocampal Gyrus | YA10: Parahippocampal Gyrus | YB10: Temporal Pole | YC10: Temporal Pole | YD10: Temporal Pole | YE10: Temporal Pole | YF10: Temporal Pole | YG10: Temporal Pole | YH10: Temporal Pole | YI10: Temporal Pole | YJ10: Temporal Pole | YK10: Temporal Pole | YL10: Temporal Pole | YM10: Temporal Pole | YN10: Temporal Pole | YO10: Temporal Pole | YP10: Temporal Pole | YQ10: Precentral Gyrus | YR10: Precentral Gyrus | YS10: Precentral Gyrus | YT10: Precentral Gyrus | YU10: Precentral Gyrus | YV10: Precentral Gyrus | YW10: Precentral Gyrus | YX10: Precentral Gyrus | YY10: Precentral Gyrus | YZ10: Precentral Gyrus | ZA10: Precentral Gyrus | ZB10: Precentral Gyrus | ZC10: Precentral Gyrus | ZD10: Inferior Frontal Gyrus | ZE10: Inferior Frontal Gyrus | ZF10: Inferior Frontal Gyrus | ZG10: Inferior Frontal Gyrus | ZH10: Inferior Frontal Gyrus | ZI10: Inferior Frontal Gyrus | ZJ10: Inferior Frontal Gyrus | ZK10: Inferior Frontal Gyrus | ZL10: Inferior Frontal Gyrus | ZM10: Inferior Frontal Gyrus | ZN10: Inferior Frontal Gyrus | ZO10: Inferior Frontal Gyrus | ZP10: Inferior Frontal Gyrus | ZQ10: Inferior Frontal Gyrus | ZR10: Inferior Frontal Gyrus | ZS10: Dorsolateral Prefrontal Cortex | ZT10: Dorsolateral Prefrontal Cortex | ZU10: Dorsolateral Prefrontal Cortex | ZV10: Dorsolateral Prefrontal Cortex | ZW10: Dorsolateral Prefrontal Cortex | ZX10: Dorsolateral Prefrontal Cortex | ZY10: Dorsolateral Prefrontal Cortex | ZZ10: Dorsolateral Prefrontal Cortex | AAA10: Dorsolateral Prefrontal Cortex | AAB10: Dorsolateral Prefrontal Cortex | AAC10: Dorsolateral Prefrontal Cortex | AAD10: Dorsolateral Prefrontal Cortex | AAE10: Dorsolateral Prefrontal Cortex | AAF10: Superior Parietal Lobule | AAG10: Superior Parietal Lobule | AAH10: Superior Parietal Lobule | AAI10: Superior Parietal Lobule | AAJ10: Superior Parietal Lobule | AAK10: Superior Parietal Lobule | AAL10: Superior Parietal Lobule | AAM10: Superior Parietal Lobule | AAN10: Superior Parietal Lobule | AAO10: Superior Parietal Lobule | AAP10: Superior Parietal Lobule | AAQ10: Superior Parietal Lobule | AAR10: Superior Parietal Lobule | AAS10: Superior Parietal Lobule | AAT10: Superior Parietal Lobule | AAU10: Prefrontal Cortex | AAV10: Prefrontal Cortex | AAW10: Prefrontal Cortex | AAX10: Prefrontal Cortex | AAY10: Prefrontal Cortex | AAZ10: Prefrontal Cortex | ABA10: Prefrontal Cortex | ABB10: Prefrontal Cortex | ABC10: Prefrontal Cortex | ABD10: Prefrontal Cortex | ABE10: Prefrontal Cortex | ABF10: Prefrontal Cortex | ABG10: Caudate Nucleus | ABH10: Caudate Nucleus | ABI10: Caudate Nucleus | ABJ10: Caudate Nucleus | ABK10: Caudate Nucleus | ABL10: Caudate Nucleus | ABM10: Caudate Nucleus | ABN10: Caudate Nucleus | ABO10: Caudate Nucleus | ABP10: Caudate Nucleus | ABQ10: Caudate Nucleus | ABR10: Caudate Nucleus | ABS10: Hippocampus | ABT10: Hippocampus | ABU10: Hippocampus | ABV10: Hippocampus | ABW10: Hippocampus | ABX10: Hippocampus | ABY10: Hippocampus | ABZ10: Hippocampus | ACA10: Hippocampus | ACB10: Hippocampus | ACC10: Hippocampus | ACD10: Hippocampus | ACE10: Hippocampus | ACF10: Hippocampus | ACG10: Putamen | ACH10: Putamen | ACI10: Putamen | ACJ10: Putamen | ACK10: Putamen | ACL10: Putamen | ACM10: Putamen | ACN10: Putamen | ACO10: Putamen | ACP10: Putamen | ACQ10: Putamen | ACR10: Putamen | ACS10: Frontal Pole | ACT10: Frontal Pole | ACU10: Frontal Pole | ACV10: Frontal Pole | ACW10: Frontal Pole | ACX10: Frontal Pole | ACY10: Frontal Pole | ACZ10: Frontal Pole | ADA10: Frontal Pole | ADB10: Frontal Pole | ADC10: Frontal Pole | ADD10: Occipital Visual Cortex | ADE10: Occipital Visual Cortex | ADF10: Occipital Visual Cortex | ADG10: Occipital Visual Cortex | ADH10: Occipital Visual Cortex | ADI10: Occipital Visual Cortex | ADJ10: Occipital Visual Cortex | ADK10: Occipital Visual Cortex | ADL10: Occipital Visual Cortex | ADM10: Occipital Visual Cortex | ADN10: Occipital Visual Cortex | ADO10: Occipital Visual Cortex | ADP10: Inferior Temporal Gyrus | ADQ10: Inferior Temporal Gyrus | ADR10: Inferior Temporal Gyrus | ADS10: Inferior Temporal Gyrus | ADT10: Inferior Temporal Gyrus | ADU10: Inferior Temporal Gyrus | ADV10: Inferior Temporal Gyrus | ADW10: Inferior Temporal Gyrus | ADX10: Inferior Temporal Gyrus | ADY10: Inferior Temporal Gyrus | ADZ10: Inferior Temporal Gyrus | AEA10: Middle Temporal Gyrus | AEB10: Middle Temporal Gyrus | AEC10: Middle Temporal Gyrus | AED10: Middle Temporal Gyrus | AEE10: Middle Temporal Gyrus | AEF10: Middle Temporal Gyrus | AEG10: Middle Temporal Gyrus | AEH10: Middle Temporal Gyrus | AEI10: Middle Temporal Gyrus | AEJ10: Middle Temporal Gyrus | AEK10: Middle Temporal Gyrus | AEL10: Superior Temporal Gyrus | AEM10: Superior Temporal Gyrus | AEN10: Superior Temporal Gyrus | AEO10: Superior Temporal Gyrus | AEP10: Superior Temporal Gyrus | AEQ10: Superior Temporal Gyrus | AER10: Superior Temporal Gyrus | AES10: Superior Temporal Gyrus | AET10: Superior Temporal Gyrus | AEU10: Posterior Cingulate Cortex | AEV10: Posterior Cingulate Cortex | AEW10: Posterior Cingulate Cortex | AEX10: Posterior Cingulate Cortex | AEY10: Posterior Cingulate Cortex | AEZ10: Posterior Cingulate Cortex | AFA10: Posterior Cingulate Cortex | AFB10: Posterior Cingulate Cortex | AFC10: Anterior Cingulate | AFD10: Anterior Cingulate | AFE10: Anterior Cingulate | AFF10: Anterior Cingulate | AFG10: Anterior Cingulate | AFH10: Anterior Cingulate | AFI10: Anterior Cingulate | AFJ10: Anterior Cingulate | AFK10: Anterior Cingulate | AFL10: Anterior Cingulate | AFM10: Anterior Cingulate | AFN10: Anterior Cingulate | AFO10: Parahippocampal Gyrus | AFP10: Parahippocampal Gyrus | AFQ10: Parahippocampal Gyrus | AFR10: Parahippocampal Gyrus | AFS10: Parahippocampal Gyrus | AFT10: Parahippocampal Gyrus | AFU10: Parahippocampal Gyrus | AFV10: Parahippocampal Gyrus | AFW10: Parahippocampal Gyrus | AFX10: Temporal Pole | AFY10: Temporal Pole | AFZ10: Temporal Pole | AGA10: Temporal Pole | AGB10: Temporal Pole | AGC10: Temporal Pole | AGD10: Temporal Pole | AGE10: Temporal Pole | AGF10: Temporal Pole | AGG10: Temporal Pole | AGH10: Temporal Pole | AGI10: Precentral Gyrus | AGJ10: Precentral Gyrus | AGK10: Precentral Gyrus | AGL10: Precentral Gyrus | AGM10: Precentral Gyrus | AGN10: Precentral Gyrus | AGO10: Precentral Gyrus | AGP10: Precentral Gyrus | AGQ10: Precentral Gyrus | AGR10: Precentral Gyrus | AGS10: Precentral Gyrus | AGT10: Precentral Gyrus | AGU10: Inferior Frontal Gyrus | AGV10: Inferior Frontal Gyrus | AGW10: Inferior Frontal Gyrus | AGX10: Inferior Frontal Gyrus | AGY10: Inferior Frontal Gyrus | AGZ10: Inferior Frontal Gyrus | AHA10: Inferior Frontal Gyrus | AHB10: Inferior Frontal Gyrus | AHC10: Dorsolateral Prefrontal Cortex | AHD10: Dorsolateral Prefrontal Cortex | AHE10: Dorsolateral Prefrontal Cortex | AHF10: Dorsolateral Prefrontal Cortex | AHG10: Dorsolateral Prefrontal Cortex | AHH10: Dorsolateral Prefrontal Cortex | AHI10: Dorsolateral Prefrontal Cortex | AHJ10: Dorsolateral Prefrontal Cortex | AHK10: Dorsolateral Prefrontal Cortex | AHL10: Dorsolateral Prefrontal Cortex | AHM10: Dorsolateral Prefrontal Cortex | AHN10: Superior Parietal Lobule | AHO10: Superior Parietal Lobule | AHP10: Superior Parietal Lobule | AHQ10: Superior Parietal Lobule | AHR10: Superior Parietal Lobule | AHS10: Superior Parietal Lobule | AHT10: Superior Parietal Lobule | AHU10: Superior Parietal Lobule | AHV10: Superior Parietal Lobule | AHW10: Prefrontal Cortex | AHX10: Prefrontal Cortex | AHY10: Prefrontal Cortex | AHZ10: Prefrontal Cortex | AIA10: Prefrontal Cortex | AIB10: Prefrontal Cortex | AIC10: Prefrontal Cortex | AID10: Prefrontal Cortex | AIE10: Prefrontal Cortex | AIF10: Prefrontal Cortex | AIG10: Prefrontal Cortex | AIH10: Prefrontal Cortex | AII10: Caudate Nucleus | AIJ10: Caudate Nucleus | AIK10: Caudate Nucleus | AIL10: Caudate Nucleus | AIM10: Caudate Nucleus | AIN10: Caudate Nucleus | AIO10: Caudate Nucleus | AIP10: Caudate Nucleus | AIQ10: Caudate Nucleus | AIR10: Caudate Nucleus | AIS10: Caudate Nucleus | AIT10: Hippocampus | AIU10: Hippocampus | AIV10: Hippocampus | AIW10: Hippocampus | AIX10: Hippocampus | AIY10: Hippocampus | AIZ10: Hippocampus | AJA10: Hippocampus | AJB10: Hippocampus | AJC10: Hippocampus | AJD10: Hippocampus | AJE10: Hippocampus | AJF10: Putamen | AJG10: Putamen | AJH10: Putamen | AJI10: Putamen | AJJ10: Putamen | AJK10: Putamen | AJL10: Putamen | AJM10: Putamen | AJN10: Putamen | AJO10: Putamen | AJP10: Putamen
A11: PSEN2 | B11: 2.7926451 | C11: 3.0523032 | D11: 2.9439039 | E11: 2.9658025 | F11: 3.5864998 | G11: 2.8889703 | H11: 2.864622 | I11: 3.1037208 | J11: 3.6662771 | K11: 2.8673912 | L11: 2.9088323 | M11: 3.1637859 | N11: 2.9434152 | O11: 2.7120672 | P11: 3.2559488 | Q11: 2.9095836 | R11: 3.0620111 | S11: 2.7646813 | T11: 2.7091254 | U11: 2.6665016 | V11: 3.4851608 | W11: 3.0874008 | X11: 3.0830001 | Y11: 3.555786 | Z11: 3.0086089 | AA11: 3.0423676 | AB11: 3.3770381 | AC11: 3.0344609 | AD11: 3.271887 | AE11: 2.793514 | AF11: 3.1407935 | AG11: 2.9429352 | AH11: 3.0649846 | AI11: 2.8805523 | AJ11: 3.0784283 | AK11: 3.389437 | AL11: 2.9073201 | AM11: 3.128042 | AN11: 3.0225467 | AO11: 2.9635146 | AP11: 3.1835271 | AQ11: 2.9390443 | AR11: 2.9027989 | AS11: 3.1315171 | AT11: 3.4637242 | AU11: 3.059366 | AV11: 2.8412308 | AW11: 2.886423 | AX11: 2.9311163 | AY11: 3.3786575 | AZ11: 3.1283741 | BA11: 3.0715292 | BB11: 3.0744162 | BC11: 3.565586 | BD11: 2.8707324 | BE11: 3.0154012 | BF11: 3.345396 | BG11: 3.0376957 | BH11: 3.1814117 | BI11: 3.04425 | BJ11: 3.0833777 | BK11: 4.0760881 | BL11: 3.149512 | BM11: 3.197464 | BN11: 2.8114165 | BO11: 3.1865274 | BP11: 3.1315921 | BQ11: 3.0080187 | BR11: 2.808213 | BS11: 3.1752281 | BT11: 3.0776758 | BU11: 2.9134868 | BV11: 2.8499995 | BW11: 2.8176402 | BX11: 3.3855263 | BY11: 2.8499513 | BZ11: 2.9786693 | CA11: 2.8713545 | CB11: 3.0686577 | CC11: 3.4148674 | CD11: 2.5826771 | CE11: 3.1128503 | CF11: 3.1929988 | CG11: 3.0429992 | CH11: 2.6415878 | CI11: 3.1134339 | CJ11: 2.9228705 | CK11: 3.0759279 | CL11: 3.0306184 | CM11: 3.3495955 | CN11: 2.7081224 | CO11: 2.9641632 | CP11: 3.1982914 | CQ11: 2.8630559 | CR11: 3.4172498 | CS11: 3.2446435 | CT11: 2.9800457 | CU11: 2.8284482 | CV11: 3.2349707 | CW11: 2.7781208 | CX11: 2.9241179 | CY11: 2.8460369 | CZ11: 3.108727 | DA11: 2.8853394 | DB11: 2.8466724 | DC11: 3.3200982 | DD11: 3.1682492 | DE11: 3.2939533 | DF11: 3.0719034 | DG11: 2.8851456 | DH11: 2.6750279 | DI11: 2.7970581 | DJ11: 2.9436074 | DK11: 2.9468032 | DL11: 2.9651555 | DM11: 3.0062219 | DN11: 2.9418202 | DO11: 2.5164957 | DP11: 2.6542573 | DQ11: 2.6555076 | DR11: 3.1942535 | DS11: 3.1347388 | DT11: 3.6194119 | DU11: 2.9798956 | DV11: 3.0921052 | DW11: 3.082163 | DX11: 3.1443118 | DY11: 3.2373187 | DZ11: 3.1288253 | EA11: 3.4109476 | EB11: 2.8679537 | EC11: 3.1845946 | ED11: 3.2940124 | EE11: 3.2060251 | EF11: 2.9797417 | EG11: 2.938992 | EH11: 3.2803761 | EI11: 3.2843801 | EJ11: 3.2557059 | EK11: 2.9982697 | EL11: 3.1518466 | EM11: 3.3549276 | EN11: 3.2470805 | EO11: 3.1454514 | EP11: 3.0000295 | EQ11: 3.0508719 | ER11: 2.9508658 | ES11: 3.0701342 | ET11: 3.2001097 | EU11: 3.4263928 | EV11: 2.8896011 | EW11: 3.2510265 | EX11: 3.0298134 | EY11: 3.0012929 | EZ11: 3.2472522 | FA11: 3.2898052 | FB11: 3.2535257 | FC11: 3.063153 | FD11: 3.4210513 | FE11: 3.613011 | FF11: 3.7220967 | FG11: 2.9752558 | FH11: 2.8813527 | FI11: 3.2160305 | FJ11: 3.0655204 | FK11: 3.4761347 | FL11: 3.2151838 | FM11: 3.119814 | FN11: 3.3860066 | FO11: 3.6491765 | FP11: 3.3753247 | FQ11: 3.4780564 | FR11: 3.3713547 | FS11: 3.1207972 | FT11: 3.7769174 | FU11: 3.3429454 | FV11: 3.1943164 | FW11: 3.1645454 | FX11: 2.9676514 | FY11: 3.2403024 | FZ11: 3.1059607 | GA11: 3.3857367 | GB11: 3.1911059 | GC11: 2.9371496 | GD11: 3.1828145 | GE11: 3.5442122 | GF11: 3.2718147 | GG11: 3.1912383 | GH11: 3.0826823 | GI11: 3.0615564 | GJ11: 3.1331131 | GK11: 3.642902 | GL11: 3.1696416 | GM11: 3.2681209 | GN11: 3.050675 | GO11: 4.3902261 | GP11: 3.470179 | GQ11: 3.2452887 | GR11: 2.9364744 | GS11: 2.9646249 | GT11: 3.1268412 | GU11: 3.2441558 | GV11: 2.991622 | GW11: 2.9854079 | GX11: 4.356257 | GY11: 3.3099089 | GZ11: 3.4842858 | HA11: 3.1594681 | HB11: 3.3538221 | HC11: 2.9425865 | HD11: 2.8693332 | HE11: 3.2612088 | HF11: 3.3285353 | HG11: 2.9874896 | HH11: 3.1069145 | HI11: 3.5032312 | HJ11: 3.1102106 | HK11: 2.8939212 | HL11: 3.0293974 | HM11: 3.0619356 | HN11: 3.9844295 | HO11: 3.1680839 | HP11: 3.2548823 | HQ11: 3.177628 | HR11: 3.0103861 | HS11: 3.7606215 | HT11: 2.9932371 | HU11: 3.0532547 | HV11: 3.1460546 | HW11: 3.0843937 | HX11: 2.9224505 | HY11: 3.361221 | HZ11: 3.0639296 | IA11: 3.0544965 | IB11: 2.9581286 | IC11: 3.4074747 | ID11: 3.0022125 | IE11: 3.0848073 | IF11: 2.8716848 | IG11: 2.8156885 | IH11: 3.1115327 | II11: 3.0622038 | IJ11: 3.0246435 | IK11: 3.0361688 | IL11: 2.8748913 | IM11: 3.2868299 | IN11: 3.2895024 | IO11: 3.1177879 | IP11: 3.1208519 | IQ11: 3.0097576 | IR11: 3.1505854 | IS11: 2.7657892 | IT11: 3.2561457 | IU11: 3.0398771 | IV11: 2.929534 | IW11: 2.8202394 | IX11: 3.2296111 | IY11: 3.4000161 | IZ11: 3.5462747 | JA11: 2.8348351 | JB11: 3.1328734 | JC11: 3.1214563 | JD11: 3.1011573 | JE11: 2.8122449 | JF11: 3.0464565 | JG11: 3.0215832 | JH11: 2.682536 | JI11: 3.0859211 | JJ11: 2.8061094 | JK11: 3.3408294 | JL11: 2.9723548 | JM11: 2.8334435 | JN11: 3.3138462 | JO11: 3.463679 | JP11: 3.2430824 | JQ11: 3.1875084 | JR11: 3.083847 | JS11: 3.1547728 | JT11: 3.2484351 | JU11: 3.304919 | JV11: 3.2915292 | JW11: 3.3931282 | JX11: 3.7062111 | JY11: 3.1711677 | JZ11: 2.9658831 | KA11: 3.1896443 | KB11: 3.2923895 | KC11: 3.3291126 | KD11: 3.3318833 | KE11: 2.992834 | KF11: 3.0056786 | KG11: 3.3272821 | KH11: 3.4974601 | KI11: 3.1147374 | KJ11: 3.4602876 | KK11: 3.0588821 | KL11: 2.8135735 | KM11: 3.3866671 | KN11: 3.4373481 | KO11: 2.8264567 | KP11: 2.7399582 | KQ11: 3.369021 | KR11: 3.0583026 | KS11: 2.8830003 | KT11: 3.4057369 | KU11: 3.0164695 | KV11: 3.1406461 | KW11: 3.0997543 | KX11: 3.3993726 | KY11: 3.0378786 | KZ11: 2.933991 | LA11: 3.3386114 | LB11: 3.4280424 | LC11: 3.7043693 | LD11: 3.1505672 | LE11: 3.1164155 | LF11: 3.1766299 | LG11: 3.3671624 | LH11: 3.4752792 | LI11: 3.219583 | LJ11: 3.1123015 | LK11: 3.381727 | LL11: 3.292321 | LM11: 2.8844634 | LN11: 3.0558988 | LO11: 4.0310304 | LP11: 3.4602006 | LQ11: 3.1204112 | LR11: 2.7311737 | LS11: 3.0435893 | LT11: 2.8450371 | LU11: 2.780557 | LV11: 2.9470696 | LW11: 2.9288269 | LX11: 2.8274485 | LY11: 2.8505845 | LZ11: 2.7954338 | MA11: 3.0690279 | MB11: 2.9074747 | MC11: 2.9620822 | MD11: 2.8912733 | ME11: 2.9853505 | MF11: 3.308115 | MG11: 2.8481563 | MH11: 3.2698721 | MI11: 3.383713 | MJ11: 3.1709114 | MK11: 3.434226 | ML11: 3.0846459 | MM11: 3.0535764 | MN11: 3.0921814 | MO11: 2.7975167 | MP11: 3.4730116 | MQ11: 3.3058746 | MR11: 3.1319507 | MS11: 3.3625407 | MT11: 3.0275305 | MU11: 2.9752682 | MV11: 3.1874345 | MW11: 3.006922 | MX11: 2.9415355 | MY11: 3.1454221 | MZ11: 3.4807667 | NA11: 3.4375733 | NB11: 3.3430017 | NC11: 3.6136224 | ND11: 2.8509015 | NE11: 3.3903216 | NF11: 3.1586673 | NG11: 3.3851926 | NH11: 3.0478173 | NI11: 2.8777634 | NJ11: 2.9118343 | NK11: 3.3679922 | NL11: 3.0396436 | NM11: 2.922472 | NN11: 3.0505364 | NO11: 3.1282828 | NP11: 3.2124989 | NQ11: 3.0275872 | NR11: 3.0312828 | NS11: 3.5192733 | NT11: 3.0661898 | NU11: 3.1145312 | NV11: 2.9230216 | NW11: 2.8070566 | NX11: 2.8023701 | NY11: 3.3490577 | NZ11: 3.3973922 | OA11: 3.0127752 | OB11: 2.9837657 | OC11: 2.7446393 | OD11: 3.0477656 | OE11: 2.7150876 | OF11: 2.8937409 | OG11: 3.0211732 | OH11: 2.9892884 | OI11: 3.1163022 | OJ11: 3.2388327 | OK11: 3.0882452 | OL11: 2.936213 | OM11: 2.6796385 | ON11: 3.0335768 | OO11: 2.8792509 | OP11: 3.1237052 | OQ11: 2.692611 | OR11: 2.7018943 | OS11: 3.023379 | OT11: 3.2724963 | OU11: 2.6810426 | OV11: 3.0713035 | OW11: 2.8937824 | OX11: 3.1036915 | OY11: 3.0046057 | OZ11: 3.3487771 | PA11: 3.2236909 | PB11: 3.6102968 | PC11: 3.0666686 | PD11: 3.0889419 | PE11: 2.93285 | PF11: 2.7430582 | PG11: 3.1969634 | PH11: 3.4122986 | PI11: 2.7777405 | PJ11: 3.5077794 | PK11: 3.357541 | PL11: 3.004379 | PM11: 3.3468563 | PN11: 3.0529923 | PO11: 3.2670626 | PP11: 2.8304989 | PQ11: 3.1172101 | PR11: 3.1399143 | PS11: 3.0440995 | PT11: 3.0641098 | PU11: 3.1588577 | PV11: 3.1262646 | PW11: 2.9828187 | PX11: 3.18064 | PY11: 3.1026044 | PZ11: 2.9936838 | QA11: 3.2716845 | QB11: 3.3131386 | QC11: 3.2469761 | QD11: 3.1988277 | QE11: 3.2512959 | QF11: 3.5926766 | QG11: 3.2580078 | QH11: 3.5082113 | QI11: 3.4139799 | QJ11: 3.073513 | QK11: 3.0664794 | QL11: 3.5411707 | QM11: 3.2980614 | QN11: 3.3348667 | QO11: 2.8826058 | QP11: 3.5129001 | QQ11: 3.4281054 | QR11: 2.859167 | QS11: 3.5145855 | QT11: 3.138745 | QU11: 3.0118233 | QV11: 2.9255792 | QW11: 3.5853081 | QX11: 3.02509 | QY11: 2.9251427 | QZ11: 3.2209954 | RA11: 3.0295033 | RB11: 3.1579187 | RC11: 2.8554695 | RD11: 3.190354 | RE11: 3.311902 | RF11: 3.2698744 | RG11: 3.1313517 | RH11: 3.2403382 | RI11: 2.9478986 | RJ11: 3.5880227 | RK11: 3.0615057 | RL11: 3.0177547 | RM11: 3.235431 | RN11: 3.2132078 | RO11: 3.0136419 | RP11: 3.0820884 | RQ11: 2.9822297 | RR11: 3.173715 | RS11: 3.0799195 | RT11: 2.9675211 | RU11: 3.1214253 | RV11: 3.4630839 | RW11: 3.0518268 | RX11: 3.264532 | RY11: 2.8194174 | RZ11: 3.3110823 | SA11: 3.0979924 | SB11: 3.0900398 | SC11: 3.1214771 | SD11: 3.088097 | SE11: 3.1811181 | SF11: 3.1496082 | SG11: 3.1599619 | SH11: 3.3043128 | SI11: 3.5842168 | SJ11: 2.989408 | SK11: 2.8231485 | SL11: 3.0994305 | SM11: 3.0787862 | SN11: 2.7356938 | SO11: 3.0387453 | SP11: 2.8767322 | SQ11: 2.744113 | SR11: 3.0169393 | SS11: 2.8760043 | ST11: 2.9336623 | SU11: 3.5009223 | SV11: 2.9681504 | SW11: 3.079567 | SX11: 3.2672862 | SY11: 3.0113106 | SZ11: 2.8254062 | TA11: 3.2500694 | TB11: 3.2684528 | TC11: 3.2594967 | TD11: 3.3329987 | TE11: 3.2659068 | TF11: 3.2228155 | TG11: 3.3206022 | TH11: 3.3183566 | TI11: 3.2173986 | TJ11: 3.1740447 | TK11: 2.9632277 | TL11: 3.3393745 | TM11: 3.2150203 | TN11: 3.2382929 | TO11: 3.469417 | TP11: 3.6445437 | TQ11: 3.4405925 | TR11: 3.198326 | TS11: 3.6292705 | TT11: 2.9434287 | TU11: 3.0454548 | TV11: 3.3124498 | TW11: 3.4517428 | TX11: 2.9245464 | TY11: 3.0613397 | TZ11: 2.859441 | UA11: 3.0326542 | UB11: 2.6779307 | UC11: 3.1701886 | UD11: 2.5742081 | UE11: 3.1251453 | UF11: 3.1004272 | UG11: 2.8670505 | UH11: 2.9289502 | UI11: 3.1782706 | UJ11: 3.3160173 | UK11: 2.8702387 | UL11: 3.13972 | UM11: 3.0464082 | UN11: 3.3295159 | UO11: 3.2910029 | UP11: 3.0584706 | UQ11: 3.3311571 | UR11: 2.9629422 | US11: 2.9695425 | UT11: 3.2761696 | UU11: 3.2978831 | UV11: 3.1512857 | UW11: 3.2815388 | UX11: 2.9825101 | UY11: 3.1436214 | UZ11: 3.3797079 | VA11: 3.1491313 | VB11: 3.2941468 | VC11: 3.2490455 | VD11: 2.9547274 | VE11: 3.128399 | VF11: 2.7394822 | VG11: 3.114475 | VH11: 3.2798239 | VI11: 3.5233654 | VJ11: 3.0263822 | VK11: 3.1641129 | VL11: 3.1153945 | VM11: 3.0569283 | VN11: 3.1481268 | VO11: 2.9061093 | VP11: 2.8197078 | VQ11: 2.9114122 | VR11: 2.9273661 | VS11: 2.8365328 | VT11: 3.1220153 | VU11: 3.3158947 | VV11: 2.9638672 | VW11: 3.154985 | VX11: 2.9212653 | VY11: 2.8950204 | VZ11: 3.1797867 | WA11: 2.975007 | WB11: 3.2735113 | WC11: 2.9860549 | WD11: 2.7610883 | WE11: 2.8912888 | WF11: 2.9311161 | WG11: 2.8661882 | WH11: 2.6477332 | WI11: 2.567361 | WJ11: 3.0323031 | WK11: 3.0081812 | WL11: 3.1992721 | WM11: 3.0868017 | WN11: 3.180213 | WO11: 2.9812255 | WP11: 2.942248 | WQ11: 2.7612871 | WR11: 3.1461153 | WS11: 3.356984 | WT11: 2.5609146 | WU11: 2.9607509 | WV11: 2.8536753 | WW11: 2.9622044 | WX11: 2.939421 | WY11: 2.634826 | WZ11: 3.0737256 | XA11: 3.0095744 | XB11: 2.7218785 | XC11: 2.9152922 | XD11: 3.2441416 | XE11: 2.916514 | XF11: 2.9259777 | XG11: 2.943391 | XH11: 3.0353762 | XI11: 3.0341256 | XJ11: 3.0582132 | XK11: 3.1640293 | XL11: 3.1473419 | XM11: 3.5661322 | XN11: 3.2024729 | XO11: 3.046739 | XP11: 2.8213759 | XQ11: 2.7096519 | XR11: 3.1964888 | XS11: 2.8407237 | XT11: 3.3129319 | XU11: 3.3286027 | XV11: 2.9898137 | XW11: 3.0428905 | XX11: 2.9402104 | XY11: 2.9686052 | XZ11: 3.2418858 | YA11: 2.994373 | YB11: 3.118744 | YC11: 3.4622249 | YD11: 3.0900732 | YE11: 3.1535487 | YF11: 3.3707913 | YG11: 3.3213488 | YH11: 3.2645905 | YI11: 3.3787332 | YJ11: 3.2755969 | YK11: 3.223008 | YL11: 3.4429295 | YM11: 3.0983999 | YN11: 3.1251006 | YO11: 3.7763183 | YP11: 3.0129871 | YQ11: 3.2358965 | YR11: 2.8988917 | YS11: 3.0390347 | YT11: 3.7583253 | YU11: 3.152451 | YV11: 3.3720607 | YW11: 3.2246298 | YX11: 2.8980292 | YY11: 3.3347841 | YZ11: 2.8930849 | ZA11: 2.953058 | ZB11: 3.0189434 | ZC11: 3.3009193 | ZD11: 3.042944 | ZE11: 3.3396975 | ZF11: 3.1077171 | ZG11: 3.1696611 | ZH11: 3.3166636 | ZI11: 3.5500959 | ZJ11: 2.8565044 | ZK11: 3.3390337 | ZL11: 3.3528666 | ZM11: 3.5046566 | ZN11: 2.9660243 | ZO11: 3.4976586 | ZP11: 3.5011839 | ZQ11: 2.7514458 | ZR11: 3.2653536 | ZS11: 3.3647069 | ZT11: 3.0850972 | ZU11: 3.3308537 | ZV11: 2.945032 | ZW11: 2.7895066 | ZX11: 3.2076633 | ZY11: 3.0377914 | ZZ11: 2.982358 | AAA11: 3.0175317 | AAB11: 3.4378818 | AAC11: 3.3315973 | AAD11: 3.3405451 | AAE11: 3.471846 | AAF11: 3.3434644 | AAG11: 2.8525322 | AAH11: 3.0619652 | AAI11: 3.2068819 | AAJ11: 3.4668785 | AAK11: 3.078124 | AAL11: 2.8580212 | AAM11: 3.4270736 | AAN11: 3.1267305 | AAO11: 2.8846175 | AAP11: 3.2536613 | AAQ11: 3.2275782 | AAR11: 2.9875302 | AAS11: 3.3312594 | AAT11: 2.9494131 | AAU11: 3.000428 | AAV11: 2.9110225 | AAW11: 2.9444974 | AAX11: 3.1417088 | AAY11: 2.8861954 | AAZ11: 3.173458 | ABA11: 3.1640237 | ABB11: 2.8349737 | ABC11: 2.8690184 | ABD11: 2.9029186 | ABE11: 3.24001 | ABF11: 3.3137247 | ABG11: 3.1565014 | ABH11: 3.2923094 | ABI11: 3.3038799 | ABJ11: 3.1201794 | ABK11: 3.4501276 | ABL11: 3.4051836 | ABM11: 3.3973634 | ABN11: 3.3806279 | ABO11: 3.2358376 | ABP11: 3.3128026 | ABQ11: 3.7889157 | ABR11: 2.9865199 | ABS11: 3.0179813 | ABT11: 3.2632551 | ABU11: 3.2383056 | ABV11: 3.1620778 | ABW11: 3.3278933 | ABX11: 3.0185372 | ABY11: 3.4303046 | ABZ11: 2.9346942 | ACA11: 3.1787153 | ACB11: 3.324889 | ACC11: 3.1809154 | ACD11: 3.416665 | ACE11: 3.0689968 | ACF11: 3.2260145 | ACG11: 3.0852217 | ACH11: 3.4249005 | ACI11: 3.4724864 | ACJ11: 3.5853439 | ACK11: 3.4250659 | ACL11: 3.3512659 | ACM11: 3.0177389 | ACN11: 3.0964149 | ACO11: 3.3209591 | ACP11: 3.2202413 | ACQ11: 3.2352423 | ACR11: 3.2931518 | ACS11: 2.9884704 | ACT11: 2.9684995 | ACU11: 2.3375795 | ACV11: 2.9250877 | ACW11: 3.2052681 | ACX11: 3.0532699 | ACY11: 2.6643696 | ACZ11: 3.1616988 | ADA11: 2.97327 | ADB11: 2.8956535 | ADC11: 3.1752673 | ADD11: 2.599146 | ADE11: 3.3022777 | ADF11: 3.2024244 | ADG11: 3.3346005 | ADH11: 2.9680825 | ADI11: 3.1391289 | ADJ11: 3.0652427 | ADK11: 3.4080221 | ADL11: 3.3105685 | ADM11: 3.0923324 | ADN11: 3.1348954 | ADO11: 2.979735 | ADP11: 3.0653503 | ADQ11: 3.0397682 | ADR11: 3.2880517 | ADS11: 3.1890862 | ADT11: 2.9833703 | ADU11: 3.6040953 | ADV11: 3.6537364 | ADW11: 3.0455642 | ADX11: 3.3326731 | ADY11: 3.1403687 | ADZ11: 2.8797613 | AEA11: 2.9951785 | AEB11: 3.0979834 | AEC11: 3.4301394 | AED11: 2.9165898 | AEE11: 3.1535415 | AEF11: 3.3400495 | AEG11: 3.1604444 | AEH11: 2.6773149 | AEI11: 3.1566834 | AEJ11: 2.9305221 | AEK11: 2.9198807 | AEL11: 3.0867424 | AEM11: 2.9185988 | AEN11: 3.0521737 | AEO11: 2.5955863 | AEP11: 3.2599474 | AEQ11: 2.7733939 | AER11: 2.5963715 | AES11: 2.8949076 | AET11: 2.9308112 | AEU11: 3.2237134 | AEV11: 3.087766 | AEW11: 2.705162 | AEX11: 3.1299192 | AEY11: 3.3743216 | AEZ11: 3.0816742 | AFA11: 2.8845117 | AFB11: 3.0541234 | AFC11: 3.2118786 | AFD11: 3.5126154 | AFE11: 3.0440376 | AFF11: 3.578027 | AFG11: 3.4989977 | AFH11: 2.7667458 | AFI11: 2.9316541 | AFJ11: 2.8969992 | AFK11: 3.5433918 | AFL11: 2.8124597 | AFM11: 3.2276882 | AFN11: 3.0229443 | AFO11: 3.0814824 | AFP11: 2.9686485 | AFQ11: 3.2113889 | AFR11: 2.8008901 | AFS11: 2.9320059 | AFT11: 3.0345855 | AFU11: 2.8292429 | AFV11: 3.299909 | AFW11: 3.1410989 | AFX11: 3.2306844 | AFY11: 3.2802373 | AFZ11: 3.2792409 | AGA11: 3.7838398 | AGB11: 3.2090838 | AGC11: 3.2460925 | AGD11: 3.0970121 | AGE11: 3.5511961 | AGF11: 3.5854789 | AGG11: 2.8921699 | AGH11: 3.0879116 | AGI11: 2.9743456 | AGJ11: 3.1800488 | AGK11: 3.017297 | AGL11: 3.4800624 | AGM11: 3.2196616 | AGN11: 3.2237058 | AGO11: 3.422614 | AGP11: 3.2006178 | AGQ11: 2.9516288 | AGR11: 3.0188503 | AGS11: 3.3592207 | AGT11: 3.2133174 | AGU11: 2.8477473 | AGV11: 3.2608369 | AGW11: 3.3824916 | AGX11: 3.5804235 | AGY11: 3.0710456 | AGZ11: 3.1950059 | AHA11: 3.1153051 | AHB11: 3.2119851 | AHC11: 3.2920636 | AHD11: 3.1064607 | AHE11: 3.3469463 | AHF11: 3.3905232 | AHG11: 3.8064405 | AHH11: 3.4283429 | AHI11: 2.7828906 | AHJ11: 3.0630722 | AHK11: 3.1088947 | AHL11: 3.1860248 | AHM11: 3.2280176 | AHN11: 3.3120923 | AHO11: 3.3247978 | AHP11: 3.364404 | AHQ11: 3.0579961 | AHR11: 3.6404566 | AHS11: 3.2961242 | AHT11: 3.4012703 | AHU11: 3.1448769 | AHV11: 3.1908703 | AHW11: 2.9572053 | AHX11: 2.8695319 | AHY11: 2.8803228 | AHZ11: 2.7317864 | AIA11: 2.9850132 | AIB11: 3.3055815 | AIC11: 2.809892 | AID11: 3.1805634 | AIE11: 2.9662071 | AIF11: 2.9085945 | AIG11: 2.9184825 | AIH11: 2.9826235 | AII11: 3.0801483 | AIJ11: 3.1696364 | AIK11: 3.4196851 | AIL11: 3.4863558 | AIM11: 3.3612388 | AIN11: 3.4929136 | AIO11: 3.3640878 | AIP11: 3.6632889 | AIQ11: 3.2351047 | AIR11: 3.2352107 | AIS11: 3.2517072 | AIT11: 2.9887862 | AIU11: 4.0739011 | AIV11: 3.483197 | AIW11: 3.29854 | AIX11: 3.0655269 | AIY11: 3.1871613 | AIZ11: 3.3174088 | AJA11: 3.261039 | AJB11: 3.4344582 | AJC11: 3.1363449 | AJD11: 3.3084844 | AJE11: 3.2327233 | AJF11: 3.6221585 | AJG11: 3.1778194 | AJH11: 3.3015766 | AJI11: 3.0998295 | AJJ11: 3.2238851 | AJK11: 3.5022493 | AJL11: 3.1197784 | AJM11: 3.0699875 | AJN11: 3.2369359 | AJO11: 3.7588572 | AJP11: 3.3031881 | AJQ11: =AVERAGE(B11:AJP11) -> 3.1358392 | AJR11: =STDEV(B11:AJP11) -> 0.24167854
A12: PSEN1 | B12: 4.5519497 | C12: 5.9988927 | D12: 5.2339504 | E12: 4.5882029 | F12: 4.9684693 | G12: 6.2170094 | H12: 4.6351021 | I12: 4.6428718 | J12: 4.8952897 | K12: 5.196296 | L12: 4.8470408 | M12: 4.6390413 | N12: 4.6363807 | O12: 4.0631774 | P12: 4.5762983 | Q12: 5.911537 | R12: 5.3425232 | S12: 6.718141 | T12: 5.3193654 | U12: 6.3665671 | V12: 3.6277099 | W12: 5.5292809 | X12: 3.8275734 | Y12: 5.1897787 | Z12: 5.1602815 | AA12: 5.6000278 | AB12: 5.1748048 | AC12: 5.9019516 | AD12: 4.0987774 | AE12: 5.6963783 | AF12: 6.0461294 | AG12: 4.8701177 | AH12: 4.8631333 | AI12: 6.1316623 | AJ12: 5.4929479 | AK12: 4.1535714 | AL12: 4.180912 | AM12: 6.8755467 | AN12: 5.3741022 | AO12: 5.9700046 | AP12: 7.0104618 | AQ12: 6.5526742 | AR12: 5.3039842 | AS12: 5.0200707 | AT12: 5.6534525 | AU12: 5.5794923 | AV12: 6.5495677 | AW12: 7.2488286 | AX12: 7.546657 | AY12: 5.2208173 | AZ12: 5.9759176 | BA12: 6.098518 | BB12: 5.9422072 | BC12: 5.312605 | BD12: 6.4515633 | BE12: 6.4511404 | BF12: 5.8220852 | BG12: 5.5075279 | BH12: 6.0790679 | BI12: 5.6792995 | BJ12: 5.3391857 | BK12: 5.3086945 | BL12: 6.0463807 | BM12: 5.2469842 | BN12: 5.0216345 | BO12: 5.8271152 | BP12: 6.5851778 | BQ12: 5.4198144 | BR12: 4.8869256 | BS12: 5.7162735 | BT12: 6.4038315 | BU12: 5.2066826 | BV12: 6.4091768 | BW12: 6.2758908 | BX12: 7.0309423 | BY12: 6.9974328 | BZ12: 5.3063521 | CA12: 5.0637117 | CB12: 6.3745636 | CC12: 5.1016742 | CD12: 4.2261271 | CE12: 3.4727123 | CF12: 6.2816758 | CG12: 3.7421422 | CH12: 5.340426 | CI12: 5.0476548 | CJ12: 4.8088621 | CK12: 4.7260741 | CL12: 5.1278329 | CM12: 3.6716518 | CN12: 5.308685 | CO12: 5.5554915 | CP12: 5.6649566 | CQ12: 4.8323208 | CR12: 4.0614597 | CS12: 6.5184982 | CT12: 5.5661388 | CU12: 4.9269335 | CV12: 6.0667427 | CW12: 4.8217412 | CX12: 6.2077101 | CY12: 5.4854413 | CZ12: 4.7949835 | DA12: 6.6532537 | DB12: 5.7199618 | DC12: 5.7108356 | DD12: 5.3622436 | DE12: 5.7084656 | DF12: 6.0575067 | DG12: 6.1241682 | DH12: 6.1822058 | DI12: 6.4836599 | DJ12: 6.0708283 | DK12: 6.8646011 | DL12: 6.0063961 | DM12: 4.6496942 | DN12: 6.6107215 | DO12: 6.3122657 | DP12: 7.3855303 | DQ12: 7.6781239 | DR12: 4.9375666 | DS12: 5.076329 | DT12: 5.9208975 | DU12: 5.6742838 | DV12: 6.4207916 | DW12: 5.8417552 | DX12: 6.0330209 | DY12: 6.6667607 | DZ12: 5.9992725 | EA12: 5.0284248 | EB12: 6.7678212 | EC12: 5.6883534 | ED12: 6.7234046 | EE12: 5.824354 | EF12: 6.7230865 | EG12: 6.1913628 | EH12: 5.1373278 | EI12: 5.7676145 | EJ12: 6.0563639 | EK12: 6.8489345 | EL12: 6.7168218 | EM12: 7.1748301 | EN12: 4.9612198 | EO12: 5.5664409 | EP12: 5.7664212 | EQ12: 5.7378794 | ER12: 5.5795853 | ES12: 4.6072374 | ET12: 5.4072844 | EU12: 6.5472098 | EV12: 5.1417518 | EW12: 5.0302723 | EX12: 5.7388909 | EY12: 4.8018976 | EZ12: 4.2720898 | FA12: 4.9710701 | FB12: 5.6914438 | FC12: 6.3330158 | FD12: 4.7167756 | FE12: 4.8074661 | FF12: 4.3771901 | FG12: 5.3862031 | FH12: 5.847816 | FI12: 7.3661706 | FJ12: 6.9899479 | FK12: 6.4004164 | FL12: 4.9943187 | FM12: 5.358655 | FN12: 4.6616495 | FO12: 3.7550086 | FP12: 6.7268202 | FQ12: 5.9326767 | FR12: 5.3607487 | FS12: 4.6621756 | FT12: 4.4879663 | FU12: 5.1119583 | FV12: 5.3396259 | FW12: 6.3294197 | FX12: 5.1749978 | FY12: 5.7364741 | FZ12: 5.0416549 | GA12: 4.8746308 | GB12: 4.6530009 | GC12: 5.8033469 | GD12: 6.6099738 | GE12: 6.6294835 | GF12: 6.0054568 | GG12: 4.7510133 | GH12: 5.3455357 | GI12: 5.3947111 | GJ12: 5.2420637 | GK12: 6.2031803 | GL12: 5.3939779 | GM12: 5.8983277 | GN12: 5.655224 | GO12: 5.379575 | GP12: 4.9912917 | GQ12: 6.2915194 | GR12: 6.6262063 | GS12: 5.1361962 | GT12: 6.888729 | GU12: 6.5005272 | GV12: 6.0990419 | GW12: 6.0137151 | GX12: 5.1659748 | GY12: 6.471808 | GZ12: 7.1924741 | HA12: 5.5390525 | HB12: 5.2392927 | HC12: 5.7337118 | HD12: 5.9084107 | HE12: 5.842738 | HF12: 5.245255 | HG12: 6.4200435 | HH12: 5.3224769 | HI12: 5.2038721 | HJ12: 6.2086637 | HK12: 6.9479003 | HL12: 5.8627831 | HM12: 5.7422161 | HN12: 5.1699646 | HO12: 5.5158324 | HP12: 8.3735756 | HQ12: 7.0879144 | HR12: 7.0789647 | HS12: 7.5114776 | HT12: 6.9083291 | HU12: 6.5019783 | HV12: 6.5801379 | HW12: 4.9674209 | HX12: 4.7000408 | HY12: 4.6474532 | HZ12: 5.7061157 | IA12: 6.8582337 | IB12: 6.3592916 | IC12: 6.3393457 | ID12: 6.7329135 | IE12: 5.5238161 | IF12: 4.4213156 | IG12: 5.2829395 | IH12: 4.6130771 | II12: 5.0162968 | IJ12: 5.1422785 | IK12: 4.372067 | IL12: 6.6865418 | IM12: 3.273002 | IN12: 4.8103156 | IO12: 4.346369 | IP12: 5.7092163 | IQ12: 6.2675671 | IR12: 6.1703338 | IS12: 5.3477046 | IT12: 5.1915749 | IU12: 5.9154314 | IV12: 6.3051416 | IW12: 6.239807 | IX12: 4.0864595 | IY12: 6.149295 | IZ12: 3.7387621 | JA12: 5.5222365 | JB12: 4.8822023 | JC12: 6.540992 | JD12: 6.1611617 | JE12: 5.4869686 | JF12: 5.8729944 | JG12: 6.2118495 | JH12: 6.0200724 | JI12: 5.175833 | JJ12: 6.1004791 | JK12: 6.4903087 | JL12: 6.5839717 | JM12: 5.3242468 | JN12: 5.773192 | JO12: 7.7488435 | JP12: 5.506172 | JQ12: 7.634506 | JR12: 6.2978093 | JS12: 7.1778878 | JT12: 6.5746035 | JU12: 6.920745 | JV12: 7.3504625 | JW12: 6.3353271 | JX12: 6.6172011 | JY12: 7.3567494 | JZ12: 6.895723 | KA12: 7.3977384 | KB12: 7.2712039 | KC12: 6.0543626 | KD12: 7.1893719 | KE12: 4.9527709 | KF12: 4.3134561 | KG12: 6.5899087 | KH12: 7.6662407 | KI12: 6.7107951 | KJ12: 6.389451 | KK12: 8.3534192 | KL12: 6.8834595 | KM12: 6.4186366 | KN12: 7.3577843 | KO12: 6.2277459 | KP12: 6.5627442 | KQ12: 6.4312235 | KR12: 6.8740585 | KS12: 7.5648233 | KT12: 4.7337809 | KU12: 5.7827435 | KV12: 7.415679 | KW12: 8.4303734 | KX12: 7.1711276 | KY12: 7.6636317 | KZ12: 6.1219795 | LA12: 6.1029935 | LB12: 7.690025 | LC12: 5.5587165 | LD12: 6.2454697 | LE12: 6.9688376 | LF12: 7.0943065 | LG12: 6.1578993 | LH12: 6.3287461 | LI12: 6.9706008 | LJ12: 6.7774951 | LK12: 8.0128667 | LL12: 8.0342798 | LM12: 8.0390143 | LN12: 7.7407487 | LO12: 4.4272278 | LP12: 6.4368363 | LQ12: 7.0428397 | LR12: 4.782473 | LS12: 4.0185222 | LT12: 5.9871061 | LU12: 4.0397937 | LV12: 5.3169913 | LW12: 4.869931 | LX12: 4.4489914 | LY12: 6.1621509 | LZ12: 4.8736363 | MA12: 5.9689036 | MB12: 4.6661057 | MC12: 4.3071914 | MD12: 4.2697823 | ME12: 4.9795436 | MF12: 4.1231119 | MG12: 5.6179647 | MH12: 6.2274533 | MI12: 5.6449318 | MJ12: 4.3894663 | MK12: 5.2114322 | ML12: 6.0255583 | MM12: 5.5682253 | MN12: 5.5698736 | MO12: 5.5920788 | MP12: 4.476337 | MQ12: 5.4673603 | MR12: 5.20709 | MS12: 4.7477629 | MT12: 4.6936454 | MU12: 5.2267075 | MV12: 4.7998256 | MW12: 6.1751433 | MX12: 5.2829412 | MY12: 5.0180518 | MZ12: 5.4827467 | NA12: 4.6344237 | NB12: 4.0573995 | NC12: 4.6700052 | ND12: 6.2742792 | NE12: 5.4569531 | NF12: 5.7550154 | NG12: 4.4328099 | NH12: 4.8940398 | NI12: 4.5878849 | NJ12: 7.4356455 | NK12: 5.5646634 | NL12: 5.5458789 | NM12: 6.087433 | NN12: 4.3575005 | NO12: 6.2416294 | NP12: 5.0614 | NQ12: 4.4524932 | NR12: 6.0654518 | NS12: 5.1470484 | NT12: 5.6336174 | NU12: 5.693877 | NV12: 4.9224086 | NW12: 4.5753719 | NX12: 7.2524487 | NY12: 4.5462463 | NZ12: 6.6118736 | OA12: 6.6315787 | OB12: 5.9625928 | OC12: 6.4097292 | OD12: 5.0370343 | OE12: 5.5243535 | OF12: 7.1060552 | OG12: 5.2883764 | OH12: 5.2945587 | OI12: 4.7947228 | OJ12: 6.0417359 | OK12: 6.3150457 | OL12: 6.4483296 | OM12: 7.6131347 | ON12: 5.8380855 | OO12: 7.3487821 | OP12: 6.2309996 | OQ12: 5.8878453 | OR12: 6.8930657 | OS12: 5.4896341 | OT12: 6.4387834 | OU12: 6.0045512 | OV12: 6.0348731 | OW12: 5.7191633 | OX12: 7.7098468 | OY12: 6.0947388 | OZ12: 5.9497406 | PA12: 5.5939382 | PB12: 7.2522275 | PC12: 5.6004043 | PD12: 7.3833182 | PE12: 7.6810404 | PF12: 7.2246082 | PG12: 6.2322844 | PH12: 5.8032876 | PI12: 6.667022 | PJ12: 4.6152093 | PK12: 4.6955573 | PL12: 4.8762347 | PM12: 6.3581509 | PN12: 4.972563 | PO12: 6.6618812 | PP12: 4.4212532 | PQ12: 5.3292172 | PR12: 6.0533684 | PS12: 4.4997748 | PT12: 5.1748565 | PU12: 6.1742354 | PV12: 4.5309618 | PW12: 5.1284181 | PX12: 4.615195 | PY12: 5.3033168 | PZ12: 5.3947257 | QA12: 4.9578827 | QB12: 5.902521 | QC12: 6.1107017 | QD12: 5.5062672 | QE12: 5.3914364 | QF12: 6.0242607 | QG12: 4.4648338 | QH12: 4.6168646 | QI12: 5.4863727 | QJ12: 4.9417307 | QK12: 4.6153657 | QL12: 5.2268895 | QM12: 5.1837418 | QN12: 4.3495568 | QO12: 6.0398547 | QP12: 6.1702901 | QQ12: 6.442975 | QR12: 6.4519173 | QS12: 6.2504133 | QT12: 5.9882841 | QU12: 5.507218 | QV12: 5.3636957 | QW12: 6.5535128 | QX12: 5.5787906 | QY12: 6.8174583 | QZ12: 6.213159 | RA12: 6.7615105 | RB12: 5.8001346 | RC12: 5.9213051 | RD12: 4.9333907 | RE12: 5.0753995 | RF12: 5.5265561 | RG12: 7.117106 | RH12: 6.1856462 | RI12: 6.384567 | RJ12: 4.3643202 | RK12: 5.6657572 | RL12: 6.380819 | RM12: 5.7696086 | RN12: 6.0386154 | RO12: 6.4518705 | RP12: 6.5482157 | RQ12: 5.9328609 | RR12: 5.9410637 | RS12: 5.6405074 | RT12: 5.4697432 | RU12: 5.7513675 | RV12: 3.805004 | RW12: 6.1228549 | RX12: 6.4794213 | RY12: 5.7401417 | RZ12: 6.3216282 | SA12: 5.4653775 | SB12: 4.9543463 | SC12: 7.2300825 | SD12: 5.0822293 | SE12: 5.6398848 | SF12: 5.2217985 | SG12: 4.8554196 | SH12: 6.2226253 | SI12: 4.3701654 | SJ12: 5.0475896 | SK12: 6.1579773 | SL12: 5.2050426 | SM12: 5.3104608 | SN12: 6.4107256 | SO12: 5.5144794 | SP12: 5.3641128 | SQ12: 4.5715269 | SR12: 5.5713559 | SS12: 7.6506094 | ST12: 7.3198475 | SU12: 7.463591 | SV12: 5.9551742 | SW12: 6.3203897 | SX12: 6.428567 | SY12: 7.0247914 | SZ12: 8.5626627 | TA12: 6.1052192 | TB12: 7.4124653 | TC12: 6.6586982 | TD12: 6.259735 | TE12: 6.1663821 | TF12: 7.5712734 | TG12: 7.9360315 | TH12: 5.9442509 | TI12: 8.2419935 | TJ12: 6.2718354 | TK12: 6.2530742 | TL12: 5.6795678 | TM12: 6.5138827 | TN12: 6.7510028 | TO12: 6.8003482 | TP12: 5.7202103 | TQ12: 6.4680413 | TR12: 6.6914318 | TS12: 7.6717575 | TT12: 6.8089677 | TU12: 7.5806015 | TV12: 6.7870345 | TW12: 7.6236719 | TX12: 4.801406 | TY12: 5.2888002 | TZ12: 5.3723477 | UA12: 5.164598 | UB12: 6.0256744 | UC12: 5.497354 | UD12: 5.068126 | UE12: 5.1375464 | UF12: 5.3797619 | UG12: 4.8860261 | UH12: 5.2031705 | UI12: 5.2932202 | UJ12: 4.3967693 | UK12: 4.5465244 | UL12: 4.7848809 | UM12: 4.5395259 | UN12: 4.5078921 | UO12: 5.1194259 | UP12: 4.8759607 | UQ12: 5.0045709 | UR12: 6.0099985 | US12: 6.1648318 | UT12: 4.3350377 | UU12: 4.9829503 | UV12: 4.2363801 | UW12: 4.9530577 | UX12: 5.4644458 | UY12: 4.8885068 | UZ12: 5.1833335 | VA12: 4.4631174 | VB12: 6.0458818 | VC12: 7.1164047 | VD12: 5.9493276 | VE12: 5.416462 | VF12: 6.013217 | VG12: 6.9750763 | VH12: 5.9295214 | VI12: 5.9175114 | VJ12: 6.235368 | VK12: 6.108886 | VL12: 5.9099071 | VM12: 5.0917331 | VN12: 4.7844061 | VO12: 4.6534488 | VP12: 6.0919738 | VQ12: 6.2303413 | VR12: 5.2375096 | VS12: 5.7688873 | VT12: 5.3270935 | VU12: 6.5032792 | VV12: 6.2983312 | VW12: 5.2174044 | VX12: 4.9598848 | VY12: 5.8938194 | VZ12: 5.805134 | WA12: 4.4750452 | WB12: 4.8684231 | WC12: 5.3246462 | WD12: 5.0709457 | WE12: 5.9750972 | WF12: 5.8712445 | WG12: 4.5301532 | WH12: 5.2122309 | WI12: 4.993894 | WJ12: 6.0717573 | WK12: 5.2939248 | WL12: 3.9842879 | WM12: 5.0606147 | WN12: 3.7722746 | WO12: 5.3171513 | WP12: 6.1503126 | WQ12: 5.4999724 | WR12: 6.2981609 | WS12: 6.8436315 | WT12: 6.6112665 | WU12: 4.6029015 | WV12: 6.2546397 | WW12: 5.7929541 | WX12: 5.5366845 | WY12: 6.1037421 | WZ12: 5.2725111 | XA12: 4.9186563 | XB12: 4.2388627 | XC12: 5.121828 | XD12: 7.491555 | XE12: 5.661799 | XF12: 6.3176241 | XG12: 6.9020462 | XH12: 4.9431357 | XI12: 6.357278 | XJ12: 5.9527091 | XK12: 6.4451685 | XL12: 6.0570032 | XM12: 6.6282288 | XN12: 5.0689333 | XO12: 4.1190957 | XP12: 4.6206 | XQ12: 5.183747 | XR12: 5.681355 | XS12: 5.7340396 | XT12: 5.6501333 | XU12: 4.606383 | XV12: 4.6833749 | XW12: 5.8962349 | XX12: 5.363513 | XY12: 5.3728059 | XZ12: 3.6950257 | YA12: 5.126608 | YB12: 4.8799079 | YC12: 5.1946068 | YD12: 4.55861 | YE12: 4.2306812 | YF12: 5.9157331 | YG12: 5.2813497 | YH12: 5.1551628 | YI12: 5.1911782 | YJ12: 4.6995566 | YK12: 6.1340449 | YL12: 5.1683742 | YM12: 4.6231021 | YN12: 5.0628903 | YO12: 4.4700431 | YP12: 5.6944574 | YQ12: 5.8815619 | YR12: 5.6294962 | YS12: 4.8933668 | YT12: 5.4525688 | YU12: 6.6924376 | YV12: 5.7575455 | YW12: 6.1167823 | YX12: 5.1076882 | YY12: 6.0714873 | YZ12: 6.1402161 | ZA12: 5.3531629 | ZB12: 6.9147974 | ZC12: 5.70334 | ZD12: 5.8848741 | ZE12: 3.8277885 | ZF12: 4.9856326 | ZG12: 5.887655 | ZH12: 4.8753155 | ZI12: 5.198783 | ZJ12: 5.4341055 | ZK12: 5.5629122 | ZL12: 4.347153 | ZM12: 4.6721083 | ZN12: 5.8169331 | ZO12: 5.4774315 | ZP12: 5.1089132 | ZQ12: 5.7526399 | ZR12: 5.6920306 | ZS12: 5.781059 | ZT12: 5.8257562 | ZU12: 4.9146224 | ZV12: 5.0311351 | ZW12: 5.0938548 | ZX12: 5.7518736 | ZY12: 5.5669142 | ZZ12: 6.2931223 | AAA12: 6.0692871 | AAB12: 5.9012702 | AAC12: 5.438211 | AAD12: 6.0616951 | AAE12: 5.3440061 | AAF12: 4.4036051 | AAG12: 6.0609413 | AAH12: 5.793146 | AAI12: 4.5613508 | AAJ12: 5.0610716 | AAK12: 5.522026 | AAL12: 5.8072904 | AAM12: 5.1358924 | AAN12: 4.6731595 | AAO12: 5.3793472 | AAP12: 5.9469898 | AAQ12: 5.4161785 | AAR12: 5.9459713 | AAS12: 4.9789437 | AAT12: 4.407239 | AAU12: 5.2193519 | AAV12: 5.6670614 | AAW12: 5.6815203 | AAX12: 5.6558934 | AAY12: 6.5675752 | AAZ12: 5.6968927 | ABA12: 5.7001318 | ABB12: 5.2909233 | ABC12: 6.1724942 | ABD12: 5.1650143 | ABE12: 4.981784 | ABF12: 5.2227936 | ABG12: 5.8441428 | ABH12: 5.9578305 | ABI12: 6.0459869 | ABJ12: 6.0459497 | ABK12: 5.58459 | ABL12: 6.5747489 | ABM12: 7.3158778 | ABN12: 5.6441155 | ABO12: 6.7109272 | ABP12: 7.2728513 | ABQ12: 6.0109935 | ABR12: 7.2595931 | ABS12: 6.0465612 | ABT12: 6.0754005 | ABU12: 7.2751756 | ABV12: 6.981393 | ABW12: 5.4258459 | ABX12: 7.3365971 | ABY12: 6.2519996 | ABZ12: 6.2074255 | ACA12: 6.385505 | ACB12: 6.7957112 | ACC12: 5.1395934 | ACD12: 6.834134 | ACE12: 5.8081291 | ACF12: 5.5079702 | ACG12: 7.9137537 | ACH12: 7.1673007 | ACI12: 7.3479401 | ACJ12: 4.2508017 | ACK12: 6.1355946 | ACL12: 6.5206913 | ACM12: 6.4638088 | ACN12: 7.3791268 | ACO12: 6.5553204 | ACP12: 7.0768186 | ACQ12: 6.9162578 | ACR12: 6.3083646 | ACS12: 4.1036908 | ACT12: 4.0428212 | ACU12: 4.5817514 | ACV12: 5.3909461 | ACW12: 4.7394445 | ACX12: 6.1631571 | ACY12: 4.1588426 | ACZ12: 4.9221975 | ADA12: 4.988511 | ADB12: 3.6829486 | ADC12: 5.0854508 | ADD12: 6.871417 | ADE12: 4.3611707 | ADF12: 5.2718098 | ADG12: 4.3617208 | ADH12: 6.0998048 | ADI12: 4.112965 | ADJ12: 5.2093834 | ADK12: 5.4342319 | ADL12: 5.1161321 | ADM12: 5.1571299 | ADN12: 5.1574624 | ADO12: 5.3052817 | ADP12: 6.953641 | ADQ12: 4.878185 | ADR12: 4.9618928 | ADS12: 5.9781018 | ADT12: 6.6063899 | ADU12: 4.991478 | ADV12: 7.2405069 | ADW12: 5.8568194 | ADX12: 5.7433295 | ADY12: 4.5083251 | ADZ12: 6.8756071 | AEA12: 5.5412926 | AEB12: 5.1975791 | AEC12: 4.6190942 | AED12: 6.3297679 | AEE12: 5.6786488 | AEF12: 5.6693792 | AEG12: 5.9866243 | AEH12: 6.3656276 | AEI12: 5.4136689 | AEJ12: 4.621224 | AEK12: 6.2058347 | AEL12: 5.2623613 | AEM12: 4.6511534 | AEN12: 6.2998535 | AEO12: 5.1579689 | AEP12: 5.0259847 | AEQ12: 6.1405525 | AER12: 5.9000193 | AES12: 5.9301855 | AET12: 5.5520831 | AEU12: 5.1613682 | AEV12: 5.6603334 | AEW12: 6.0014 | AEX12: 5.7685798 | AEY12: 5.84346 | AEZ12: 6.0470183 | AFA12: 4.7367459 | AFB12: 5.4917686 | AFC12: 5.1579815 | AFD12: 5.2398749 | AFE12: 6.2308338 | AFF12: 5.0456206 | AFG12: 6.1116866 | AFH12: 7.0495688 | AFI12: 6.2993011 | AFJ12: 5.9138007 | AFK12: 5.1110208 | AFL12: 5.0459925 | AFM12: 8.0840308 | AFN12: 6.147412 | AFO12: 4.2808613 | AFP12: 5.7666421 | AFQ12: 5.0331464 | AFR12: 6.2602027 | AFS12: 5.1775814 | AFT12: 4.840491 | AFU12: 6.3785846 | AFV12: 4.1573727 | AFW12: 5.4317771 | AFX12: 6.4335287 | AFY12: 4.692401 | AFZ12: 5.5800435 | AGA12: 5.2664022 | AGB12: 4.9168111 | AGC12: 4.1215117 | AGD12: 5.643997 | AGE12: 4.8593688 | AGF12: 5.4307903 | AGG12: 4.3212274 | AGH12: 5.7506189 | AGI12: 6.7065258 | AGJ12: 5.8925582 | AGK12: 6.5026457 | AGL12: 5.1338392 | AGM12: 6.1121563 | AGN12: 4.8232566 | AGO12: 5.9740248 | AGP12: 5.9998001 | AGQ12: 5.0247804 | AGR12: 5.9312143 | AGS12: 4.911301 | AGT12: 5.8505905 | AGU12: 6.0493877 | AGV12: 5.0178782 | AGW12: 5.4914364 | AGX12: 3.6527439 | AGY12: 6.6294889 | AGZ12: 6.8376166 | AHA12: 6.2937662 | AHB12: 5.9005242 | AHC12: 7.3620684 | AHD12: 5.9485612 | AHE12: 5.9522502 | AHF12: 5.8423573 | AHG12: 5.5629528 | AHH12: 4.7143354 | AHI12: 5.2052566 | AHJ12: 6.252866 | AHK12: 5.6921215 | AHL12: 5.005486 | AHM12: 6.1440681 | AHN12: 4.3352515 | AHO12: 4.6692857 | AHP12: 4.0188579 | AHQ12: 5.3684276 | AHR12: 3.8755183 | AHS12: 5.1722969 | AHT12: 5.4480237 | AHU12: 4.983635 | AHV12: 5.3445984 | AHW12: 4.842039 | AHX12: 5.4350335 | AHY12: 5.6105163 | AHZ12: 6.708728 | AIA12: 3.5223197 | AIB12: 6.1595606 | AIC12: 5.7634033 | AID12: 5.7051553 | AIE12: 5.1801607 | AIF12: 5.47376 | AIG12: 5.1242454 | AIH12: 6.3560173 | AII12: 8.2356727 | AIJ12: 6.847854 | AIK12: 5.8804168 | AIL12: 6.8227287 | AIM12: 6.5479696 | AIN12: 5.6950953 | AIO12: 6.173166 | AIP12: 6.5838707 | AIQ12: 5.9977588 | AIR12: 6.3546512 | AIS12: 6.8888294 | AIT12: 6.9854664 | AIU12: 5.1836041 | AIV12: 6.3754107 | AIW12: 7.9389656 | AIX12: 6.4406658 | AIY12: 6.8399034 | AIZ12: 6.2800898 | AJA12: 5.2033863 | AJB12: 6.8967185 | AJC12: 5.8058724 | AJD12: 5.4278598 | AJE12: 6.5188098 | AJF12: 7.3819046 | AJG12: 7.5474826 | AJH12: 8.1284932 | AJI12: 7.5792244 | AJJ12: 5.5822874 | AJK12: 6.6577336 | AJL12: 7.1712168 | AJM12: 6.1866353 | AJN12: 7.7996407 | AJO12: 7.2643573 | AJP12: 6.8641659 | AJQ12: =AVERAGE(B12:AJP12) -> 5.7342099 | AJR12: =STDEV(B12:AJP12) -> 0.91161227
A13: APP | B13: 7.667896 | C13: 7.2727277 | D13: 7.9742904 | E13: 6.31654 | F13: 4.8235753 | G13: 7.5961945 | H13: 6.9098048 | I13: 5.6559256 | J13: 7.7635226 | K13: 7.3669683 | L13: 8.3641398 | M13: 7.9513182 | N13: 5.9406642 | O13: 6.0139181 | P13: 7.0597101 | Q13: 7.5596911 | R13: 6.3212908 | S13: 7.166644 | T13: 6.3652842 | U13: 6.1403248 | V13: 5.5613782 | W13: 6.2893452 | X13: 6.6822274 | Y13: 6.768431 | Z13: 8.2969317 | AA13: 8.077312 | AB13: 7.1237328 | AC13: 6.6811439 | AD13: 5.9595801 | AE13: 7.408963 | AF13: 7.8312303 | AG13: 7.4834902 | AH13: 6.6627189 | AI13: 8.6065628 | AJ13: 6.6093193 | AK13: 7.8114156 | AL13: 9.014106 | AM13: 7.2680197 | AN13: 8.2617895 | AO13: 6.1968214 | AP13: 8.5525057 | AQ13: 6.6504585 | AR13: 8.7720978 | AS13: 6.7397561 | AT13: 7.106581 | AU13: 7.4264111 | AV13: 8.1468303 | AW13: 7.8855273 | AX13: 8.7905604 | AY13: 7.6702034 | AZ13: 7.4401186 | BA13: 7.811844 | BB13: 6.421412 | BC13: 7.456909 | BD13: 8.5790663 | BE13: 5.8684188 | BF13: 7.5064101 | BG13: 8.8359286 | BH13: 6.7539816 | BI13: 8.5422233 | BJ13: 6.6027179 | BK13: 8.2404949 | BL13: 6.8914897 | BM13: 7.8294687 | BN13: 6.3448614 | BO13: 5.7334493 | BP13: 7.8897228 | BQ13: 7.1054624 | BR13: 6.9953643 | BS13: 7.3716277 | BT13: 7.3680238 | BU13: 6.1963197 | BV13: 8.8912853 | BW13: 6.6078071 | BX13: 5.6044355 | BY13: 7.655965 | BZ13: 7.0362522 | CA13: 8.2990631 | CB13: 7.351022 | CC13: 7.4546039 | CD13: 7.9116255 | CE13: 5.1078533 | CF13: 6.9720018 | CG13: 8.6333873 | CH13: 8.0435209 | CI13: 6.8914528 | CJ13: 8.0455332 | CK13: 8.5937831 | CL13: 8.3068229 | CM13: 7.191927 | CN13: 10.037869 | CO13: 9.3015469 | CP13: 7.5664882 | CQ13: 7.0804416 | CR13: 6.0252976 | CS13: 8.3407874 | CT13: 9.6122315 | CU13: 8.5455294 | CV13: 7.7688803 | CW13: 7.7481369 | CX13: 8.504514 | CY13: 8.188186 | CZ13: 7.4791151 | DA13: 8.0782262 | DB13: 7.1803507 | DC13: 6.8733087 | DD13: 8.5042584 | DE13: 7.0042423 | DF13: 8.3413087 | DG13: 7.3698518 | DH13: 6.6492051 | DI13: 6.4709495 | DJ13: 7.6034056 | DK13: 7.8774184 | DL13: 7.5174151 | DM13: 8.3297478 | DN13: 6.6565842 | DO13: 7.2252718 | DP13: 6.4897572 | DQ13: 8.0624222 | DR13: 8.0482653 | DS13: 7.4050887 | DT13: 8.1950991 | DU13: 6.9989851 | DV13: 8.2665937 | DW13: 9.1191449 | DX13: 8.890374 | DY13: 8.4539233 | DZ13: 9.1476876 | EA13: 8.5021823 | EB13: 7.0393792 | EC13: 7.5758878 | ED13: 6.3240203 | EE13: 8.3540399 | EF13: 8.4111362 | EG13: 7.5770955 | EH13: 7.0111038 | EI13: 8.3249027 | EJ13: 8.6892197 | EK13: 7.8599195 | EL13: 7.7954487 | EM13: 7.4648091 | EN13: 7.8005006 | EO13: 7.1940103 | EP13: 8.2726579 | EQ13: 7.8315206 | ER13: 7.340984 | ES13: 6.6687227 | ET13: 7.4587104 | EU13: 8.4568064 | EV13: 7.6868601 | EW13: 8.3008345 | EX13: 8.3233071 | EY13: 7.7059653 | EZ13: 7.3723523 | FA13: 6.4710854 | FB13: 8.9856089 | FC13: 8.8473914 | FD13: 7.830829 | FE13: 9.0290645 | FF13: 7.712002 | FG13: 7.7481523 | FH13: 7.9010565 | FI13: 6.7943498 | FJ13: 7.3279244 | FK13: 8.5212976 | FL13: 8.2235258 | FM13: 8.4519348 | FN13: 8.76165 | FO13: 8.1954636 | FP13: 8.6231686 | FQ13: 8.8419803 | FR13: 9.7238994 | FS13: 9.2551167 | FT13: 7.7501696 | FU13: 8.7240965 | FV13: 8.8523221 | FW13: 9.3823039 | FX13: 8.4239249 | FY13: 8.774944 | FZ13: 8.0733788 | GA13: 7.956891 | GB13: 7.5501672 | GC13: 8.4602202 | GD13: 8.9764205 | GE13: 8.5071304 | GF13: 9.5331643 | GG13: 9.0815161 | GH13: 9.007756 | GI13: 8.0997316 | GJ13: 8.4051753 | GK13: 8.8690132 | GL13: 9.2298249 | GM13: 9.8321257 | GN13: 8.5948193 | GO13: 8.3136043 | GP13: 8.5985528 | GQ13: 8.7955867 | GR13: 8.8634458 | GS13: 8.5136408 | GT13: 9.2116816 | GU13: 8.4543906 | GV13: 7.6601559 | GW13: 8.8846289 | GX13: 6.9180717 | GY13: 8.8309107 | GZ13: 9.0277805 | HA13: 8.7227969 | HB13: 7.4558201 | HC13: 9.223578 | HD13: 5.2651098 | HE13: 9.065755 | HF13: 8.4301839 | HG13: 7.672546 | HH13: 7.9693089 | HI13: 7.7802526 | HJ13: 7.6373655 | HK13: 8.7534235 | HL13: 10.13309 | HM13: 7.1600106 | HN13: 7.1257033 | HO13: 8.8534012 | HP13: 8.3930183 | HQ13: 7.5799015 | HR13: 8.8981629 | HS13: 8.0824011 | HT13: 8.7927165 | HU13: 8.0410307 | HV13: 7.205858 | HW13: 8.5975308 | HX13: 7.1020564 | HY13: 6.9386841 | HZ13: 7.268729 | IA13: 9.5912771 | IB13: 8.6459338 | IC13: 9.0452927 | ID13: 7.8449887 | IE13: 7.0013725 | IF13: 9.0754795 | IG13: 7.6641732 | IH13: 6.3732154 | II13: 9.4921026 | IJ13: 7.6309792 | IK13: 7.3322421 | IL13: 9.6198312 | IM13: 7.0279196 | IN13: 7.5816883 | IO13: 7.0041363 | IP13: 8.6375519 | IQ13: 6.8436648 | IR13: 6.9161789 | IS13: 8.1663242 | IT13: 7.8778462 | IU13: 8.2956922 | IV13: 9.5898314 | IW13: 9.319716 | IX13: 6.159067 | IY13: 7.8834567 | IZ13: 5.4077806 | JA13: 7.3602793 | JB13: 6.3595809 | JC13: 8.4063508 | JD13: 7.8002164 | JE13: 8.2388236 | JF13: 7.7425561 | JG13: 7.2394499 | JH13: 8.2311524 | JI13: 8.2417625 | JJ13: 8.7944689 | JK13: 7.2423811 | JL13: 7.3784069 | JM13: 8.4970401 | JN13: 8.4028794 | JO13: 8.2901303 | JP13: 8.4451521 | JQ13: 8.2567948 | JR13: 8.9661776 | JS13: 8.5732312 | JT13: 8.2245944 | JU13: 8.797557 | JV13: 8.346691 | JW13: 8.4966624 | JX13: 8.6531071 | JY13: 8.5779506 | JZ13: 8.9511217 | KA13: 9.490862 | KB13: 8.0699853 | KC13: 7.9830259 | KD13: 7.9692354 | KE13: 7.5849364 | KF13: 7.1374712 | KG13: 7.6130606 | KH13: 8.6419238 | KI13: 8.6972028 | KJ13: 8.3341693 | KK13: 8.8219681 | KL13: 10.153523 | KM13: 8.5584065 | KN13: 8.2756578 | KO13: 8.7929713 | KP13: 9.9687394 | KQ13: 6.9050258 | KR13: 9.1698061 | KS13: 9.2054399 | KT13: 8.4351362 | KU13: 7.688234 | KV13: 8.1703152 | KW13: 8.3963761 | KX13: 8.5390629 | KY13: 9.3777248 | KZ13: 9.1470137 | LA13: 8.2369446 | LB13: 9.0299447 | LC13: 8.375431 | LD13: 8.5509528 | LE13: 8.5288252 | LF13: 8.6931825 | LG13: 8.8879439 | LH13: 9.216252 | LI13: 8.97299 | LJ13: 8.880624 | LK13: 9.0218887 | LL13: 9.4255188 | LM13: 9.0635279 | LN13: 8.891743 | LO13: 6.4700831 | LP13: 8.1069227 | LQ13: 8.9182176 | LR13: 7.5632505 | LS13: 7.3928466 | LT13: 7.1726227 | LU13: 5.6587189 | LV13: 5.6927272 | LW13: 7.7182863 | LX13: 7.6023549 | LY13: 7.3280506 | LZ13: 5.4831888 | MA13: 6.471524 | MB13: 7.668765 | MC13: 7.1580068 | MD13: 4.8491142 | ME13: 6.9698797 | MF13: 7.5191612 | MG13: 7.7534157 | MH13: 7.5581455 | MI13: 7.1720356 | MJ13: 7.8389647 | MK13: 5.6533852 | ML13: 8.0402263 | MM13: 7.8623581 | MN13: 6.7642052 | MO13: 7.7760151 | MP13: 7.5609218 | MQ13: 5.8754643 | MR13: 7.4124216 | MS13: 6.2269953 | MT13: 7.8010141 | MU13: 8.5819015 | MV13: 6.2909294 | MW13: 7.1688692 | MX13: 5.6133619 | MY13: 8.770298 | MZ13: 8.8805529 | NA13: 6.4861985 | NB13: 6.0462723 | NC13: 8.1432482 | ND13: 9.3359106 | NE13: 5.8797633 | NF13: 7.7628586 | NG13: 8.1458792 | NH13: 7.5539356 | NI13: 8.3020368 | NJ13: 8.3996721 | NK13: 7.3588579 | NL13: 6.7179553 | NM13: 7.0827288 | NN13: 6.2656895 | NO13: 6.400849 | NP13: 7.7420965 | NQ13: 4.6128248 | NR13: 8.2704741 | NS13: 5.0862803 | NT13: 7.4688823 | NU13: 8.2539458 | NV13: 8.7352929 | NW13: 8.0571851 | NX13: 8.9557501 | NY13: 8.7294476 | NZ13: 8.2286625 | OA13: 9.6342882 | OB13: 7.5210728 | OC13: 8.7283576 | OD13: 7.9281052 | OE13: 8.2790431 | OF13: 8.8487055 | OG13: 8.2077471 | OH13: 8.1599774 | OI13: 7.9636742 | OJ13: 7.3649922 | OK13: 8.4953017 | OL13: 6.0976236 | OM13: 7.3883067 | ON13: 6.6294946 | OO13: 8.2407418 | OP13: 7.630796 | OQ13: 7.3993436 | OR13: 8.832944 | OS13: 7.6026618 | OT13: 7.0976352 | OU13: 7.1440121 | OV13: 9.2338448 | OW13: 9.3483012 | OX13: 8.449902 | OY13: 9.1679049 | OZ13: 6.4228433 | PA13: 9.188286 | PB13: 8.8557128 | PC13: 7.9150552 | PD13: 8.1331997 | PE13: 8.4535174 | PF13: 9.2788201 | PG13: 5.8820533 | PH13: 9.0851386 | PI13: 9.8193117 | PJ13: 8.2981796 | PK13: 8.5790173 | PL13: 8.4922954 | PM13: 8.4630963 | PN13: 7.4198743 | PO13: 7.3711243 | PP13: 7.8746232 | PQ13: 7.15335 | PR13: 8.309451 | PS13: 7.8920949 | PT13: 7.2390138 | PU13: 6.9987773 | PV13: 7.3407844 | PW13: 6.1344102 | PX13: 6.394193 | PY13: 7.7316779 | PZ13: 7.9483855 | QA13: 8.9440787 | QB13: 8.4712491 | QC13: 8.306761 | QD13: 8.6691809 | QE13: 9.101763 | QF13: 8.2624816 | QG13: 9.0208362 | QH13: 8.0061938 | QI13: 8.7226712 | QJ13: 8.8329402 | QK13: 8.6030033 | QL13: 6.0976994 | QM13: 8.4838278 | QN13: 8.3611425 | QO13: 8.7711049 | QP13: 7.9657709 | QQ13: 7.7281722 | QR13: 8.3319588 | QS13: 8.693172 | QT13: 8.7560009 | QU13: 8.4439459 | QV13: 6.9294089 | QW13: 8.3200456 | QX13: 9.3409786 | QY13: 8.1398131 | QZ13: 7.2748666 | RA13: 8.9908688 | RB13: 8.7960295 | RC13: 8.2319036 | RD13: 8.6530565 | RE13: 8.2919059 | RF13: 8.0183568 | RG13: 9.1407825 | RH13: 8.4908107 | RI13: 8.1106854 | RJ13: 7.2277554 | RK13: 8.1592695 | RL13: 8.2798072 | RM13: 9.1418455 | RN13: 8.2748189 | RO13: 9.1350001 | RP13: 9.3561491 | RQ13: 8.1561239 | RR13: 8.2733168 | RS13: 8.3048977 | RT13: 8.4546975 | RU13: 8.7650131 | RV13: 8.9928028 | RW13: 7.2035355 | RX13: 7.8637145 | RY13: 8.6224787 | RZ13: 7.3438115 | SA13: 8.020385 | SB13: 7.5363276 | SC13: 7.1572087 | SD13: 5.9800249 | SE13: 7.5934158 | SF13: 7.8410601 | SG13: 6.4823766 | SH13: 7.7922871 | SI13: 8.2828392 | SJ13: 7.6115891 | SK13: 7.670391 | SL13: 8.3062865 | SM13: 7.3561455 | SN13: 7.2998559 | SO13: 8.6035926 | SP13: 5.7749307 | SQ13: 6.915379 | SR13: 7.657351 | SS13: 8.606205 | ST13: 8.5211679 | SU13: 8.2011403 | SV13: 8.5982511 | SW13: 8.1459969 | SX13: 8.1982889 | SY13: 8.8920402 | SZ13: 7.6764802 | TA13: 7.11686 | TB13: 7.2226585 | TC13: 8.2501981 | TD13: 9.2205428 | TE13: 9.0093599 | TF13: 9.2134958 | TG13: 9.26209 | TH13: 8.6481068 | TI13: 8.8234315 | TJ13: 8.9037783 | TK13: 8.0619402 | TL13: 8.2511632 | TM13: 8.543419 | TN13: 8.3769203 | TO13: 8.0200214 | TP13: 8.0529874 | TQ13: 7.3293116 | TR13: 8.6721497 | TS13: 8.9835601 | TT13: 8.280095 | TU13: 8.8087897 | TV13: 8.612128 | TW13: 8.5843743 | TX13: 7.5507052 | TY13: 7.5210743 | TZ13: 6.9932711 | UA13: 7.0132578 | UB13: 7.3987205 | UC13: 6.1900868 | UD13: 8.433727 | UE13: 6.8328779 | UF13: 7.5364188 | UG13: 9.2966664 | UH13: 7.7260228 | UI13: 7.4672749 | UJ13: 7.9675197 | UK13: 8.3823914 | UL13: 7.9965814 | UM13: 8.536025 | UN13: 8.0001555 | UO13: 7.8739164 | UP13: 7.3107789 | UQ13: 6.8504756 | UR13: 7.0194654 | US13: 8.474011 | UT13: 7.4516819 | UU13: 7.8876275 | UV13: 7.462605 | UW13: 7.0287534 | UX13: 7.5371489 | UY13: 7.4943405 | UZ13: 8.1582867 | VA13: 7.9256334 | VB13: 9.2187188 | VC13: 8.9328943 | VD13: 7.8279587 | VE13: 5.9271966 | VF13: 7.136658 | VG13: 7.8656352 | VH13: 8.1637424 | VI13: 9.1862945 | VJ13: 9.0059446 | VK13: 8.3193525 | VL13: 8.5785106 | VM13: 8.2402184 | VN13: 7.6717886 | VO13: 8.4483915 | VP13: 6.931094 | VQ13: 8.2679151 | VR13: 7.8617998 | VS13: 7.8578683 | VT13: 4.9072849 | VU13: 8.7322176 | VV13: 8.1419978 | VW13: 7.7905486 | VX13: 8.3002923 | VY13: 9.4527485 | VZ13: 8.2845445 | WA13: 7.6552305 | WB13: 8.4533521 | WC13: 8.3522353 | WD13: 8.5621553 | WE13: 8.674412 | WF13: 8.2353206 | WG13: 8.06272 | WH13: 9.4908211 | WI13: 8.2531648 | WJ13: 8.2736938 | WK13: 8.3256701 | WL13: 7.7979644 | WM13: 9.05675 | WN13: 8.51408 | WO13: 7.7020158 | WP13: 7.5369348 | WQ13: 7.7704515 | WR13: 8.9162359 | WS13: 8.3901657 | WT13: 7.86648 | WU13: 5.362513 | WV13: 8.5348292 | WW13: 7.9500661 | WX13: 6.9696787 | WY13: 7.9924035 | WZ13: 8.9537605 | XA13: 7.5118181 | XB13: 8.9496496 | XC13: 7.7736374 | XD13: 8.7362796 | XE13: 8.1846009 | XF13: 9.0996252 | XG13: 8.3107735 | XH13: 8.5626698 | XI13: 9.3046602 | XJ13: 8.249555 | XK13: 7.9783039 | XL13: 8.4870189 | XM13: 8.597821 | XN13: 9.0940434 | XO13: 7.7426275 | XP13: 7.4485506 | XQ13: 7.6491127 | XR13: 7.8674672 | XS13: 8.2361164 | XT13: 7.6114308 | XU13: 7.5660306 | XV13: 6.9012156 | XW13: 7.9189894 | XX13: 8.1575374 | XY13: 7.5413367 | XZ13: 6.7851296 | YA13: 7.6063544 | YB13: 7.956033 | YC13: 8.2813504 | YD13: 7.611235 | YE13: 8.4700314 | YF13: 7.9460714 | YG13: 7.933723 | YH13: 8.6296363 | YI13: 9.7739576 | YJ13: 9.1777959 | YK13: 8.8802667 | YL13: 9.1775034 | YM13: 8.0368292 | YN13: 8.6574429 | YO13: 9.4816683 | YP13: 8.3999754 | YQ13: 7.6637192 | YR13: 8.8253105 | YS13: 8.4890703 | YT13: 8.8466591 | YU13: 8.9664354 | YV13: 8.5357037 | YW13: 8.8697905 | YX13: 8.8281689 | YY13: 8.7986548 | YZ13: 8.3064222 | ZA13: 9.3989776 | ZB13: 10.362602 | ZC13: 8.5697279 | ZD13: 8.6893871 | ZE13: 8.2188022 | ZF13: 8.550872 | ZG13: 7.5821003 | ZH13: 7.8388616 | ZI13: 8.5895535 | ZJ13: 6.583355 | ZK13: 7.9274289 | ZL13: 7.6274473 | ZM13: 7.0881385 | ZN13: 8.1752326 | ZO13: 7.817863 | ZP13: 8.7244398 | ZQ13: 8.2612661 | ZR13: 8.8060877 | ZS13: 8.3178099 | ZT13: 8.4747903 | ZU13: 8.0500226 | ZV13: 9.2586399 | ZW13: 8.7511649 | ZX13: 8.4711679 | ZY13: 7.6133193 | ZZ13: 7.2816684 | AAA13: 8.7664652 | AAB13: 8.7950854 | AAC13: 8.4165636 | AAD13: 8.2197044 | AAE13: 8.0020198 | AAF13: 8.2762078 | AAG13: 8.9972096 | AAH13: 7.1758238 | AAI13: 8.2801292 | AAJ13: 7.305187 | AAK13: 8.1934278 | AAL13: 8.3745997 | AAM13: 7.8334754 | AAN13: 8.5721679 | AAO13: 7.8532229 | AAP13: 8.188507 | AAQ13: 7.8646287 | AAR13: 8.1192872 | AAS13: 8.2566147 | AAT13: 7.6875804 | AAU13: 6.9936107 | AAV13: 8.6050994 | AAW13: 8.4513858 | AAX13: 8.3755384 | AAY13: 8.3657907 | AAZ13: 7.0916783 | ABA13: 8.3738916 | ABB13: 7.2407019 | ABC13: 8.5698498 | ABD13: 6.2892386 | ABE13: 8.5002722 | ABF13: 7.3337562 | ABG13: 8.2519626 | ABH13: 8.0540995 | ABI13: 8.1706151 | ABJ13: 8.8222134 | ABK13: 8.0300868 | ABL13: 8.6023617 | ABM13: 8.8512409 | ABN13: 7.2308021 | ABO13: 7.7542646 | ABP13: 8.2730121 | ABQ13: 8.6510849 | ABR13: 8.5976056 | ABS13: 8.9418535 | ABT13: 8.7882806 | ABU13: 8.9267603 | ABV13: 9.1200231 | ABW13: 7.3948661 | ABX13: 7.7961258 | ABY13: 8.4817227 | ABZ13: 8.4462015 | ACA13: 8.1962837 | ACB13: 8.7751198 | ACC13: 8.1211834 | ACD13: 8.6060091 | ACE13: 8.9966524 | ACF13: 8.0520145 | ACG13: 8.7450392 | ACH13: 7.9917752 | ACI13: 8.1976514 | ACJ13: 6.8584014 | ACK13: 7.9709465 | ACL13: 9.4197337 | ACM13: 8.5879097 | ACN13: 8.8552681 | ACO13: 9.1840592 | ACP13: 8.5692497 | ACQ13: 9.2530795 | ACR13: 9.2537046 | ACS13: 8.2197637 | ACT13: 8.0453092 | ACU13: 6.9914794 | ACV13: 7.4119414 | ACW13: 5.7305849 | ACX13: 7.3133311 | ACY13: 3.7733009 | ACZ13: 6.5822409 | ADA13: 5.5017396 | ADB13: 7.3682236 | ADC13: 8.4565705 | ADD13: 7.2698661 | ADE13: 7.746146 | ADF13: 6.388454 | ADG13: 8.5513353 | ADH13: 6.3206477 | ADI13: 6.9920509 | ADJ13: 7.8035327 | ADK13: 5.7352571 | ADL13: 5.7355985 | ADM13: 7.1095574 | ADN13: 8.9172891 | ADO13: 8.1479113 | ADP13: 8.5125084 | ADQ13: 8.0120715 | ADR13: 8.5291541 | ADS13: 5.8554339 | ADT13: 8.0843886 | ADU13: 8.3369216 | ADV13: 8.1452126 | ADW13: 6.6837043 | ADX13: 8.8301217 | ADY13: 8.2848194 | ADZ13: 9.0395188 | AEA13: 8.2966579 | AEB13: 8.5883941 | AEC13: 8.2297074 | AED13: 8.0308017 | AEE13: 8.1340055 | AEF13: 8.7665087 | AEG13: 5.5765344 | AEH13: 7.0655889 | AEI13: 8.8241207 | AEJ13: 7.8699101 | AEK13: 7.1956681 | AEL13: 8.6969547 | AEM13: 7.77124 | AEN13: 7.3929904 | AEO13: 7.989269 | AEP13: 9.3286989 | AEQ13: 7.4920221 | AER13: 7.1604251 | AES13: 8.3240984 | AET13: 8.3918495 | AEU13: 8.3647251 | AEV13: 8.7952511 | AEW13: 6.8901056 | AEX13: 7.8417757 | AEY13: 5.0328891 | AEZ13: 6.3141373 | AFA13: 8.0123001 | AFB13: 8.0354408 | AFC13: 9.1280953 | AFD13: 9.4917617 | AFE13: 8.6696071 | AFF13: 7.9646635 | AFG13: 7.9915611 | AFH13: 9.5176252 | AFI13: 8.5685535 | AFJ13: 10.484948 | AFK13: 4.9020856 | AFL13: 7.5597407 | AFM13: 8.5856538 | AFN13: 8.2570525 | AFO13: 6.8454633 | AFP13: 7.9237692 | AFQ13: 8.2575312 | AFR13: 9.0091975 | AFS13: 7.9326691 | AFT13: 10.096241 | AFU13: 6.6267766 | AFV13: 8.1289388 | AFW13: 8.224342 | AFX13: 8.1973326 | AFY13: 8.6710428 | AFZ13: 8.4500539 | AGA13: 7.5993111 | AGB13: 8.5237625 | AGC13: 8.504147 | AGD13: 8.1903413 | AGE13: 8.3174847 | AGF13: 6.2880569 | AGG13: 9.9754362 | AGH13: 8.9614619 | AGI13: 10.130967 | AGJ13: 7.9261053 | AGK13: 8.307491 | AGL13: 9.3490573 | AGM13: 8.7775276 | AGN13: 9.1107851 | AGO13: 8.7394568 | AGP13: 9.1747201 | AGQ13: 9.4906073 | AGR13: 7.8581904 | AGS13: 9.6703879 | AGT13: 8.7882191 | AGU13: 9.2579911 | AGV13: 8.4322577 | AGW13: 8.8793301 | AGX13: 7.6123284 | AGY13: 7.5884872 | AGZ13: 8.6148558 | AHA13: 8.0025466 | AHB13: 8.584124 | AHC13: 8.4973577 | AHD13: 8.4633304 | AHE13: 5.8493381 | AHF13: 9.2184527 | AHG13: 8.0754093 | AHH13: 8.0042029 | AHI13: 9.3858835 | AHJ13: 7.3701499 | AHK13: 9.1661353 | AHL13: 8.1915669 | AHM13: 8.2402339 | AHN13: 8.7521183 | AHO13: 8.6492393 | AHP13: 6.9322612 | AHQ13: 8.2562478 | AHR13: 7.1242377 | AHS13: 7.6451892 | AHT13: 6.0759792 | AHU13: 8.0179269 | AHV13: 9.0204186 | AHW13: 8.2021045 | AHX13: 7.9411715 | AHY13: 7.7463804 | AHZ13: 7.746614 | AIA13: 5.7463851 | AIB13: 8.1175683 | AIC13: 8.0180829 | AID13: 5.0111024 | AIE13: 6.1434199 | AIF13: 6.6860421 | AIG13: 7.7548221 | AIH13: 8.0043184 | AII13: 7.5698003 | AIJ13: 8.1463384 | AIK13: 8.1424009 | AIL13: 8.0121306 | AIM13: 8.1762662 | AIN13: 8.5231797 | AIO13: 8.0020091 | AIP13: 6.6590157 | AIQ13: 8.3552657 | AIR13: 8.3230584 | AIS13: 8.3021074 | AIT13: 7.8662711 | AIU13: 7.7942181 | AIV13: 7.6142748 | AIW13: 9.6337316 | AIX13: 8.6629378 | AIY13: 8.9101806 | AIZ13: 8.3135472 | AJA13: 8.0095549 | AJB13: 9.1153726 | AJC13: 8.804848 | AJD13: 8.8907806 | AJE13: 8.3495585 | AJF13: 8.7657145 | AJG13: 8.4363681 | AJH13: 8.464826 | AJI13: 8.8170898 | AJJ13: 8.2634818 | AJK13: 7.8978162 | AJL13: 7.1633436 | AJM13: 8.5340188 | AJN13: 8.3856528 | AJO13: 9.1393493 | AJP13: 8.5575037 | AJQ13: =AVERAGE(B13:AJP13) -> 7.9850695 | AJR13: =STDEV(B13:AJP13) -> 0.94586283
