Workbook

Sheet Original
A1: ID_REF | B1: GSM2233623 | C1: GSM2233629 | D1: GSM2233632 | E1: GSM2233633 | F1: GSM2233634 | G1: GSM2233635 | H1: GSM2233637 | I1: GSM2233638 | J1: GSM2233640 | K1: GSM2233641 | L1: GSM2233642 | M1: GSM2233643 | N1: GSM2233644 | O1: GSM2233645 | P1: GSM2233647 | Q1: GSM2233651 | R1: GSM2233655 | S1: GSM2233658 | T1: GSM2233660 | U1: GSM2233662 | V1: GSM2233663 | W1: GSM2233672 | X1: GSM2233680 | Y1: GSM2233683 | Z1: GSM2233685 | AA1: GSM2233686 | AB1: GSM2233689 | AC1: GSM2233691 | AD1: GSM2233692 | AE1: GSM2233693 | AF1: GSM2233694 | AG1: GSM2233695 | AH1: GSM2233696 | AI1: GSM2233700 | AJ1: GSM2233703 | AK1: GSM2233707 | AL1: GSM2233709 | AM1: GSM2233726 | AN1: GSM2233740 | AO1: GSM2233744 | AP1: GSM2233745 | AQ1: GSM2233747 | AR1: GSM2233750 | AS1: GSM2233751 | AT1: GSM2233752 | AU1: GSM2233753 | AV1: GSM2233754 | AW1: GSM2233756 | AX1: GSM2233757 | AY1: GSM2233758 | AZ1: GSM2233759 | BA1: GSM2233760 | BB1: GSM2233761 | BC1: GSM2233765 | BD1: GSM2233771 | BE1: GSM2233782 | BF1: GSM2233793 | BG1: GSM2233798 | BH1: GSM2233802 | BI1: GSM2233805 | BJ1: GSM2233806 | BK1: GSM2233807 | BL1: GSM2233808 | BM1: GSM2233809 | BN1: GSM2233810 | BO1: GSM2233811 | BP1: GSM2233812 | BQ1: GSM2233813 | BR1: GSM2233814 | BS1: GSM2233816 | BT1: GSM2233821 | BU1: GSM2233825 | BV1: GSM2233828 | BW1: GSM2233831 | BX1: GSM2233833 | BY1: GSM2233841 | BZ1: GSM2233851 | CA1: GSM2233857 | CB1: GSM2233858 | CC1: GSM2233861 | CD1: GSM2233866 | CE1: GSM2233867 | CF1: GSM2233868 | CG1: GSM2233869 | CH1: GSM2233870 | CI1: GSM2233872 | CJ1: GSM2233873 | CK1: GSM2233876 | CL1: GSM2233877 | CM1: GSM2233878 | CN1: GSM2233880 | CO1: GSM2233883 | CP1: GSM2233886 | CQ1: GSM2233889 | CR1: GSM2233891 | CS1: GSM2233892 | CT1: GSM2233894 | CU1: GSM2233896 | CV1: GSM2233903 | CW1: GSM2233914 | CX1: GSM2233917 | CY1: GSM2233920 | CZ1: GSM2233924 | DA1: GSM2233925 | DB1: GSM2233926 | DC1: GSM2233928 | DD1: GSM2233930 | DE1: GSM2233931 | DF1: GSM2233932 | DG1: GSM2233933 | DH1: GSM2233934 | DI1: GSM2233935 | DJ1: GSM2233937 | DK1: GSM2233941 | DL1: GSM2233945 | DM1: GSM2233947 | DN1: GSM2233949 | DO1: GSM2233950 | DP1: GSM2233952 | DQ1: GSM2233961 | DR1: GSM2233968 | DS1: GSM2233970 | DT1: GSM2233972 | DU1: GSM2233976 | DV1: GSM2233978 | DW1: GSM2233982 | DX1: GSM2233983 | DY1: GSM2233984 | DZ1: GSM2233985 | EA1: GSM2233987 | EB1: GSM2233988 | EC1: GSM2233990 | ED1: GSM2233991 | EE1: GSM2233992 | EF1: GSM2233993 | EG1: GSM2233994 | EH1: GSM2233995 | EI1: GSM2233997 | EJ1: GSM2234002 | EK1: GSM2234007 | EL1: GSM2234010 | EM1: GSM2234012 | EN1: GSM2234031 | EO1: GSM2234034 | EP1: GSM2234039 | EQ1: GSM2234041 | ER1: GSM2234043 | ES1: GSM2234045 | ET1: GSM2234046 | EU1: GSM2234048 | EV1: GSM2234050 | EW1: GSM2234051 | EX1: GSM2234052 | EY1: GSM2234053 | EZ1: GSM2234054 | FA1: GSM2234056 | FB1: GSM2234058 | FC1: GSM2234061 | FD1: GSM2234063 | FE1: GSM2234064 | FF1: GSM2234066 | FG1: GSM2234068 | FH1: GSM2234071 | FI1: GSM2234073 | FJ1: GSM2234080 | FK1: GSM2234097 | FL1: GSM2234101 | FM1: GSM2234102 | FN1: GSM2234104 | FO1: GSM2234106 | FP1: GSM2234107 | FQ1: GSM2234108 | FR1: GSM2234109 | FS1: GSM2234110 | FT1: GSM2234111 | FU1: GSM2234113 | FV1: GSM2234118 | FW1: GSM2234123 | FX1: GSM2234125 | FY1: GSM2234127 | FZ1: GSM2234136 | GA1: GSM2234144 | GB1: GSM2234146 | GC1: GSM2234150 | GD1: GSM2234153 | GE1: GSM2234154 | GF1: GSM2234156 | GG1: GSM2234160 | GH1: GSM2234161 | GI1: GSM2234162 | GJ1: GSM2234164 | GK1: GSM2234165 | GL1: GSM2234166 | GM1: GSM2234167 | GN1: GSM2234168 | GO1: GSM2234169 | GP1: GSM2234171 | GQ1: GSM2234174 | GR1: GSM2234178 | GS1: GSM2234182 | GT1: GSM2234183 | GU1: GSM2234191 | GV1: GSM2234198 | GW1: GSM2234201 | GX1: GSM2234203 | GY1: GSM2234207 | GZ1: GSM2234208 | HA1: GSM2234209 | HB1: GSM2234211 | HC1: GSM2234214 | HD1: GSM2234215 | HE1: GSM2234216 | HF1: GSM2234217 | HG1: GSM2234218 | HH1: GSM2234219 | HI1: GSM2234221 | HJ1: GSM2234225 | HK1: GSM2234231 | HL1: GSM2234233 | HM1: GSM2234242 | HN1: GSM2234248 | HO1: GSM2234253 | HP1: GSM2234256 | HQ1: GSM2234259 | HR1: GSM2234263 | HS1: GSM2234264 | HT1: GSM2234265 | HU1: GSM2234266 | HV1: GSM2234268 | HW1: GSM2234269 | HX1: GSM2234270 | HY1: GSM2234271 | HZ1: GSM2234273 | IA1: GSM2234281 | IB1: GSM2234283 | IC1: GSM2234285 | ID1: GSM2234295 | IE1: GSM2234305 | IF1: GSM2234308 | IG1: GSM2234311 | IH1: GSM2234315 | II1: GSM2234317 | IJ1: GSM2234318 | IK1: GSM2234320 | IL1: GSM2234321 | IM1: GSM2234322 | IN1: GSM2234324 | IO1: GSM2234328 | IP1: GSM2234336 | IQ1: GSM2234338 | IR1: GSM2234347 | IS1: GSM2234361 | IT1: GSM2234364 | IU1: GSM2234368 | IV1: GSM2234369 | IW1: GSM2234370 | IX1: GSM2234372 | IY1: GSM2234373 | IZ1: GSM2234375 | JA1: GSM2234376 | JB1: GSM2234378 | JC1: GSM2234379 | JD1: GSM2234380 | JE1: GSM2234381 | JF1: GSM2234382 | JG1: GSM2234383 | JH1: GSM2234385 | JI1: GSM2234387 | JJ1: GSM2234394 | JK1: GSM2234396 | JL1: GSM2234404 | JM1: GSM2234412 | JN1: GSM2234414 | JO1: GSM2234415 | JP1: GSM2234418 | JQ1: GSM2234419 | JR1: GSM2234420 | JS1: GSM2234422 | JT1: GSM2234424 | JU1: GSM2234425 | JV1: GSM2234426 | JW1: GSM2234427 | JX1: GSM2234428 | JY1: GSM2234430 | JZ1: GSM2234440 | KA1: GSM2234442 | KB1: GSM2234444 | KC1: GSM2234446 | KD1: GSM2234453 | KE1: GSM2234464 | KF1: GSM2234467 | KG1: GSM2234475 | KH1: GSM2234476 | KI1: GSM2234477 | KJ1: GSM2234478 | KK1: GSM2234479 | KL1: GSM2234481 | KM1: GSM2234482 | KN1: GSM2234483 | KO1: GSM2234484 | KP1: GSM2234486 | KQ1: GSM2234493 | KR1: GSM2234495 | KS1: GSM2234497 | KT1: GSM2234498 | KU1: GSM2234499 | KV1: GSM2234501 | KW1: GSM2234510 | KX1: GSM2234525 | KY1: GSM2234528 | KZ1: GSM2234529 | LA1: GSM2234530 | LB1: GSM2234531 | LC1: GSM2234532 | LD1: GSM2234533 | LE1: GSM2234534 | LF1: GSM2234535 | LG1: GSM2234536 | LH1: GSM2234537 | LI1: GSM2234539 | LJ1: GSM2234544 | LK1: GSM2234550 | LL1: GSM2234552 | LM1: GSM2234553 | LN1: GSM2234561 | LO1: GSM2234568 | LP1: GSM2234570 | LQ1: GSM2234571 | LR1: GSM2233622 | LS1: GSM2233625 | LT1: GSM2233628 | LU1: GSM2233630 | LV1: GSM2233648 | LW1: GSM2233649 | LX1: GSM2233650 | LY1: GSM2233656 | LZ1: GSM2233661 | MA1: GSM2233664 | MB1: GSM2233665 | MC1: GSM2233668 | MD1: GSM2233669 | ME1: GSM2233676 | MF1: GSM2233682 | MG1: GSM2233688 | MH1: GSM2233698 | MI1: GSM2233701 | MJ1: GSM2233702 | MK1: GSM2233706 | ML1: GSM2233711 | MM1: GSM2233715 | MN1: GSM2233716 | MO1: GSM2233718 | MP1: GSM2233722 | MQ1: GSM2233723 | MR1: GSM2233731 | MS1: GSM2233734 | MT1: GSM2233739 | MU1: GSM2233742 | MV1: GSM2233748 | MW1: GSM2233762 | MX1: GSM2233763 | MY1: GSM2233764 | MZ1: GSM2233769 | NA1: GSM2233772 | NB1: GSM2233774 | NC1: GSM2233775 | ND1: GSM2233778 | NE1: GSM2233779 | NF1: GSM2233787 | NG1: GSM2233794 | NH1: GSM2233797 | NI1: GSM2233799 | NJ1: GSM2233801 | NK1: GSM2233803 | NL1: GSM2233817 | NM1: GSM2233819 | NN1: GSM2233820 | NO1: GSM2233826 | NP1: GSM2233832 | NQ1: GSM2233834 | NR1: GSM2233835 | NS1: GSM2233839 | NT1: GSM2233845 | NU1: GSM2233852 | NV1: GSM2233854 | NW1: GSM2233855 | NX1: GSM2233860 | NY1: GSM2233862 | NZ1: GSM2233865 | OA1: GSM2233881 | OB1: GSM2233882 | OC1: GSM2233888 | OD1: GSM2233895 | OE1: GSM2233897 | OF1: GSM2233898 | OG1: GSM2233901 | OH1: GSM2233906 | OI1: GSM2233912 | OJ1: GSM2233919 | OK1: GSM2233921 | OL1: GSM2233938 | OM1: GSM2233939 | ON1: GSM2233940 | OO1: GSM2233946 | OP1: GSM2233951 | OQ1: GSM2233953 | OR1: GSM2233955 | OS1: GSM2233958 | OT1: GSM2233959 | OU1: GSM2233966 | OV1: GSM2233971 | OW1: GSM2233974 | OX1: GSM2233977 | OY1: GSM2233979 | OZ1: GSM2233998 | PA1: GSM2233999 | PB1: GSM2234000 | PC1: GSM2234001 | PD1: GSM2234005 | PE1: GSM2234011 | PF1: GSM2234013 | PG1: GSM2234014 | PH1: GSM2234017 | PI1: GSM2234020 | PJ1: GSM2234027 | PK1: GSM2234029 | PL1: GSM2234030 | PM1: GSM2234033 | PN1: GSM2234035 | PO1: GSM2234038 | PP1: GSM2234040 | PQ1: GSM2234057 | PR1: GSM2234059 | PS1: GSM2234060 | PT1: GSM2234072 | PU1: GSM2234074 | PV1: GSM2234077 | PW1: GSM2234078 | PX1: GSM2234081 | PY1: GSM2234084 | PZ1: GSM2234089 | QA1: GSM2234093 | QB1: GSM2234096 | QC1: GSM2234098 | QD1: GSM2234114 | QE1: GSM2234115 | QF1: GSM2234116 | QG1: GSM2234117 | QH1: GSM2234126 | QI1: GSM2234128 | QJ1: GSM2234129 | QK1: GSM2234132 | QL1: GSM2234133 | QM1: GSM2234140 | QN1: GSM2234147 | QO1: GSM2234151 | QP1: GSM2234157 | QQ1: GSM2234172 | QR1: GSM2234184 | QS1: GSM2234186 | QT1: GSM2234202 | QU1: GSM2234204 | QV1: GSM2234222 | QW1: GSM2234223 | QX1: GSM2234224 | QY1: GSM2234229 | QZ1: GSM2234234 | RA1: GSM2234235 | RB1: GSM2234237 | RC1: GSM2234240 | RD1: GSM2234246 | RE1: GSM2234252 | RF1: GSM2234254 | RG1: GSM2234258 | RH1: GSM2234260 | RI1: GSM2234274 | RJ1: GSM2234275 | RK1: GSM2234276 | RL1: GSM2234279 | RM1: GSM2234282 | RN1: GSM2234284 | RO1: GSM2234287 | RP1: GSM2234289 | RQ1: GSM2234292 | RR1: GSM2234299 | RS1: GSM2234303 | RT1: GSM2234306 | RU1: GSM2234310 | RV1: GSM2234312 | RW1: GSM2234325 | RX1: GSM2234326 | RY1: GSM2234327 | RZ1: GSM2234332 | SA1: GSM2234337 | SB1: GSM2234339 | SC1: GSM2234341 | SD1: GSM2234344 | SE1: GSM2234345 | SF1: GSM2234351 | SG1: GSM2234354 | SH1: GSM2234363 | SI1: GSM2234365 | SJ1: GSM2234366 | SK1: GSM2234386 | SL1: GSM2234392 | SM1: GSM2234395 | SN1: GSM2234397 | SO1: GSM2234398 | SP1: GSM2234401 | SQ1: GSM2234402 | SR1: GSM2234406 | SS1: GSM2234431 | ST1: GSM2234432 | SU1: GSM2234433 | SV1: GSM2234434 | SW1: GSM2234438 | SX1: GSM2234443 | SY1: GSM2234445 | SZ1: GSM2234447 | TA1: GSM2234449 | TB1: GSM2234450 | TC1: GSM2234458 | TD1: GSM2234471 | TE1: GSM2234472 | TF1: GSM2234487 | TG1: GSM2234488 | TH1: GSM2234489 | TI1: GSM2234494 | TJ1: GSM2234500 | TK1: GSM2234503 | TL1: GSM2234507 | TM1: GSM2234513 | TN1: GSM2234517 | TO1: GSM2234524 | TP1: GSM2234526 | TQ1: GSM2234540 | TR1: GSM2234541 | TS1: GSM2234542 | TT1: GSM2234543 | TU1: GSM2234548 | TV1: GSM2234554 | TW1: GSM2234558 | TX1: GSM2233621 | TY1: GSM2233631 | TZ1: GSM2233646 | UA1: GSM2233653 | UB1: GSM2233654 | UC1: GSM2233657 | UD1: GSM2233666 | UE1: GSM2233667 | UF1: GSM2233670 | UG1: GSM2233674 | UH1: GSM2233675 | UI1: GSM2233677 | UJ1: GSM2233678 | UK1: GSM2233684 | UL1: GSM2233690 | UM1: GSM2233697 | UN1: GSM2233705 | UO1: GSM2233708 | UP1: GSM2233717 | UQ1: GSM2233719 | UR1: GSM2233721 | US1: GSM2233724 | UT1: GSM2233727 | UU1: GSM2233729 | UV1: GSM2233730 | UW1: GSM2233732 | UX1: GSM2233735 | UY1: GSM2233737 | UZ1: GSM2233749 | VA1: GSM2233755 | VB1: GSM2233767 | VC1: GSM2233768 | VD1: GSM2233770 | VE1: GSM2233776 | VF1: GSM2233777 | VG1: GSM2233780 | VH1: GSM2233783 | VI1: GSM2233785 | VJ1: GSM2233786 | VK1: GSM2233788 | VL1: GSM2233789 | VM1: GSM2233795 | VN1: GSM2233804 | VO1: GSM2233815 | VP1: GSM2233823 | VQ1: GSM2233824 | VR1: GSM2233827 | VS1: GSM2233836 | VT1: GSM2233838 | VU1: GSM2233840 | VV1: GSM2233843 | VW1: GSM2233844 | VX1: GSM2233846 | VY1: GSM2233847 | VZ1: GSM2233864 | WA1: GSM2233871 | WB1: GSM2233874 | WC1: GSM2233875 | WD1: GSM2233879 | WE1: GSM2233884 | WF1: GSM2233887 | WG1: GSM2233890 | WH1: GSM2233899 | WI1: GSM2233900 | WJ1: GSM2233902 | WK1: GSM2233905 | WL1: GSM2233907 | WM1: GSM2233908 | WN1: GSM2233910 | WO1: GSM2233913 | WP1: GSM2233923 | WQ1: GSM2233927 | WR1: GSM2233936 | WS1: GSM2233943 | WT1: GSM2233944 | WU1: GSM2233948 | WV1: GSM2233954 | WW1: GSM2233956 | WX1: GSM2233957 | WY1: GSM2233960 | WZ1: GSM2233962 | XA1: GSM2233963 | XB1: GSM2233964 | XC1: GSM2233967 | XD1: GSM2233981 | XE1: GSM2233996 | XF1: GSM2234004 | XG1: GSM2234006 | XH1: GSM2234015 | XI1: GSM2234016 | XJ1: GSM2234018 | XK1: GSM2234021 | XL1: GSM2234024 | XM1: GSM2234025 | XN1: GSM2234026 | XO1: GSM2234037 | XP1: GSM2234044 | XQ1: GSM2234047 | XR1: GSM2234049 | XS1: GSM2234055 | XT1: GSM2234065 | XU1: GSM2234067 | XV1: GSM2234075 | XW1: GSM2234076 | XX1: GSM2234079 | XY1: GSM2234083 | XZ1: GSM2234085 | YA1: GSM2234087 | YB1: GSM2234090 | YC1: GSM2234100 | YD1: GSM2234105 | YE1: GSM2234112 | YF1: GSM2234120 | YG1: GSM2234121 | YH1: GSM2234122 | YI1: GSM2234130 | YJ1: GSM2234131 | YK1: GSM2234134 | YL1: GSM2234137 | YM1: GSM2234139 | YN1: GSM2234141 | YO1: GSM2234142 | YP1: GSM2234143 | YQ1: GSM2234148 | YR1: GSM2234159 | YS1: GSM2234163 | YT1: GSM2234170 | YU1: GSM2234176 | YV1: GSM2234177 | YW1: GSM2234185 | YX1: GSM2234187 | YY1: GSM2234188 | YZ1: GSM2234189 | ZA1: GSM2234193 | ZB1: GSM2234194 | ZC1: GSM2234195 | ZD1: GSM2234197 | ZE1: GSM2234206 | ZF1: GSM2234212 | ZG1: GSM2234220 | ZH1: GSM2234227 | ZI1: GSM2234228 | ZJ1: GSM2234230 | ZK1: GSM2234236 | ZL1: GSM2234238 | ZM1: GSM2234239 | ZN1: GSM2234241 | ZO1: GSM2234243 | ZP1: GSM2234244 | ZQ1: GSM2234245 | ZR1: GSM2234247 | ZS1: GSM2234250 | ZT1: GSM2234262 | ZU1: GSM2234272 | ZV1: GSM2234278 | ZW1: GSM2234280 | ZX1: GSM2234288 | ZY1: GSM2234290 | ZZ1: GSM2234291 | AAA1: GSM2234293 | AAB1: GSM2234297 | AAC1: GSM2234298 | AAD1: GSM2234300 | AAE1: GSM2234301 | AAF1: GSM2234307 | AAG1: GSM2234314 | AAH1: GSM2234319 | AAI1: GSM2234323 | AAJ1: GSM2234330 | AAK1: GSM2234331 | AAL1: GSM2234333 | AAM1: GSM2234340 | AAN1: GSM2234342 | AAO1: GSM2234343 | AAP1: GSM2234346 | AAQ1: GSM2234349 | AAR1: GSM2234350 | AAS1: GSM2234352 | AAT1: GSM2234355 | AAU1: GSM2234357 | AAV1: GSM2234367 | AAW1: GSM2234377 | AAX1: GSM2234384 | AAY1: GSM2234388 | AAZ1: GSM2234390 | ABA1: GSM2234391 | ABB1: GSM2234393 | ABC1: GSM2234399 | ABD1: GSM2234400 | ABE1: GSM2234407 | ABF1: GSM2234410 | ABG1: GSM2234429 | ABH1: GSM2234436 | ABI1: GSM2234437 | ABJ1: GSM2234439 | ABK1: GSM2234448 | ABL1: GSM2234451 | ABM1: GSM2234454 | ABN1: GSM2234456 | ABO1: GSM2234457 | ABP1: GSM2234459 | ABQ1: GSM2234460 | ABR1: GSM2234462 | ABS1: GSM2234465 | ABT1: GSM2234474 | ABU1: GSM2234480 | ABV1: GSM2234485 | ABW1: GSM2234491 | ABX1: GSM2234492 | ABY1: GSM2234496 | ABZ1: GSM2234504 | ACA1: GSM2234506 | ACB1: GSM2234508 | ACC1: GSM2234512 | ACD1: GSM2234514 | ACE1: GSM2234515 | ACF1: GSM2234518 | ACG1: GSM2234520 | ACH1: GSM2234527 | ACI1: GSM2234538 | ACJ1: GSM2234546 | ACK1: GSM2234547 | ACL1: GSM2234549 | ACM1: GSM2234555 | ACN1: GSM2234557 | ACO1: GSM2234559 | ACP1: GSM2234562 | ACQ1: GSM2234565 | ACR1: GSM2234566 | ACS1: GSM2233624 | ACT1: GSM2233626 | ACU1: GSM2233627 | ACV1: GSM2233636 | ACW1: GSM2233639 | ACX1: GSM2233652 | ACY1: GSM2233659 | ACZ1: GSM2233671 | ADA1: GSM2233673 | ADB1: GSM2233679 | ADC1: GSM2233681 | ADD1: GSM2233687 | ADE1: GSM2233699 | ADF1: GSM2233704 | ADG1: GSM2233710 | ADH1: GSM2233712 | ADI1: GSM2233713 | ADJ1: GSM2233714 | ADK1: GSM2233720 | ADL1: GSM2233725 | ADM1: GSM2233728 | ADN1: GSM2233733 | ADO1: GSM2233736 | ADP1: GSM2233738 | ADQ1: GSM2233741 | ADR1: GSM2233743 | ADS1: GSM2233746 | ADT1: GSM2233766 | ADU1: GSM2233773 | ADV1: GSM2233781 | ADW1: GSM2233784 | ADX1: GSM2233790 | ADY1: GSM2233791 | ADZ1: GSM2233792 | AEA1: GSM2233796 | AEB1: GSM2233800 | AEC1: GSM2233818 | AED1: GSM2233822 | AEE1: GSM2233829 | AEF1: GSM2233830 | AEG1: GSM2233837 | AEH1: GSM2233842 | AEI1: GSM2233848 | AEJ1: GSM2233849 | AEK1: GSM2233850 | AEL1: GSM2233853 | AEM1: GSM2233856 | AEN1: GSM2233859 | AEO1: GSM2233863 | AEP1: GSM2233885 | AEQ1: GSM2233893 | AER1: GSM2233904 | AES1: GSM2233909 | AET1: GSM2233911 | AEU1: GSM2233915 | AEV1: GSM2233916 | AEW1: GSM2233918 | AEX1: GSM2233922 | AEY1: GSM2233929 | AEZ1: GSM2233942 | AFA1: GSM2233965 | AFB1: GSM2233969 | AFC1: GSM2233973 | AFD1: GSM2233975 | AFE1: GSM2233980 | AFF1: GSM2233986 | AFG1: GSM2233989 | AFH1: GSM2234003 | AFI1: GSM2234008 | AFJ1: GSM2234009 | AFK1: GSM2234019 | AFL1: GSM2234022 | AFM1: GSM2234023 | AFN1: GSM2234028 | AFO1: GSM2234032 | AFP1: GSM2234036 | AFQ1: GSM2234042 | AFR1: GSM2234062 | AFS1: GSM2234069 | AFT1: GSM2234070 | AFU1: GSM2234082 | AFV1: GSM2234086 | AFW1: GSM2234088 | AFX1: GSM2234091 | AFY1: GSM2234092 | AFZ1: GSM2234094 | AGA1: GSM2234095 | AGB1: GSM2234099 | AGC1: GSM2234103 | AGD1: GSM2234119 | AGE1: GSM2234124 | AGF1: GSM2234135 | AGG1: GSM2234138 | AGH1: GSM2234145 | AGI1: GSM2234149 | AGJ1: GSM2234152 | AGK1: GSM2234155 | AGL1: GSM2234158 | AGM1: GSM2234173 | AGN1: GSM2234175 | AGO1: GSM2234179 | AGP1: GSM2234180 | AGQ1: GSM2234181 | AGR1: GSM2234190 | AGS1: GSM2234192 | AGT1: GSM2234196 | AGU1: GSM2234199 | AGV1: GSM2234200 | AGW1: GSM2234205 | AGX1: GSM2234210 | AGY1: GSM2234213 | AGZ1: GSM2234226 | AHA1: GSM2234232 | AHB1: GSM2234249 | AHC1: GSM2234251 | AHD1: GSM2234255 | AHE1: GSM2234257 | AHF1: GSM2234261 | AHG1: GSM2234267 | AHH1: GSM2234277 | AHI1: GSM2234286 | AHJ1: GSM2234294 | AHK1: GSM2234296 | AHL1: GSM2234302 | AHM1: GSM2234304 | AHN1: GSM2234309 | AHO1: GSM2234313 | AHP1: GSM2234316 | AHQ1: GSM2234329 | AHR1: GSM2234334 | AHS1: GSM2234335 | AHT1: GSM2234348 | AHU1: GSM2234353 | AHV1: GSM2234356 | AHW1: GSM2234358 | AHX1: GSM2234359 | AHY1: GSM2234360 | AHZ1: GSM2234362 | AIA1: GSM2234371 | AIB1: GSM2234374 | AIC1: GSM2234389 | AID1: GSM2234403 | AIE1: GSM2234405 | AIF1: GSM2234408 | AIG1: GSM2234409 | AIH1: GSM2234411 | AII1: GSM2234413 | AIJ1: GSM2234416 | AIK1: GSM2234417 | AIL1: GSM2234421 | AIM1: GSM2234423 | AIN1: GSM2234435 | AIO1: GSM2234441 | AIP1: GSM2234452 | AIQ1: GSM2234455 | AIR1: GSM2234461 | AIS1: GSM2234463 | AIT1: GSM2234466 | AIU1: GSM2234468 | AIV1: GSM2234469 | AIW1: GSM2234470 | AIX1: GSM2234473 | AIY1: GSM2234490 | AIZ1: GSM2234502 | AJA1: GSM2234505 | AJB1: GSM2234509 | AJC1: GSM2234511 | AJD1: GSM2234516 | AJE1: GSM2234519 | AJF1: GSM2234521 | AJG1: GSM2234522 | AJH1: GSM2234523 | AJI1: GSM2234545 | AJJ1: GSM2234551 | AJK1: GSM2234556 | AJL1: GSM2234560 | AJM1: GSM2234563 | AJN1: GSM2234564 | AJO1: GSM2234567 | AJP1: GSM2234569 | AJQ1: Average | AJR1: SD
A2: Age | B2: 92 | C2: 91 | D2: 99 | E2: 92 | F2: 64 | G2: 94 | H2: 84 | I2: 84 | J2: 100 | K2: 87 | L2: 80 | M2: 83 | N2: 84 | O2: 87 | P2: 87 | Q2: 89 | R2: 85 | S2: 89 | T2: 87 | U2: 95 | V2: 73 | W2: 85 | X2: 90 | Y2: 88 | Z2: 92 | AA2: 94 | AB2: 91 | AC2: 94 | AD2: 87 | AE2: 80 | AF2: 83 | AG2: 84 | AH2: 87 | AI2: 94 | AJ2: 89 | AK2: 88 | AL2: 89 | AM2: 85 | AN2: 92 | AO2: 94 | AP2: 72 | AQ2: 91 | AR2: 99 | AS2: 92 | AT2: 64 | AU2: 94 | AV2: 84 | AW2: 87 | AX2: 80 | AY2: 83 | AZ2: 84 | BA2: 87 | BB2: 87 | BC2: 89 | BD2: 89 | BE2: 85 | BF2: 73 | BG2: 92 | BH2: 91 | BI2: 99 | BJ2: 92 | BK2: 64 | BL2: 94 | BM2: 84 | BN2: 87 | BO2: 80 | BP2: 83 | BQ2: 84 | BR2: 87 | BS2: 87 | BT2: 89 | BU2: 85 | BV2: 89 | BW2: 87 | BX2: 95 | BY2: 85 | BZ2: 73 | CA2: 94 | CB2: 72 | CC2: 91 | CD2: 99 | CE2: 92 | CF2: 64 | CG2: 94 | CH2: 84 | CI2: 84 | CJ2: 87 | CK2: 83 | CL2: 87 | CM2: 90 | CN2: 94 | CO2: 89 | CP2: 103 | CQ2: 94 | CR2: 94 | CS2: 89 | CT2: 87 | CU2: 92 | CV2: 85 | CW2: 92 | CX2: 72 | CY2: 91 | CZ2: 99 | DA2: 94 | DB2: 84 | DC2: 84 | DD2: 100 | DE2: 87 | DF2: 80 | DG2: 83 | DH2: 84 | DI2: 87 | DJ2: 87 | DK2: 89 | DL2: 85 | DM2: 88 | DN2: 89 | DO2: 87 | DP2: 95 | DQ2: 85 | DR2: 90 | DS2: 73 | DT2: 92 | DU2: 94 | DV2: 91 | DW2: 99 | DX2: 92 | DY2: 64 | DZ2: 94 | EA2: 84 | EB2: 84 | EC2: 87 | ED2: 80 | EE2: 83 | EF2: 84 | EG2: 87 | EH2: 90 | EI2: 87 | EJ2: 89 | EK2: 89 | EL2: 87 | EM2: 95 | EN2: 94 | EO2: 91 | EP2: 99 | EQ2: 94 | ER2: 84 | ES2: 84 | ET2: 87 | EU2: 96 | EV2: 80 | EW2: 83 | EX2: 84 | EY2: 87 | EZ2: 90 | FA2: 87 | FB2: 94 | FC2: 89 | FD2: 103 | FE2: 87 | FF2: 94 | FG2: 89 | FH2: 87 | FI2: 95 | FJ2: 85 | FK2: 91 | FL2: 92 | FM2: 64 | FN2: 84 | FO2: 87 | FP2: 96 | FQ2: 83 | FR2: 84 | FS2: 87 | FT2: 90 | FU2: 87 | FV2: 89 | FW2: 89 | FX2: 87 | FY2: 95 | FZ2: 85 | GA2: 90 | GB2: 73 | GC2: 92 | GD2: 94 | GE2: 72 | GF2: 91 | GG2: 92 | GH2: 94 | GI2: 84 | GJ2: 87 | GK2: 96 | GL2: 80 | GM2: 83 | GN2: 87 | GO2: 90 | GP2: 87 | GQ2: 89 | GR2: 89 | GS2: 87 | GT2: 95 | GU2: 85 | GV2: 92 | GW2: 94 | GX2: 91 | GY2: 99 | GZ2: 64 | HA2: 94 | HB2: 84 | HC2: 87 | HD2: 80 | HE2: 83 | HF2: 84 | HG2: 87 | HH2: 90 | HI2: 87 | HJ2: 89 | HK2: 89 | HL2: 87 | HM2: 85 | HN2: 90 | HO2: 92 | HP2: 94 | HQ2: 91 | HR2: 99 | HS2: 64 | HT2: 94 | HU2: 84 | HV2: 87 | HW2: 84 | HX2: 87 | HY2: 90 | HZ2: 87 | IA2: 89 | IB2: 87 | IC2: 95 | ID2: 85 | IE2: 73 | IF2: 94 | IG2: 91 | IH2: 94 | II2: 84 | IJ2: 87 | IK2: 62 | IL2: 80 | IM2: 87 | IN2: 87 | IO2: 89 | IP2: 87 | IQ2: 95 | IR2: 85 | IS2: 94 | IT2: 91 | IU2: 99 | IV2: 64 | IW2: 94 | IX2: 84 | IY2: 84 | IZ2: 83 | JA2: 87 | JB2: 62 | JC2: 80 | JD2: 83 | JE2: 84 | JF2: 87 | JG2: 74 | JH2: 87 | JI2: 89 | JJ2: 87 | JK2: 95 | JL2: 85 | JM2: 88 | JN2: 92 | JO2: 72 | JP2: 99 | JQ2: 64 | JR2: 94 | JS2: 84 | JT2: 87 | JU2: 80 | JV2: 83 | JW2: 84 | JX2: 90 | JY2: 87 | JZ2: 89 | KA2: 87 | KB2: 95 | KC2: 74 | KD2: 85 | KE2: 73 | KF2: 92 | KG2: 99 | KH2: 64 | KI2: 94 | KJ2: 84 | KK2: 87 | KL2: 80 | KM2: 83 | KN2: 84 | KO2: 87 | KP2: 87 | KQ2: 85 | KR2: 88 | KS2: 89 | KT2: 87 | KU2: 87 | KV2: 95 | KW2: 85 | KX2: 91 | KY2: 99 | KZ2: 92 | LA2: 64 | LB2: 94 | LC2: 84 | LD2: 87 | LE2: 80 | LF2: 84 | LG2: 87 | LH2: 90 | LI2: 87 | LJ2: 89 | LK2: 89 | LL2: 87 | LM2: 95 | LN2: 85 | LO2: 90 | LP2: 73 | LQ2: 88 | LR2: 60 | LS2: 85 | LT2: 70 | LU2: 96 | LV2: 69 | LW2: 82 | LX2: 85 | LY2: 102 | LZ2: 95 | MA2: 89 | MB2: 86 | MC2: 83 | MD2: 66 | ME2: 69 | MF2: 62 | MG2: 70 | MH2: 69 | MI2: 82 | MJ2: 85 | MK2: 102 | ML2: 84 | MM2: 95 | MN2: 89 | MO2: 86 | MP2: 83 | MQ2: 66 | MR2: 69 | MS2: 74 | MT2: 60 | MU2: 85 | MV2: 96 | MW2: 69 | MX2: 82 | MY2: 85 | MZ2: 102 | NA2: 95 | NB2: 89 | NC2: 86 | ND2: 83 | NE2: 66 | NF2: 69 | NG2: 62 | NH2: 60 | NI2: 85 | NJ2: 70 | NK2: 96 | NL2: 69 | NM2: 82 | NN2: 85 | NO2: 102 | NP2: 95 | NQ2: 89 | NR2: 86 | NS2: 83 | NT2: 69 | NU2: 62 | NV2: 60 | NW2: 85 | NX2: 70 | NY2: 96 | NZ2: 90 | OA2: 82 | OB2: 85 | OC2: 102 | OD2: 95 | OE2: 89 | OF2: 86 | OG2: 83 | OH2: 69 | OI2: 62 | OJ2: 70 | OK2: 96 | OL2: 69 | OM2: 82 | ON2: 85 | OO2: 102 | OP2: 95 | OQ2: 89 | OR2: 86 | OS2: 83 | OT2: 66 | OU2: 74 | OV2: 60 | OW2: 85 | OX2: 70 | OY2: 96 | OZ2: 69 | PA2: 82 | PB2: 92 | PC2: 85 | PD2: 102 | PE2: 95 | PF2: 89 | PG2: 86 | PH2: 83 | PI2: 75 | PJ2: 74 | PK2: 62 | PL2: 85 | PM2: 70 | PN2: 96 | PO2: 90 | PP2: 88 | PQ2: 69 | PR2: 82 | PS2: 85 | PT2: 95 | PU2: 89 | PV2: 83 | PW2: 66 | PX2: 75 | PY2: 69 | PZ2: 62 | QA2: 85 | QB2: 70 | QC2: 96 | QD2: 69 | QE2: 82 | QF2: 92 | QG2: 85 | QH2: 95 | QI2: 89 | QJ2: 86 | QK2: 83 | QL2: 66 | QM2: 69 | QN2: 62 | QO2: 85 | QP2: 96 | QQ2: 69 | QR2: 89 | QS2: 86 | QT2: 70 | QU2: 96 | QV2: 69 | QW2: 82 | QX2: 85 | QY2: 102 | QZ2: 95 | RA2: 89 | RB2: 86 | RC2: 83 | RD2: 74 | RE2: 60 | RF2: 85 | RG2: 70 | RH2: 96 | RI2: 69 | RJ2: 82 | RK2: 85 | RL2: 102 | RM2: 84 | RN2: 95 | RO2: 89 | RP2: 86 | RQ2: 83 | RR2: 69 | RS2: 74 | RT2: 62 | RU2: 70 | RV2: 96 | RW2: 69 | RX2: 92 | RY2: 85 | RZ2: 102 | SA2: 95 | SB2: 89 | SC2: 86 | SD2: 83 | SE2: 66 | SF2: 69 | SG2: 74 | SH2: 70 | SI2: 96 | SJ2: 74 | SK2: 69 | SL2: 102 | SM2: 95 | SN2: 89 | SO2: 86 | SP2: 83 | SQ2: 66 | SR2: 69 | SS2: 69 | ST2: 82 | SU2: 92 | SV2: 85 | SW2: 102 | SX2: 95 | SY2: 89 | SZ2: 86 | TA2: 83 | TB2: 66 | TC2: 69 | TD2: 70 | TE2: 96 | TF2: 69 | TG2: 82 | TH2: 85 | TI2: 102 | TJ2: 95 | TK2: 89 | TL2: 66 | TM2: 69 | TN2: 74 | TO2: 70 | TP2: 96 | TQ2: 69 | TR2: 82 | TS2: 92 | TT2: 85 | TU2: 102 | TV2: 89 | TW2: 66 | TX2: 98 | TY2: 99 | TZ2: 91 | UA2: 91 | UB2: 82 | UC2: 86 | UD2: 90 | UE2: 64 | UF2: 79 | UG2: 90 | UH2: 89 | UI2: 83 | UJ2: 88 | UK2: 98 | UL2: 99 | UM2: 91 | UN2: 82 | UO2: 86 | UP2: 82 | UQ2: 90 | UR2: 64 | US2: 79 | UT2: 91 | UU2: 90 | UV2: 89 | UW2: 88 | UX2: 96 | UY2: 98 | UZ2: 99 | VA2: 82 | VB2: 91 | VC2: 82 | VD2: 86 | VE2: 90 | VF2: 64 | VG2: 79 | VH2: 91 | VI2: 90 | VJ2: 89 | VK2: 83 | VL2: 88 | VM2: 98 | VN2: 99 | VO2: 91 | VP2: 91 | VQ2: 82 | VR2: 86 | VS2: 90 | VT2: 64 | VU2: 79 | VV2: 90 | VW2: 89 | VX2: 83 | VY2: 88 | VZ2: 99 | WA2: 82 | WB2: 83 | WC2: 90 | WD2: 91 | WE2: 90 | WF2: 91 | WG2: 86 | WH2: 90 | WI2: 64 | WJ2: 79 | WK2: 89 | WL2: 83 | WM2: 88 | WN2: 96 | WO2: 98 | WP2: 99 | WQ2: 82 | WR2: 91 | WS2: 91 | WT2: 82 | WU2: 86 | WV2: 82 | WW2: 90 | WX2: 64 | WY2: 79 | WZ2: 90 | XA2: 89 | XB2: 88 | XC2: 96 | XD2: 99 | XE2: 91 | XF2: 82 | XG2: 86 | XH2: 90 | XI2: 64 | XJ2: 79 | XK2: 91 | XL2: 89 | XM2: 83 | XN2: 88 | XO2: 99 | XP2: 82 | XQ2: 83 | XR2: 90 | XS2: 91 | XT2: 91 | XU2: 86 | XV2: 90 | XW2: 64 | XX2: 79 | XY2: 89 | XZ2: 88 | YA2: 96 | YB2: 98 | YC2: 99 | YD2: 82 | YE2: 91 | YF2: 91 | YG2: 82 | YH2: 86 | YI2: 90 | YJ2: 64 | YK2: 79 | YL2: 91 | YM2: 89 | YN2: 83 | YO2: 88 | YP2: 96 | YQ2: 98 | YR2: 99 | YS2: 82 | YT2: 91 | YU2: 91 | YV2: 82 | YW2: 82 | YX2: 90 | YY2: 64 | YZ2: 79 | ZA2: 89 | ZB2: 83 | ZC2: 88 | ZD2: 98 | ZE2: 99 | ZF2: 82 | ZG2: 91 | ZH2: 91 | ZI2: 82 | ZJ2: 86 | ZK2: 82 | ZL2: 90 | ZM2: 64 | ZN2: 79 | ZO2: 91 | ZP2: 90 | ZQ2: 89 | ZR2: 96 | ZS2: 98 | ZT2: 99 | ZU2: 91 | ZV2: 82 | ZW2: 86 | ZX2: 82 | ZY2: 90 | ZZ2: 64 | AAA2: 79 | AAB2: 90 | AAC2: 89 | AAD2: 83 | AAE2: 88 | AAF2: 98 | AAG2: 99 | AAH2: 90 | AAI2: 91 | AAJ2: 91 | AAK2: 82 | AAL2: 86 | AAM2: 82 | AAN2: 90 | AAO2: 64 | AAP2: 79 | AAQ2: 90 | AAR2: 89 | AAS2: 88 | AAT2: 96 | AAU2: 98 | AAV2: 99 | AAW2: 83 | AAX2: 91 | AAY2: 90 | AAZ2: 91 | ABA2: 82 | ABB2: 86 | ABC2: 90 | ABD2: 64 | ABE2: 88 | ABF2: 96 | ABG2: 91 | ABH2: 91 | ABI2: 82 | ABJ2: 86 | ABK2: 90 | ABL2: 79 | ABM2: 91 | ABN2: 90 | ABO2: 89 | ABP2: 83 | ABQ2: 88 | ABR2: 96 | ABS2: 98 | ABT2: 99 | ABU2: 83 | ABV2: 91 | ABW2: 91 | ABX2: 82 | ABY2: 86 | ABZ2: 90 | ACA2: 64 | ACB2: 79 | ACC2: 89 | ACD2: 83 | ACE2: 88 | ACF2: 96 | ACG2: 98 | ACH2: 99 | ACI2: 91 | ACJ2: 91 | ACK2: 82 | ACL2: 86 | ACM2: 90 | ACN2: 64 | ACO2: 79 | ACP2: 91 | ACQ2: 83 | ACR2: 88 | ACS2: 80 | ACT2: 93 | ACU2: 86 | ACV2: 83 | ACW2: 93 | ACX2: 95 | ACY2: 84 | ACZ2: 93 | ADA2: 90 | ADB2: 90 | ADC2: 79 | ADD2: 86 | ADE2: 85 | ADF2: 95 | ADG2: 92 | ADH2: 100 | ADI2: 94 | ADJ2: 84 | ADK2: 88 | ADL2: 93 | ADM2: 90 | ADN2: 93 | ADO2: 79 | ADP2: 98 | ADQ2: 80 | ADR2: 93 | ADS2: 86 | ADT2: 95 | ADU2: 81 | ADV2: 93 | ADW2: 90 | ADX2: 93 | ADY2: 90 | ADZ2: 79 | AEA2: 98 | AEB2: 93 | AEC2: 85 | AED2: 95 | AEE2: 92 | AEF2: 84 | AEG2: 88 | AEH2: 90 | AEI2: 93 | AEJ2: 90 | AEK2: 79 | AEL2: 98 | AEM2: 93 | AEN2: 86 | AEO2: 100 | AEP2: 95 | AEQ2: 84 | AER2: 90 | AES2: 93 | AET2: 79 | AEU2: 80 | AEV2: 93 | AEW2: 86 | AEX2: 100 | AEY2: 93 | AEZ2: 95 | AFA2: 93 | AFB2: 79 | AFC2: 80 | AFD2: 93 | AFE2: 100 | AFF2: 83 | AFG2: 93 | AFH2: 95 | AFI2: 92 | AFJ2: 94 | AFK2: 93 | AFL2: 90 | AFM2: 85 | AFN2: 79 | AFO2: 86 | AFP2: 100 | AFQ2: 83 | AFR2: 95 | AFS2: 92 | AFT2: 94 | AFU2: 90 | AFV2: 90 | AFW2: 79 | AFX2: 98 | AFY2: 80 | AFZ2: 93 | AGA2: 86 | AGB2: 100 | AGC2: 83 | AGD2: 95 | AGE2: 92 | AGF2: 93 | AGG2: 90 | AGH2: 79 | AGI2: 98 | AGJ2: 93 | AGK2: 86 | AGL2: 100 | AGM2: 85 | AGN2: 95 | AGO2: 92 | AGP2: 94 | AGQ2: 84 | AGR2: 93 | AGS2: 90 | AGT2: 79 | AGU2: 80 | AGV2: 93 | AGW2: 100 | AGX2: 83 | AGY2: 93 | AGZ2: 95 | AHA2: 84 | AHB2: 79 | AHC2: 98 | AHD2: 93 | AHE2: 86 | AHF2: 100 | AHG2: 93 | AHH2: 95 | AHI2: 81 | AHJ2: 93 | AHK2: 90 | AHL2: 90 | AHM2: 79 | AHN2: 86 | AHO2: 100 | AHP2: 83 | AHQ2: 95 | AHR2: 92 | AHS2: 94 | AHT2: 90 | AHU2: 93 | AHV2: 79 | AHW2: 98 | AHX2: 80 | AHY2: 93 | AHZ2: 86 | AIA2: 83 | AIB2: 93 | AIC2: 95 | AID2: 93 | AIE2: 90 | AIF2: 93 | AIG2: 93 | AIH2: 79 | AII2: 98 | AIJ2: 86 | AIK2: 100 | AIL2: 83 | AIM2: 93 | AIN2: 95 | AIO2: 84 | AIP2: 93 | AIQ2: 90 | AIR2: 90 | AIS2: 79 | AIT2: 98 | AIU2: 80 | AIV2: 93 | AIW2: 86 | AIX2: 100 | AIY2: 95 | AIZ2: 81 | AJA2: 88 | AJB2: 93 | AJC2: 90 | AJD2: 90 | AJE2: 79 | AJF2: 98 | AJG2: 80 | AJH2: 86 | AJI2: 95 | AJJ2: 84 | AJK2: 88 | AJL2: 93 | AJM2: 90 | AJN2: 85 | AJO2: 90 | AJP2: 79
A3: Sex | B3: female | C3: female | D3: female | E3: male | F3: male | G3: female | H3: female | I3: female | J3: male | K3: female | L3: male | M3: male | N3: female | O3: male | P3: female | Q3: female | R3: male | S3: male | T3: male | U3: female | V3: female | W3: female | X3: female | Y3: female | Z3: female | AA3: female | AB3: female | AC3: female | AD3: female | AE3: male | AF3: male | AG3: female | AH3: male | AI3: female | AJ3: female | AK3: female | AL3: male | AM3: female | AN3: female | AO3: female | AP3: female | AQ3: female | AR3: female | AS3: male | AT3: male | AU3: female | AV3: female | AW3: female | AX3: male | AY3: male | AZ3: female | BA3: male | BB3: female | BC3: female | BD3: male | BE3: female | BF3: male | BG3: female | BH3: female | BI3: female | BJ3: male | BK3: male | BL3: female | BM3: female | BN3: female | BO3: male | BP3: male | BQ3: female | BR3: male | BS3: female | BT3: female | BU3: male | BV3: male | BW3: male | BX3: female | BY3: female | BZ3: male | CA3: female | CB3: female | CC3: female | CD3: female | CE3: male | CF3: male | CG3: female | CH3: female | CI3: female | CJ3: female | CK3: male | CL3: male | CM3: female | CN3: female | CO3: female | CP3: female | CQ3: female | CR3: female | CS3: male | CT3: male | CU3: female | CV3: female | CW3: female | CX3: female | CY3: female | CZ3: female | DA3: female | DB3: female | DC3: female | DD3: male | DE3: female | DF3: male | DG3: male | DH3: female | DI3: male | DJ3: female | DK3: female | DL3: male | DM3: female | DN3: male | DO3: male | DP3: female | DQ3: female | DR3: female | DS3: male | DT3: female | DU3: female | DV3: female | DW3: female | DX3: male | DY3: male | DZ3: female | EA3: female | EB3: female | EC3: female | ED3: male | EE3: male | EF3: female | EG3: male | EH3: female | EI3: female | EJ3: female | EK3: male | EL3: male | EM3: female | EN3: female | EO3: female | EP3: female | EQ3: female | ER3: female | ES3: female | ET3: female | EU3: male | EV3: male | EW3: male | EX3: female | EY3: male | EZ3: female | FA3: female | FB3: female | FC3: female | FD3: female | FE3: female | FF3: female | FG3: male | FH3: male | FI3: female | FJ3: female | FK3: female | FL3: male | FM3: male | FN3: female | FO3: female | FP3: male | FQ3: male | FR3: female | FS3: male | FT3: female | FU3: female | FV3: female | FW3: male | FX3: male | FY3: female | FZ3: female | GA3: female | GB3: male | GC3: female | GD3: female | GE3: female | GF3: female | GG3: male | GH3: female | GI3: female | GJ3: female | GK3: male | GL3: male | GM3: male | GN3: male | GO3: female | GP3: female | GQ3: female | GR3: male | GS3: male | GT3: female | GU3: female | GV3: female | GW3: female | GX3: female | GY3: female | GZ3: male | HA3: female | HB3: female | HC3: female | HD3: male | HE3: male | HF3: female | HG3: male | HH3: female | HI3: female | HJ3: female | HK3: male | HL3: male | HM3: female | HN3: female | HO3: female | HP3: female | HQ3: female | HR3: female | HS3: male | HT3: female | HU3: female | HV3: female | HW3: female | HX3: male | HY3: female | HZ3: female | IA3: male | IB3: male | IC3: female | ID3: female | IE3: male | IF3: female | IG3: female | IH3: female | II3: female | IJ3: female | IK3: male | IL3: male | IM3: male | IN3: female | IO3: female | IP3: male | IQ3: female | IR3: female | IS3: female | IT3: female | IU3: female | IV3: male | IW3: female | IX3: female | IY3: female | IZ3: female | JA3: female | JB3: male | JC3: male | JD3: male | JE3: female | JF3: male | JG3: male | JH3: female | JI3: female | JJ3: male | JK3: female | JL3: female | JM3: female | JN3: female | JO3: female | JP3: female | JQ3: male | JR3: female | JS3: female | JT3: female | JU3: male | JV3: male | JW3: female | JX3: female | JY3: female | JZ3: male | KA3: male | KB3: female | KC3: male | KD3: female | KE3: male | KF3: female | KG3: female | KH3: male | KI3: female | KJ3: female | KK3: female | KL3: male | KM3: male | KN3: female | KO3: male | KP3: female | KQ3: male | KR3: female | KS3: male | KT3: female | KU3: male | KV3: female | KW3: female | KX3: female | KY3: female | KZ3: male | LA3: male | LB3: female | LC3: female | LD3: female | LE3: male | LF3: female | LG3: male | LH3: female | LI3: female | LJ3: female | LK3: male | LL3: male | LM3: female | LN3: female | LO3: female | LP3: male | LQ3: female | LR3: male | LS3: male | LT3: male | LU3: female | LV3: male | LW3: female | LX3: female | LY3: female | LZ3: male | MA3: female | MB3: female | MC3: female | MD3: male | ME3: male | MF3: female | MG3: male | MH3: male | MI3: female | MJ3: female | MK3: female | ML3: female | MM3: male | MN3: female | MO3: female | MP3: female | MQ3: male | MR3: male | MS3: male | MT3: male | MU3: male | MV3: female | MW3: male | MX3: female | MY3: female | MZ3: female | NA3: male | NB3: female | NC3: female | ND3: female | NE3: male | NF3: male | NG3: female | NH3: male | NI3: male | NJ3: male | NK3: female | NL3: male | NM3: female | NN3: female | NO3: female | NP3: male | NQ3: female | NR3: female | NS3: female | NT3: male | NU3: female | NV3: male | NW3: male | NX3: male | NY3: female | NZ3: female | OA3: female | OB3: female | OC3: female | OD3: male | OE3: female | OF3: female | OG3: female | OH3: male | OI3: female | OJ3: male | OK3: female | OL3: male | OM3: female | ON3: female | OO3: female | OP3: male | OQ3: female | OR3: female | OS3: female | OT3: male | OU3: male | OV3: male | OW3: male | OX3: male | OY3: female | OZ3: male | PA3: female | PB3: female | PC3: female | PD3: female | PE3: male | PF3: female | PG3: female | PH3: female | PI3: female | PJ3: male | PK3: female | PL3: male | PM3: male | PN3: female | PO3: female | PP3: female | PQ3: male | PR3: female | PS3: female | PT3: male | PU3: female | PV3: female | PW3: male | PX3: female | PY3: male | PZ3: female | QA3: male | QB3: male | QC3: female | QD3: male | QE3: female | QF3: female | QG3: female | QH3: male | QI3: female | QJ3: female | QK3: female | QL3: male | QM3: male | QN3: female | QO3: male | QP3: female | QQ3: male | QR3: female | QS3: female | QT3: male | QU3: female | QV3: male | QW3: female | QX3: female | QY3: female | QZ3: male | RA3: female | RB3: female | RC3: female | RD3: male | RE3: male | RF3: male | RG3: male | RH3: female | RI3: male | RJ3: female | RK3: female | RL3: female | RM3: female | RN3: male | RO3: female | RP3: female | RQ3: female | RR3: male | RS3: male | RT3: female | RU3: male | RV3: female | RW3: male | RX3: female | RY3: female | RZ3: female | SA3: male | SB3: female | SC3: female | SD3: female | SE3: male | SF3: male | SG3: male | SH3: male | SI3: female | SJ3: female | SK3: male | SL3: female | SM3: male | SN3: female | SO3: female | SP3: female | SQ3: male | SR3: male | SS3: male | ST3: female | SU3: female | SV3: female | SW3: female | SX3: male | SY3: female | SZ3: female | TA3: female | TB3: male | TC3: male | TD3: male | TE3: female | TF3: male | TG3: female | TH3: female | TI3: female | TJ3: male | TK3: female | TL3: male | TM3: male | TN3: male | TO3: male | TP3: female | TQ3: male | TR3: female | TS3: female | TT3: female | TU3: female | TV3: female | TW3: male | TX3: female | TY3: female | TZ3: female | UA3: female | UB3: male | UC3: female | UD3: female | UE3: male | UF3: female | UG3: male | UH3: female | UI3: female | UJ3: male | UK3: female | UL3: female | UM3: female | UN3: male | UO3: female | UP3: male | UQ3: female | UR3: male | US3: female | UT3: female | UU3: male | UV3: female | UW3: male | UX3: female | UY3: female | UZ3: female | VA3: female | VB3: female | VC3: male | VD3: female | VE3: female | VF3: male | VG3: female | VH3: female | VI3: male | VJ3: female | VK3: female | VL3: male | VM3: female | VN3: female | VO3: female | VP3: female | VQ3: male | VR3: female | VS3: female | VT3: male | VU3: female | VV3: male | VW3: female | VX3: female | VY3: male | VZ3: female | WA3: female | WB3: female | WC3: female | WD3: female | WE3: female | WF3: female | WG3: female | WH3: female | WI3: male | WJ3: female | WK3: female | WL3: female | WM3: male | WN3: female | WO3: female | WP3: female | WQ3: female | WR3: female | WS3: female | WT3: male | WU3: female | WV3: male | WW3: female | WX3: male | WY3: female | WZ3: male | XA3: female | XB3: male | XC3: female | XD3: female | XE3: female | XF3: male | XG3: female | XH3: female | XI3: male | XJ3: female | XK3: female | XL3: female | XM3: female | XN3: male | XO3: female | XP3: female | XQ3: female | XR3: female | XS3: female | XT3: female | XU3: female | XV3: female | XW3: male | XX3: female | XY3: female | XZ3: male | YA3: female | YB3: female | YC3: female | YD3: female | YE3: female | YF3: female | YG3: male | YH3: female | YI3: female | YJ3: male | YK3: female | YL3: female | YM3: female | YN3: female | YO3: male | YP3: female | YQ3: female | YR3: female | YS3: female | YT3: female | YU3: female | YV3: male | YW3: male | YX3: female | YY3: male | YZ3: female | ZA3: female | ZB3: female | ZC3: male | ZD3: female | ZE3: female | ZF3: female | ZG3: female | ZH3: female | ZI3: male | ZJ3: female | ZK3: male | ZL3: female | ZM3: male | ZN3: female | ZO3: female | ZP3: male | ZQ3: female | ZR3: female | ZS3: female | ZT3: female | ZU3: female | ZV3: male | ZW3: female | ZX3: male | ZY3: female | ZZ3: male | AAA3: female | AAB3: male | AAC3: female | AAD3: female | AAE3: male | AAF3: female | AAG3: female | AAH3: female | AAI3: female | AAJ3: female | AAK3: male | AAL3: female | AAM3: male | AAN3: female | AAO3: male | AAP3: female | AAQ3: male | AAR3: female | AAS3: male | AAT3: female | AAU3: female | AAV3: female | AAW3: female | AAX3: female | AAY3: female | AAZ3: female | ABA3: male | ABB3: female | ABC3: female | ABD3: male | ABE3: male | ABF3: female | ABG3: female | ABH3: female | ABI3: male | ABJ3: female | ABK3: female | ABL3: female | ABM3: female | ABN3: male | ABO3: female | ABP3: female | ABQ3: male | ABR3: female | ABS3: female | ABT3: female | ABU3: female | ABV3: female | ABW3: female | ABX3: male | ABY3: female | ABZ3: female | ACA3: male | ACB3: female | ACC3: female | ACD3: female | ACE3: male | ACF3: female | ACG3: female | ACH3: female | ACI3: female | ACJ3: female | ACK3: male | ACL3: female | ACM3: female | ACN3: male | ACO3: female | ACP3: female | ACQ3: female | ACR3: male | ACS3: male | ACT3: female | ACU3: female | ACV3: male | ACW3: female | ACX3: female | ACY3: female | ACZ3: female | ADA3: female | ADB3: female | ADC3: female | ADD3: female | ADE3: male | ADF3: female | ADG3: female | ADH3: female | ADI3: female | ADJ3: female | ADK3: female | ADL3: female | ADM3: female | ADN3: female | ADO3: female | ADP3: female | ADQ3: male | ADR3: female | ADS3: female | ADT3: female | ADU3: female | ADV3: female | ADW3: female | ADX3: female | ADY3: female | ADZ3: female | AEA3: female | AEB3: female | AEC3: male | AED3: female | AEE3: female | AEF3: female | AEG3: female | AEH3: female | AEI3: female | AEJ3: female | AEK3: female | AEL3: female | AEM3: female | AEN3: female | AEO3: female | AEP3: female | AEQ3: female | AER3: female | AES3: female | AET3: female | AEU3: male | AEV3: female | AEW3: female | AEX3: female | AEY3: female | AEZ3: female | AFA3: female | AFB3: female | AFC3: male | AFD3: female | AFE3: female | AFF3: male | AFG3: female | AFH3: female | AFI3: female | AFJ3: female | AFK3: female | AFL3: female | AFM3: female | AFN3: female | AFO3: female | AFP3: female | AFQ3: male | AFR3: female | AFS3: female | AFT3: female | AFU3: female | AFV3: female | AFW3: female | AFX3: female | AFY3: male | AFZ3: female | AGA3: female | AGB3: female | AGC3: male | AGD3: female | AGE3: female | AGF3: female | AGG3: female | AGH3: female | AGI3: female | AGJ3: female | AGK3: female | AGL3: female | AGM3: male | AGN3: female | AGO3: female | AGP3: female | AGQ3: female | AGR3: female | AGS3: female | AGT3: female | AGU3: male | AGV3: female | AGW3: female | AGX3: male | AGY3: female | AGZ3: female | AHA3: female | AHB3: female | AHC3: female | AHD3: female | AHE3: female | AHF3: female | AHG3: female | AHH3: female | AHI3: female | AHJ3: female | AHK3: female | AHL3: female | AHM3: female | AHN3: female | AHO3: female | AHP3: male | AHQ3: female | AHR3: female | AHS3: female | AHT3: female | AHU3: female | AHV3: female | AHW3: female | AHX3: male | AHY3: female | AHZ3: female | AIA3: male | AIB3: female | AIC3: female | AID3: female | AIE3: female | AIF3: female | AIG3: female | AIH3: female | AII3: female | AIJ3: female | AIK3: female | AIL3: male | AIM3: female | AIN3: female | AIO3: female | AIP3: female | AIQ3: female | AIR3: female | AIS3: female | AIT3: female | AIU3: male | AIV3: female | AIW3: female | AIX3: female | AIY3: female | AIZ3: female | AJA3: female | AJB3: female | AJC3: female | AJD3: female | AJE3: female | AJF3: female | AJG3: male | AJH3: female | AJI3: female | AJJ3: female | AJK3: female | AJL3: female | AJM3: female | AJN3: female | AJO3: female | AJP3: female
A4: clinical dementia rating | B4: 3 | C4: 2 | D4: 3 | E4: 2 | F4: 5 | G4: 0.5 | H4: 5 | I4: 5 | J4: 4 | K4: 0.5 | L4: 1 | M4: 4 | N4: 1 | O4: 1 | P4: 2 | Q4: 0.5 | R4: 4 | S4: 1 | T4: 5 | U4: 3 | V4: 5 | W4: 5 | X4: 3 | Y4: 5 | Z4: 3 | AA4: 2 | AB4: 2 | AC4: 0.5 | AD4: 0.5 | AE4: 1 | AF4: 4 | AG4: 1 | AH4: 1 | AI4: 5 | AJ4: 0.5 | AK4: 5 | AL4: 1 | AM4: 5 | AN4: 3 | AO4: 2 | AP4: 3 | AQ4: 2 | AR4: 3 | AS4: 2 | AT4: 5 | AU4: 0.5 | AV4: 5 | AW4: 0.5 | AX4: 1 | AY4: 4 | AZ4: 1 | BA4: 1 | BB4: 2 | BC4: 0.5 | BD4: 1 | BE4: 5 | BF4: 5 | BG4: 3 | BH4: 2 | BI4: 3 | BJ4: 2 | BK4: 5 | BL4: 0.5 | BM4: 5 | BN4: 0.5 | BO4: 1 | BP4: 4 | BQ4: 1 | BR4: 1 | BS4: 2 | BT4: 0.5 | BU4: 4 | BV4: 1 | BW4: 5 | BX4: 3 | BY4: 5 | BZ4: 5 | CA4: 2 | CB4: 3 | CC4: 2 | CD4: 3 | CE4: 2 | CF4: 5 | CG4: 0.5 | CH4: 5 | CI4: 5 | CJ4: 0.5 | CK4: 4 | CL4: 1 | CM4: 2 | CN4: 5 | CO4: 0.5 | CP4: 5 | CQ4: 2 | CR4: 3 | CS4: 1 | CT4: 5 | CU4: 3 | CV4: 5 | CW4: 3 | CX4: 3 | CY4: 2 | CZ4: 3 | DA4: 0.5 | DB4: 5 | DC4: 5 | DD4: 4 | DE4: 0.5 | DF4: 1 | DG4: 4 | DH4: 1 | DI4: 1 | DJ4: 2 | DK4: 0.5 | DL4: 4 | DM4: 5 | DN4: 1 | DO4: 5 | DP4: 3 | DQ4: 5 | DR4: 3 | DS4: 5 | DT4: 3 | DU4: 2 | DV4: 2 | DW4: 3 | DX4: 2 | DY4: 5 | DZ4: 0.5 | EA4: 5 | EB4: 5 | EC4: 0.5 | ED4: 1 | EE4: 4 | EF4: 1 | EG4: 1 | EH4: 2 | EI4: 2 | EJ4: 0.5 | EK4: 1 | EL4: 5 | EM4: 3 | EN4: 2 | EO4: 2 | EP4: 3 | EQ4: 0.5 | ER4: 5 | ES4: 5 | ET4: 0.5 | EU4: 5 | EV4: 1 | EW4: 4 | EX4: 1 | EY4: 1 | EZ4: 2 | FA4: 2 | FB4: 5 | FC4: 0.5 | FD4: 5 | FE4: 5 | FF4: 2 | FG4: 1 | FH4: 5 | FI4: 3 | FJ4: 5 | FK4: 2 | FL4: 2 | FM4: 5 | FN4: 5 | FO4: 0.5 | FP4: 5 | FQ4: 4 | FR4: 1 | FS4: 1 | FT4: 5 | FU4: 2 | FV4: 0.5 | FW4: 1 | FX4: 5 | FY4: 3 | FZ4: 5 | GA4: 3 | GB4: 5 | GC4: 3 | GD4: 2 | GE4: 3 | GF4: 2 | GG4: 2 | GH4: 0.5 | GI4: 5 | GJ4: 0.5 | GK4: 5 | GL4: 1 | GM4: 4 | GN4: 1 | GO4: 5 | GP4: 2 | GQ4: 0.5 | GR4: 1 | GS4: 5 | GT4: 3 | GU4: 5 | GV4: 3 | GW4: 2 | GX4: 2 | GY4: 3 | GZ4: 5 | HA4: 0.5 | HB4: 5 | HC4: 0.5 | HD4: 1 | HE4: 4 | HF4: 1 | HG4: 1 | HH4: 2 | HI4: 2 | HJ4: 0.5 | HK4: 1 | HL4: 5 | HM4: 5 | HN4: 3 | HO4: 3 | HP4: 2 | HQ4: 2 | HR4: 3 | HS4: 5 | HT4: 0.5 | HU4: 5 | HV4: 0.5 | HW4: 1 | HX4: 1 | HY4: 2 | HZ4: 2 | IA4: 1 | IB4: 5 | IC4: 3 | ID4: 5 | IE4: 5 | IF4: 2 | IG4: 2 | IH4: 0.5 | II4: 5 | IJ4: 0.5 | IK4: 4 | IL4: 1 | IM4: 1 | IN4: 2 | IO4: 0.5 | IP4: 5 | IQ4: 3 | IR4: 5 | IS4: 2 | IT4: 2 | IU4: 3 | IV4: 5 | IW4: 0.5 | IX4: 5 | IY4: 5 | IZ4: 4 | JA4: 0.5 | JB4: 4 | JC4: 1 | JD4: 4 | JE4: 1 | JF4: 1 | JG4: 2 | JH4: 2 | JI4: 0.5 | JJ4: 5 | JK4: 3 | JL4: 5 | JM4: 5 | JN4: 3 | JO4: 3 | JP4: 3 | JQ4: 5 | JR4: 0.5 | JS4: 5 | JT4: 0.5 | JU4: 1 | JV4: 4 | JW4: 1 | JX4: 2 | JY4: 2 | JZ4: 1 | KA4: 5 | KB4: 3 | KC4: 3 | KD4: 5 | KE4: 5 | KF4: 3 | KG4: 3 | KH4: 5 | KI4: 0.5 | KJ4: 5 | KK4: 0.5 | KL4: 1 | KM4: 4 | KN4: 1 | KO4: 1 | KP4: 2 | KQ4: 4 | KR4: 5 | KS4: 1 | KT4: 3 | KU4: 5 | KV4: 3 | KW4: 5 | KX4: 2 | KY4: 3 | KZ4: 2 | LA4: 5 | LB4: 0.5 | LC4: 5 | LD4: 0.5 | LE4: 1 | LF4: 1 | LG4: 1 | LH4: 2 | LI4: 2 | LJ4: 0.5 | LK4: 1 | LL4: 5 | LM4: 3 | LN4: 5 | LO4: 3 | LP4: 5 | LQ4: 5 | LR4: 0 | LS4: 0 | LT4: 0 | LU4: 0 | LV4: 0.5 | LW4: 0 | LX4: 0 | LY4: 0 | LZ4: 0.5 | MA4: 0 | MB4: 0 | MC4: 0.5 | MD4: 1 | ME4: 0 | MF4: 0.5 | MG4: 0 | MH4: 0.5 | MI4: 0 | MJ4: 0 | MK4: 0 | ML4: 0 | MM4: 0.5 | MN4: 0 | MO4: 0 | MP4: 0.5 | MQ4: 1 | MR4: 0 | MS4: 0.5 | MT4: 0 | MU4: 0 | MV4: 0 | MW4: 0.5 | MX4: 0 | MY4: 0 | MZ4: 0 | NA4: 0.5 | NB4: 0 | NC4: 0 | ND4: 0.5 | NE4: 1 | NF4: 0 | NG4: 0.5 | NH4: 0 | NI4: 0 | NJ4: 0 | NK4: 0 | NL4: 0.5 | NM4: 0 | NN4: 0 | NO4: 0 | NP4: 0.5 | NQ4: 0 | NR4: 0 | NS4: 0.5 | NT4: 0 | NU4: 0.5 | NV4: 0 | NW4: 0 | NX4: 0 | NY4: 0 | NZ4: 0 | OA4: 0 | OB4: 0 | OC4: 0 | OD4: 0.5 | OE4: 0 | OF4: 0 | OG4: 0.5 | OH4: 0 | OI4: 0.5 | OJ4: 0 | OK4: 0 | OL4: 0.5 | OM4: 0 | ON4: 0 | OO4: 0 | OP4: 0.5 | OQ4: 0 | OR4: 0 | OS4: 0.5 | OT4: 1 | OU4: 0.5 | OV4: 0 | OW4: 0 | OX4: 0 | OY4: 0 | OZ4: 0.5 | PA4: 0 | PB4: 4 | PC4: 0 | PD4: 0 | PE4: 0.5 | PF4: 0 | PG4: 0 | PH4: 0.5 | PI4: 1 | PJ4: 0.5 | PK4: 0.5 | PL4: 0 | PM4: 0 | PN4: 0 | PO4: 0 | PP4: 0.5 | PQ4: 0.5 | PR4: 0 | PS4: 0 | PT4: 0.5 | PU4: 0 | PV4: 0.5 | PW4: 1 | PX4: 1 | PY4: 0 | PZ4: 0.5 | QA4: 0 | QB4: 0 | QC4: 0 | QD4: 0.5 | QE4: 0 | QF4: 4 | QG4: 0 | QH4: 0.5 | QI4: 0 | QJ4: 0 | QK4: 0.5 | QL4: 1 | QM4: 0 | QN4: 0.5 | QO4: 0 | QP4: 0 | QQ4: 0.5 | QR4: 0 | QS4: 0 | QT4: 0 | QU4: 0 | QV4: 0.5 | QW4: 0 | QX4: 0 | QY4: 0 | QZ4: 0.5 | RA4: 0 | RB4: 0 | RC4: 0.5 | RD4: 0.5 | RE4: 0 | RF4: 0 | RG4: 0 | RH4: 0 | RI4: 0.5 | RJ4: 0 | RK4: 0 | RL4: 0 | RM4: 0 | RN4: 0.5 | RO4: 0 | RP4: 0 | RQ4: 0.5 | RR4: 0 | RS4: 0.5 | RT4: 0.5 | RU4: 0 | RV4: 0 | RW4: 0.5 | RX4: 4 | RY4: 0 | RZ4: 0 | SA4: 0.5 | SB4: 0 | SC4: 0 | SD4: 0.5 | SE4: 1 | SF4: 0 | SG4: 0.5 | SH4: 0 | SI4: 0 | SJ4: 1 | SK4: 0.5 | SL4: 0 | SM4: 0.5 | SN4: 0 | SO4: 0 | SP4: 0.5 | SQ4: 1 | SR4: 0 | SS4: 0.5 | ST4: 0 | SU4: 4 | SV4: 0 | SW4: 0 | SX4: 0.5 | SY4: 0 | SZ4: 0 | TA4: 0.5 | TB4: 1 | TC4: 0 | TD4: 0 | TE4: 0 | TF4: 0.5 | TG4: 0 | TH4: 0 | TI4: 0 | TJ4: 0.5 | TK4: 0 | TL4: 1 | TM4: 0 | TN4: 0.5 | TO4: 0 | TP4: 0 | TQ4: 0.5 | TR4: 0 | TS4: 4 | TT4: 0 | TU4: 0 | TV4: 0 | TW4: 1 | TX4: 3 | TY4: 1 | TZ4: 0.5 | UA4: 3 | UB4: 3 | UC4: 2 | UD4: 2 | UE4: 0.5 | UF4: 0 | UG4: 3 | UH4: 1 | UI4: 4 | UJ4: 0.5 | UK4: 3 | UL4: 1 | UM4: 0.5 | UN4: 3 | UO4: 2 | UP4: 0 | UQ4: 2 | UR4: 0.5 | US4: 0 | UT4: 1 | UU4: 3 | UV4: 1 | UW4: 0.5 | UX4: 1 | UY4: 3 | UZ4: 1 | VA4: 5 | VB4: 3 | VC4: 3 | VD4: 2 | VE4: 2 | VF4: 0.5 | VG4: 0 | VH4: 1 | VI4: 3 | VJ4: 1 | VK4: 4 | VL4: 0.5 | VM4: 3 | VN4: 1 | VO4: 0.5 | VP4: 3 | VQ4: 3 | VR4: 2 | VS4: 2 | VT4: 0.5 | VU4: 0 | VV4: 3 | VW4: 1 | VX4: 4 | VY4: 0.5 | VZ4: 1 | WA4: 5 | WB4: 1 | WC4: 1 | WD4: 0.5 | WE4: 0.5 | WF4: 3 | WG4: 2 | WH4: 2 | WI4: 0.5 | WJ4: 0 | WK4: 1 | WL4: 4 | WM4: 0.5 | WN4: 1 | WO4: 3 | WP4: 1 | WQ4: 5 | WR4: 0.5 | WS4: 3 | WT4: 3 | WU4: 2 | WV4: 0 | WW4: 2 | WX4: 0.5 | WY4: 0 | WZ4: 3 | XA4: 1 | XB4: 0.5 | XC4: 1 | XD4: 1 | XE4: 0.5 | XF4: 3 | XG4: 2 | XH4: 2 | XI4: 0.5 | XJ4: 0 | XK4: 1 | XL4: 1 | XM4: 4 | XN4: 0.5 | XO4: 1 | XP4: 5 | XQ4: 1 | XR4: 1 | XS4: 0.5 | XT4: 3 | XU4: 2 | XV4: 2 | XW4: 0.5 | XX4: 0 | XY4: 1 | XZ4: 0.5 | YA4: 1 | YB4: 3 | YC4: 1 | YD4: 5 | YE4: 0.5 | YF4: 3 | YG4: 3 | YH4: 2 | YI4: 2 | YJ4: 0.5 | YK4: 0 | YL4: 1 | YM4: 1 | YN4: 4 | YO4: 0.5 | YP4: 1 | YQ4: 3 | YR4: 1 | YS4: 5 | YT4: 0.5 | YU4: 3 | YV4: 3 | YW4: 0 | YX4: 2 | YY4: 0.5 | YZ4: 0 | ZA4: 1 | ZB4: 4 | ZC4: 0.5 | ZD4: 3 | ZE4: 1 | ZF4: 5 | ZG4: 0.5 | ZH4: 3 | ZI4: 3 | ZJ4: 2 | ZK4: 0 | ZL4: 2 | ZM4: 0.5 | ZN4: 0 | ZO4: 1 | ZP4: 3 | ZQ4: 1 | ZR4: 1 | ZS4: 3 | ZT4: 1 | ZU4: 0.5 | ZV4: 3 | ZW4: 2 | ZX4: 0 | ZY4: 2 | ZZ4: 0.5 | AAA4: 0 | AAB4: 3 | AAC4: 1 | AAD4: 4 | AAE4: 0.5 | AAF4: 3 | AAG4: 1 | AAH4: 1 | AAI4: 0.5 | AAJ4: 3 | AAK4: 3 | AAL4: 2 | AAM4: 0 | AAN4: 2 | AAO4: 0.5 | AAP4: 0 | AAQ4: 3 | AAR4: 1 | AAS4: 0.5 | AAT4: 1 | AAU4: 3 | AAV4: 1 | AAW4: 1 | AAX4: 0.5 | AAY4: 0.5 | AAZ4: 3 | ABA4: 3 | ABB4: 2 | ABC4: 2 | ABD4: 0.5 | ABE4: 0.5 | ABF4: 1 | ABG4: 0.5 | ABH4: 3 | ABI4: 3 | ABJ4: 2 | ABK4: 2 | ABL4: 0 | ABM4: 1 | ABN4: 3 | ABO4: 1 | ABP4: 4 | ABQ4: 0.5 | ABR4: 1 | ABS4: 3 | ABT4: 1 | ABU4: 1 | ABV4: 0.5 | ABW4: 3 | ABX4: 3 | ABY4: 2 | ABZ4: 2 | ACA4: 0.5 | ACB4: 0 | ACC4: 1 | ACD4: 4 | ACE4: 0.5 | ACF4: 1 | ACG4: 3 | ACH4: 1 | ACI4: 0.5 | ACJ4: 3 | ACK4: 3 | ACL4: 2 | ACM4: 2 | ACN4: 0.5 | ACO4: 0 | ACP4: 1 | ACQ4: 4 | ACR4: 0.5 | ACS4: 3 | ACT4: 5 | ACU4: 2 | ACV4: 3 | ACW4: 2 | ACX4: 3 | ACY4: 2 | ACZ4: 2 | ADA4: 3 | ADB4: 3 | ADC4: 2 | ADD4: 2 | ADE4: 3 | ADF4: 3 | ADG4: 4 | ADH4: 5 | ADI4: 0.5 | ADJ4: 2 | ADK4: 1 | ADL4: 2 | ADM4: 3 | ADN4: 4 | ADO4: 2 | ADP4: 0 | ADQ4: 3 | ADR4: 5 | ADS4: 2 | ADT4: 3 | ADU4: 1 | ADV4: 2 | ADW4: 3 | ADX4: 4 | ADY4: 3 | ADZ4: 2 | AEA4: 0 | AEB4: 5 | AEC4: 3 | AED4: 3 | AEE4: 4 | AEF4: 2 | AEG4: 1 | AEH4: 3 | AEI4: 4 | AEJ4: 3 | AEK4: 2 | AEL4: 0 | AEM4: 5 | AEN4: 2 | AEO4: 4 | AEP4: 3 | AEQ4: 2 | AER4: 3 | AES4: 1 | AET4: 2 | AEU4: 3 | AEV4: 5 | AEW4: 2 | AEX4: 4 | AEY4: 2 | AEZ4: 3 | AFA4: 4 | AFB4: 2 | AFC4: 3 | AFD4: 5 | AFE4: 4 | AFF4: 3 | AFG4: 2 | AFH4: 3 | AFI4: 4 | AFJ4: 0.5 | AFK4: 2 | AFL4: 3 | AFM4: 0.5 | AFN4: 2 | AFO4: 2 | AFP4: 4 | AFQ4: 3 | AFR4: 3 | AFS4: 4 | AFT4: 0.5 | AFU4: 3 | AFV4: 3 | AFW4: 2 | AFX4: 0 | AFY4: 3 | AFZ4: 5 | AGA4: 2 | AGB4: 4 | AGC4: 3 | AGD4: 3 | AGE4: 4 | AGF4: 2 | AGG4: 3 | AGH4: 2 | AGI4: 0 | AGJ4: 5 | AGK4: 2 | AGL4: 4 | AGM4: 3 | AGN4: 3 | AGO4: 4 | AGP4: 0.5 | AGQ4: 2 | AGR4: 2 | AGS4: 3 | AGT4: 2 | AGU4: 3 | AGV4: 5 | AGW4: 4 | AGX4: 3 | AGY4: 2 | AGZ4: 3 | AHA4: 2 | AHB4: 2 | AHC4: 0 | AHD4: 5 | AHE4: 2 | AHF4: 4 | AHG4: 2 | AHH4: 3 | AHI4: 1 | AHJ4: 2 | AHK4: 3 | AHL4: 3 | AHM4: 2 | AHN4: 2 | AHO4: 4 | AHP4: 3 | AHQ4: 3 | AHR4: 4 | AHS4: 0.5 | AHT4: 3 | AHU4: 4 | AHV4: 2 | AHW4: 0 | AHX4: 3 | AHY4: 5 | AHZ4: 2 | AIA4: 3 | AIB4: 2 | AIC4: 3 | AID4: 2 | AIE4: 3 | AIF4: 1 | AIG4: 4 | AIH4: 2 | AII4: 0 | AIJ4: 2 | AIK4: 4 | AIL4: 3 | AIM4: 2 | AIN4: 3 | AIO4: 2 | AIP4: 2 | AIQ4: 3 | AIR4: 3 | AIS4: 2 | AIT4: 0 | AIU4: 3 | AIV4: 5 | AIW4: 2 | AIX4: 4 | AIY4: 3 | AIZ4: 1 | AJA4: 1 | AJB4: 2 | AJC4: 3 | AJD4: 3 | AJE4: 2 | AJF4: 0 | AJG4: 3 | AJH4: 2 | AJI4: 3 | AJJ4: 2 | AJK4: 1 | AJL4: 2 | AJM4: 3 | AJN4: 0.5 | AJO4: 3 | AJP4: 2
A5: braak neurofibrillary tangle score | B5: 6 | C5: 6 | D5: 3 | E5: 3 | F5: 6 | G5: 1 | H5: 2 | I5: 6 | J5: 3 | K5: 6 | L5: 3 | M5: 4 | N5: 4 | O5: 3 | P5: 6 | Q5: 4 | R5: 6 | S5: 6 | T5: 6 | U5: 6 | V5: 6 | W5: 4 | X5: 5 | Y5: 6 | Z5: 6 | AA5: 3 | AB5: 6 | AC5: 1 | AD5: 6 | AE5: 3 | AF5: 4 | AG5: 4 | AH5: 3 | AI5: 6 | AJ5: 4 | AK5: 6 | AL5: 6 | AM5: 4 | AN5: 6 | AO5: 3 | AP5: 5 | AQ5: 6 | AR5: 3 | AS5: 3 | AT5: 6 | AU5: 1 | AV5: 2 | AW5: 6 | AX5: 3 | AY5: 4 | AZ5: 4 | BA5: 3 | BB5: 6 | BC5: 4 | BD5: 6 | BE5: 4 | BF5: 6 | BG5: 6 | BH5: 6 | BI5: 3 | BJ5: 3 | BK5: 6 | BL5: 1 | BM5: 2 | BN5: 6 | BO5: 3 | BP5: 4 | BQ5: 4 | BR5: 3 | BS5: 6 | BT5: 4 | BU5: 6 | BV5: 6 | BW5: 6 | BX5: 6 | BY5: 4 | BZ5: 6 | CA5: 3 | CB5: 5 | CC5: 6 | CD5: 3 | CE5: 3 | CF5: 6 | CG5: 1 | CH5: 2 | CI5: 6 | CJ5: 6 | CK5: 4 | CL5: 3 | CM5: 5 | CN5: 6 | CO5: 4 | CP5: 6 | CQ5: 2 | CR5: 6 | CS5: 6 | CT5: 6 | CU5: 6 | CV5: 4 | CW5: 6 | CX5: 5 | CY5: 6 | CZ5: 3 | DA5: 1 | DB5: 2 | DC5: 6 | DD5: 3 | DE5: 6 | DF5: 3 | DG5: 4 | DH5: 4 | DI5: 3 | DJ5: 6 | DK5: 4 | DL5: 6 | DM5: 6 | DN5: 6 | DO5: 6 | DP5: 6 | DQ5: 4 | DR5: 5 | DS5: 6 | DT5: 6 | DU5: 3 | DV5: 6 | DW5: 3 | DX5: 3 | DY5: 6 | DZ5: 1 | EA5: 2 | EB5: 6 | EC5: 6 | ED5: 3 | EE5: 4 | EF5: 4 | EG5: 3 | EH5: 5 | EI5: 6 | EJ5: 4 | EK5: 6 | EL5: 6 | EM5: 6 | EN5: 3 | EO5: 6 | EP5: 3 | EQ5: 1 | ER5: 2 | ES5: 6 | ET5: 6 | EU5: 5 | EV5: 3 | EW5: 4 | EX5: 4 | EY5: 3 | EZ5: 5 | FA5: 6 | FB5: 6 | FC5: 4 | FD5: 6 | FE5: 6 | FF5: 2 | FG5: 6 | FH5: 6 | FI5: 6 | FJ5: 4 | FK5: 6 | FL5: 3 | FM5: 6 | FN5: 2 | FO5: 6 | FP5: 5 | FQ5: 4 | FR5: 4 | FS5: 3 | FT5: 6 | FU5: 6 | FV5: 4 | FW5: 6 | FX5: 6 | FY5: 6 | FZ5: 4 | GA5: 5 | GB5: 6 | GC5: 6 | GD5: 3 | GE5: 5 | GF5: 6 | GG5: 3 | GH5: 1 | GI5: 2 | GJ5: 6 | GK5: 5 | GL5: 3 | GM5: 4 | GN5: 3 | GO5: 6 | GP5: 6 | GQ5: 4 | GR5: 6 | GS5: 6 | GT5: 6 | GU5: 4 | GV5: 6 | GW5: 3 | GX5: 6 | GY5: 3 | GZ5: 6 | HA5: 1 | HB5: 2 | HC5: 6 | HD5: 3 | HE5: 4 | HF5: 4 | HG5: 3 | HH5: 5 | HI5: 6 | HJ5: 4 | HK5: 6 | HL5: 6 | HM5: 4 | HN5: 5 | HO5: 6 | HP5: 3 | HQ5: 6 | HR5: 3 | HS5: 6 | HT5: 1 | HU5: 2 | HV5: 6 | HW5: 4 | HX5: 3 | HY5: 5 | HZ5: 6 | IA5: 6 | IB5: 6 | IC5: 6 | ID5: 4 | IE5: 6 | IF5: 3 | IG5: 6 | IH5: 1 | II5: 2 | IJ5: 6 | IK5: 6 | IL5: 3 | IM5: 3 | IN5: 6 | IO5: 4 | IP5: 6 | IQ5: 6 | IR5: 4 | IS5: 3 | IT5: 6 | IU5: 3 | IV5: 6 | IW5: 1 | IX5: 2 | IY5: 6 | IZ5: 6 | JA5: 6 | JB5: 6 | JC5: 3 | JD5: 4 | JE5: 4 | JF5: 3 | JG5: 6 | JH5: 6 | JI5: 4 | JJ5: 6 | JK5: 6 | JL5: 4 | JM5: 6 | JN5: 6 | JO5: 5 | JP5: 3 | JQ5: 6 | JR5: 1 | JS5: 2 | JT5: 6 | JU5: 3 | JV5: 4 | JW5: 4 | JX5: 5 | JY5: 6 | JZ5: 6 | KA5: 6 | KB5: 6 | KC5: 6 | KD5: 4 | KE5: 6 | KF5: 6 | KG5: 3 | KH5: 6 | KI5: 1 | KJ5: 2 | KK5: 6 | KL5: 3 | KM5: 4 | KN5: 4 | KO5: 3 | KP5: 6 | KQ5: 6 | KR5: 6 | KS5: 6 | KT5: 6 | KU5: 6 | KV5: 6 | KW5: 4 | KX5: 6 | KY5: 3 | KZ5: 3 | LA5: 6 | LB5: 1 | LC5: 6 | LD5: 6 | LE5: 3 | LF5: 4 | LG5: 3 | LH5: 5 | LI5: 6 | LJ5: 4 | LK5: 6 | LL5: 6 | LM5: 6 | LN5: 4 | LO5: 5 | LP5: 6 | LQ5: 6 | LR5: 0 | LS5: 2 | LT5: 1 | LU5: 2 | LV5: 1 | LW5: 3 | LX5: 2 | LY5: 6 | LZ5: 2 | MA5: 2 | MB5: 3 | MC5: 1 | MD5: 2 | ME5: 1 | MF5: 1 | MG5: 1 | MH5: 1 | MI5: 3 | MJ5: 2 | MK5: 6 | ML5: 1 | MM5: 2 | MN5: 2 | MO5: 3 | MP5: 1 | MQ5: 2 | MR5: 1 | MS5: 2 | MT5: 0 | MU5: 2 | MV5: 2 | MW5: 1 | MX5: 3 | MY5: 2 | MZ5: 6 | NA5: 2 | NB5: 2 | NC5: 3 | ND5: 1 | NE5: 2 | NF5: 1 | NG5: 1 | NH5: 0 | NI5: 2 | NJ5: 1 | NK5: 2 | NL5: 1 | NM5: 3 | NN5: 2 | NO5: 6 | NP5: 2 | NQ5: 2 | NR5: 3 | NS5: 1 | NT5: 1 | NU5: 1 | NV5: 0 | NW5: 2 | NX5: 1 | NY5: 2 | NZ5: 0 | OA5: 3 | OB5: 2 | OC5: 6 | OD5: 2 | OE5: 2 | OF5: 3 | OG5: 1 | OH5: 1 | OI5: 1 | OJ5: 1 | OK5: 2 | OL5: 1 | OM5: 3 | ON5: 2 | OO5: 6 | OP5: 2 | OQ5: 2 | OR5: 3 | OS5: 1 | OT5: 2 | OU5: 2 | OV5: 0 | OW5: 2 | OX5: 1 | OY5: 2 | OZ5: 1 | PA5: 3 | PB5: 4 | PC5: 2 | PD5: 6 | PE5: 2 | PF5: 2 | PG5: 3 | PH5: 1 | PI5: 0 | PJ5: 2 | PK5: 1 | PL5: 2 | PM5: 1 | PN5: 2 | PO5: 0 | PP5: 2 | PQ5: 1 | PR5: 3 | PS5: 2 | PT5: 2 | PU5: 2 | PV5: 1 | PW5: 2 | PX5: 0 | PY5: 1 | PZ5: 1 | QA5: 2 | QB5: 1 | QC5: 2 | QD5: 1 | QE5: 3 | QF5: 4 | QG5: 2 | QH5: 2 | QI5: 2 | QJ5: 3 | QK5: 1 | QL5: 2 | QM5: 1 | QN5: 1 | QO5: 2 | QP5: 2 | QQ5: 1 | QR5: 2 | QS5: 3 | QT5: 1 | QU5: 2 | QV5: 1 | QW5: 3 | QX5: 2 | QY5: 6 | QZ5: 2 | RA5: 2 | RB5: 3 | RC5: 1 | RD5: 2 | RE5: 0 | RF5: 2 | RG5: 1 | RH5: 2 | RI5: 1 | RJ5: 3 | RK5: 2 | RL5: 6 | RM5: 1 | RN5: 2 | RO5: 2 | RP5: 3 | RQ5: 1 | RR5: 1 | RS5: 2 | RT5: 1 | RU5: 1 | RV5: 2 | RW5: 1 | RX5: 4 | RY5: 2 | RZ5: 6 | SA5: 2 | SB5: 2 | SC5: 3 | SD5: 1 | SE5: 2 | SF5: 1 | SG5: 2 | SH5: 1 | SI5: 2 | SJ5: 2 | SK5: 1 | SL5: 6 | SM5: 2 | SN5: 2 | SO5: 3 | SP5: 1 | SQ5: 2 | SR5: 1 | SS5: 1 | ST5: 3 | SU5: 4 | SV5: 2 | SW5: 6 | SX5: 2 | SY5: 2 | SZ5: 3 | TA5: 1 | TB5: 2 | TC5: 1 | TD5: 1 | TE5: 2 | TF5: 1 | TG5: 3 | TH5: 2 | TI5: 6 | TJ5: 2 | TK5: 2 | TL5: 2 | TM5: 1 | TN5: 2 | TO5: 1 | TP5: 2 | TQ5: 1 | TR5: 3 | TS5: 4 | TT5: 2 | TU5: 6 | TV5: 2 | TW5: 2 | TX5: 4 | TY5: 4 | TZ5: 4 | UA5: 2 | UB5: 3 | UC5: 3 | UD5: 4 | UE5: 2 | UF5: 3 | UG5: 3 | UH5: 3 | UI5: 6 | UJ5: 6 | UK5: 4 | UL5: 4 | UM5: 4 | UN5: 3 | UO5: 3 | UP5: 4 | UQ5: 4 | UR5: 2 | US5: 3 | UT5: 6 | UU5: 3 | UV5: 3 | UW5: 6 | UX5: 1 | UY5: 4 | UZ5: 4 | VA5: 1 | VB5: 2 | VC5: 3 | VD5: 3 | VE5: 4 | VF5: 2 | VG5: 3 | VH5: 6 | VI5: 3 | VJ5: 3 | VK5: 6 | VL5: 6 | VM5: 4 | VN5: 4 | VO5: 4 | VP5: 2 | VQ5: 3 | VR5: 3 | VS5: 4 | VT5: 2 | VU5: 3 | VV5: 3 | VW5: 3 | VX5: 6 | VY5: 6 | VZ5: 4 | WA5: 1 | WB5: 3 | WC5: 3 | WD5: 4 | WE5: 4 | WF5: 2 | WG5: 3 | WH5: 4 | WI5: 2 | WJ5: 3 | WK5: 3 | WL5: 6 | WM5: 6 | WN5: 1 | WO5: 4 | WP5: 4 | WQ5: 1 | WR5: 4 | WS5: 2 | WT5: 3 | WU5: 3 | WV5: 4 | WW5: 4 | WX5: 2 | WY5: 3 | WZ5: 3 | XA5: 3 | XB5: 6 | XC5: 1 | XD5: 4 | XE5: 4 | XF5: 3 | XG5: 3 | XH5: 4 | XI5: 2 | XJ5: 3 | XK5: 6 | XL5: 3 | XM5: 6 | XN5: 6 | XO5: 4 | XP5: 1 | XQ5: 3 | XR5: 3 | XS5: 4 | XT5: 2 | XU5: 3 | XV5: 4 | XW5: 2 | XX5: 3 | XY5: 3 | XZ5: 6 | YA5: 1 | YB5: 4 | YC5: 4 | YD5: 1 | YE5: 4 | YF5: 2 | YG5: 3 | YH5: 3 | YI5: 4 | YJ5: 2 | YK5: 3 | YL5: 6 | YM5: 3 | YN5: 6 | YO5: 6 | YP5: 1 | YQ5: 4 | YR5: 4 | YS5: 1 | YT5: 4 | YU5: 2 | YV5: 3 | YW5: 4 | YX5: 4 | YY5: 2 | YZ5: 3 | ZA5: 3 | ZB5: 6 | ZC5: 6 | ZD5: 4 | ZE5: 4 | ZF5: 1 | ZG5: 4 | ZH5: 2 | ZI5: 3 | ZJ5: 3 | ZK5: 4 | ZL5: 4 | ZM5: 2 | ZN5: 3 | ZO5: 6 | ZP5: 3 | ZQ5: 3 | ZR5: 1 | ZS5: 4 | ZT5: 4 | ZU5: 4 | ZV5: 3 | ZW5: 3 | ZX5: 4 | ZY5: 4 | ZZ5: 2 | AAA5: 3 | AAB5: 3 | AAC5: 3 | AAD5: 6 | AAE5: 6 | AAF5: 4 | AAG5: 4 | AAH5: 3 | AAI5: 4 | AAJ5: 2 | AAK5: 3 | AAL5: 3 | AAM5: 4 | AAN5: 4 | AAO5: 2 | AAP5: 3 | AAQ5: 3 | AAR5: 3 | AAS5: 6 | AAT5: 1 | AAU5: 4 | AAV5: 4 | AAW5: 3 | AAX5: 4 | AAY5: 4 | AAZ5: 2 | ABA5: 3 | ABB5: 3 | ABC5: 4 | ABD5: 2 | ABE5: 6 | ABF5: 1 | ABG5: 4 | ABH5: 2 | ABI5: 3 | ABJ5: 3 | ABK5: 4 | ABL5: 3 | ABM5: 6 | ABN5: 3 | ABO5: 3 | ABP5: 6 | ABQ5: 6 | ABR5: 1 | ABS5: 4 | ABT5: 4 | ABU5: 3 | ABV5: 4 | ABW5: 2 | ABX5: 3 | ABY5: 3 | ABZ5: 4 | ACA5: 2 | ACB5: 3 | ACC5: 3 | ACD5: 6 | ACE5: 6 | ACF5: 1 | ACG5: 4 | ACH5: 4 | ACI5: 4 | ACJ5: 2 | ACK5: 3 | ACL5: 3 | ACM5: 4 | ACN5: 2 | ACO5: 3 | ACP5: 6 | ACQ5: 6 | ACR5: 6 | ACS5: 6 | ACT5: 4 | ACU5: 3 | ACV5: 1 | ACW5: 3 | ACX5: 6 | ACY5: 4 | ACZ5: 6 | ADA5: 6 | ADB5: 3 | ADC5: 3 | ADD5: 3 | ADE5: 5 | ADF5: 6 | ADG5: 2 | ADH5: 6 | ADI5: 3 | ADJ5: 6 | ADK5: 6 | ADL5: 6 | ADM5: 6 | ADN5: 3 | ADO5: 3 | ADP5: 3 | ADQ5: 6 | ADR5: 4 | ADS5: 3 | ADT5: 6 | ADU5: 3 | ADV5: 6 | ADW5: 6 | ADX5: 3 | ADY5: 3 | ADZ5: 3 | AEA5: 3 | AEB5: 4 | AEC5: 5 | AED5: 6 | AEE5: 2 | AEF5: 6 | AEG5: 6 | AEH5: 6 | AEI5: 3 | AEJ5: 3 | AEK5: 3 | AEL5: 3 | AEM5: 4 | AEN5: 3 | AEO5: 2 | AEP5: 6 | AEQ5: 4 | AER5: 6 | AES5: 4 | AET5: 3 | AEU5: 6 | AEV5: 4 | AEW5: 3 | AEX5: 2 | AEY5: 3 | AEZ5: 6 | AFA5: 3 | AFB5: 3 | AFC5: 6 | AFD5: 4 | AFE5: 2 | AFF5: 1 | AFG5: 3 | AFH5: 6 | AFI5: 2 | AFJ5: 3 | AFK5: 6 | AFL5: 6 | AFM5: 3 | AFN5: 3 | AFO5: 3 | AFP5: 2 | AFQ5: 1 | AFR5: 6 | AFS5: 2 | AFT5: 3 | AFU5: 6 | AFV5: 3 | AFW5: 3 | AFX5: 3 | AFY5: 6 | AFZ5: 4 | AGA5: 3 | AGB5: 2 | AGC5: 1 | AGD5: 6 | AGE5: 2 | AGF5: 6 | AGG5: 6 | AGH5: 3 | AGI5: 3 | AGJ5: 4 | AGK5: 3 | AGL5: 2 | AGM5: 5 | AGN5: 6 | AGO5: 2 | AGP5: 3 | AGQ5: 6 | AGR5: 6 | AGS5: 6 | AGT5: 3 | AGU5: 6 | AGV5: 4 | AGW5: 2 | AGX5: 1 | AGY5: 3 | AGZ5: 6 | AHA5: 6 | AHB5: 3 | AHC5: 3 | AHD5: 4 | AHE5: 3 | AHF5: 2 | AHG5: 3 | AHH5: 6 | AHI5: 3 | AHJ5: 6 | AHK5: 6 | AHL5: 3 | AHM5: 3 | AHN5: 3 | AHO5: 2 | AHP5: 1 | AHQ5: 6 | AHR5: 2 | AHS5: 3 | AHT5: 6 | AHU5: 3 | AHV5: 3 | AHW5: 3 | AHX5: 6 | AHY5: 4 | AHZ5: 3 | AIA5: 1 | AIB5: 3 | AIC5: 6 | AID5: 6 | AIE5: 6 | AIF5: 4 | AIG5: 3 | AIH5: 3 | AII5: 3 | AIJ5: 3 | AIK5: 2 | AIL5: 1 | AIM5: 3 | AIN5: 6 | AIO5: 4 | AIP5: 6 | AIQ5: 6 | AIR5: 3 | AIS5: 3 | AIT5: 3 | AIU5: 6 | AIV5: 4 | AIW5: 3 | AIX5: 2 | AIY5: 6 | AIZ5: 3 | AJA5: 6 | AJB5: 6 | AJC5: 6 | AJD5: 3 | AJE5: 3 | AJF5: 3 | AJG5: 6 | AJH5: 3 | AJI5: 6 | AJJ5: 4 | AJK5: 6 | AJL5: 6 | AJM5: 6 | AJN5: 3 | AJO5: 3 | AJP5: 3
